{"text_format":"1","workbook":"xlsx","n_sheets":37,"sheets":["IG_EM","IG_SO","IG_AR","IG_EQ","MODELAGEM","MODELAGEM_CURVAL","ESTRATÉGIA","ESTRATÉGIA_FC","ESTRATÉGIA_SWOT","ESTRATÉGIA_EST","MARKETING","MARKETING_PRECIO","MARKETING_PLAZA","MARKETING_PROMO","MERCADO","FINANZAS","FINANZAS_RESUMEN","PROJ1","PROJ2","PROJ3","PROJ4","PROJ5","FINANZAS_II","FINANZAS_OI","FINANZAS_CF","INFORMES","INFORMES_MKT","INFORMES_FIN","DASHBOARD","DASHBOARD_FIN","DASHBOARD_PROJ","DASHBOARD_CEN","DASHBOARD_EST","DASHBOARD_MKT","SUMÁRIO","INTRU","Aux"],"not_rendered":{"charts":25,"images":1,"macros":1,"external_links":1,"defined_names":57,"comments":0,"pivot_tables":0},"unopened":[],"bounds":{"document_bytes":16777216,"sheet_cells":100000,"rows_first":2000,"rows_last":500,"rows_between":2000,"halvings":0,"cell_chars":16384,"cell_head_chars":4096},"cells_cut":0,"cells_raw":0,"read":"whole","date_system":"1900"}

{"sheet":"IG_EM","index":0,"n_rows":11,"n_cols":7,"rows_kept":11,"cut":false,"hidden":false,"merged":[[0,2,0,3]]}
[]
[]
[]
[null,null,"Datos sobre la empresa",null,null,"Aspectos Legales"]
[null,null,"Nombre","Café Don Anibalito",null,"Fecha de Fundación",38530]
[null,null,"Razón social",null,null,"Formato Jurídico"]
[null,null,"Dirección","Av Benito Juarez # 44 ",null,"Actividad Económica "]
[null,null,"Complemento",null,null,"No. Registro Mercantil"]
[null,null,"Ciudad - Estado","Juncalito, Santiago",null,"Cedula o RNC","402-1809733-1/ 133-09434-7"]
[null,null,"Teléfono con prefijo","829-839-7570",null,"Tipo de Impuesto "]
[null,null,"E-mail",null,null,"Inicio de año de operación",2024]

{"sheet":"IG_SO","index":1,"n_rows":56,"n_cols":7,"rows_kept":56,"cut":false,"hidden":false,"merged":[[44,2,45,3],[44,5,45,6],[55,2,56,3],[55,5,56,6],[0,2,0,3],[11,2,12,3],[11,5,12,6],[22,2,23,3],[22,5,23,6],[33,2,34,3],[33,5,34,6]]}
[]
[]
[]
[null,null,"Socio 1",null,null,"Socio 2"]
[null,null,"Nombre","Edilson de Jesus Rodriguez ",null,"Nombre","Jose Carlos Perez"]
[null,null,"Fecha de nacimiento",36933,null,"Fecha de nacimiento",37174]
[null,null,"Formación ","Estudiante/ Bachiller",null,"Formación","Licenciado"]
[null,null,"Cargo","Gerente",null,"Cargo","Gerente "]
[null,null,"E-mail","Rodriguezedilson20@gmail.com",null,"E-mail","Perezortegajosecarlos@gmail.com"]
[null,null,"Teléfono","829-839-7570",null,"Teléfono","809-499-3231"]
[null,null,"Porcentaje de Participación",0.5,null,"Porcentaje de Participación",0.5]
[null,null,"Observaciones:",null,null,"Observaciones:"]
[]
[]
[null,null,"Socio 3",null,null,"Socio 4"]
[null,null,"Nombre",null,null,"Nombre"]
[null,null,"Fecha de nacimiento",null,null,"Fecha de nacimiento"]
[null,null,"Formación ",null,null,"Formación "]
[null,null,"Cargo",null,null,"Cargo"]
[null,null,"E-mail",null,null,"E-mail"]
[null,null,"Teléfono",null,null,"Teléfono"]
[null,null,"Porcentaje de Participación",null,null,"Porcentaje de Participación"]
[null,null,"Observaciones:",null,null,"Observaciones:"]
[]
[]
[null,null,"Socio 5",null,null,"Socio 6"]
[null,null,"Nombre",null,null,"Nombre"]
[null,null,"Fecha de nacimiento",null,null,"Fecha de nacimiento"]
[null,null,"Formación ",null,null,"Formación "]
[null,null,"Cargo",null,null,"Cargo"]
[null,null,"E-mail",null,null,"E-mail"]
[null,null,"Teléfono",null,null,"Teléfono"]
[null,null,"Porcentaje de Participación",null,null,"Porcentaje de Participación"]
[null,null,"Observaciones:",null,null,"Observaciones:"]
[]
[]
[null,null,"Socio 7",null,null,"Socio 8"]
[null,null,"Nombre",null,null,"Nombre"]
[null,null,"Fecha de nacimiento",null,null,"Fecha de nacimiento"]
[null,null,"Formación ",null,null,"Formación "]
[null,null,"Cargo",null,null,"Cargo"]
[null,null,"E-mail",null,null,"E-mail"]
[null,null,"Teléfono",null,null,"Teléfono"]
[null,null,"Porcentaje de Participación",null,null,"Porcentaje de Participación"]
[null,null,"Observaciones:",null,null,"Observaciones:"]
[]
[]
[null,null,"Socio 9",null,null,"Socio 10"]
[null,null,"Nombre",null,null,"Nombre"]
[null,null,"Fecha de nacimiento",null,null,"Fecha de nacimiento"]
[null,null,"Formación ",null,null,"Formación "]
[null,null,"Cargo",null,null,"Cargo"]
[null,null,"E-mail",null,null,"E-mail"]
[null,null,"Teléfono",null,null,"Teléfono"]
[null,null,"Porcentaje de Participación",null,null,"Porcentaje de Participación"]
[null,null,"Observaciones:",null,null,"Observaciones:"]

{"sheet":"IG_AR","index":2,"n_rows":9,"n_cols":3,"rows_kept":9,"cut":false,"hidden":false,"merged":[]}
[]
[]
[]
[null,null,"Registro de las areas internas / departamentos de la empresa"]
[null,null,"Comercial"]
[null,null,"Financiero"]
[null,null,"Producción"]
[null,null,"Mercadeo"]
[null,null,"Tecnología"]

{"sheet":"IG_EQ","index":3,"n_rows":112,"n_cols":100,"rows_kept":112,"cut":false,"hidden":false,"merged":[[0,10,0,11],[0,12,0,13],[3,10,3,11],[3,12,3,13],[3,6,3,9]]}
[]
[]
[null,null,null,null,null,null,null,null,null,null,null,null,null,null,null,null,null,null,null,null,null,null,null,null,null,null,null,null,null,null,null,null,null,null,"ENE","febrero","MAR","ABR","MAI","junio","julio","AGO","SET","OUT","noviembre","TEN","ENE","febrero","MAR","ABR","MAI","junio","julio","AGO","SET","OUT","noviembre","TEN","ENE","febrero","MAR","ABR","MAI","junio","julio","AGO","SET","OUT","noviembre","TEN","ENE","febrero","MAR","ABR","MAI","junio","julio","AGO","SET","OUT","noviembre","TEN","ENE","febrero","MAR","ABR","MAI","junio","julio","AGO","SET","OUT","noviembre","TEN"]
[null,null,"Registro de Empleados",null,null,null,"TSS",null,null,null,"Fecha al Inicio",null,"Fecha al Final",null,null,null,null,null,null,null,null,null,null,null,null,null,null,null,null,null,null,null,null,null,{"$f":"CONCATENATE(AI3,$V$6)","v":"ENE2024"},"FEV2017","MAR2017","ABR2017","MAI2017","JUN2017","JUL2017","AGO2017","SET2017","OUT2017","NOV2017","DEZ2017","JAN2018","FEV2018","MAR2018","ABR2018","MAI2018","JUN2018","JUL2018","AGO2018","SET2018","OUT2018","NOV2018","DEZ2018","JAN2019","FEV2019","MAR2019","ABR2019","MAI2019","JUN2019","JUL2019","AGO2019","SET2019","OUT2019","NOV2019","DEZ2019","JAN2020","FEV2020","MAR2020","ABR2020","MAI2020","JUN2020","JUL2020","AGO2020","SET2020","OUT2020","NOV2020","DEZ2020","JAN2021","FEV2021","MAR2021","ABR2021","MAI2021","JUN2021","JUL2021","AGO2021","SET2021","OUT2021","NOV2021","DEZ2021",null,"Los salarios totales en"]
[null,null,"Cargo","Area","Sueldo","Número de empleados","SFS","AFP","ARL","Infotep","Mes","Año","Mes","Año","SFS","AFP","ARL","Infotep","Sueldo","Gasto total en sueldos",null,null,null,null,null,null,null,"Concatenar Mes de inicio","período","Concatenar el último mes","períodos","Valor total de los salarios",null,"No es necesario ajustar",1,2,3,4,5,6,7,8,9,10,11,12,13,14,15,16,17,18,19,20,21,22,23,24,25,26,27,28,29,30,31,32,33,34,35,36,37,38,39,40,41,42,43,44,45,46,47,48,49,50,51,52,53,54,55,56,57,58,59,60,null,"1 año","2 años","3 años","4 años","5 años"]
[null,null,"Gerente Operativo","Producción",15000,1,{"$f":"IF(C6=\"\",\"\",E6*7.09%)","v":1063.5},{"$f":"IF(C6=\"\",\"\",E6*7.1%)","v":1065},{"$f":"IF(C6=\"\",\"\",E6*1%)","v":150},{"$f":"IF(C6=\"\",\"\",E6*1%)","v":150},"Jul",2024,"Jul",2028,{"$f":"IF(E6=\"\",\"\",AG6)","v":52111.5},{"$f":"IF(E6=\"\",\"\",AH6)","v":52185},{"$f":"IF(E6=\"\",\"\",AI6)","v":"NO"},{"$f":"IF(E6=\"\",\"\",AJ6)","v":"NO"},{"$f":"IF(E6=\"\",\"\",AK6)","v":"NO"},{"$f":"AF6","v":104296.5},null,{"$f":"IG_EM!G11","v":2024},"ene",{"$f":"V6","v":2024},{"$f":"CONCATENATE(W6,X6)","v":"ene2024"},1,null,{"$f":"CONCATENATE(K6,L6)","v":"Jul2024"},{"$f":"IF(AB6=\"\",\"\",VLOOKUP(AB6,$Y$6:$Z$65,2,FALSE))","v":7},{"$f":"CONCATENATE(M6,N6)","v":"Jul2028"},{"$f":"IFERROR(VLOOKUP(AD6,$Y$6:$Z$65,2,FALSE),\"\")","v":55},{"$f":"IFERROR(SUM(AG6:AK6),\"\")","v":104296.5},{"$f":"IFERROR((AE6-AC6+1)*G6*F6,\"\")","v":52111.5},{"$f":"IFERROR((AE6-AC6+1)*H6*F6,\"\")","v":52185},{"$f":"IF(AND(AI$5>=$AC6,AI$5<=$AE6),$E6*$F6,\"NO\")","v":"NO"},"NO","NO","NO","NO","NO",15000,15000,15000,15000,{"$f":"IF(AND(AS$5>=$AC6,AS$5<=$AE6),$E6*$F6,\"NO\")","v":15000},15000,15000,15000,15000,15000,15000,15000,15000,{"$f":"IF(AND(BB$5>=$AC6,BB$5<=$AE6),$E6*$F6,\"NÃO\")","v":15000},15000,15000,15000,{"$f":"IF(AND(BF$5>=$AC6,BF$5<=$AE6),$E6*$F6,\"NÃO\")","v":15000},15000,15000,15000,15000,15000,15000,15000,15000,15000,{"$f":"IF(AND(BP$5>=$AC6,BP$5<=$AE6),$E6*$F6,\"NÃO\")","v":15000},15000,15000,15000,15000,15000,15000,15000,15000,15000,{"$f":"IF(AND(BZ$5>=$AC6,BZ$5<=$AE6),$E6*$F6,\"NÃO\")","v":15000},15000,15000,15000,15000,15000,15000,15000,15000,15000,{"$f":"IF(AND(CJ$5>=$AC6,CJ$5<=$AE6),$E6*$F6,\"NÃO\")","v":15000},15000,"NÃO","NÃO","NÃO","NÃO","NÃO",null,{"$f":"SUM(AI6:AT105)","v":252000},{"$f":"SUM(AU6:BF105)","v":504000},{"$f":"SUM(BG6:BR105)","v":504000},{"$f":"SUM(BS6:CD105)","v":504000},{"$f":"SUM(CE6:CP105)","v":294000}]
[null,null,"Gerente Administrativo ","Financiero",10000,1,{"$f":"IF(C7=\"\",\"\",E7*7.09%)","v":709},{"$f":"IF(C7=\"\",\"\",E7*7.1%)","v":709.99999999999989},{"$f":"IF(C7=\"\",\"\",E7*1%)","v":100},{"$f":"IF(C7=\"\",\"\",E7*1%)","v":100},"Jul",2024,"Jul",2028,{"$f":"IF(E7=\"\",\"\",AG7)","v":34741},{"$f":"IF(E7=\"\",\"\",AH7)","v":34789.999999999993},{"$f":"IF(E7=\"\",\"\",AI7)","v":"NO"},{"$f":"IF(E7=\"\",\"\",AJ7)","v":"NO"},{"$f":"IF(E7=\"\",\"\",AK7)","v":"NO"},{"$f":"AF7","v":69531},null,{"$f":"V6+1","v":2025},"feb",{"$f":"X6","v":2024},{"$f":"CONCATENATE(W7,X7)","v":"feb2024"},2,null,{"$f":"CONCATENATE(K7,L7)","v":"Jul2024"},{"$f":"IF(AB7=\"\",\"\",VLOOKUP(AB7,$Y$6:$Z$65,2,FALSE))","v":7},{"$f":"CONCATENATE(M7,N7)","v":"Jul2028"},{"$f":"IFERROR(VLOOKUP(AD7,$Y$6:$Z$65,2,FALSE),\"\")","v":55},{"$f":"IFERROR(SUM(AG7:AK7),\"\")","v":69531},{"$f":"IFERROR((AE7-AC7+1)*G7*F7,\"\")","v":34741},{"$f":"IFERROR((AE7-AC7+1)*H7*F7,\"\")","v":34789.999999999993},"NO","NO","NO","NO","NO","NO",10000,10000,10000,10000,10000,10000,10000,10000,10000,10000,10000,10000,10000,10000,10000,10000,10000,10000,10000,10000,10000,10000,10000,10000,10000,10000,10000,10000,10000,10000,10000,10000,10000,10000,10000,10000,10000,10000,10000,10000,10000,10000,10000,10000,10000,10000,10000,10000,10000,"NÃO","NÃO","NÃO","NÃO","NÃO"]
[null,null,"Barista","Comercial",17000,1,1205.3000000000002,{"$f":"IF(C8=\"\",\"\",E8*7.1%)","v":1207},{"$f":"IF(C8=\"\",\"\",E8*1%)","v":170},{"$f":"IF(C8=\"\",\"\",E8*1%)","v":170},"Jul",2024,"Jul",2028,59059.700000000012,59143,"NO","NO","NO",118202.70000000001,null,{"$f":"V7+1","v":2026},"mar",{"$f":"X7","v":2024},"mar2024",3,null,"Jul2024",7,"Jul2028",55,118202.70000000001,59059.700000000012,59143,"NO","NO","NO","NO","NO","NO",17000,17000,17000,17000,17000,17000,17000,17000,17000,17000,17000,17000,17000,17000,17000,17000,17000,17000,17000,17000,17000,17000,17000,17000,17000,17000,17000,17000,17000,17000,17000,17000,17000,17000,17000,17000,17000,17000,17000,17000,17000,17000,17000,17000,17000,17000,17000,17000,17000,"NÃO","NÃO","NÃO","NÃO","NÃO"]
[null,null,null,null,null,null,"","","","",null,null,null,null,"","","","","",0,null,2027,"abr",2024,"abr2024",4,null,"","","","",0,"","","NO","NO","NO","NO","NO","NO","NO","NO","NO","NO","NO","NO","NO","NO","NO","NO","NO","NO","NO","NÃO","NÃO","NÃO","NÃO","NÃO","NÃO","NÃO","NÃO","NÃO","NÃO","NÃO","NÃO","NÃO","NÃO","NÃO","NÃO","NÃO","NÃO","NÃO","NÃO","NÃO","NÃO","NÃO","NÃO","NÃO","NÃO","NÃO","NÃO","NÃO","NÃO","NÃO","NÃO","NÃO","NÃO","NÃO","NÃO","NÃO","NÃO","NÃO","NÃO","NÃO"]
[null,null,null,null,null,null,"","","","",null,null,null,null,"","","","","",0,null,2028,"may",2024,{"$f":"CONCATENATE(W10,X10)","v":"may2024"},5,null,"","","","",0,"","","NO","NO","NO","NO","NO","NO","NO","NO","NO","NO","NO","NO","NO","NO","NO","NO","NO","NO","NO","NÃO","NÃO","NÃO","NÃO","NÃO","NÃO","NÃO","NÃO","NÃO","NÃO","NÃO","NÃO","NÃO","NÃO","NÃO","NÃO","NÃO","NÃO","NÃO","NÃO","NÃO","NÃO","NÃO","NÃO","NÃO","NÃO","NÃO","NÃO","NÃO","NÃO","NÃO","NÃO","NÃO","NÃO","NÃO","NÃO","NÃO","NÃO","NÃO","NÃO","NÃO"]
[null,null,null,null,null,null,"","","","",null,null,null,null,"","","","","",0,null,null,"jun",2024,"jun2024",6,null,"","","","",0,"","","NO","NO","NO","NO","NO","NO","NO","NO","NO","NO","NO","NO","NO","NO","NO","NO","NO","NO","NO","NÃO","NÃO","NÃO","NÃO","NÃO","NÃO","NÃO","NÃO","NÃO","NÃO","NÃO","NÃO","NÃO","NÃO","NÃO","NÃO","NÃO","NÃO","NÃO","NÃO","NÃO","NÃO","NÃO","NÃO","NÃO","NÃO","NÃO","NÃO","NÃO","NÃO","NÃO","NÃO","NÃO","NÃO","NÃO","NÃO","NÃO","NÃO","NÃO","NÃO","NÃO"]
[null,null,null,null,null,null,"","","","",null,null,null,null,"","","","","",0,null,null,"jul",2024,"jul2024",7,null,"","","","",0,"","","NO","NO","NO","NO","NO","NO","NO","NO","NO","NO","NO","NO","NO","NO","NO","NO","NO","NO","NO","NÃO","NÃO","NÃO","NÃO","NÃO","NÃO","NÃO","NÃO","NÃO","NÃO","NÃO","NÃO","NÃO","NÃO","NÃO","NÃO","NÃO","NÃO","NÃO","NÃO","NÃO","NÃO","NÃO","NÃO","NÃO","NÃO","NÃO","NÃO","NÃO","NÃO","NÃO","NÃO","NÃO","NÃO","NÃO","NÃO","NÃO","NÃO","NÃO","NÃO","NÃO"]
[null,null,null,null,null,null,"","","","",null,null,null,null,"","","","","",0,null,null,"aug",2024,"aug2024",8,null,"","","","",0,"","","NO","NO","NO","NO","NO","NO","NO","NO","NO","NO","NO","NO","NO","NO","NO","NO","NO","NO","NO","NÃO","NÃO","NÃO","NÃO","NÃO","NÃO","NÃO","NÃO","NÃO","NÃO","NÃO","NÃO","NÃO","NÃO","NÃO","NÃO","NÃO","NÃO","NÃO","NÃO","NÃO","NÃO","NÃO","NÃO","NÃO","NÃO","NÃO","NÃO","NÃO","NÃO","NÃO","NÃO","NÃO","NÃO","NÃO","NÃO","NÃO","NÃO","NÃO","NÃO","NÃO"]
[null,null,null,null,null,null,"","","","",null,null,null,null,"","","","","",0,null,null,"sep",2024,"sep2024",9,null,"","","","",0,"","","NO","NO","NO","NO","NO","NO","NO","NO","NO","NO","NO","NO","NO","NO","NO","NO","NO","NO","NO","NÃO","NÃO","NÃO","NÃO","NÃO","NÃO","NÃO","NÃO","NÃO","NÃO","NÃO","NÃO","NÃO","NÃO","NÃO","NÃO","NÃO","NÃO","NÃO","NÃO","NÃO","NÃO","NÃO","NÃO","NÃO","NÃO","NÃO","NÃO","NÃO","NÃO","NÃO","NÃO","NÃO","NÃO","NÃO","NÃO","NÃO","NÃO","NÃO","NÃO","NÃO"]
[null,null,null,null,null,null,"","","","",null,null,null,null,"","","","","",0,null,null,"oct",2024,"oct2024",10,null,"","","","",0,"","","NO","NO","NO","NO","NO","NO","NO","NO","NO","NO","NO","NO","NO","NO","NO","NO","NO","NO","NO","NÃO","NÃO","NÃO","NÃO","NÃO","NÃO","NÃO","NÃO","NÃO","NÃO","NÃO","NÃO","NÃO","NÃO","NÃO","NÃO","NÃO","NÃO","NÃO","NÃO","NÃO","NÃO","NÃO","NÃO","NÃO","NÃO","NÃO","NÃO","NÃO","NÃO","NÃO","NÃO","NÃO","NÃO","NÃO","NÃO","NÃO","NÃO","NÃO","NÃO","NÃO"]
[null,null,null,null,null,null,"","","","",null,null,null,null,"","","","","",0,null,null,"nov",2024,"nov2024",11,null,"","","","",0,"","",{"$f":"IF(AND(AI$5>=$AC16,AI$5<=$AE16),$E16*$F16,\"NO\")","v":"NO"},"NO","NO","NO","NO","NO","NO","NO","NO","NO",{"$f":"IF(AND(AS$5>=$AC16,AS$5<=$AE16),$E16*$F16,\"NO\")","v":"NO"},"NO","NO","NO","NO","NO","NO","NO","NO",{"$f":"IF(AND(BB$5>=$AC16,BB$5<=$AE16),$E16*$F16,\"NÃO\")","v":"NÃO"},"NÃO","NÃO","NÃO",{"$f":"IF(AND(BF$5>=$AC16,BF$5<=$AE16),$E16*$F16,\"NÃO\")","v":"NÃO"},"NÃO","NÃO","NÃO","NÃO","NÃO","NÃO","NÃO","NÃO","NÃO",{"$f":"IF(AND(BP$5>=$AC16,BP$5<=$AE16),$E16*$F16,\"NÃO\")","v":"NÃO"},"NÃO","NÃO","NÃO","NÃO","NÃO","NÃO","NÃO","NÃO","NÃO",{"$f":"IF(AND(BZ$5>=$AC16,BZ$5<=$AE16),$E16*$F16,\"NÃO\")","v":"NÃO"},"NÃO","NÃO","NÃO","NÃO","NÃO","NÃO","NÃO","NÃO","NÃO",{"$f":"IF(AND(CJ$5>=$AC16,CJ$5<=$AE16),$E16*$F16,\"NÃO\")","v":"NÃO"},"NÃO","NÃO","NÃO","NÃO","NÃO","NÃO"]
[null,null,null,null,null,null,"","","","",null,null,null,null,"","","","","",0,null,null,"dic",2024,"dic2024",12,null,"","","","",0,"","","NO","NO","NO","NO","NO","NO","NO","NO","NO","NO","NO","NO","NO","NO","NO","NO","NO","NO","NO","NÃO","NÃO","NÃO","NÃO","NÃO","NÃO","NÃO","NÃO","NÃO","NÃO","NÃO","NÃO","NÃO","NÃO","NÃO","NÃO","NÃO","NÃO","NÃO","NÃO","NÃO","NÃO","NÃO","NÃO","NÃO","NÃO","NÃO","NÃO","NÃO","NÃO","NÃO","NÃO","NÃO","NÃO","NÃO","NÃO","NÃO","NÃO","NÃO","NÃO","NÃO"]
[null,null,null,null,null,null,"","","","",null,null,null,null,"","","","","",0,null,null,"ene",{"$f":"V7","v":2025},"ene2025",13,null,"","","","",0,"","","NO","NO","NO","NO","NO","NO","NO","NO","NO","NO","NO","NO","NO","NO","NO","NO","NO","NO","NO","NÃO","NÃO","NÃO","NÃO","NÃO","NÃO","NÃO","NÃO","NÃO","NÃO","NÃO","NÃO","NÃO","NÃO","NÃO","NÃO","NÃO","NÃO","NÃO","NÃO","NÃO","NÃO","NÃO","NÃO","NÃO","NÃO","NÃO","NÃO","NÃO","NÃO","NÃO","NÃO","NÃO","NÃO","NÃO","NÃO","NÃO","NÃO","NÃO","NÃO","NÃO"]
[null,null,null,null,null,null,"","","","",null,null,null,null,"","","","","",0,null,null,"feb",{"$f":"X18","v":2025},"feb2025",14,null,"","","","",0,"","","NO","NO","NO","NO","NO","NO","NO","NO","NO","NO","NO","NO","NO","NO","NO","NO","NO","NO","NO","NÃO","NÃO","NÃO","NÃO","NÃO","NÃO","NÃO","NÃO","NÃO","NÃO","NÃO","NÃO","NÃO","NÃO","NÃO","NÃO","NÃO","NÃO","NÃO","NÃO","NÃO","NÃO","NÃO","NÃO","NÃO","NÃO","NÃO","NÃO","NÃO","NÃO","NÃO","NÃO","NÃO","NÃO","NÃO","NÃO","NÃO","NÃO","NÃO","NÃO","NÃO"]
[null,null,null,null,null,null,"","","","",null,null,null,null,"","","","","",0,null,null,"mar",{"$f":"X19","v":2025},"mar2025",15,null,"","","","",0,"","","NO","NO","NO","NO","NO","NO","NO","NO","NO","NO","NO","NO","NO","NO","NO","NO","NO","NO","NO","NÃO","NÃO","NÃO","NÃO","NÃO","NÃO","NÃO","NÃO","NÃO","NÃO","NÃO","NÃO","NÃO","NÃO","NÃO","NÃO","NÃO","NÃO","NÃO","NÃO","NÃO","NÃO","NÃO","NÃO","NÃO","NÃO","NÃO","NÃO","NÃO","NÃO","NÃO","NÃO","NÃO","NÃO","NÃO","NÃO","NÃO","NÃO","NÃO","NÃO","NÃO"]
[null,null,null,null,null,null,"","","","",null,null,null,null,"","","","","",0,null,null,"abr",2025,"abr2025",16,null,"","","","",0,"","","NO","NO","NO","NO","NO","NO","NO","NO","NO","NO","NO","NO","NO","NO","NO","NO","NO","NO","NO","NÃO","NÃO","NÃO","NÃO","NÃO","NÃO","NÃO","NÃO","NÃO","NÃO","NÃO","NÃO","NÃO","NÃO","NÃO","NÃO","NÃO","NÃO","NÃO","NÃO","NÃO","NÃO","NÃO","NÃO","NÃO","NÃO","NÃO","NÃO","NÃO","NÃO","NÃO","NÃO","NÃO","NÃO","NÃO","NÃO","NÃO","NÃO","NÃO","NÃO","NÃO"]
[null,null,null,null,null,null,"","","","",null,null,null,null,"","","","","",0,null,null,"may",2025,"may2025",17,null,"","","","",0,"","","NO","NO","NO","NO","NO","NO","NO","NO","NO","NO","NO","NO","NO","NO","NO","NO","NO","NO","NO","NÃO","NÃO","NÃO","NÃO","NÃO","NÃO","NÃO","NÃO","NÃO","NÃO","NÃO","NÃO","NÃO","NÃO","NÃO","NÃO","NÃO","NÃO","NÃO","NÃO","NÃO","NÃO","NÃO","NÃO","NÃO","NÃO","NÃO","NÃO","NÃO","NÃO","NÃO","NÃO","NÃO","NÃO","NÃO","NÃO","NÃO","NÃO","NÃO","NÃO","NÃO"]
[null,null,null,null,null,null,"","","","",null,null,null,null,"","","","","",0,null,null,"jun",2025,"jun2025",18,null,"","","","",0,"","","NO","NO","NO","NO","NO","NO","NO","NO","NO","NO","NO","NO","NO","NO","NO","NO","NO","NO","NO","NÃO","NÃO","NÃO","NÃO","NÃO","NÃO","NÃO","NÃO","NÃO","NÃO","NÃO","NÃO","NÃO","NÃO","NÃO","NÃO","NÃO","NÃO","NÃO","NÃO","NÃO","NÃO","NÃO","NÃO","NÃO","NÃO","NÃO","NÃO","NÃO","NÃO","NÃO","NÃO","NÃO","NÃO","NÃO","NÃO","NÃO","NÃO","NÃO","NÃO","NÃO"]
[null,null,null,null,null,null,"","","","",null,null,null,null,"","","","","",0,null,null,"jul",2025,"jul2025",19,null,"","","","",0,"","","NO","NO","NO","NO","NO","NO","NO","NO","NO","NO","NO","NO","NO","NO","NO","NO","NO","NO","NO","NÃO","NÃO","NÃO","NÃO","NÃO","NÃO","NÃO","NÃO","NÃO","NÃO","NÃO","NÃO","NÃO","NÃO","NÃO","NÃO","NÃO","NÃO","NÃO","NÃO","NÃO","NÃO","NÃO","NÃO","NÃO","NÃO","NÃO","NÃO","NÃO","NÃO","NÃO","NÃO","NÃO","NÃO","NÃO","NÃO","NÃO","NÃO","NÃO","NÃO","NÃO"]
[null,null,null,null,null,null,"","","","",null,null,null,null,"","","","","",0,null,null,"aug",2025,"aug2025",20,null,"","","","",0,"","","NO","NO","NO","NO","NO","NO","NO","NO","NO","NO","NO","NO","NO","NO","NO","NO","NO","NO","NO","NÃO","NÃO","NÃO","NÃO","NÃO","NÃO","NÃO","NÃO","NÃO","NÃO","NÃO","NÃO","NÃO","NÃO","NÃO","NÃO","NÃO","NÃO","NÃO","NÃO","NÃO","NÃO","NÃO","NÃO","NÃO","NÃO","NÃO","NÃO","NÃO","NÃO","NÃO","NÃO","NÃO","NÃO","NÃO","NÃO","NÃO","NÃO","NÃO","NÃO","NÃO"]
[null,null,null,null,null,null,"","","","",null,null,null,null,"","","","","",0,null,null,"sep",2025,"sep2025",21,null,"","","","",0,"","",{"$f":"IF(AND(AI$5>=$AC26,AI$5<=$AE26),$E26*$F26,\"NO\")","v":"NO"},"NO","NO","NO","NO","NO","NO","NO","NO","NO",{"$f":"IF(AND(AS$5>=$AC26,AS$5<=$AE26),$E26*$F26,\"NO\")","v":"NO"},"NO","NO","NO","NO","NO","NO","NO","NO",{"$f":"IF(AND(BB$5>=$AC26,BB$5<=$AE26),$E26*$F26,\"NÃO\")","v":"NÃO"},"NÃO","NÃO","NÃO",{"$f":"IF(AND(BF$5>=$AC26,BF$5<=$AE26),$E26*$F26,\"NÃO\")","v":"NÃO"},"NÃO","NÃO","NÃO","NÃO","NÃO","NÃO","NÃO","NÃO","NÃO",{"$f":"IF(AND(BP$5>=$AC26,BP$5<=$AE26),$E26*$F26,\"NÃO\")","v":"NÃO"},"NÃO","NÃO","NÃO","NÃO","NÃO","NÃO","NÃO","NÃO","NÃO",{"$f":"IF(AND(BZ$5>=$AC26,BZ$5<=$AE26),$E26*$F26,\"NÃO\")","v":"NÃO"},"NÃO","NÃO","NÃO","NÃO","NÃO","NÃO","NÃO","NÃO","NÃO",{"$f":"IF(AND(CJ$5>=$AC26,CJ$5<=$AE26),$E26*$F26,\"NÃO\")","v":"NÃO"},"NÃO","NÃO","NÃO","NÃO","NÃO","NÃO"]
[null,null,null,null,null,null,"","","","",null,null,null,null,"","","","","",0,null,null,"oct",2025,"oct2025",22,null,"","","","",0,"","","NO","NO","NO","NO","NO","NO","NO","NO","NO","NO","NO","NO","NO","NO","NO","NO","NO","NO","NO","NÃO","NÃO","NÃO","NÃO","NÃO","NÃO","NÃO","NÃO","NÃO","NÃO","NÃO","NÃO","NÃO","NÃO","NÃO","NÃO","NÃO","NÃO","NÃO","NÃO","NÃO","NÃO","NÃO","NÃO","NÃO","NÃO","NÃO","NÃO","NÃO","NÃO","NÃO","NÃO","NÃO","NÃO","NÃO","NÃO","NÃO","NÃO","NÃO","NÃO","NÃO"]
[null,null,null,null,null,null,"","","","",null,null,null,null,"","","","","",0,null,null,"nov",2025,"nov2025",23,null,"","","","",0,"","","NO","NO","NO","NO","NO","NO","NO","NO","NO","NO","NO","NO","NO","NO","NO","NO","NO","NO","NO","NÃO","NÃO","NÃO","NÃO","NÃO","NÃO","NÃO","NÃO","NÃO","NÃO","NÃO","NÃO","NÃO","NÃO","NÃO","NÃO","NÃO","NÃO","NÃO","NÃO","NÃO","NÃO","NÃO","NÃO","NÃO","NÃO","NÃO","NÃO","NÃO","NÃO","NÃO","NÃO","NÃO","NÃO","NÃO","NÃO","NÃO","NÃO","NÃO","NÃO","NÃO"]
[null,null,null,null,null,null,"","","","",null,null,null,null,"","","","","",0,null,null,"dic",2025,"dic2025",24,null,"","","","",0,"","","NO","NO","NO","NO","NO","NO","NO","NO","NO","NO","NO","NO","NO","NO","NO","NO","NO","NO","NO","NÃO","NÃO","NÃO","NÃO","NÃO","NÃO","NÃO","NÃO","NÃO","NÃO","NÃO","NÃO","NÃO","NÃO","NÃO","NÃO","NÃO","NÃO","NÃO","NÃO","NÃO","NÃO","NÃO","NÃO","NÃO","NÃO","NÃO","NÃO","NÃO","NÃO","NÃO","NÃO","NÃO","NÃO","NÃO","NÃO","NÃO","NÃO","NÃO","NÃO","NÃO"]
[null,null,null,null,null,null,"","","","",null,null,null,null,"","","","","",0,null,null,"ene",{"$f":"V8","v":2026},"ene2026",25,null,"","","","",0,"","","NO","NO","NO","NO","NO","NO","NO","NO","NO","NO","NO","NO","NO","NO","NO","NO","NO","NO","NO","NÃO","NÃO","NÃO","NÃO","NÃO","NÃO","NÃO","NÃO","NÃO","NÃO","NÃO","NÃO","NÃO","NÃO","NÃO","NÃO","NÃO","NÃO","NÃO","NÃO","NÃO","NÃO","NÃO","NÃO","NÃO","NÃO","NÃO","NÃO","NÃO","NÃO","NÃO","NÃO","NÃO","NÃO","NÃO","NÃO","NÃO","NÃO","NÃO","NÃO","NÃO"]
[null,null,null,null,null,null,"","","","",null,null,null,null,"","","","","",0,null,null,"feb",{"$f":"X30","v":2026},"feb2026",26,null,"","","","",0,"","","NO","NO","NO","NO","NO","NO","NO","NO","NO","NO","NO","NO","NO","NO","NO","NO","NO","NO","NO","NÃO","NÃO","NÃO","NÃO","NÃO","NÃO","NÃO","NÃO","NÃO","NÃO","NÃO","NÃO","NÃO","NÃO","NÃO","NÃO","NÃO","NÃO","NÃO","NÃO","NÃO","NÃO","NÃO","NÃO","NÃO","NÃO","NÃO","NÃO","NÃO","NÃO","NÃO","NÃO","NÃO","NÃO","NÃO","NÃO","NÃO","NÃO","NÃO","NÃO","NÃO"]
[null,null,null,null,null,null,"","","","",null,null,null,null,"","","","","",0,null,null,"mar",{"$f":"X31","v":2026},"mar2026",27,null,"","","","",0,"","","NO","NO","NO","NO","NO","NO","NO","NO","NO","NO","NO","NO","NO","NO","NO","NO","NO","NO","NO","NÃO","NÃO","NÃO","NÃO","NÃO","NÃO","NÃO","NÃO","NÃO","NÃO","NÃO","NÃO","NÃO","NÃO","NÃO","NÃO","NÃO","NÃO","NÃO","NÃO","NÃO","NÃO","NÃO","NÃO","NÃO","NÃO","NÃO","NÃO","NÃO","NÃO","NÃO","NÃO","NÃO","NÃO","NÃO","NÃO","NÃO","NÃO","NÃO","NÃO","NÃO"]
[null,null,null,null,null,null,"","","","",null,null,null,null,"","","","","",0,null,null,"abr",2026,"abr2026",28,null,"","","","",0,"","","NO","NO","NO","NO","NO","NO","NO","NO","NO","NO","NO","NO","NO","NO","NO","NO","NO","NO","NO","NÃO","NÃO","NÃO","NÃO","NÃO","NÃO","NÃO","NÃO","NÃO","NÃO","NÃO","NÃO","NÃO","NÃO","NÃO","NÃO","NÃO","NÃO","NÃO","NÃO","NÃO","NÃO","NÃO","NÃO","NÃO","NÃO","NÃO","NÃO","NÃO","NÃO","NÃO","NÃO","NÃO","NÃO","NÃO","NÃO","NÃO","NÃO","NÃO","NÃO","NÃO"]
[null,null,null,null,null,null,"","","","",null,null,null,null,"","","","","",0,null,null,"may",2026,"may2026",29,null,"","","","",0,"","","NO","NO","NO","NO","NO","NO","NO","NO","NO","NO","NO","NO","NO","NO","NO","NO","NO","NO","NO","NÃO","NÃO","NÃO","NÃO","NÃO","NÃO","NÃO","NÃO","NÃO","NÃO","NÃO","NÃO","NÃO","NÃO","NÃO","NÃO","NÃO","NÃO","NÃO","NÃO","NÃO","NÃO","NÃO","NÃO","NÃO","NÃO","NÃO","NÃO","NÃO","NÃO","NÃO","NÃO","NÃO","NÃO","NÃO","NÃO","NÃO","NÃO","NÃO","NÃO","NÃO"]
[null,null,null,null,null,null,"","","","",null,null,null,null,"","","","","",0,null,null,"jun",2026,"jun2026",30,null,"","","","",0,"","","NO","NO","NO","NO","NO","NO","NO","NO","NO","NO","NO","NO","NO","NO","NO","NO","NO","NO","NO","NÃO","NÃO","NÃO","NÃO","NÃO","NÃO","NÃO","NÃO","NÃO","NÃO","NÃO","NÃO","NÃO","NÃO","NÃO","NÃO","NÃO","NÃO","NÃO","NÃO","NÃO","NÃO","NÃO","NÃO","NÃO","NÃO","NÃO","NÃO","NÃO","NÃO","NÃO","NÃO","NÃO","NÃO","NÃO","NÃO","NÃO","NÃO","NÃO","NÃO","NÃO"]
[null,null,null,null,null,null,"","","","",null,null,null,null,"","","","","",0,null,null,"jul",2026,"jul2026",31,null,"","","","",0,"","",{"$f":"IF(AND(AI$5>=$AC36,AI$5<=$AE36),$E36*$F36,\"NO\")","v":"NO"},"NO","NO","NO","NO","NO","NO","NO","NO","NO",{"$f":"IF(AND(AS$5>=$AC36,AS$5<=$AE36),$E36*$F36,\"NO\")","v":"NO"},"NO","NO","NO","NO","NO","NO","NO","NO",{"$f":"IF(AND(BB$5>=$AC36,BB$5<=$AE36),$E36*$F36,\"NÃO\")","v":"NÃO"},"NÃO","NÃO","NÃO",{"$f":"IF(AND(BF$5>=$AC36,BF$5<=$AE36),$E36*$F36,\"NÃO\")","v":"NÃO"},"NÃO","NÃO","NÃO","NÃO","NÃO","NÃO","NÃO","NÃO","NÃO",{"$f":"IF(AND(BP$5>=$AC36,BP$5<=$AE36),$E36*$F36,\"NÃO\")","v":"NÃO"},"NÃO","NÃO","NÃO","NÃO","NÃO","NÃO","NÃO","NÃO","NÃO",{"$f":"IF(AND(BZ$5>=$AC36,BZ$5<=$AE36),$E36*$F36,\"NÃO\")","v":"NÃO"},"NÃO","NÃO","NÃO","NÃO","NÃO","NÃO","NÃO","NÃO","NÃO",{"$f":"IF(AND(CJ$5>=$AC36,CJ$5<=$AE36),$E36*$F36,\"NÃO\")","v":"NÃO"},"NÃO","NÃO","NÃO","NÃO","NÃO","NÃO"]
[null,null,null,null,null,null,"","","","",null,null,null,null,"","","","","",0,null,null,"aug",2026,"aug2026",32,null,"","","","",0,"","","NO","NO","NO","NO","NO","NO","NO","NO","NO","NO","NO","NO","NO","NO","NO","NO","NO","NO","NO","NÃO","NÃO","NÃO","NÃO","NÃO","NÃO","NÃO","NÃO","NÃO","NÃO","NÃO","NÃO","NÃO","NÃO","NÃO","NÃO","NÃO","NÃO","NÃO","NÃO","NÃO","NÃO","NÃO","NÃO","NÃO","NÃO","NÃO","NÃO","NÃO","NÃO","NÃO","NÃO","NÃO","NÃO","NÃO","NÃO","NÃO","NÃO","NÃO","NÃO","NÃO"]
[null,null,null,null,null,null,"","","","",null,null,null,null,"","","","","",0,null,null,"sep",2026,"sep2026",33,null,"","","","",0,"","","NO","NO","NO","NO","NO","NO","NO","NO","NO","NO","NO","NO","NO","NO","NO","NO","NO","NO","NO","NÃO","NÃO","NÃO","NÃO","NÃO","NÃO","NÃO","NÃO","NÃO","NÃO","NÃO","NÃO","NÃO","NÃO","NÃO","NÃO","NÃO","NÃO","NÃO","NÃO","NÃO","NÃO","NÃO","NÃO","NÃO","NÃO","NÃO","NÃO","NÃO","NÃO","NÃO","NÃO","NÃO","NÃO","NÃO","NÃO","NÃO","NÃO","NÃO","NÃO","NÃO"]
[null,null,null,null,null,null,"","","","",null,null,null,null,"","","","","",0,null,null,"oct",2026,"oct2026",34,null,"","","","",0,"","","NO","NO","NO","NO","NO","NO","NO","NO","NO","NO","NO","NO","NO","NO","NO","NO","NO","NO","NO","NÃO","NÃO","NÃO","NÃO","NÃO","NÃO","NÃO","NÃO","NÃO","NÃO","NÃO","NÃO","NÃO","NÃO","NÃO","NÃO","NÃO","NÃO","NÃO","NÃO","NÃO","NÃO","NÃO","NÃO","NÃO","NÃO","NÃO","NÃO","NÃO","NÃO","NÃO","NÃO","NÃO","NÃO","NÃO","NÃO","NÃO","NÃO","NÃO","NÃO","NÃO"]
[null,null,null,null,null,null,"","","","",null,null,null,null,"","","","","",0,null,null,"nov",2026,"nov2026",35,null,"","","","",0,"","","NO","NO","NO","NO","NO","NO","NO","NO","NO","NO","NO","NO","NO","NO","NO","NO","NO","NO","NO","NÃO","NÃO","NÃO","NÃO","NÃO","NÃO","NÃO","NÃO","NÃO","NÃO","NÃO","NÃO","NÃO","NÃO","NÃO","NÃO","NÃO","NÃO","NÃO","NÃO","NÃO","NÃO","NÃO","NÃO","NÃO","NÃO","NÃO","NÃO","NÃO","NÃO","NÃO","NÃO","NÃO","NÃO","NÃO","NÃO","NÃO","NÃO","NÃO","NÃO","NÃO"]
[null,null,null,null,null,null,"","","","",null,null,null,null,"","","","","",0,null,null,"dic",2026,"dic2026",36,null,"","","","",0,"","","NO","NO","NO","NO","NO","NO","NO","NO","NO","NO","NO","NO","NO","NO","NO","NO","NO","NO","NO","NÃO","NÃO","NÃO","NÃO","NÃO","NÃO","NÃO","NÃO","NÃO","NÃO","NÃO","NÃO","NÃO","NÃO","NÃO","NÃO","NÃO","NÃO","NÃO","NÃO","NÃO","NÃO","NÃO","NÃO","NÃO","NÃO","NÃO","NÃO","NÃO","NÃO","NÃO","NÃO","NÃO","NÃO","NÃO","NÃO","NÃO","NÃO","NÃO","NÃO","NÃO"]
[null,null,null,null,null,null,"","","","",null,null,null,null,"","","","","",0,null,null,"ene",{"$f":"V9","v":2027},"ene2027",37,null,"","","","",0,"","","NO","NO","NO","NO","NO","NO","NO","NO","NO","NO","NO","NO","NO","NO","NO","NO","NO","NO","NO","NÃO","NÃO","NÃO","NÃO","NÃO","NÃO","NÃO","NÃO","NÃO","NÃO","NÃO","NÃO","NÃO","NÃO","NÃO","NÃO","NÃO","NÃO","NÃO","NÃO","NÃO","NÃO","NÃO","NÃO","NÃO","NÃO","NÃO","NÃO","NÃO","NÃO","NÃO","NÃO","NÃO","NÃO","NÃO","NÃO","NÃO","NÃO","NÃO","NÃO","NÃO"]
[null,null,null,null,null,null,"","","","",null,null,null,null,"","","","","",0,null,null,"feb",{"$f":"X42","v":2027},"feb2027",38,null,"","","","",0,"","","NO","NO","NO","NO","NO","NO","NO","NO","NO","NO","NO","NO","NO","NO","NO","NO","NO","NO","NO","NÃO","NÃO","NÃO","NÃO","NÃO","NÃO","NÃO","NÃO","NÃO","NÃO","NÃO","NÃO","NÃO","NÃO","NÃO","NÃO","NÃO","NÃO","NÃO","NÃO","NÃO","NÃO","NÃO","NÃO","NÃO","NÃO","NÃO","NÃO","NÃO","NÃO","NÃO","NÃO","NÃO","NÃO","NÃO","NÃO","NÃO","NÃO","NÃO","NÃO","NÃO"]
[null,null,null,null,null,null,"","","","",null,null,null,null,"","","","","",0,null,null,"mar",{"$f":"X43","v":2027},"mar2027",39,null,"","","","",0,"","","NO","NO","NO","NO","NO","NO","NO","NO","NO","NO","NO","NO","NO","NO","NO","NO","NO","NO","NO","NÃO","NÃO","NÃO","NÃO","NÃO","NÃO","NÃO","NÃO","NÃO","NÃO","NÃO","NÃO","NÃO","NÃO","NÃO","NÃO","NÃO","NÃO","NÃO","NÃO","NÃO","NÃO","NÃO","NÃO","NÃO","NÃO","NÃO","NÃO","NÃO","NÃO","NÃO","NÃO","NÃO","NÃO","NÃO","NÃO","NÃO","NÃO","NÃO","NÃO","NÃO"]
[null,null,null,null,null,null,"","","","",null,null,null,null,"","","","","",0,null,null,"abr",2027,"abr2027",40,null,"","","","",0,"","","NO","NO","NO","NO","NO","NO","NO","NO","NO","NO","NO","NO","NO","NO","NO","NO","NO","NO","NO","NÃO","NÃO","NÃO","NÃO","NÃO","NÃO","NÃO","NÃO","NÃO","NÃO","NÃO","NÃO","NÃO","NÃO","NÃO","NÃO","NÃO","NÃO","NÃO","NÃO","NÃO","NÃO","NÃO","NÃO","NÃO","NÃO","NÃO","NÃO","NÃO","NÃO","NÃO","NÃO","NÃO","NÃO","NÃO","NÃO","NÃO","NÃO","NÃO","NÃO","NÃO"]
[null,null,null,null,null,null,"","","","",null,null,null,null,"","","","","",0,null,null,"may",2027,"may2027",41,null,"","","","",0,"","",{"$f":"IF(AND(AI$5>=$AC46,AI$5<=$AE46),$E46*$F46,\"NO\")","v":"NO"},"NO","NO","NO","NO","NO","NO","NO","NO","NO",{"$f":"IF(AND(AS$5>=$AC46,AS$5<=$AE46),$E46*$F46,\"NO\")","v":"NO"},"NO","NO","NO","NO","NO","NO","NO","NO",{"$f":"IF(AND(BB$5>=$AC46,BB$5<=$AE46),$E46*$F46,\"NÃO\")","v":"NÃO"},"NÃO","NÃO","NÃO",{"$f":"IF(AND(BF$5>=$AC46,BF$5<=$AE46),$E46*$F46,\"NÃO\")","v":"NÃO"},"NÃO","NÃO","NÃO","NÃO","NÃO","NÃO","NÃO","NÃO","NÃO",{"$f":"IF(AND(BP$5>=$AC46,BP$5<=$AE46),$E46*$F46,\"NÃO\")","v":"NÃO"},"NÃO","NÃO","NÃO","NÃO","NÃO","NÃO","NÃO","NÃO","NÃO",{"$f":"IF(AND(BZ$5>=$AC46,BZ$5<=$AE46),$E46*$F46,\"NÃO\")","v":"NÃO"},"NÃO","NÃO","NÃO","NÃO","NÃO","NÃO","NÃO","NÃO","NÃO",{"$f":"IF(AND(CJ$5>=$AC46,CJ$5<=$AE46),$E46*$F46,\"NÃO\")","v":"NÃO"},"NÃO","NÃO","NÃO","NÃO","NÃO","NÃO"]
[null,null,null,null,null,null,"","","","",null,null,null,null,"","","","","",0,null,null,"jun",2027,"jun2027",42,null,"","","","",0,"","","NO","NO","NO","NO","NO","NO","NO","NO","NO","NO","NO","NO","NO","NO","NO","NO","NO","NO","NO","NÃO","NÃO","NÃO","NÃO","NÃO","NÃO","NÃO","NÃO","NÃO","NÃO","NÃO","NÃO","NÃO","NÃO","NÃO","NÃO","NÃO","NÃO","NÃO","NÃO","NÃO","NÃO","NÃO","NÃO","NÃO","NÃO","NÃO","NÃO","NÃO","NÃO","NÃO","NÃO","NÃO","NÃO","NÃO","NÃO","NÃO","NÃO","NÃO","NÃO","NÃO"]
[null,null,null,null,null,null,"","","","",null,null,null,null,"","","","","",0,null,null,"jul",2027,"jul2027",43,null,"","","","",0,"","","NO","NO","NO","NO","NO","NO","NO","NO","NO","NO","NO","NO","NO","NO","NO","NO","NO","NO","NO","NÃO","NÃO","NÃO","NÃO","NÃO","NÃO","NÃO","NÃO","NÃO","NÃO","NÃO","NÃO","NÃO","NÃO","NÃO","NÃO","NÃO","NÃO","NÃO","NÃO","NÃO","NÃO","NÃO","NÃO","NÃO","NÃO","NÃO","NÃO","NÃO","NÃO","NÃO","NÃO","NÃO","NÃO","NÃO","NÃO","NÃO","NÃO","NÃO","NÃO","NÃO"]
[null,null,null,null,null,null,"","","","",null,null,null,null,"","","","","",0,null,null,"aug",2027,"aug2027",44,null,"","","","",0,"","","NO","NO","NO","NO","NO","NO","NO","NO","NO","NO","NO","NO","NO","NO","NO","NO","NO","NO","NO","NÃO","NÃO","NÃO","NÃO","NÃO","NÃO","NÃO","NÃO","NÃO","NÃO","NÃO","NÃO","NÃO","NÃO","NÃO","NÃO","NÃO","NÃO","NÃO","NÃO","NÃO","NÃO","NÃO","NÃO","NÃO","NÃO","NÃO","NÃO","NÃO","NÃO","NÃO","NÃO","NÃO","NÃO","NÃO","NÃO","NÃO","NÃO","NÃO","NÃO","NÃO"]
[null,null,null,null,null,null,"","","","",null,null,null,null,"","","","","",0,null,null,"sep",2027,"sep2027",45,null,"","","","",0,"","","NO","NO","NO","NO","NO","NO","NO","NO","NO","NO","NO","NO","NO","NO","NO","NO","NO","NO","NO","NÃO","NÃO","NÃO","NÃO","NÃO","NÃO","NÃO","NÃO","NÃO","NÃO","NÃO","NÃO","NÃO","NÃO","NÃO","NÃO","NÃO","NÃO","NÃO","NÃO","NÃO","NÃO","NÃO","NÃO","NÃO","NÃO","NÃO","NÃO","NÃO","NÃO","NÃO","NÃO","NÃO","NÃO","NÃO","NÃO","NÃO","NÃO","NÃO","NÃO","NÃO"]
[null,null,null,null,null,null,"","","","",null,null,null,null,"","","","","",0,null,null,"oct",2027,"oct2027",46,null,"","","","",0,"","","NO","NO","NO","NO","NO","NO","NO","NO","NO","NO","NO","NO","NO","NO","NO","NO","NO","NO","NO","NÃO","NÃO","NÃO","NÃO","NÃO","NÃO","NÃO","NÃO","NÃO","NÃO","NÃO","NÃO","NÃO","NÃO","NÃO","NÃO","NÃO","NÃO","NÃO","NÃO","NÃO","NÃO","NÃO","NÃO","NÃO","NÃO","NÃO","NÃO","NÃO","NÃO","NÃO","NÃO","NÃO","NÃO","NÃO","NÃO","NÃO","NÃO","NÃO","NÃO","NÃO"]
[null,null,null,null,null,null,"","","","",null,null,null,null,"","","","","",0,null,null,"nov",2027,"nov2027",47,null,"","","","",0,"","","NO","NO","NO","NO","NO","NO","NO","NO","NO","NO","NO","NO","NO","NO","NO","NO","NO","NO","NO","NÃO","NÃO","NÃO","NÃO","NÃO","NÃO","NÃO","NÃO","NÃO","NÃO","NÃO","NÃO","NÃO","NÃO","NÃO","NÃO","NÃO","NÃO","NÃO","NÃO","NÃO","NÃO","NÃO","NÃO","NÃO","NÃO","NÃO","NÃO","NÃO","NÃO","NÃO","NÃO","NÃO","NÃO","NÃO","NÃO","NÃO","NÃO","NÃO","NÃO","NÃO"]
[null,null,null,null,null,null,"","","","",null,null,null,null,"","","","","",0,null,null,"dic",2027,"dic2027",48,null,"","","","",0,"","","NO","NO","NO","NO","NO","NO","NO","NO","NO","NO","NO","NO","NO","NO","NO","NO","NO","NO","NO","NÃO","NÃO","NÃO","NÃO","NÃO","NÃO","NÃO","NÃO","NÃO","NÃO","NÃO","NÃO","NÃO","NÃO","NÃO","NÃO","NÃO","NÃO","NÃO","NÃO","NÃO","NÃO","NÃO","NÃO","NÃO","NÃO","NÃO","NÃO","NÃO","NÃO","NÃO","NÃO","NÃO","NÃO","NÃO","NÃO","NÃO","NÃO","NÃO","NÃO","NÃO"]
[null,null,null,null,null,null,"","","","",null,null,null,null,"","","","","",0,null,null,"ene",{"$f":"V10","v":2028},"ene2028",49,null,"","","","",0,"","","NO","NO","NO","NO","NO","NO","NO","NO","NO","NO","NO","NO","NO","NO","NO","NO","NO","NO","NO","NÃO","NÃO","NÃO","NÃO","NÃO","NÃO","NÃO","NÃO","NÃO","NÃO","NÃO","NÃO","NÃO","NÃO","NÃO","NÃO","NÃO","NÃO","NÃO","NÃO","NÃO","NÃO","NÃO","NÃO","NÃO","NÃO","NÃO","NÃO","NÃO","NÃO","NÃO","NÃO","NÃO","NÃO","NÃO","NÃO","NÃO","NÃO","NÃO","NÃO","NÃO"]
[null,null,null,null,null,null,"","","","",null,null,null,null,"","","","","",0,null,null,"feb",{"$f":"X54","v":2028},"feb2028",50,null,"","","","",0,"","","NO","NO","NO","NO","NO","NO","NO","NO","NO","NO","NO","NO","NO","NO","NO","NO","NO","NO","NO","NÃO","NÃO","NÃO","NÃO","NÃO","NÃO","NÃO","NÃO","NÃO","NÃO","NÃO","NÃO","NÃO","NÃO","NÃO","NÃO","NÃO","NÃO","NÃO","NÃO","NÃO","NÃO","NÃO","NÃO","NÃO","NÃO","NÃO","NÃO","NÃO","NÃO","NÃO","NÃO","NÃO","NÃO","NÃO","NÃO","NÃO","NÃO","NÃO","NÃO","NÃO"]
[null,null,null,null,null,null,"","","","",null,null,null,null,"","","","","",0,null,null,"mar",{"$f":"X55","v":2028},"mar2028",51,null,"","","","",0,"","",{"$f":"IF(AND(AI$5>=$AC56,AI$5<=$AE56),$E56*$F56,\"NO\")","v":"NO"},"NO","NO","NO","NO","NO","NO","NO","NO","NO",{"$f":"IF(AND(AS$5>=$AC56,AS$5<=$AE56),$E56*$F56,\"NO\")","v":"NO"},"NO","NO","NO","NO","NO","NO","NO","NO",{"$f":"IF(AND(BB$5>=$AC56,BB$5<=$AE56),$E56*$F56,\"NÃO\")","v":"NÃO"},"NÃO","NÃO","NÃO",{"$f":"IF(AND(BF$5>=$AC56,BF$5<=$AE56),$E56*$F56,\"NÃO\")","v":"NÃO"},"NÃO","NÃO","NÃO","NÃO","NÃO","NÃO","NÃO","NÃO","NÃO",{"$f":"IF(AND(BP$5>=$AC56,BP$5<=$AE56),$E56*$F56,\"NÃO\")","v":"NÃO"},"NÃO","NÃO","NÃO","NÃO","NÃO","NÃO","NÃO","NÃO","NÃO",{"$f":"IF(AND(BZ$5>=$AC56,BZ$5<=$AE56),$E56*$F56,\"NÃO\")","v":"NÃO"},"NÃO","NÃO","NÃO","NÃO","NÃO","NÃO","NÃO","NÃO","NÃO",{"$f":"IF(AND(CJ$5>=$AC56,CJ$5<=$AE56),$E56*$F56,\"NÃO\")","v":"NÃO"},"NÃO","NÃO","NÃO","NÃO","NÃO","NÃO"]
[null,null,null,null,null,null,"","","","",null,null,null,null,"","","","","",0,null,null,"abr",2028,"abr2028",52,null,"","","","",0,"","","NO","NO","NO","NO","NO","NO","NO","NO","NO","NO","NO","NO","NO","NO","NO","NO","NO","NO","NO","NÃO","NÃO","NÃO","NÃO","NÃO","NÃO","NÃO","NÃO","NÃO","NÃO","NÃO","NÃO","NÃO","NÃO","NÃO","NÃO","NÃO","NÃO","NÃO","NÃO","NÃO","NÃO","NÃO","NÃO","NÃO","NÃO","NÃO","NÃO","NÃO","NÃO","NÃO","NÃO","NÃO","NÃO","NÃO","NÃO","NÃO","NÃO","NÃO","NÃO","NÃO"]
[null,null,null,null,null,null,"","","","",null,null,null,null,"","","","","",0,null,null,"may",2028,"may2028",53,null,"","","","",0,"","","NO","NO","NO","NO","NO","NO","NO","NO","NO","NO","NO","NO","NO","NO","NO","NO","NO","NO","NO","NÃO","NÃO","NÃO","NÃO","NÃO","NÃO","NÃO","NÃO","NÃO","NÃO","NÃO","NÃO","NÃO","NÃO","NÃO","NÃO","NÃO","NÃO","NÃO","NÃO","NÃO","NÃO","NÃO","NÃO","NÃO","NÃO","NÃO","NÃO","NÃO","NÃO","NÃO","NÃO","NÃO","NÃO","NÃO","NÃO","NÃO","NÃO","NÃO","NÃO","NÃO"]
[null,null,null,null,null,null,"","","","",null,null,null,null,"","","","","",0,null,null,"jun",2028,"jun2028",54,null,"","","","",0,"","","NO","NO","NO","NO","NO","NO","NO","NO","NO","NO","NO","NO","NO","NO","NO","NO","NO","NO","NO","NÃO","NÃO","NÃO","NÃO","NÃO","NÃO","NÃO","NÃO","NÃO","NÃO","NÃO","NÃO","NÃO","NÃO","NÃO","NÃO","NÃO","NÃO","NÃO","NÃO","NÃO","NÃO","NÃO","NÃO","NÃO","NÃO","NÃO","NÃO","NÃO","NÃO","NÃO","NÃO","NÃO","NÃO","NÃO","NÃO","NÃO","NÃO","NÃO","NÃO","NÃO"]
[null,null,null,null,null,null,"","","","",null,null,null,null,"","","","","",0,null,null,"jul",2028,"jul2028",55,null,"","","","",0,"","","NO","NO","NO","NO","NO","NO","NO","NO","NO","NO","NO","NO","NO","NO","NO","NO","NO","NO","NO","NÃO","NÃO","NÃO","NÃO","NÃO","NÃO","NÃO","NÃO","NÃO","NÃO","NÃO","NÃO","NÃO","NÃO","NÃO","NÃO","NÃO","NÃO","NÃO","NÃO","NÃO","NÃO","NÃO","NÃO","NÃO","NÃO","NÃO","NÃO","NÃO","NÃO","NÃO","NÃO","NÃO","NÃO","NÃO","NÃO","NÃO","NÃO","NÃO","NÃO","NÃO"]
[null,null,null,null,null,null,"","","","",null,null,null,null,"","","","","",0,null,null,"aug",2028,"aug2028",56,null,"","","","",0,"","","NO","NO","NO","NO","NO","NO","NO","NO","NO","NO","NO","NO","NO","NO","NO","NO","NO","NO","NO","NÃO","NÃO","NÃO","NÃO","NÃO","NÃO","NÃO","NÃO","NÃO","NÃO","NÃO","NÃO","NÃO","NÃO","NÃO","NÃO","NÃO","NÃO","NÃO","NÃO","NÃO","NÃO","NÃO","NÃO","NÃO","NÃO","NÃO","NÃO","NÃO","NÃO","NÃO","NÃO","NÃO","NÃO","NÃO","NÃO","NÃO","NÃO","NÃO","NÃO","NÃO"]
[null,null,null,null,null,null,"","","","",null,null,null,null,"","","","","",0,null,null,"sep",2028,"sep2028",57,null,"","","","",0,"","","NO","NO","NO","NO","NO","NO","NO","NO","NO","NO","NO","NO","NO","NO","NO","NO","NO","NO","NO","NÃO","NÃO","NÃO","NÃO","NÃO","NÃO","NÃO","NÃO","NÃO","NÃO","NÃO","NÃO","NÃO","NÃO","NÃO","NÃO","NÃO","NÃO","NÃO","NÃO","NÃO","NÃO","NÃO","NÃO","NÃO","NÃO","NÃO","NÃO","NÃO","NÃO","NÃO","NÃO","NÃO","NÃO","NÃO","NÃO","NÃO","NÃO","NÃO","NÃO","NÃO"]
[null,null,null,null,null,null,"","","","",null,null,null,null,"","","","","",0,null,null,"oct",2028,"oct2028",58,null,"","","","",0,"","","NO","NO","NO","NO","NO","NO","NO","NO","NO","NO","NO","NO","NO","NO","NO","NO","NO","NO","NO","NÃO","NÃO","NÃO","NÃO","NÃO","NÃO","NÃO","NÃO","NÃO","NÃO","NÃO","NÃO","NÃO","NÃO","NÃO","NÃO","NÃO","NÃO","NÃO","NÃO","NÃO","NÃO","NÃO","NÃO","NÃO","NÃO","NÃO","NÃO","NÃO","NÃO","NÃO","NÃO","NÃO","NÃO","NÃO","NÃO","NÃO","NÃO","NÃO","NÃO","NÃO"]
[null,null,null,null,null,null,"","","","",null,null,null,null,"","","","","",0,null,null,"nov",2028,"nov2028",59,null,"","","","",0,"","","NO","NO","NO","NO","NO","NO","NO","NO","NO","NO","NO","NO","NO","NO","NO","NO","NO","NO","NO","NÃO","NÃO","NÃO","NÃO","NÃO","NÃO","NÃO","NÃO","NÃO","NÃO","NÃO","NÃO","NÃO","NÃO","NÃO","NÃO","NÃO","NÃO","NÃO","NÃO","NÃO","NÃO","NÃO","NÃO","NÃO","NÃO","NÃO","NÃO","NÃO","NÃO","NÃO","NÃO","NÃO","NÃO","NÃO","NÃO","NÃO","NÃO","NÃO","NÃO","NÃO"]
[null,null,null,null,null,null,"","","","",null,null,null,null,"","","","","",0,null,null,"dic",2028,"dic2028",60,null,"","","","",0,"","","NO","NO","NO","NO","NO","NO","NO","NO","NO","NO","NO","NO","NO","NO","NO","NO","NO","NO","NO","NÃO","NÃO","NÃO","NÃO","NÃO","NÃO","NÃO","NÃO","NÃO","NÃO","NÃO","NÃO","NÃO","NÃO","NÃO","NÃO","NÃO","NÃO","NÃO","NÃO","NÃO","NÃO","NÃO","NÃO","NÃO","NÃO","NÃO","NÃO","NÃO","NÃO","NÃO","NÃO","NÃO","NÃO","NÃO","NÃO","NÃO","NÃO","NÃO","NÃO","NÃO"]
[null,null,null,null,null,null,"","","","",null,null,null,null,"","","","","",0,null,null,null,null,null,null,null,"","","","",0,"","",{"$f":"IF(AND(AI$5>=$AC66,AI$5<=$AE66),$E66*$F66,\"NO\")","v":"NO"},"NO","NO","NO","NO","NO","NO","NO","NO","NO",{"$f":"IF(AND(AS$5>=$AC66,AS$5<=$AE66),$E66*$F66,\"NO\")","v":"NO"},"NO","NO","NO","NO","NO","NO","NO","NO",{"$f":"IF(AND(BB$5>=$AC66,BB$5<=$AE66),$E66*$F66,\"NÃO\")","v":"NÃO"},"NÃO","NÃO","NÃO",{"$f":"IF(AND(BF$5>=$AC66,BF$5<=$AE66),$E66*$F66,\"NÃO\")","v":"NÃO"},"NÃO","NÃO","NÃO","NÃO","NÃO","NÃO","NÃO","NÃO","NÃO",{"$f":"IF(AND(BP$5>=$AC66,BP$5<=$AE66),$E66*$F66,\"NÃO\")","v":"NÃO"},"NÃO","NÃO","NÃO","NÃO","NÃO","NÃO","NÃO","NÃO","NÃO",{"$f":"IF(AND(BZ$5>=$AC66,BZ$5<=$AE66),$E66*$F66,\"NÃO\")","v":"NÃO"},"NÃO","NÃO","NÃO","NÃO","NÃO","NÃO","NÃO","NÃO","NÃO",{"$f":"IF(AND(CJ$5>=$AC66,CJ$5<=$AE66),$E66*$F66,\"NÃO\")","v":"NÃO"},"NÃO","NÃO","NÃO","NÃO","NÃO","NÃO"]
[null,null,null,null,null,null,"","","","",null,null,null,null,"","","","","",0,null,null,null,null,null,null,null,"","","","",0,"","","NO","NO","NO","NO","NO","NO","NO","NO","NO","NO","NO","NO","NO","NO","NO","NO","NO","NO","NO","NÃO","NÃO","NÃO","NÃO","NÃO","NÃO","NÃO","NÃO","NÃO","NÃO","NÃO","NÃO","NÃO","NÃO","NÃO","NÃO","NÃO","NÃO","NÃO","NÃO","NÃO","NÃO","NÃO","NÃO","NÃO","NÃO","NÃO","NÃO","NÃO","NÃO","NÃO","NÃO","NÃO","NÃO","NÃO","NÃO","NÃO","NÃO","NÃO","NÃO","NÃO"]
[null,null,null,null,null,null,"","","","",null,null,null,null,"","","","","",0,null,null,null,null,null,null,null,"","","","",0,"","","NO","NO","NO","NO","NO","NO","NO","NO","NO","NO","NO","NO","NO","NO","NO","NO","NO","NO","NO","NÃO","NÃO","NÃO","NÃO","NÃO","NÃO","NÃO","NÃO","NÃO","NÃO","NÃO","NÃO","NÃO","NÃO","NÃO","NÃO","NÃO","NÃO","NÃO","NÃO","NÃO","NÃO","NÃO","NÃO","NÃO","NÃO","NÃO","NÃO","NÃO","NÃO","NÃO","NÃO","NÃO","NÃO","NÃO","NÃO","NÃO","NÃO","NÃO","NÃO","NÃO"]
[null,null,null,null,null,null,"","","","",null,null,null,null,"","","","","",0,null,null,null,null,null,null,null,"","","","",0,"","","NO","NO","NO","NO","NO","NO","NO","NO","NO","NO","NO","NO","NO","NO","NO","NO","NO","NO","NO","NÃO","NÃO","NÃO","NÃO","NÃO","NÃO","NÃO","NÃO","NÃO","NÃO","NÃO","NÃO","NÃO","NÃO","NÃO","NÃO","NÃO","NÃO","NÃO","NÃO","NÃO","NÃO","NÃO","NÃO","NÃO","NÃO","NÃO","NÃO","NÃO","NÃO","NÃO","NÃO","NÃO","NÃO","NÃO","NÃO","NÃO","NÃO","NÃO","NÃO","NÃO"]
[null,null,null,null,null,null,"","","","",null,null,null,null,"","","","","",0,null,null,null,null,null,null,null,"","","","",0,"","","NO","NO","NO","NO","NO","NO","NO","NO","NO","NO","NO","NO","NO","NO","NO","NO","NO","NO","NO","NÃO","NÃO","NÃO","NÃO","NÃO","NÃO","NÃO","NÃO","NÃO","NÃO","NÃO","NÃO","NÃO","NÃO","NÃO","NÃO","NÃO","NÃO","NÃO","NÃO","NÃO","NÃO","NÃO","NÃO","NÃO","NÃO","NÃO","NÃO","NÃO","NÃO","NÃO","NÃO","NÃO","NÃO","NÃO","NÃO","NÃO","NÃO","NÃO","NÃO","NÃO"]
[null,null,null,null,null,null,{"$f":"IF(C71=\"\",\"\",E71*7.09%)","v":""},"","","",null,null,null,null,{"$f":"IF(E71=\"\",\"\",AG71)","v":""},{"$f":"IF(E71=\"\",\"\",AH71)","v":""},{"$f":"IF(E71=\"\",\"\",AI71)","v":""},{"$f":"IF(E71=\"\",\"\",AJ71)","v":""},{"$f":"IF(E71=\"\",\"\",AK71)","v":""},{"$f":"AF71","v":0},null,null,null,null,null,null,null,{"$f":"CONCATENATE(K71,L71)","v":""},{"$f":"IF(AB71=\"\",\"\",VLOOKUP(AB71,$Y$6:$Z$65,2,FALSE))","v":""},{"$f":"CONCATENATE(M71,N71)","v":""},{"$f":"IFERROR(VLOOKUP(AD71,$Y$6:$Z$65,2,FALSE),\"\")","v":""},{"$f":"IFERROR(SUM(AG71:AK71),\"\")","v":0},{"$f":"IFERROR((AE71-AC71+1)*G71*F71,\"\")","v":""},{"$f":"IFERROR((AE71-AC71+1)*H71*F71,\"\")","v":""},"NO","NO","NO","NO","NO","NO","NO","NO","NO","NO","NO","NO","NO","NO","NO","NO","NO","NO","NO","NÃO","NÃO","NÃO","NÃO","NÃO","NÃO","NÃO","NÃO","NÃO","NÃO","NÃO","NÃO","NÃO","NÃO","NÃO","NÃO","NÃO","NÃO","NÃO","NÃO","NÃO","NÃO","NÃO","NÃO","NÃO","NÃO","NÃO","NÃO","NÃO","NÃO","NÃO","NÃO","NÃO","NÃO","NÃO","NÃO","NÃO","NÃO","NÃO","NÃO","NÃO"]
[null,null,null,null,null,null,"",{"$f":"IF(C72=\"\",\"\",E72*7.1%)","v":""},{"$f":"IF(C72=\"\",\"\",E72*1%)","v":""},{"$f":"IF(C72=\"\",\"\",E72*1%)","v":""},null,null,null,null,"","","","","",0,null,null,null,null,null,null,null,"","","","",0,"","","NO","NO","NO","NO","NO","NO","NO","NO","NO","NO","NO","NO","NO","NO","NO","NO","NO","NO","NO","NÃO","NÃO","NÃO","NÃO","NÃO","NÃO","NÃO","NÃO","NÃO","NÃO","NÃO","NÃO","NÃO","NÃO","NÃO","NÃO","NÃO","NÃO","NÃO","NÃO","NÃO","NÃO","NÃO","NÃO","NÃO","NÃO","NÃO","NÃO","NÃO","NÃO","NÃO","NÃO","NÃO","NÃO","NÃO","NÃO","NÃO","NÃO","NÃO","NÃO","NÃO"]
[null,null,null,null,null,null,"","","","",null,null,null,null,"","","","","",0,null,null,null,null,null,null,null,"","","","",0,"","","NO","NO","NO","NO","NO","NO","NO","NO","NO","NO","NO","NO","NO","NO","NO","NO","NO","NO","NO","NÃO","NÃO","NÃO","NÃO","NÃO","NÃO","NÃO","NÃO","NÃO","NÃO","NÃO","NÃO","NÃO","NÃO","NÃO","NÃO","NÃO","NÃO","NÃO","NÃO","NÃO","NÃO","NÃO","NÃO","NÃO","NÃO","NÃO","NÃO","NÃO","NÃO","NÃO","NÃO","NÃO","NÃO","NÃO","NÃO","NÃO","NÃO","NÃO","NÃO","NÃO"]
[null,null,null,null,null,null,"","","","",null,null,null,null,"","","","","",0,null,null,null,null,null,null,null,"","","","",0,"","","NO","NO","NO","NO","NO","NO","NO","NO","NO","NO","NO","NO","NO","NO","NO","NO","NO","NO","NO","NÃO","NÃO","NÃO","NÃO","NÃO","NÃO","NÃO","NÃO","NÃO","NÃO","NÃO","NÃO","NÃO","NÃO","NÃO","NÃO","NÃO","NÃO","NÃO","NÃO","NÃO","NÃO","NÃO","NÃO","NÃO","NÃO","NÃO","NÃO","NÃO","NÃO","NÃO","NÃO","NÃO","NÃO","NÃO","NÃO","NÃO","NÃO","NÃO","NÃO","NÃO"]
[null,null,null,null,null,null,"","","","",null,null,null,null,"","","","","",0,null,null,null,null,null,null,null,"","","","",0,"","","NO","NO","NO","NO","NO","NO","NO","NO","NO","NO","NO","NO","NO","NO","NO","NO","NO","NO","NO","NÃO","NÃO","NÃO","NÃO","NÃO","NÃO","NÃO","NÃO","NÃO","NÃO","NÃO","NÃO","NÃO","NÃO","NÃO","NÃO","NÃO","NÃO","NÃO","NÃO","NÃO","NÃO","NÃO","NÃO","NÃO","NÃO","NÃO","NÃO","NÃO","NÃO","NÃO","NÃO","NÃO","NÃO","NÃO","NÃO","NÃO","NÃO","NÃO","NÃO","NÃO"]
[null,null,null,null,null,null,"","","","",null,null,null,null,"","","","","",0,null,null,null,null,null,null,null,"","","","",0,"","",{"$f":"IF(AND(AI$5>=$AC76,AI$5<=$AE76),$E76*$F76,\"NO\")","v":"NO"},"NO","NO","NO","NO","NO","NO","NO","NO","NO",{"$f":"IF(AND(AS$5>=$AC76,AS$5<=$AE76),$E76*$F76,\"NO\")","v":"NO"},"NO","NO","NO","NO","NO","NO","NO","NO",{"$f":"IF(AND(BB$5>=$AC76,BB$5<=$AE76),$E76*$F76,\"NÃO\")","v":"NÃO"},"NÃO","NÃO","NÃO",{"$f":"IF(AND(BF$5>=$AC76,BF$5<=$AE76),$E76*$F76,\"NÃO\")","v":"NÃO"},"NÃO","NÃO","NÃO","NÃO","NÃO","NÃO","NÃO","NÃO","NÃO",{"$f":"IF(AND(BP$5>=$AC76,BP$5<=$AE76),$E76*$F76,\"NÃO\")","v":"NÃO"},"NÃO","NÃO","NÃO","NÃO","NÃO","NÃO","NÃO","NÃO","NÃO",{"$f":"IF(AND(BZ$5>=$AC76,BZ$5<=$AE76),$E76*$F76,\"NÃO\")","v":"NÃO"},"NÃO","NÃO","NÃO","NÃO","NÃO","NÃO","NÃO","NÃO","NÃO",{"$f":"IF(AND(CJ$5>=$AC76,CJ$5<=$AE76),$E76*$F76,\"NÃO\")","v":"NÃO"},"NÃO","NÃO","NÃO","NÃO","NÃO","NÃO"]
[null,null,null,null,null,null,"","","","",null,null,null,null,"","","","","",0,null,null,null,null,null,null,null,"","","","",0,"","","NO","NO","NO","NO","NO","NO","NO","NO","NO","NO","NO","NO","NO","NO","NO","NO","NO","NO","NO","NÃO","NÃO","NÃO","NÃO","NÃO","NÃO","NÃO","NÃO","NÃO","NÃO","NÃO","NÃO","NÃO","NÃO","NÃO","NÃO","NÃO","NÃO","NÃO","NÃO","NÃO","NÃO","NÃO","NÃO","NÃO","NÃO","NÃO","NÃO","NÃO","NÃO","NÃO","NÃO","NÃO","NÃO","NÃO","NÃO","NÃO","NÃO","NÃO","NÃO","NÃO"]
[null,null,null,null,null,null,"","","","",null,null,null,null,"","","","","",0,null,null,null,null,null,null,null,"","","","",0,"","","NO","NO","NO","NO","NO","NO","NO","NO","NO","NO","NO","NO","NO","NO","NO","NO","NO","NO","NO","NÃO","NÃO","NÃO","NÃO","NÃO","NÃO","NÃO","NÃO","NÃO","NÃO","NÃO","NÃO","NÃO","NÃO","NÃO","NÃO","NÃO","NÃO","NÃO","NÃO","NÃO","NÃO","NÃO","NÃO","NÃO","NÃO","NÃO","NÃO","NÃO","NÃO","NÃO","NÃO","NÃO","NÃO","NÃO","NÃO","NÃO","NÃO","NÃO","NÃO","NÃO"]
[null,null,null,null,null,null,"","","","",null,null,null,null,"","","","","",0,null,null,null,null,null,null,null,"","","","",0,"","","NO","NO","NO","NO","NO","NO","NO","NO","NO","NO","NO","NO","NO","NO","NO","NO","NO","NO","NO","NÃO","NÃO","NÃO","NÃO","NÃO","NÃO","NÃO","NÃO","NÃO","NÃO","NÃO","NÃO","NÃO","NÃO","NÃO","NÃO","NÃO","NÃO","NÃO","NÃO","NÃO","NÃO","NÃO","NÃO","NÃO","NÃO","NÃO","NÃO","NÃO","NÃO","NÃO","NÃO","NÃO","NÃO","NÃO","NÃO","NÃO","NÃO","NÃO","NÃO","NÃO"]
[null,null,null,null,null,null,"","","","",null,null,null,null,"","","","","",0,null,null,null,null,null,null,null,"","","","",0,"","","NO","NO","NO","NO","NO","NO","NO","NO","NO","NO","NO","NO","NO","NO","NO","NO","NO","NO","NO","NÃO","NÃO","NÃO","NÃO","NÃO","NÃO","NÃO","NÃO","NÃO","NÃO","NÃO","NÃO","NÃO","NÃO","NÃO","NÃO","NÃO","NÃO","NÃO","NÃO","NÃO","NÃO","NÃO","NÃO","NÃO","NÃO","NÃO","NÃO","NÃO","NÃO","NÃO","NÃO","NÃO","NÃO","NÃO","NÃO","NÃO","NÃO","NÃO","NÃO","NÃO"]
[null,null,null,null,null,null,"","","","",null,null,null,null,"","","","","",0,null,null,null,null,null,null,null,"","","","",0,"","","NO","NO","NO","NO","NO","NO","NO","NO","NO","NO","NO","NO","NO","NO","NO","NO","NO","NO","NO","NÃO","NÃO","NÃO","NÃO","NÃO","NÃO","NÃO","NÃO","NÃO","NÃO","NÃO","NÃO","NÃO","NÃO","NÃO","NÃO","NÃO","NÃO","NÃO","NÃO","NÃO","NÃO","NÃO","NÃO","NÃO","NÃO","NÃO","NÃO","NÃO","NÃO","NÃO","NÃO","NÃO","NÃO","NÃO","NÃO","NÃO","NÃO","NÃO","NÃO","NÃO"]
[null,null,null,null,null,null,"","","","",null,null,null,null,"","","","","",0,null,null,null,null,null,null,null,"","","","",0,"","","NO","NO","NO","NO","NO","NO","NO","NO","NO","NO","NO","NO","NO","NO","NO","NO","NO","NO","NO","NÃO","NÃO","NÃO","NÃO","NÃO","NÃO","NÃO","NÃO","NÃO","NÃO","NÃO","NÃO","NÃO","NÃO","NÃO","NÃO","NÃO","NÃO","NÃO","NÃO","NÃO","NÃO","NÃO","NÃO","NÃO","NÃO","NÃO","NÃO","NÃO","NÃO","NÃO","NÃO","NÃO","NÃO","NÃO","NÃO","NÃO","NÃO","NÃO","NÃO","NÃO"]
[null,null,null,null,null,null,"","","","",null,null,null,null,"","","","","",0,null,null,null,null,null,null,null,"","","","",0,"","","NO","NO","NO","NO","NO","NO","NO","NO","NO","NO","NO","NO","NO","NO","NO","NO","NO","NO","NO","NÃO","NÃO","NÃO","NÃO","NÃO","NÃO","NÃO","NÃO","NÃO","NÃO","NÃO","NÃO","NÃO","NÃO","NÃO","NÃO","NÃO","NÃO","NÃO","NÃO","NÃO","NÃO","NÃO","NÃO","NÃO","NÃO","NÃO","NÃO","NÃO","NÃO","NÃO","NÃO","NÃO","NÃO","NÃO","NÃO","NÃO","NÃO","NÃO","NÃO","NÃO"]
[null,null,null,null,null,null,"","","","",null,null,null,null,"","","","","",0,null,null,null,null,null,null,null,"","","","",0,"","","NO","NO","NO","NO","NO","NO","NO","NO","NO","NO","NO","NO","NO","NO","NO","NO","NO","NO","NO","NÃO","NÃO","NÃO","NÃO","NÃO","NÃO","NÃO","NÃO","NÃO","NÃO","NÃO","NÃO","NÃO","NÃO","NÃO","NÃO","NÃO","NÃO","NÃO","NÃO","NÃO","NÃO","NÃO","NÃO","NÃO","NÃO","NÃO","NÃO","NÃO","NÃO","NÃO","NÃO","NÃO","NÃO","NÃO","NÃO","NÃO","NÃO","NÃO","NÃO","NÃO"]
[null,null,null,null,null,null,"","","","",null,null,null,null,"","","","","",0,null,null,null,null,null,null,null,"","","","",0,"","","NO","NO","NO","NO","NO","NO","NO","NO","NO","NO","NO","NO","NO","NO","NO","NO","NO","NO","NO","NÃO","NÃO","NÃO","NÃO","NÃO","NÃO","NÃO","NÃO","NÃO","NÃO","NÃO","NÃO","NÃO","NÃO","NÃO","NÃO","NÃO","NÃO","NÃO","NÃO","NÃO","NÃO","NÃO","NÃO","NÃO","NÃO","NÃO","NÃO","NÃO","NÃO","NÃO","NÃO","NÃO","NÃO","NÃO","NÃO","NÃO","NÃO","NÃO","NÃO","NÃO"]
[null,null,null,null,null,null,"","","","",null,null,null,null,"","","","","",0,null,null,null,null,null,null,null,"","","","",0,"","",{"$f":"IF(AND(AI$5>=$AC86,AI$5<=$AE86),$E86*$F86,\"NO\")","v":"NO"},"NO","NO","NO","NO","NO","NO","NO","NO","NO",{"$f":"IF(AND(AS$5>=$AC86,AS$5<=$AE86),$E86*$F86,\"NO\")","v":"NO"},"NO","NO","NO","NO","NO","NO","NO","NO",{"$f":"IF(AND(BB$5>=$AC86,BB$5<=$AE86),$E86*$F86,\"NÃO\")","v":"NÃO"},"NÃO","NÃO","NÃO",{"$f":"IF(AND(BF$5>=$AC86,BF$5<=$AE86),$E86*$F86,\"NÃO\")","v":"NÃO"},"NÃO","NÃO","NÃO","NÃO","NÃO","NÃO","NÃO","NÃO","NÃO",{"$f":"IF(AND(BP$5>=$AC86,BP$5<=$AE86),$E86*$F86,\"NÃO\")","v":"NÃO"},"NÃO","NÃO","NÃO","NÃO","NÃO","NÃO","NÃO","NÃO","NÃO",{"$f":"IF(AND(BZ$5>=$AC86,BZ$5<=$AE86),$E86*$F86,\"NÃO\")","v":"NÃO"},"NÃO","NÃO","NÃO","NÃO","NÃO","NÃO","NÃO","NÃO","NÃO",{"$f":"IF(AND(CJ$5>=$AC86,CJ$5<=$AE86),$E86*$F86,\"NÃO\")","v":"NÃO"},"NÃO","NÃO","NÃO","NÃO","NÃO","NÃO"]
[null,null,null,null,null,null,"","","","",null,null,null,null,"","","","","",0,null,null,null,null,null,null,null,"","","","",0,"","","NO","NO","NO","NO","NO","NO","NO","NO","NO","NO","NO","NO","NO","NO","NO","NO","NO","NO","NO","NÃO","NÃO","NÃO","NÃO","NÃO","NÃO","NÃO","NÃO","NÃO","NÃO","NÃO","NÃO","NÃO","NÃO","NÃO","NÃO","NÃO","NÃO","NÃO","NÃO","NÃO","NÃO","NÃO","NÃO","NÃO","NÃO","NÃO","NÃO","NÃO","NÃO","NÃO","NÃO","NÃO","NÃO","NÃO","NÃO","NÃO","NÃO","NÃO","NÃO","NÃO"]
[null,null,null,null,null,null,"","","","",null,null,null,null,"","","","","",0,null,null,null,null,null,null,null,"","","","",0,"","","NO","NO","NO","NO","NO","NO","NO","NO","NO","NO","NO","NO","NO","NO","NO","NO","NO","NO","NO","NÃO","NÃO","NÃO","NÃO","NÃO","NÃO","NÃO","NÃO","NÃO","NÃO","NÃO","NÃO","NÃO","NÃO","NÃO","NÃO","NÃO","NÃO","NÃO","NÃO","NÃO","NÃO","NÃO","NÃO","NÃO","NÃO","NÃO","NÃO","NÃO","NÃO","NÃO","NÃO","NÃO","NÃO","NÃO","NÃO","NÃO","NÃO","NÃO","NÃO","NÃO"]
[null,null,null,null,null,null,"","","","",null,null,null,null,"","","","","",0,null,null,null,null,null,null,null,"","","","",0,"","","NO","NO","NO","NO","NO","NO","NO","NO","NO","NO","NO","NO","NO","NO","NO","NO","NO","NO","NO","NÃO","NÃO","NÃO","NÃO","NÃO","NÃO","NÃO","NÃO","NÃO","NÃO","NÃO","NÃO","NÃO","NÃO","NÃO","NÃO","NÃO","NÃO","NÃO","NÃO","NÃO","NÃO","NÃO","NÃO","NÃO","NÃO","NÃO","NÃO","NÃO","NÃO","NÃO","NÃO","NÃO","NÃO","NÃO","NÃO","NÃO","NÃO","NÃO","NÃO","NÃO"]
[null,null,null,null,null,null,"","","","",null,null,null,null,"","","","","",0,null,null,null,null,null,null,null,"","","","",0,"","","NO","NO","NO","NO","NO","NO","NO","NO","NO","NO","NO","NO","NO","NO","NO","NO","NO","NO","NO","NÃO","NÃO","NÃO","NÃO","NÃO","NÃO","NÃO","NÃO","NÃO","NÃO","NÃO","NÃO","NÃO","NÃO","NÃO","NÃO","NÃO","NÃO","NÃO","NÃO","NÃO","NÃO","NÃO","NÃO","NÃO","NÃO","NÃO","NÃO","NÃO","NÃO","NÃO","NÃO","NÃO","NÃO","NÃO","NÃO","NÃO","NÃO","NÃO","NÃO","NÃO"]
[null,null,null,null,null,null,"","","","",null,null,null,null,"","","","","",0,null,null,null,null,null,null,null,"","","","",0,"","","NO","NO","NO","NO","NO","NO","NO","NO","NO","NO","NO","NO","NO","NO","NO","NO","NO","NO","NO","NÃO","NÃO","NÃO","NÃO","NÃO","NÃO","NÃO","NÃO","NÃO","NÃO","NÃO","NÃO","NÃO","NÃO","NÃO","NÃO","NÃO","NÃO","NÃO","NÃO","NÃO","NÃO","NÃO","NÃO","NÃO","NÃO","NÃO","NÃO","NÃO","NÃO","NÃO","NÃO","NÃO","NÃO","NÃO","NÃO","NÃO","NÃO","NÃO","NÃO","NÃO"]
[null,null,null,null,null,null,"","","","",null,null,null,null,"","","","","",0,null,null,null,null,null,null,null,"","","","",0,"","","NO","NO","NO","NO","NO","NO","NO","NO","NO","NO","NO","NO","NO","NO","NO","NO","NO","NO","NO","NÃO","NÃO","NÃO","NÃO","NÃO","NÃO","NÃO","NÃO","NÃO","NÃO","NÃO","NÃO","NÃO","NÃO","NÃO","NÃO","NÃO","NÃO","NÃO","NÃO","NÃO","NÃO","NÃO","NÃO","NÃO","NÃO","NÃO","NÃO","NÃO","NÃO","NÃO","NÃO","NÃO","NÃO","NÃO","NÃO","NÃO","NÃO","NÃO","NÃO","NÃO"]
[null,null,null,null,null,null,"","","","",null,null,null,null,"","","","","",0,null,null,null,null,null,null,null,"","","","",0,"","","NO","NO","NO","NO","NO","NO","NO","NO","NO","NO","NO","NO","NO","NO","NO","NO","NO","NO","NO","NÃO","NÃO","NÃO","NÃO","NÃO","NÃO","NÃO","NÃO","NÃO","NÃO","NÃO","NÃO","NÃO","NÃO","NÃO","NÃO","NÃO","NÃO","NÃO","NÃO","NÃO","NÃO","NÃO","NÃO","NÃO","NÃO","NÃO","NÃO","NÃO","NÃO","NÃO","NÃO","NÃO","NÃO","NÃO","NÃO","NÃO","NÃO","NÃO","NÃO","NÃO"]
[null,null,null,null,null,null,"","","","",null,null,null,null,"","","","","",0,null,null,null,null,null,null,null,"","","","",0,"","","NO","NO","NO","NO","NO","NO","NO","NO","NO","NO","NO","NO","NO","NO","NO","NO","NO","NO","NO","NÃO","NÃO","NÃO","NÃO","NÃO","NÃO","NÃO","NÃO","NÃO","NÃO","NÃO","NÃO","NÃO","NÃO","NÃO","NÃO","NÃO","NÃO","NÃO","NÃO","NÃO","NÃO","NÃO","NÃO","NÃO","NÃO","NÃO","NÃO","NÃO","NÃO","NÃO","NÃO","NÃO","NÃO","NÃO","NÃO","NÃO","NÃO","NÃO","NÃO","NÃO"]
[null,null,null,null,null,null,"","","","",null,null,null,null,"","","","","",0,null,null,null,null,null,null,null,"","","","",0,"","","NO","NO","NO","NO","NO","NO","NO","NO","NO","NO","NO","NO","NO","NO","NO","NO","NO","NO","NO","NÃO","NÃO","NÃO","NÃO","NÃO","NÃO","NÃO","NÃO","NÃO","NÃO","NÃO","NÃO","NÃO","NÃO","NÃO","NÃO","NÃO","NÃO","NÃO","NÃO","NÃO","NÃO","NÃO","NÃO","NÃO","NÃO","NÃO","NÃO","NÃO","NÃO","NÃO","NÃO","NÃO","NÃO","NÃO","NÃO","NÃO","NÃO","NÃO","NÃO","NÃO"]
[null,null,null,null,null,null,"","","","",null,null,null,null,"","","","","",0,null,null,null,null,null,null,null,"","","","",0,"","",{"$f":"IF(AND(AI$5>=$AC96,AI$5<=$AE96),$E96*$F96,\"NO\")","v":"NO"},"NO","NO","NO","NO","NO","NO","NO","NO","NO",{"$f":"IF(AND(AS$5>=$AC96,AS$5<=$AE96),$E96*$F96,\"NO\")","v":"NO"},"NO","NO","NO","NO","NO","NO","NO","NO",{"$f":"IF(AND(BB$5>=$AC96,BB$5<=$AE96),$E96*$F96,\"NÃO\")","v":"NÃO"},"NÃO","NÃO","NÃO",{"$f":"IF(AND(BF$5>=$AC96,BF$5<=$AE96),$E96*$F96,\"NÃO\")","v":"NÃO"},"NÃO","NÃO","NÃO","NÃO","NÃO","NÃO","NÃO","NÃO","NÃO",{"$f":"IF(AND(BP$5>=$AC96,BP$5<=$AE96),$E96*$F96,\"NÃO\")","v":"NÃO"},"NÃO","NÃO","NÃO","NÃO","NÃO","NÃO","NÃO","NÃO","NÃO",{"$f":"IF(AND(BZ$5>=$AC96,BZ$5<=$AE96),$E96*$F96,\"NÃO\")","v":"NÃO"},"NÃO","NÃO","NÃO","NÃO","NÃO","NÃO","NÃO","NÃO","NÃO",{"$f":"IF(AND(CJ$5>=$AC96,CJ$5<=$AE96),$E96*$F96,\"NÃO\")","v":"NÃO"},"NÃO","NÃO","NÃO","NÃO","NÃO","NÃO"]
[null,null,null,null,null,null,"","","","",null,null,null,null,"","","","","",0,null,null,null,null,null,null,null,"","","","",0,"","","NO","NO","NO","NO","NO","NO","NO","NO","NO","NO","NO","NO","NO","NO","NO","NO","NO","NO","NO","NÃO","NÃO","NÃO","NÃO","NÃO","NÃO","NÃO","NÃO","NÃO","NÃO","NÃO","NÃO","NÃO","NÃO","NÃO","NÃO","NÃO","NÃO","NÃO","NÃO","NÃO","NÃO","NÃO","NÃO","NÃO","NÃO","NÃO","NÃO","NÃO","NÃO","NÃO","NÃO","NÃO","NÃO","NÃO","NÃO","NÃO","NÃO","NÃO","NÃO","NÃO"]
[null,null,null,null,null,null,"","","","",null,null,null,null,"","","","","",0,null,null,null,null,null,null,null,"","","","",0,"","","NO","NO","NO","NO","NO","NO","NO","NO","NO","NO","NO","NO","NO","NO","NO","NO","NO","NO","NO","NÃO","NÃO","NÃO","NÃO","NÃO","NÃO","NÃO","NÃO","NÃO","NÃO","NÃO","NÃO","NÃO","NÃO","NÃO","NÃO","NÃO","NÃO","NÃO","NÃO","NÃO","NÃO","NÃO","NÃO","NÃO","NÃO","NÃO","NÃO","NÃO","NÃO","NÃO","NÃO","NÃO","NÃO","NÃO","NÃO","NÃO","NÃO","NÃO","NÃO","NÃO"]
[null,null,null,null,null,null,"","","","",null,null,null,null,"","","","","",0,null,null,null,null,null,null,null,"","","","",0,"","","NO","NO","NO","NO","NO","NO","NO","NO","NO","NO","NO","NO","NO","NO","NO","NO","NO","NO","NO","NÃO","NÃO","NÃO","NÃO","NÃO","NÃO","NÃO","NÃO","NÃO","NÃO","NÃO","NÃO","NÃO","NÃO","NÃO","NÃO","NÃO","NÃO","NÃO","NÃO","NÃO","NÃO","NÃO","NÃO","NÃO","NÃO","NÃO","NÃO","NÃO","NÃO","NÃO","NÃO","NÃO","NÃO","NÃO","NÃO","NÃO","NÃO","NÃO","NÃO","NÃO"]
[null,null,null,null,null,null,"","","","",null,null,null,null,"","","","","",0,null,null,null,null,null,null,null,"","","","",0,"","","NO","NO","NO","NO","NO","NO","NO","NO","NO","NO","NO","NO","NO","NO","NO","NO","NO","NO","NO","NÃO","NÃO","NÃO","NÃO","NÃO","NÃO","NÃO","NÃO","NÃO","NÃO","NÃO","NÃO","NÃO","NÃO","NÃO","NÃO","NÃO","NÃO","NÃO","NÃO","NÃO","NÃO","NÃO","NÃO","NÃO","NÃO","NÃO","NÃO","NÃO","NÃO","NÃO","NÃO","NÃO","NÃO","NÃO","NÃO","NÃO","NÃO","NÃO","NÃO","NÃO"]
[null,null,null,null,null,null,"","","","",null,null,null,null,"","","","","",0,null,null,null,null,null,null,null,"","","","",0,"","","NO","NO","NO","NO","NO","NO","NO","NO","NO","NO","NO","NO","NO","NO","NO","NO","NO","NO","NO","NÃO","NÃO","NÃO","NÃO","NÃO","NÃO","NÃO","NÃO","NÃO","NÃO","NÃO","NÃO","NÃO","NÃO","NÃO","NÃO","NÃO","NÃO","NÃO","NÃO","NÃO","NÃO","NÃO","NÃO","NÃO","NÃO","NÃO","NÃO","NÃO","NÃO","NÃO","NÃO","NÃO","NÃO","NÃO","NÃO","NÃO","NÃO","NÃO","NÃO","NÃO"]
[null,null,null,null,null,null,"","","","",null,null,null,null,"","","","","",0,null,null,null,null,null,null,null,{"$f":"CONCATENATE(K102,L102)","v":""},{"$f":"IF(AB102=\"\",\"\",VLOOKUP(AB102,$Y$6:$Z$65,2,FALSE))","v":""},{"$f":"CONCATENATE(M102,N102)","v":""},{"$f":"IFERROR(VLOOKUP(AD102,$Y$6:$Z$65,2,FALSE),\"\")","v":""},{"$f":"IFERROR(SUM(AG102:AK102),\"\")","v":0},{"$f":"IFERROR((AE102-AC102+1)*G102*F102,\"\")","v":""},{"$f":"IFERROR((AE102-AC102+1)*H102*F102,\"\")","v":""},"NO","NO","NO","NO","NO","NO","NO","NO","NO","NO","NO","NO","NO","NO","NO","NO","NO","NO","NO","NÃO","NÃO","NÃO","NÃO","NÃO","NÃO","NÃO","NÃO","NÃO","NÃO","NÃO","NÃO","NÃO","NÃO","NÃO","NÃO","NÃO","NÃO","NÃO","NÃO","NÃO","NÃO","NÃO","NÃO","NÃO","NÃO","NÃO","NÃO","NÃO","NÃO","NÃO","NÃO","NÃO","NÃO","NÃO","NÃO","NÃO","NÃO","NÃO","NÃO","NÃO"]
[null,null,null,null,null,null,"","","","",null,null,null,null,"","","","","",0,null,null,null,null,null,null,null,{"$f":"CONCATENATE(K103,L103)","v":""},{"$f":"IF(AB103=\"\",\"\",VLOOKUP(AB103,$Y$6:$Z$65,2,FALSE))","v":""},{"$f":"CONCATENATE(M103,N103)","v":""},{"$f":"IFERROR(VLOOKUP(AD103,$Y$6:$Z$65,2,FALSE),\"\")","v":""},{"$f":"IFERROR(SUM(AG103:AK103),\"\")","v":0},{"$f":"IFERROR((AE103-AC103+1)*G103*F103,\"\")","v":""},{"$f":"IFERROR((AE103-AC103+1)*H103*F103,\"\")","v":""},"NO","NO","NO","NO","NO","NO","NO","NO","NO","NO","NO","NO","NO","NO","NO","NO","NO","NO","NO","NÃO","NÃO","NÃO","NÃO","NÃO","NÃO","NÃO","NÃO","NÃO","NÃO","NÃO","NÃO","NÃO","NÃO","NÃO","NÃO","NÃO","NÃO","NÃO","NÃO","NÃO","NÃO","NÃO","NÃO","NÃO","NÃO","NÃO","NÃO","NÃO","NÃO","NÃO","NÃO","NÃO","NÃO","NÃO","NÃO","NÃO","NÃO","NÃO","NÃO","NÃO"]
[null,null,null,null,null,null,"","","","",null,null,null,null,"","","","","",0,null,null,null,null,null,null,null,"","","","",0,"","","NO","NO","NO","NO","NO","NO","NO","NO","NO","NO","NO","NO","NO","NO","NO","NO","NO","NO","NO","NÃO","NÃO","NÃO","NÃO","NÃO","NÃO","NÃO","NÃO","NÃO","NÃO","NÃO","NÃO","NÃO","NÃO","NÃO","NÃO","NÃO","NÃO","NÃO","NÃO","NÃO","NÃO","NÃO","NÃO","NÃO","NÃO","NÃO","NÃO","NÃO","NÃO","NÃO","NÃO","NÃO","NÃO","NÃO","NÃO","NÃO","NÃO","NÃO","NÃO","NÃO"]
[null,null,null,null,null,null,"","","","",null,null,null,null,"","","","","",0,null,null,null,null,null,null,null,"","","","",0,"","","NO","NO","NO","NO","NO","NO","NO","NO","NO","NO","NO","NO","NO","NO","NO","NO","NO","NO","NO","NÃO","NÃO","NÃO","NÃO","NÃO","NÃO","NÃO","NÃO","NÃO","NÃO","NÃO","NÃO","NÃO","NÃO","NÃO","NÃO","NÃO","NÃO","NÃO","NÃO","NÃO","NÃO","NÃO","NÃO","NÃO","NÃO","NÃO","NÃO","NÃO","NÃO","NÃO","NÃO","NÃO","NÃO","NÃO","NÃO","NÃO","NÃO","NÃO","NÃO","NÃO"]
[null,null,null,null,null,null,null,null,null,null,null,null,null,null,null,null,null,null,null,null,null,null,null,null,null,null,null,"","","","",0,"","",{"$f":"IFERROR((AE106-AC106+1)*I106*F106,\"\")","v":""},{"$f":"IFERROR((AE106-AC106+1)*J106*F106,\"\")","v":""},{"$f":"IFERROR((AE106-AC106+1)*E106*F106,\"\")","v":""}]
[null,null,null,null,null,null,null,null,null,null,null,null,null,null,null,null,null,null,null,null,null,null,null,null,null,null,null,"","","","",0,"","","","",""]
[null,null,null,null,null,null,null,null,null,null,null,null,null,null,null,null,null,null,null,null,null,null,null,null,null,null,null,"","","","",0,"","","","",""]
[null,null,null,null,null,null,null,null,null,null,null,null,null,null,null,null,null,null,null,null,null,null,null,null,null,null,null,"","","","",0,"","","","",""]
[null,null,null,null,null,null,null,null,null,null,null,null,null,null,null,null,null,null,null,null,null,null,null,null,null,null,null,"","","","",0,"","","","",""]
[null,null,null,null,null,null,null,null,null,null,null,null,null,null,null,null,null,null,null,null,null,null,null,null,null,null,null,"","","","",0,"","","","",""]
[null,null,null,null,null,null,null,null,null,null,null,null,null,null,null,null,null,null,null,null,null,null,null,null,null,null,null,"","","","",0,"","","","",""]

{"sheet":"MODELAGEM","index":4,"n_rows":15,"n_cols":8,"rows_kept":15,"cut":false,"hidden":false,"merged":[[10,4,10,5],[9,4,9,5],[8,4,8,5],[0,2,0,3],[0,4,0,5],[0,6,0,7],[0,10,0,11],[7,4,7,5],[6,4,6,5],[5,4,5,5],[4,4,4,5],[3,4,3,5],[11,5,11,6],[14,2,14,4],[13,2,13,4],[12,2,12,4],[12,5,12,7],[13,5,13,7],[14,5,14,7]]}
[]
[]
[]
[null,null,"Socios clave\n ¿A quién puedes ayudar?","Actividades Clave\n ¿Qué haces tú?","Propuesta de Valor\n ¿Qué entregas tú?",null,"Relaciones\n¿Cómo tú interactúas?","Segmentos de Clientes\n ¿A quién ayudas tú?"]
[null,null,"grupo tequin","distribuccion de café a negocios empresariales","Ayudar a los pequeños y medianos caficultores de Juncalito.",null,"Asistencias personalizadas","nicho de mercado "]
[null,null,"Holi print rd","Venta a terceros (supermercados, etc…)","Entregar café fresco a los clientes",null,"-","diversificacion"]
[null,null,"café sabaneta","-","Una presentacion elegante y acompañado con un buen empaque.",null,"-","-"]
[null,null,"-","Recursos Clave\n¿Quién eres tú y qué tienes?","-",null,"Canales\n¿Cómo entregas y recibes?","-"]
[null,null,"-","Humanos","-",null,"Compra ","-"]
[null,null,"-","Tecnologicos","-",null,"Entrega ","-"]
[null,null,"-","-","-",null,"Post-venta","-"]
[null,null,"Estructura de Costo\n ¿Cómo pagas tú?",null,null,"Fuentes de Ingresos\n¿Qué ganas tú?"]
[null,null,"El cafe",null,null,"Los clientes estan dispuestos a pagar 314$, mas itbis."]
[null,null,"Embalaje del producto.",null,null,"Transferencias o cheques."]
[null,null,"-",null,null,"-"]

{"sheet":"MODELAGEM_CURVAL","index":5,"n_rows":27,"n_cols":36,"rows_kept":27,"cut":false,"hidden":false,"merged":[[0,2,0,3],[0,4,0,5],[0,6,0,7],[0,8,0,9],[0,10,0,11],[23,3,23,18],[24,3,24,18],[25,3,25,18],[26,3,26,18],[22,3,22,18]]}
[]
[]
[]
[null,null,null,"Calidad","Eficiencia","Sencillez","Contenido","Atención",null,null,null,null,null,null,null,null,null,null,"Promedio Total",null,"suma","desempate","empresas","Pos","Conccorentes",null,"Su principal atributo",null,"desempate","suma","repet","Pos","rango",null,"Tu peor atributo","rango"]
[null,null,{"$f":"IF(IG_EM!D6=\"\",\"\",IG_EM!D6)","v":""},5,5,5,5,5,null,null,null,null,null,null,null,null,null,null,{"$f":"IFERROR(AVERAGE(D5:R5),\"-\")","v":5},null,{"$f":"IF(C5=\"\",\"\",SUM(S5,V5))","v":""},{"$f":"IF(C5=\"\",\"\",0.00001)","v":""},{"$f":"IF(C5=\"\",\"\",C5)","v":""},1,{"$f":"IFERROR(VLOOKUP(LARGE($U$5:$U$10,X5),$U$5:$X$10,3,FALSE),\"\")","v":""},null,{"$f":"D4","v":"Calidad"},{"$f":"IF(D5=\"\",\"\",D5)","v":5},1.0000000000000001E-5,{"$f":"IF(AB5=\"\",\"\",SUM(AB5:AC5))","v":5.0000099999999996},{"$f":"IF(AD5=\"\",\"\",AA5)","v":"Calidad"},1,{"$f":"IFERROR(VLOOKUP(LARGE($AD$5:$AD$19,AF5),$AD$5:$AE$19,2,FALSE),\"\")","v":"Atención"},null,1,{"$f":"IFERROR(VLOOKUP(SMALL($AD$5:$AD$19,AF5),$AD$5:$AE$19,2,FALSE),\"\")","v":"Calidad"}]
[null,null,"Café Anibalito ",4,1,4,4,5,null,null,null,null,null,null,null,null,null,null,{"$f":"IFERROR(AVERAGE(D6:R6),\"-\")","v":3.6},null,{"$f":"IF(C6=\"\",\"\",SUM(S6,V6))","v":{"$error":"#VALUE!"}},{"$f":"IF(C6=\"\",\"\",V5+$V$5)","v":{"$error":"#VALUE!"}},{"$f":"IF(C6=\"\",\"\",C6)","v":"Café Anibalito "},2,{"$f":"IFERROR(VLOOKUP(LARGE($U$5:$U$10,X6),$U$5:$X$10,3,FALSE),\"\")","v":""},null,{"$f":"E4","v":"Eficiencia"},{"$f":"IF(E5=\"\",\"\",E5)","v":5},{"$f":"AC5+$AC$5","v":2.0000000000000002E-5},{"$f":"IF(AB6=\"\",\"\",SUM(AB6:AC6))","v":5.0000200000000001},{"$f":"IF(AD6=\"\",\"\",AA6)","v":"Eficiencia"}]
[null,null,"Poesia Colada",4,4,4,4,5,null,null,null,null,null,null,null,null,null,null,4.2,null,{"$error":"#VALUE!"},{"$f":"IF(C7=\"\",\"\",V6+$V$5)","v":{"$error":"#VALUE!"}},"Poesia Colada",3,"",null,{"$f":"F4","v":"Sencillez"},{"$f":"IF(F5=\"\",\"\",F5)","v":5},{"$f":"AC6+$AC$5","v":3.0000000000000004E-5},5.0000299999999998,"Sencillez"]
[null,null,"Color Café",4,4,4,4,4,null,null,null,null,null,null,null,null,null,null,4,null,{"$error":"#VALUE!"},{"$error":"#VALUE!"},"Color Café",4,"",null,{"$f":"G4","v":"Contenido"},{"$f":"IF(G5=\"\",\"\",G5)","v":5},4.0000000000000003E-5,5.0000400000000003,"Contenido"]
[null,null,"Competencia 4",null,null,null,null,null,null,null,null,null,null,null,null,null,null,null,"-",null,{"$error":"#VALUE!"},{"$error":"#VALUE!"},"Competencia 4",5,"",null,{"$f":"H4","v":"Atención"},{"$f":"IF(H5=\"\",\"\",H5)","v":5},5.0000000000000002E-5,5.0000499999999999,"Atención"]
[null,null,"Competencia 5",null,null,null,null,null,null,null,null,null,null,null,null,null,null,null,"-",null,{"$error":"#VALUE!"},{"$f":"IF(C10=\"\",\"\",V9+$V$5)","v":{"$error":"#VALUE!"}},"Competencia 5",6,"",null,{"$f":"I4","v":0},{"$f":"IF(I5=\"\",\"\",I5)","v":""},6.0000000000000002E-5,"",""]
[null,null,"Curva de Valor",null,null,null,null,null,null,null,null,null,null,null,null,null,null,null,null,null,null,null,"Curva de Valor",null,null,null,{"$f":"J4","v":0},{"$f":"IF(J5=\"\",\"\",J5)","v":""},7.0000000000000007E-5,"",""]
[null,null,null,null,null,null,null,null,null,null,null,null,null,null,null,null,null,null,null,null,null,null,null,null,null,null,{"$f":"K4","v":0},{"$f":"IF(K5=\"\",\"\",K5)","v":""},8.0000000000000007E-5,"",""]
[null,null,null,null,null,null,null,null,null,null,null,null,null,null,null,null,null,null,null,null,null,null,null,null,null,null,{"$f":"L4","v":0},{"$f":"IF(L5=\"\",\"\",L5)","v":""},9.0000000000000006E-5,"",""]
[null,null,null,null,null,null,null,null,null,null,null,null,null,null,null,null,null,null,null,null,null,null,null,null,null,null,{"$f":"M4","v":0},{"$f":"IF(M5=\"\",\"\",M5)","v":""},1E-4,"",""]
[null,null,null,null,null,null,null,null,null,null,null,null,null,null,null,null,null,null,null,null,null,null,null,null,null,null,{"$f":"N4","v":0},{"$f":"IF(N5=\"\",\"\",N5)","v":""},1.1E-4,"",""]
[null,null,null,null,null,null,null,null,null,null,null,null,null,null,null,null,null,null,null,null,null,null,null,null,null,null,{"$f":"O4","v":0},{"$f":"IF(O5=\"\",\"\",O5)","v":""},1.2E-4,"",""]
[null,null,null,null,null,null,null,null,null,null,null,null,null,null,null,null,null,null,null,null,null,null,null,null,null,null,{"$f":"P4","v":0},{"$f":"IF(P5=\"\",\"\",P5)","v":""},1.3000000000000002E-4,"",""]
[null,null,null,null,null,null,null,null,null,null,null,null,null,null,null,null,null,null,null,null,null,null,null,null,null,null,{"$f":"Q4","v":0},{"$f":"IF(Q5=\"\",\"\",Q5)","v":""},1.4000000000000001E-4,"",""]
[null,null,null,null,null,null,null,null,null,null,null,null,null,null,null,null,null,null,null,null,null,null,null,null,null,null,{"$f":"R4","v":0},{"$f":"IF(R5=\"\",\"\",R5)","v":""},1.5000000000000001E-4,"",""]
[]
[null,null,"Alertas y pistas en el relleno"]
[]
[null,null,"!",{"$f":"\"Usted optó por un modelo de negocio donde su mayor característica es \"&AG5&\".\"","v":"Usted optó por un modelo de negocio donde su mayor característica es Atención."}]
[null,null,"!",{"$f":"IF(COUNTA(D5:R5)>7, \"De las 15 posibles características, usted ha utilizado\"&COUNTA(D5:R5)&\".\",\" \"&COUNTA(E7:S7)&\". Haga una reflexión y trate de identificar si las características utilizadas son suficientes para el análisis.\")","v":" 5. Haga una reflexión y trate de identificar si las características utilizadas son suficientes para el análisis."}]
[null,null,{"$f":"IF(Y5=C5,\":)\",\":(\")","v":":)"},{"$f":"IF(Y5=C5,\"Su promedio es mayor que el de su competencia. Sigue así.\",\"Su promedio es menor que el de sus competidores. Busque revisar sus puntos débiles para aumentar la evaluación de estos atributos.\")","v":"Su promedio es mayor que el de su competencia. Sigue así."}]
[null,null,"X",{"$f":"\"Su mayor punto débil es \"&AJ5&\". Tal vez éste pueda ser el primer punto de mejoria para buscar una mayor competitividad.\"","v":"Su mayor punto débil es Calidad. Tal vez éste pueda ser el primer punto de mejoria para buscar una mayor competitividad."}]
[null,null,":)",{"$f":"\"Su mayor punto fuerte es \"&AG5&\". Este puede ser su principal argumento de venta y debe haber un esfuerzo para aprovechar los beneficios de esta fuerza.\"","v":"Su mayor punto fuerte es Atención. Este puede ser su principal argumento de venta y debe haber un esfuerzo para aprovechar los beneficios de esta fuerza."}]

{"sheet":"ESTRATÉGIA","index":6,"n_rows":90,"n_cols":10,"rows_kept":90,"cut":false,"hidden":false,"merged":[[18,2,18,3],[19,2,19,3],[20,2,20,3],[21,2,21,3],[13,2,13,3],[14,2,14,3],[15,2,15,3],[16,2,16,3],[17,2,17,3],[0,2,0,3],[0,4,0,5],[0,6,0,7],[0,10,0,11],[12,2,12,3]]}
[]
[]
[]
[null,null,"Información de la empresa"]
[null,null,"Nombre",{"$f":"IG_EM!D5","v":"Café Don Anibalito"},null,null,null,null,null,"DIRETRIZES"]
[null,null,"Año de inicio del Plan de Negocios",{"$f":"IG_EM!G11","v":2024},null,null,null,null,null,"FORÇAS COMPETITIVAS"]
[null,null,null,null,null,null,null,null,null,"SWOT"]
[null,null,"Establezca las principales directrices de su empresa",null,null,null,null,null,null,"ESTRATÉGIA"]
[null,null,"Misión","Capacitar y apoyar a los medianos y pequeños caficultores de la zona Juncalito y zonas aledañas."]
[null,null,"Visión","Nos visualizamos como una futura marca pais, que muestre al mundo la calidad del café que se cosecha en la Republica Dominicana."]
[]
[null,null,"Establezca los valores de su empresa"]
[null,null,"Atención ágil",null,null,null,{"$f":"COUNTA(C13:D22)","v":4}]
[null,null,"Calidad "]
[null,null,"Transparencia"]
[null,null,"Solidaridad"]
[]
[]
[]
[]
[]
[]
[]
[]
[]
[]
[]
[]
[]
[]
[]
[]
[]
[]
[]
[]
[]
[]
[]
[]
[]
[]
[]
[]
[]
[]
[]
[]
[]
[]
[]
[]
[]
[]
[]
[]
[]
[]
[]
[]
[]
[]
[]
[]
[]
[]
[]
[]
[]
[]
[]
[]
[]
[]
[]
[]
[]
[]
[]
[]
[]
[]
[]
[]
[]
[]
[]
[]
[]
[null,null,null,{"$f":"ESTRATÉGIA!C13&\", \"","v":"Atención ágil, "}]

{"sheet":"ESTRATÉGIA_FC","index":7,"n_rows":42,"n_cols":14,"rows_kept":42,"cut":false,"hidden":false,"merged":[[0,2,0,3],[0,4,0,5],[0,8,0,9],[0,10,0,11]]}
[]
[]
[]
[null,null," 1. COMPETIDORES",null,null,null,null,"Puntos de calificación",null,"Puntos de calificación",null,null,"Puntos de factores"]
[null,null,"En la industria que desea entrar/donde actúas ¿existen ya competidores establecidos?","Concuerdo Totalmente","Muy importante",{"$f":"IFERROR(M5*N5,\"-\")","v":10},null,"Concuerdo totalmente",5,"Muy importante",2,null,{"$f":"IF(D5=\"\",\"\",VLOOKUP(D5,$H$5:$I$9,2,FALSE))","v":5},{"$f":"IF(E5=\"\",\"\",VLOOKUP(E5,$J$5:$K$7,2,FALSE))","v":2}]
[null,null,"¿El o los competidores actuales logran satisfacer la totalidad del mercado?","Concuerdo en Parte","Importante",{"$f":"IFERROR(M6*N6,\"-\")","v":6},null,"Concuerdo en parte",4,"importante",1.5,null,{"$f":"IF(D6=\"\",\"\",VLOOKUP(D6,$H$5:$I$9,2,FALSE))","v":4},{"$f":"IF(E6=\"\",\"\",VLOOKUP(E6,$J$5:$K$7,2,FALSE))","v":1.5}]
[null,null,"¿Ya existe una competencia explícita entre los competidores?","Concuerdo Totalmente","Muy importante",10,null,"Indiferente",3,"Sin importancia",1,null,5,2]
[null,null,"¿Usted va a entrar en el mismo mercado que ellos?","Concuerdo en Parte","Importante",6,null,"en desacuerdo",2,null,null,null,4,1.5]
[null,null,"¿La diversidad de esos competidores es alta?","En desacuerdo","Importante",3,null,"Muy en desacuerdo",0,null,null,null,2,1.5]
[null,null,"¿Hay una guerra de precio o de calidad en el sector deseado?","Concuerdo en Parte","Sin importancia",4,null,null,null,null,null,null,4,1]
[null,null,null,null,null,null,null,null,null,null,null,null,"",""]
[null,null,"2. PODER DE NEGOCIACIÓN DE LOS CLIENTES",null,null,null,null,"COMPETIDORES",{"$f":"SUM(F5:F10)","v":39},null,null,null,"",""]
[null,null,"¿Sus clientes son sensibles al cambio de precios?","En desacuerdo","Importante",{"$f":"IFERROR(M13*N13,\"-\")","v":3},null,"CLIENTES",{"$f":"SUM(F13:F18)","v":17},null,null,null,2,1.5]
[null,null,"¿Hay una escasez de clientes para su negocio en relación a su sector?","Muy en Desacuerdo","Sin importancia",0,null,"PROVEEDORES",{"$f":"SUM(F21:F26)","v":31},null,null,null,0,1]
[null,null,"¿Usted tiene dificultad para retener a sus clientes?","En desacuerdo","Sin importancia",2,null,"NUEVOS COMPETIDORES",{"$f":"SUM(F29:F34)","v":20.5},null,null,null,2,1]
[null,null,"¿El volumen de compra de sus clientes es alto?","Indiferente","Muy importante",6,null,"SUBSTITUTOS",{"$f":"SUM(F37:F42)","v":23.5},null,null,null,3,2]
[null,null,"¿El costo para que el cliente cambie de proveedor es bajo?","Concuerdo en Parte","Importante",6,null,null,null,null,null,null,4,1.5]
[null,null,"¿Hay una posibilidad de que su cliente haga su propio producto?","Muy en Desacuerdo","Sin importancia",0,null,null,null,null,null,null,0,1]
[null,null,null,null,null,null,null,null,null,null,null,null,"",""]
[null,null," 3. PODER DE NEGOCIACIÓN DE LOS PROVEEDORES",null,null,null,null,null,null,null,null,null,"",""]
[null,null,"¿Existen pocos proveedores para los insumos de su negocio?","Concuerdo Totalmente","Muy importante",{"$f":"IFERROR(M21*N21,\"-\")","v":10},null,null,null,null,null,null,5,2]
[null,null,"¿El precio de los insumos necesarios para su negocio es fuertemente variable?","Concuerdo en Parte","Importante",6,null,null,null,null,null,null,4,1.5]
[null,null,"¿El perfil profesional necesario para su negocio es fácil de encontrar?","Indiferente","Sin importancia",3,null,null,null,null,null,null,3,1]
[null,null,"¿Hay una falta de formación profesional para el mercado de sus proveedores?","Concuerdo en Parte","Muy importante",8,null,null,null,null,null,null,4,2]
[null,null,"¿Usted tiene dificultad para sustituir sus insumos por otro tipo (calidad, precio, etc.)?","Muy en Desacuerdo","Importante",0,null,null,null,null,null,null,0,1.5]
[null,null,"¿Existe una investigación para mejorar la tecnología en el ámbito de sus proveedores?","Concuerdo en Parte","Sin importancia",4,null,null,null,null,null,null,4,1]
[null,null,null,null,null,null,null,null,null,null,null,null,"",""]
[null,null,"4 AMENAZA DE ENTRADA DE NUEVOS COMPETIDORES",null,null,null,null,null,null,null,null,null,"",""]
[null,null,"¿El costo para iniciar un nuevo negocio dentro de su industria es bajo?","En desacuerdo","Muy importante",{"$f":"IFERROR(M29*N29,\"-\")","v":4},null,null,null,null,null,null,2,2]
[null,null,"¿Hay espacio para otros competidores además de los que ya están establecidos?","Concuerdo en Parte","Importante",6,null,null,null,null,null,null,4,1.5]
[null,null,"¿La industria es pequeña?","Muy en Desacuerdo","Muy importante",0,null,null,null,null,null,null,0,2]
[null,null,"¿Los costos para el cambio de clientes son bajos?","Concuerdo en Parte","Importante",6,null,null,null,null,null,null,4,1.5]
[null,null,"¿Hay una escasez en los puntos de venta para este tipo de negocio?","Indiferente","Importante",4.5,null,null,null,null,null,null,3,1.5]
[null,null,"¿Existe un riesgo de las nuevas tecnologías derribaren las barreras de entrada?","Muy en Desacuerdo","Sin importancia",0,null,null,null,null,null,null,0,1]
[null,null,null,null,null,null,null,null,null,null,null,null,"",""]
[null,null,"5. AMENAZA DE PRODUCTOS SUSTITUTOS",null,null,null,null,null,null,null,null,null,"",""]
[null,null,"¿Existen sustitutos directos a su producto / servicio?","Concuerdo en Parte","Sin importancia",{"$f":"IFERROR(M37*N37,\"-\")","v":4},null,null,null,null,null,null,4,1]
[null,null,"¿Los productos sustitutos tienen un alto grado de innovación?","En desacuerdo","Importante",3,null,null,null,null,null,null,2,1.5]
[null,null,"¿Existe una propensión de que sus clientes cambien su oferta por la de los sustitutos?","Muy en Desacuerdo","Sin importancia",0,null,null,null,null,null,null,0,1]
[null,null,"¿El costo del cambio de sus clientes para el sustituto es bajo?","En desacuerdo","Muy importante",4,null,null,null,null,null,null,2,2]
[null,null,"¿El precio de los productos sustitutos es inferior al de su producto o servicio?","Concuerdo Totalmente","Importante",7.5,null,null,null,null,null,null,5,1.5]
[null,null,"¿La calidad de los productos sustitutos es superior a la calidad de su producto o servicio?","Concuerdo Totalmente","Sin importancia",5,null,null,null,null,null,null,5,1]

{"sheet":"ESTRATÉGIA_SWOT","index":8,"n_rows":26,"n_cols":30,"rows_kept":26,"cut":false,"hidden":false,"merged":[[0,2,0,3],[0,4,0,5],[0,8,0,9],[0,10,0,11]]}
[]
[]
[]
[null,null,"Descripción de las Fortalezas y Debilidades",null,null,null,null,"importancia de la lista",null,null,"artículo","clasificación","fuerza","debilidad","oportunidad","amenaza","desempate","repeticiones",null,"la clasificación ","fuerza",null,"la clasificación ","debilidad",null,"la clasificación ","oportunidad",null,"la clasificación ","amenaza"]
[null,null,"La empresa tiene un diferencial innovador","Fuerza","Muy importante",{"$f":"IF(E5=\"\",\"-\",VLOOKUP(E5,$H$5:$I$9,2,FALSE))","v":10},null,"Muy importante",10,null,{"$f":"C5","v":"La empresa tiene un diferencial innovador"},{"$f":"D5","v":"Fuerza"},{"$f":"IFERROR(IF($L5=M$4,$F5,\"\")+$Q5,\"\")","v":10.000000999999999},{"$f":"IFERROR(IF($L5=N$4,$F5,\"\")+$Q5,\"\")","v":""},"","",9.9999999999999995E-7,{"$f":"K5","v":"La empresa tiene un diferencial innovador"},null,1,{"$f":"IFERROR(VLOOKUP(LARGE($M$5:$M$26,T5),$M$5:$R$26,6,FALSE),\"\")","v":"El negocio puede crecer (en escalas)"},null,1,{"$f":"IFERROR(VLOOKUP(LARGE($N$5:$N$26,T5),$N$5:$R$26,5,FALSE),\"\")","v":"El costo es bajo por lo que ayuda a obtener un mayor beneficio"},null,1,{"$f":"IFERROR(VLOOKUP(LARGE($O$5:$O$26,T5),$O$5:$R$26,4,FALSE),\"\")","v":"Se interesa por iniciativas socioambientales"},null,1,{"$f":"IFERROR(VLOOKUP(LARGE($P$5:$P$26,T5),$P$5:$R$26,3,FALSE),\"\")","v":"La empresa realiza grandes eventos"}]
[null,null,"La propia tecnología es esencial para el negocio","Debilidad","Importante",{"$f":"IF(E6=\"\",\"-\",VLOOKUP(E6,$H$5:$I$9,2,FALSE))","v":7.5},null,"Importante",7.5,null,{"$f":"C6","v":"La propia tecnología es esencial para el negocio"},"Debilidad",{"$f":"IFERROR(IF($L6=M$4,$F6,\"\")+$Q6,\"\")","v":""},7.5000020000000003,"","",{"$f":"Q5+$Q$5","v":1.9999999999999999E-6},{"$f":"K6","v":"La propia tecnología es esencial para el negocio"},null,2,{"$f":"IFERROR(VLOOKUP(LARGE($M$5:$M$26,T6),$M$5:$R$26,6,FALSE),\"\")","v":"El equipo es competente y organizado"},null,2,{"$f":"IFERROR(VLOOKUP(LARGE($N$5:$N$26,T6),$N$5:$R$26,5,FALSE),\"\")","v":"La infraestructura se adapta a las necesidades"},null,2,{"$f":"IFERROR(VLOOKUP(LARGE($O$5:$O$26,T6),$O$5:$R$26,4,FALSE),\"\")","v":"Se aprovecha de las políticas gubernamentales"},null,2,{"$f":"IFERROR(VLOOKUP(LARGE($P$5:$P$26,T6),$P$5:$R$26,3,FALSE),\"\")","v":""}]
[null,null,"El producto es de calidad","Fuerza","Muy importante",10,null,"Indiferente",5,null,"El producto es de calidad","Fuerza",10.000003,"","","",{"$f":"Q6+$Q$5","v":3.0000000000000001E-6},"El producto es de calidad",null,3,{"$f":"IFERROR(VLOOKUP(LARGE($M$5:$M$26,T7),$M$5:$R$26,6,FALSE),\"\")","v":"El producto es de calidad"},null,3,{"$f":"IFERROR(VLOOKUP(LARGE($N$5:$N$26,T7),$N$5:$R$26,5,FALSE),\"\")","v":"La propia tecnología es esencial para el negocio"},null,3,"Hay mercados sin explorar",null,3,""]
[null,null,"La lista de productos / servicios es variada","Debilidad","Indiferente",5,null,"Poco Importante",2.5,null,"La lista de productos / servicios es variada","Debilidad","",5.0000039999999997,"","",3.9999999999999998E-6,"La lista de productos / servicios es variada"]
[null,null,"El costo es bajo por lo que ayuda a obtener un mayor beneficio","Debilidad","Muy importante",10,null,"Sin Importancia",0,null,"El costo es bajo por lo que ayuda a obtener un mayor beneficio","Debilidad","",10.000005,"","",4.9999999999999996E-6,"El costo es bajo por lo que ayuda a obtener un mayor beneficio"]
[null,null,"El equipo es competente y organizado","Fuerza","Muy importante",10,null,null,null,null,"El equipo es competente y organizado","Fuerza",10.000006000000001,"","","",5.9999999999999993E-6,"El equipo es competente y organizado"]
[null,null,"La infraestructura se adapta a las necesidades","Debilidad","Importante",7.5,null,null,null,null,"La infraestructura se adapta a las necesidades","Debilidad","",7.5000070000000001,"","",6.999999999999999E-6,"La infraestructura se adapta a las necesidades"]
[null,null,"Los medios para realizar las ventas están diversificados","Debilidad","Poco Importante",2.5,null,null,null,null,"Los medios para realizar las ventas están diversificados","Debilidad","",2.5000079999999998,"","",7.9999999999999996E-6,"Los medios para realizar las ventas están diversificados"]
[null,null,"Hay recursos financieros disponibles","Debilidad","Indiferente",5,null,null,null,null,"Hay recursos financieros disponibles","Debilidad","",5.0000090000000004,"","",9.0000000000000002E-6,"Hay recursos financieros disponibles"]
[null,null,"El negocio puede crecer (en escalas)","Fuerza","Muy importante",10,null,null,null,null,"El negocio puede crecer (en escalas)","Fuerza",10.00001,"","","",1.0000000000000001E-5,"El negocio puede crecer (en escalas)"]
[null,null,null,null,null,null,null,null,null,null,0,0,"","","","",1.1000000000000001E-5,0]
[null,null,"Descripción de las Oportunidades y Amenazas",null,null,null,null,null,null,null,"Descripción de las Oportunidades y Amenazas",0,"","","","",1.2000000000000002E-5,"Descripción de las Oportunidades y Amenazas"]
[null,null,"Hay mercados sin explorar","Oportunidad","Muy importante",{"$f":"IF(E17=\"\",\"-\",VLOOKUP(E17,$H$5:$I$9,2,FALSE))","v":10},null,null,null,null,"Hay mercados sin explorar","Oportunidad","","",10.000012999999999,"",1.3000000000000003E-5,"Hay mercados sin explorar"]
[null,null,"Posibilidad de establecer asociaciones estratégicas","Oportunidad","Importante",{"$f":"IF(E18=\"\",\"-\",VLOOKUP(E18,$H$5:$I$9,2,FALSE))","v":7.5},null,null,null,null,"Posibilidad de establecer asociaciones estratégicas","Oportunidad","","",7.5000140000000002,"",1.4000000000000003E-5,"Posibilidad de establecer asociaciones estratégicas"]
[null,null,"Existem pocos competidores en el mercado","Oportunidad","Poco Importante",2.5,null,null,null,null,"Existem pocos competidores en el mercado","Oportunidad","","",2.5000149999999999,"",1.5000000000000004E-5,"Existem pocos competidores en el mercado"]
[null,null,"Se aprovecha de las políticas gubernamentales","Oportunidad","Muy importante",10,null,null,null,null,"Se aprovecha de las políticas gubernamentales","Oportunidad","","",10.000016,"",1.6000000000000003E-5,"Se aprovecha de las políticas gubernamentales"]
[null,null,"Se aprovecha del avanzo tecnológico","Oportunidad","Importante",7.5,null,null,null,null,"Se aprovecha del avanzo tecnológico","Oportunidad","","",7.5000169999999997,"",1.7000000000000003E-5,"Se aprovecha del avanzo tecnológico"]
[null,null,"Ocurre una reducción de tasas e impuestos","Oportunidad","Poco Importante",2.5,null,null,null,null,"Ocurre una reducción de tasas e impuestos","Oportunidad","","",2.5000179999999999,"",1.8000000000000004E-5,"Ocurre una reducción de tasas e impuestos"]
[null,null,"Usted está en un ambiente de colaboración","Oportunidad","Importante",7.5,null,null,null,null,"Usted está en un ambiente de colaboración","Oportunidad","","",7.500019,"",1.9000000000000004E-5,"Usted está en un ambiente de colaboración"]
[null,null,"La empresa realiza grandes eventos","Amenaza","Poco Importante",2.5,null,null,null,null,"La empresa realiza grandes eventos","Amenaza","","","",2.5000200000000001,2.0000000000000005E-5,"La empresa realiza grandes eventos"]
[null,null,"Se interesa por iniciativas socioambientales","Oportunidad","Muy importante",10,null,null,null,null,"Se interesa por iniciativas socioambientales","Oportunidad","","",10.000021,"",2.1000000000000006E-5,"Se interesa por iniciativas socioambientales"]
[null,null,"Lanza nuevas líneas de productos","Oportunidad","Importante",7.5,null,null,null,null,"Lanza nuevas líneas de productos","Oportunidad","","",7.5000220000000004,"",2.2000000000000006E-5,"Lanza nuevas líneas de productos"]

{"sheet":"ESTRATÉGIA_EST","index":9,"n_rows":25,"n_cols":15,"rows_kept":25,"cut":false,"hidden":false,"merged":[[20,2,20,11],[21,2,21,4],[22,2,22,4],[22,5,22,7],[0,12,0,13],[5,13,5,14],[5,11,5,12],[27,2,27,4],[27,5,27,7],[28,2,28,4],[28,5,28,7],[23,2,23,4],[23,5,23,7],[24,2,24,4],[24,5,24,7],[25,2,25,4],[25,5,25,7],[38,2,38,4],[38,5,38,7],[39,2,39,4],[39,5,39,7],[35,2,35,4],[35,5,35,7],[36,2,36,4],[36,5,36,7],[37,2,37,4],[37,5,37,7],[32,2,32,4],[32,5,32,7],[33,2,33,4],[33,5,33,7],[34,2,34,4],[41,2,41,4],[41,5,41,7],[5,5,5,6],[5,7,5,8],[5,9,5,10],[40,2,40,4],[40,5,40,7],[34,5,34,7],[29,2,29,4],[29,5,29,7],[30,2,30,4],[30,5,30,7],[31,2,31,4],[31,5,31,7],[26,2,26,4],[26,5,26,7]]}
[]
[]
[]
[null,null,"Establezca las principales metas de su empresa"]
[]
[null,null,"Registro de las metas",null,null,"Año 1",null,"Año 2",null,"Año 3",null,"Año 4",null,"Año 5"]
[null,null,"Meta","Area","Formato","Previsto","Realizado","Previsto","Realizado","Previsto","Realizado","Previsto","Realizado","Previsto","Realizado"]
[null,null,"En el primer año tener las maquinarias necesarias para mayor produccion.","Producción","Número",4,3,0,0,0,0,0,0,0,0]
[null,null,"Facturar lo necesario para cubrir gastos y que deje ganancias para inversion.","Financiero","Moneda (DOP $)",9113699,7115155,4215042,6849228,7145902,7758365,7442680,7785136,5023642,2483466]
[null,null,"Hacer alianzas estrategicas con diferentes supermercados, para vender mas.","Comercial","Percentual (%)",0,0,0,0,3,1,0.5,0.1,0.2,0.35]
[null,null,"Posicionar la marca ante los dominicanos, para resaltar lo mejor de nuestro café Dominicano.","Mercadeo","Percentual (%)",0,0,0,0,0,0,0.5,0.27,0,0]
[]
[]
[]
[]
[]
[]
[]
[null,null,"Establecer planes de acción para establecer metas"]
[]
[null,null,"Los planes de acción"]
[null,null,"meta",null,null,"Plan de acción",null,null,"responsable","primero","final","estatus"]
[null,null,"Desarrollar más hojas de cálculo",null,null,"la contratación de contratistas",null,null,"Rafael",42955,42967,"No se ha iniciado"]
[null,null,"aumentar los ingresos",null,null,"Crear nuevas campañas en AdWords",null,null,"Filippo",42993,43001,"En proceso"]
[null,null,"TX mejorar la conversión",null,null,"Mejorar la página del producto y la navegación del sitio",null,null,"Filippo",43020,43051,"Concluido dentro del plazo"]

{"sheet":"MARKETING","index":10,"n_rows":22,"n_cols":3,"rows_kept":22,"cut":false,"hidden":false,"merged":[[0,2,0,3],[0,4,0,5],[0,6,0,7],[0,8,0,9],[0,10,0,11],[21,2,21,4],[4,2,4,4],[9,2,9,4],[12,2,12,4],[15,2,15,4],[18,2,18,4]]}
[]
[]
[]
[null,null,"Vea lo que ya ha sido definido por usted acerca del producto o servicio."]
[null,null,{"$f":"MODELAGEM_CURVAL!$D$23","v":"Usted optó por un modelo de negocio donde su mayor característica es Atención."}]
[]
[null,null,"Responda las siguientes preguntas"]
[]
[null,null,"¿Qué espera el cliente del producto / servicio?"]
[null,null,"Esperan un producto de calidad, que llene las expectativas del mejor café de nuestra tierra Dominicana."]
[]
[null,null,"¿Cuáles atributos él debe tener?"]
[null,null,"Buena presentacion y un café de calidad al gusto del Dominicano."]
[]
[null,null,"¿Cómo él será utilizado?"]
[null,null,"Producto fisico."]
[]
[null,null,"¿Qué imagen del producto / servicio usted quiere transmitir?"]
[null,null,"Calidad y hecho por manos Dominicanas"]
[]
[null,null,"¿Cómo pretende trabajar esa marca?"]
[null,null,"Trabajaremos arduamente para convertirla en una marca pais"]

{"sheet":"MARKETING_PRECIO","index":11,"n_rows":32,"n_cols":27,"rows_kept":32,"cut":false,"hidden":false,"merged":[[0,8,0,9],[29,2,29,5],[4,2,4,5],[0,2,0,3],[0,4,0,5],[30,2,30,5],[0,10,0,11],[31,2,31,5],[6,20,6,22],[16,2,16,4],[23,2,23,5],[24,2,24,5],[25,2,25,5],[9,2,9,4],[12,2,12,4],[8,2,8,4],[10,2,10,4],[11,2,11,4],[26,2,26,5],[27,2,27,5],[28,2,28,5]]}
[]
[]
[]
[null,null,"Vea lo que ya ha sido definido por usted en cuanto al precio"]
[null,null,{"$f":"CONCATENATE(MODELAGEM!F13,\" - \",MODELAGEM!F14,\" - \",MODELAGEM!F15)","v":"Los clientes estan dispuestos a pagar 314$, mas itbis. - Transferencias o cheques. - -"}]
[]
[null,null,"Contesta las preguntas abajo",null,null,null,null,null,null,null,null,null,null,null,null,null,null,null,null,null,"estrategias de precios",null,null,"referencia","repetición",null,"estrategia elegida"]
[null,null,null,null,null,null,null,"puntos de rating",null,null,"puntos Generados",null,"eje horizontal","eje vertical",null,null,"alto","promedio","bajo",null,"Estrategia Premium","alto","alto",{"$f":"IF(Q9=0,0,1)","v":0},{"$f":"U8","v":"Estrategia Premium"},null,{"$f":"VLOOKUP(1,$X$8:$Y$16,2,FALSE)","v":"Estrategia de Precio Mediano"}]
[null,null,"Su estrategia de ventas se refiere a una gran demanda",null,null,"Indiferente",null,"Concuerdo totalmente",5,null,{"$f":"IFERROR(VLOOKUP(F9,$H$9:$I$13,2,FALSE),0)","v":3},null,{"$f":"IF(SUM(K9:K10,K12:K13)>12,\"bajo\",IF(SUM(K9:K10,K12:K13)>8,\"promedio\",\"alto\"))","v":"promedio"},{"$f":"IF(K11>2,\"alto\",IF(K11=2,\"promedio\",\"bajo\"))","v":"promedio"},null,"alto",{"$f":"IF(AND($P9=$N$9,Q$8=$M$9),1,0)","v":0},{"$f":"IF(AND($P9=$N$9,R$8=$M$9),1,0)","v":0},0,null,"Estrategia de Alto Precio","promedio","alto",{"$f":"IF(Q10=0,0,1)","v":0},{"$f":"U9","v":"Estrategia de Alto Precio"}]
[null,null,"El cliente está fuertemente influenciado por el precio",null,null,"Indiferente",null,"Concuerdo en Parte",4,null,{"$f":"IFERROR(VLOOKUP(F10,$H$9:$I$13,2,FALSE),0)","v":3},null,null,null,null,"promedio",{"$f":"IF(AND($P10=$N$9,Q$8=$M$9),1,0)","v":0},1,0,null,"Estrategia de Descuento","bajo","alto",0,"Estrategia de Descuento"]
[null,null,"El cliente valora la calidad del producto sobre el precio",null,null,"En desacuerdo",null,"Indiferente",3,null,{"$f":"IFERROR(VLOOKUP(F11,$H$9:$I$13,2,FALSE),0)","v":2},null,null,null,null,"bajo",0,0,0,null,"Estrategia de Alto Valor","alto","promedio",{"$f":"IF(R9=0,0,1)","v":0},"Estrategia de Alto Valor"]
[null,null,"Su estrategia tiene como objetivo acelerar la penetración en el mercado",null,null,"Indiferente",null,"En desacuerdo",2,null,3,null,null,null,null,null,null,null,null,null,"Estrategia de Precio Mediano","promedio","promedio",{"$f":"IF(R10=0,0,1)","v":1},"Estrategia de Precio Mediano"]
[null,null,"Su línea de productos / servicios es considerada de primera calidad",null,null,"Indiferente",null,"Muy en desacuerdo",1,null,3,null,null,null,null,null,null,null,null,null,"Estrategia de Economía Falsa","bajo","promedio",0,"Estrategia de Economía Falsa"]
[null,null,null,null,null,null,null,null,null,null,null,null,null,null,null,null,null,null,null,null,"Estrategia de Valor Supremo","alto","bajo",{"$f":"IF(S9=0,0,1)","v":0},"Estrategia de Valor Supremo"]
[null,null,"Estrategia de Precio Definido",null,null,null,null,null,null,null,null,null,null,null,null,null,null,null,null,null,"Estrategia de Valor Mediano","promedio","bajo",{"$f":"IF(S10=0,0,1)","v":0},"Estrategia de Valor Mediano"]
[null,null,null,null,null,null,null,null,null,null,null,null,null,null,null,null,null,null,null,null,"Estrategia de Economía","bajo","bajo",0,"Estrategia de Economía"]
[null,null,"La estrategia definida de precio fue:",null,null,{"$f":"AA8","v":"Estrategia de Precio Mediano"}]
[]
[null,null,"Visión","Alto Precio","Precio Mediano","Precio Bajo"]
[null,null,"Calidad Alta","Estrategia Premium","Estrategia de Alto Valor","Estrategia de Valor Supremo"]
[null,null,"Calidad Mediana","Estrategia de Alto Precio","Estrategia de Precio Mediano","Estrategia de Valor Mediano"]
[null,null,"Calidad Baja","Estrategia de Descuento","Estrategia de Economía Falsa","Estrategia de Economía"]
[]
[null,null,"Estrategia Premium - Para productos de alta calidad. En este caso, se puede practicar un precio alto, con el fin de alcanzar el nivel máximo del mercado con un prestigio de la imagen en el mercado.",null,null,null,null,"Estrategia Premium",{"$f":"C24","v":"Estrategia Premium - Para productos de alta calidad. En este caso, se puede practicar un precio alto, con el fin de alcanzar el nivel máximo del mercado con un prestigio de la imagen en el mercado."}]
[null,null,"Estrategia de Alto Valor - Para productos de alta calidad. Se practica un precio promedio tratando de obtener una rápida penetración en el mercado.",null,null,null,null,"Estrategia de Alto Valor",{"$f":"C25","v":"Estrategia de Alto Valor - Para productos de alta calidad. Se practica un precio promedio tratando de obtener una rápida penetración en el mercado."}]
[null,null,"Estrategia de Valor Supremo - Producto de alta calidad por un precio bajo. Recomendado para conseguir un rápido ingreso en el mercado.",null,null,null,null,"Estrategia de Valor Supremo","Estrategia de Valor Supremo - Producto de alta calidad por un precio bajo. Recomendado para conseguir un rápido ingreso en el mercado."]
[null,null,"Estrategia de Alto Precio - Producto de calidad mediana y de precio alto. Es una estrategia que valora el producto a través del precio psicológico, buscando la rentabilidad a corto plazo.",null,null,null,null,"Estrategia de Alto Precio","Estrategia de Alto Precio - Producto de calidad mediana y de precio alto. Es una estrategia que valora el producto a través del precio psicológico, buscando la rentabilidad a corto plazo."]
[null,null,"Estrategia de Precio Mediano - El precio corresponde a la calidad del producto, buscando una participación aceptable en el mercado.",null,null,null,null,"Estrategia de Precio Mediano","Estrategia de Precio Mediano - El precio corresponde a la calidad del producto, buscando una participación aceptable en el mercado."]
[null,null,"Estrategia de Valor Mediano - Producto de calidad mediana por precio bajo. Recomendado para obtener un rápido ingreso en el mercado.",null,null,null,null,"Estrategia de Valor Mediano","Estrategia de Valor Mediano - Producto de calidad mediana por precio bajo. Recomendado para obtener un rápido ingreso en el mercado."]
[null,null,"Estrategia de Descuento - Alto precio y baja calidad. Se tiene una ventaja inicial y hay un rápido retiro del mercado.",null,null,null,null,"Estrategia de Descuento","Estrategia de Descuento - Alto precio y baja calidad. Se tiene una ventaja inicial y hay un rápido retiro del mercado."]
[null,null,"Estrategia de Economía Falsa -  Precio mediano para un producto de baja calidad. Se puede buscar con esta estrategia sacar ventaja de la marca o de una falsa imagen creada.",null,null,null,null,"Estrategia de Economía Falsa","Estrategia de Economía Falsa -  Precio mediano para un producto de baja calidad. Se puede buscar con esta estrategia sacar ventaja de la marca o de una falsa imagen creada."]
[null,null,"Estrategia de Economía - Bajo precio y baja calidad. Se busca vender con esta estrategia grandes cantidades. ",null,null,null,null,"Estrategia de Economía","Estrategia de Economía - Bajo precio y baja calidad. Se busca vender con esta estrategia grandes cantidades. "]

{"sheet":"MARKETING_PLAZA","index":12,"n_rows":19,"n_cols":3,"rows_kept":19,"cut":false,"hidden":false,"merged":[[0,6,0,7],[0,8,0,9],[0,10,0,11],[4,2,4,4],[9,2,9,4],[12,2,12,4],[15,2,15,4],[18,2,18,4],[0,2,0,3],[0,4,0,5]]}
[]
[]
[]
[null,null,"Vea lo que ya fue establecido por usted en Plaza"]
[null,null,{"$f":"CONCATENATE(MODELAGEM!G9,\" - \",MODELAGEM!G10,\" - \",MODELAGEM!G11)","v":"Compra  - Entrega  - Post-venta"}]
[]
[null,null,"Conteste las siguientes preguntas"]
[]
[null,null,"¿En qué lugares (o tipos de medios de comunicación) el cliente busca su producto?"]
[null,null,"Tienda online y supermercado "]
[]
[null,null,"¿Cómo usted puede acceder a los canales de distribución?"]
[null,null,"Realizando asociaciones"]
[]
[null,null,"¿Cuáles son sus canales de venta?"]
[null,null,"Mayoristas."]
[]
[null,null,"¿Dónde se encuentran sus competidores?"]
[null,null,"Supermercados y  tiendas."]

{"sheet":"MARKETING_PROMO","index":13,"n_rows":31,"n_cols":10,"rows_kept":31,"cut":false,"hidden":false,"merged":[[4,2,4,9],[0,2,0,3],[0,4,0,5],[0,6,0,7],[0,8,0,9]]}
[]
[]
[]
[null,null,"Vea lo que ya fue establecido por usted en Promoción"]
[null,null,{"$f":"CONCATENATE(MARKETING_PLAZA!C10,\" - \",MARKETING_PLAZA!C13,\" - \",MARKETING_PLAZA!C16,\" - \",MARKETING_PLAZA!C19,\" - \",)","v":"Tienda online y supermercado  - Realizando asociaciones - Mayoristas. - Supermercados y  tiendas. - "}]
[]
[null,null,"Plan de Marketing Offline"]
[null,null,"Descripción de los Medios","Valor de la inversión en el lanzamiento","Año 1 de inversión ","Año 2 de inversión ","Año 3 de inversión ","Año 4 de precisión ","Año 5 de inversión","Total de la Inversión"]
[null,null,"Eventos presenciales",4000,0,0,0,0,0,{"$f":"SUM(D9:I9)","v":4000}]
[null,null,null,null,null,null,null,null,null,{"$f":"SUM(D10:I10)","v":0}]
[null,null,null,null,null,null,null,null,null,0]
[null,null,null,null,null,null,null,null,null,0]
[null,null,null,null,null,null,null,null,null,0]
[null,null,null,null,null,null,null,null,null,0]
[null,null,null,null,null,null,null,null,null,0]
[null,null,null,null,null,null,null,null,null,0]
[null,null,null,null,null,null,null,null,null,0]
[null,null,null,null,null,null,null,null,null,0]
[]
[null,null,"Plan de Marketing Online"]
[null,null,"Descripción de los Medios","Valor de la inversión en el lanzamiento","Año 1 de inversión ","Año 2 de inversión ","Año 3 de inversión ","Año 4 de precisión ","Año 5 de inversión","Total de la Inversión"]
[null,null,"Adwords",0,10000,20000,25000,28000,30000,{"$f":"SUM(D22:I22)","v":113000}]
[null,null,"Facebook Ads",0,1000,2000,2500,3000,3500,{"$f":"SUM(D23:I23)","v":12000}]
[null,null,null,null,null,null,null,null,null,0]
[null,null,null,null,null,null,null,null,null,0]
[null,null,null,null,null,null,null,null,null,0]
[null,null,null,null,null,null,null,null,null,0]
[null,null,null,null,null,null,null,null,null,0]
[null,null,null,null,null,null,null,null,null,0]
[null,null,null,null,null,null,null,null,null,0]
[null,null,null,null,null,null,null,null,null,0]

{"sheet":"MERCADO","index":14,"n_rows":26,"n_cols":4,"rows_kept":26,"cut":false,"hidden":false,"merged":[[0,10,0,11],[4,2,4,3],[0,2,0,3],[0,6,0,7],[0,8,0,9]]}
[]
[]
[]
[null,null,"Describa el problema u oportunidad identificada"]
[null,null,"Dificultad en el uso de herramientas confiables de gestión "]
[]
[null,null,"Sobre los clientes"]
[null,null,"¿Quiénes y cuántos sufren con este problema o se beneficiarían de la solución?","Caficultores y el cliente final"]
[null,null,"¿De qué tamaño es este mercado?",8000000]
[null,null,"¿Cuánto de este mercado usted pretende alcanzar?",0.25]
[null,null,"Tamaño del mercado alcanzado",{"$f":"IFERROR(D9*D10,\"\")","v":2000000}]
[]
[null,null,"Sobre los competidores y sustitutos"]
[null,null,"¿Quiénes son las empresas que exploran esa oportunidad?","Empresa Poesia Colada, Induban y  color café"]
[null,null,"¿Cómo ellas exploran esa oportunidad?, ¿Y cuáles son sus puntos débiles?","Con la creacion de contenido para redes sociales - no hacen enfasis en dar ayudas sociales"]
[]
[null,null,"Sobre los nuevos participantes"]
[null,null,"¿Quiénes y cómo exploran esa oportunidad hoy en día?","los caficultores"]
[null,null,"¿Cuáles son los vacíos de esas soluciones?","No hay marcas atendiendo a desarrollar mas el café de especialidad Dominicano."]
[]
[null,null,"¿Cuáles son los recursos necesarios para el negocio? (Marque como disponible los productos que ya tienes)"]
[null,null,"Recursos","Disponibilidad"]
[null,null,"Equipo con conocimiento en venta directas","Disponible"]
[null,null,"Equipo con conocimiento en calidad de exportacion ","No Disponible"]
[null,null,"Alto importe financiero ","No Disponible"]
[null,null,"Equipo con conocimiento en marketing digital","Disponible"]

{"sheet":"FINANZAS","index":15,"n_rows":35,"n_cols":14,"rows_kept":35,"cut":false,"hidden":false,"merged":[[3,2,3,13],[0,2,0,5],[0,6,0,7],[0,8,0,9],[0,10,0,11],[0,12,0,13]]}
[]
[]
[]
[null,null,"Precios"]
[null,null,"Descripción","Costo de las Materias Primas","Costo de la Mano de Obra","Costo de Embalaje","Costo del Producto","Margen ","Precio con Margen ","Impuestos ","Precio Final","Costos de Unidades Directas","Impuestos","Margen de Contribución"]
[null,null,"Café Anibalito ",{"$f":"17500/220.462","v":79.378759151236949},10,50,{"$f":"IF($C6=\"\",\"\",SUM(D6:F6))","v":139.37875915123695},1.25,{"$f":"IF($C6=\"\",\"\",G6*(1+H6))","v":313.60220809028311},0.18,{"$f":"IF($C6=\"\",\"\",I6/(1-J6))","v":382.44171718327203},{"$f":"IF($C6=\"\",\"\",G6)","v":139.37875915123695},{"$f":"IF($C6=\"\",\"\",J6*K6)","v":68.839509092988962},{"$f":"IFERROR(K6-L6-M6,\"\")","v":174.22344893904614}]
[null,null,"café en sobre",15,5,5,{"$f":"IF($C7=\"\",\"\",SUM(D7:F7))","v":25},0.2,{"$f":"IF($C7=\"\",\"\",G7*(1+H7))","v":30},0.18,{"$f":"IF($C7=\"\",\"\",I7/(1-J7))","v":36.585365853658537},{"$f":"IF($C7=\"\",\"\",G7)","v":25},{"$f":"IF($C7=\"\",\"\",J7*K7)","v":6.5853658536585362},{"$f":"IFERROR(K7-L7-M7,\"\")","v":5.0000000000000009}]
[null,null,1,{"$f":"17500/220.462","v":79.378759151236949},10,50,139.37875915123695,0.02,142.16633433426168,null,142.16633433426168,139.37875915123695,0,2.7875751830247282]
[null,null,2,15,5,5,25,0.03,25.75,null,25.75,25,0,0.75]
[null,null,3,{"$f":"17500/220.462","v":79.378759151236949},10,50,139.37875915123695,0.02,142.16633433426168,null,142.16633433426168,139.37875915123695,0,2.7875751830247282]
[null,null,4,15,5,5,25,0.03,25.75,null,25.75,25,0,0.75]
[null,null,5,15,5,5,25,0.15,28.749999999999996,null,28.749999999999996,25,0,3.7499999999999964]
[null,null,6,20,10,3,33,0.6,52.800000000000004,null,52.800000000000004,33,0,19.800000000000004]
[null,null,7,20,20,20,60,null,60,null,60,60,0,0]
[null,null,8,20,20,2,42,null,42,null,42,42,0,0]
[null,null,null,null,null,null,"",null,"",null,"","","",""]
[null,null,null,null,null,null,"",null,"",null,"","","",""]
[null,null,null,null,null,null,"",null,"",null,"","","",""]
[null,null,null,null,null,null,"",null,"",null,"","","",""]
[null,null,null,null,null,null,"",null,"",null,"","","",""]
[null,null,null,null,null,null,"",null,"",null,"","","",""]
[null,null,null,null,null,null,"",null,"",null,"","","",""]
[null,null,null,null,null,null,"",null,"",null,"","","",""]
[null,null,null,null,null,null,"",null,"",null,"","","",""]
[null,null,null,null,null,null,"",null,"",null,"","","",""]
[null,null,null,null,null,null,"",null,"",null,"","","",""]
[null,null,null,null,null,null,"",null,"",null,"","","",""]
[null,null,null,null,null,null,"",null,"",null,"","","",""]
[null,null,null,null,null,null,"",null,"",null,"","","",""]
[null,null,null,null,null,null,"",null,"",null,"","","",""]
[null,null,null,null,null,null,"",null,"",null,"","","",""]
[null,null,null,null,null,null,"",null,"",null,"","","",""]
[null,null,null,null,null,null,"",null,"",null,"","","",""]
[null,null,null,null,null,null,"",null,"",null,"","","",""]
[null,null,null,null,null,null,"",null,"",null,"","","",""]

{"sheet":"FINANZAS_RESUMEN","index":16,"n_rows":37,"n_cols":11,"rows_kept":37,"cut":false,"hidden":false,"merged":[]}
[]
[]
[]
[null,null,"Seleccione el año ->"]
[]
[null,null,"Análisis de las Proyecciones de los Ingresos (relleno realizado de acuerdo a los valores de precio y de proyección en los años 1-5)"]
[null,null,"Descripción","Precio de venta","Costo Directo","Proyección de Ingreso año 1","Proyección de Ingreso año 2","Proyección de Ingreso año 3","Proyección de Ingreso año 4","Proyección de Ingreso año 5","Proyección Total"]
[null,null,{"$f":"PROJ1!C8","v":"Café Anibalito "},{"$f":"FINANZAS!K6","v":382.44171718327203},{"$f":"FINANZAS!L6","v":139.37875915123695},{"$f":"PROJ1!P8","v":1185569.3232681432},{"$f":"PROJ2!P8","v":2332894.4748179591},{"$f":"PROJ3!P8","v":2332894.4748179591},{"$f":"PROJ4!P8","v":2332894.4748179591},{"$f":"PROJ5!P8","v":2332894.4748179591},{"$f":"SUM(F8:J8)","v":10517147.22253998}]
[null,null,{"$f":"PROJ1!C9","v":"café en sobre"},{"$f":"FINANZAS!K7","v":36.585365853658537},{"$f":"FINANZAS!L7","v":25},{"$f":"PROJ1!P9","v":65853.658536585368},{"$f":"PROJ2!P9","v":131707.31707317074},{"$f":"PROJ3!P9","v":131707.31707317074},{"$f":"PROJ4!P9","v":131707.31707317074},{"$f":"PROJ5!P9","v":131707.31707317074},592682.92682926834]
[null,null,{"$f":"PROJ1!C10","v":1},{"$f":"FINANZAS!K8","v":142.16633433426168},{"$f":"FINANZAS!L8","v":139.37875915123695},{"$f":"PROJ1!P10","v":440715.63643621118},{"$f":"PROJ2!P10","v":867214.63943899621},{"$f":"PROJ3!P10","v":867214.63943899621},{"$f":"PROJ4!P10","v":867214.63943899621},{"$f":"PROJ5!P10","v":867214.63943899621},3909574.1941921958]
[null,null,{"$f":"PROJ1!C11","v":2},{"$f":"FINANZAS!K9","v":25.75},{"$f":"FINANZAS!L9","v":25},{"$f":"PROJ1!P11","v":46350},{"$f":"PROJ2!P11","v":92700},{"$f":"PROJ3!P11","v":92700},{"$f":"PROJ4!P11","v":92700},{"$f":"PROJ5!P11","v":92700},417150]
[null,null,{"$f":"PROJ1!C12","v":3},{"$f":"FINANZAS!K10","v":142.16633433426168},{"$f":"FINANZAS!L10","v":139.37875915123695},{"$f":"PROJ1!P12","v":440715.63643621118},{"$f":"PROJ2!P12","v":867214.63943899621},{"$f":"PROJ3!P12","v":867214.63943899621},{"$f":"PROJ4!P12","v":867214.63943899621},{"$f":"PROJ5!P12","v":867214.63943899621},3909574.1941921958]
[null,null,{"$f":"PROJ1!C13","v":4},{"$f":"FINANZAS!K11","v":25.75},{"$f":"FINANZAS!L11","v":25},{"$f":"PROJ1!P13","v":46350},{"$f":"PROJ2!P13","v":92700},{"$f":"PROJ3!P13","v":92700},{"$f":"PROJ4!P13","v":92700},{"$f":"PROJ5!P13","v":92700},417150]
[null,null,{"$f":"PROJ1!C14","v":5},{"$f":"FINANZAS!K12","v":28.749999999999996},{"$f":"FINANZAS!L12","v":25},{"$f":"PROJ1!P14","v":51749.999999999993},{"$f":"PROJ2!P14","v":175374.99999999997},{"$f":"PROJ3!P14","v":175374.99999999997},{"$f":"PROJ4!P14","v":175374.99999999997},{"$f":"PROJ5!P14","v":175374.99999999997},753249.99999999988]
[null,null,{"$f":"PROJ1!C15","v":6},{"$f":"FINANZAS!K13","v":52.800000000000004},{"$f":"FINANZAS!L13","v":33},{"$f":"PROJ1!P15","v":29040.000000000004},{"$f":"PROJ2!P15","v":322080},{"$f":"PROJ3!P15","v":0},{"$f":"PROJ4!P15","v":0},{"$f":"PROJ5!P15","v":0},351120]
[null,null,{"$f":"PROJ1!C16","v":7},{"$f":"FINANZAS!K14","v":60},{"$f":"FINANZAS!L14","v":60},{"$f":"PROJ1!P16","v":0},{"$f":"PROJ2!P16","v":0},{"$f":"PROJ3!P16","v":0},{"$f":"PROJ4!P16","v":0},{"$f":"PROJ5!P16","v":0},0]
[null,null,{"$f":"PROJ1!C17","v":8},{"$f":"FINANZAS!K15","v":42},{"$f":"FINANZAS!L15","v":42},{"$f":"PROJ1!P17","v":0},{"$f":"PROJ2!P17","v":0},{"$f":"PROJ3!P17","v":0},{"$f":"PROJ4!P17","v":42000},{"$f":"PROJ5!P17","v":0},42000]
[null,null,{"$f":"PROJ1!C18","v":""},{"$f":"FINANZAS!K16","v":""},{"$f":"FINANZAS!L16","v":""},{"$f":"PROJ1!P18","v":0},{"$f":"PROJ2!P18","v":0},{"$f":"PROJ3!P18","v":0},{"$f":"PROJ4!P18","v":0},{"$f":"PROJ5!P18","v":0},0]
[null,null,{"$f":"PROJ1!C19","v":""},{"$f":"FINANZAS!K17","v":""},{"$f":"FINANZAS!L17","v":""},{"$f":"PROJ1!P19","v":0},{"$f":"PROJ2!P19","v":0},{"$f":"PROJ3!P19","v":0},{"$f":"PROJ4!P19","v":0},{"$f":"PROJ5!P19","v":0},0]
[null,null,{"$f":"PROJ1!C20","v":""},{"$f":"FINANZAS!K18","v":""},{"$f":"FINANZAS!L18","v":""},{"$f":"PROJ1!P20","v":0},{"$f":"PROJ2!P20","v":0},{"$f":"PROJ3!P20","v":0},{"$f":"PROJ4!P20","v":0},{"$f":"PROJ5!P20","v":0},0]
[null,null,{"$f":"PROJ1!C21","v":""},{"$f":"FINANZAS!K19","v":""},{"$f":"FINANZAS!L19","v":""},{"$f":"PROJ1!P21","v":0},{"$f":"PROJ2!P21","v":0},{"$f":"PROJ3!P21","v":0},{"$f":"PROJ4!P21","v":0},{"$f":"PROJ5!P21","v":0},0]
[null,null,{"$f":"PROJ1!C22","v":""},{"$f":"FINANZAS!K20","v":""},{"$f":"FINANZAS!L20","v":""},{"$f":"PROJ1!P22","v":0},{"$f":"PROJ2!P22","v":0},{"$f":"PROJ3!P22","v":0},{"$f":"PROJ4!P22","v":0},{"$f":"PROJ5!P22","v":0},0]
[null,null,{"$f":"PROJ1!C23","v":""},{"$f":"FINANZAS!K21","v":""},{"$f":"FINANZAS!L21","v":""},{"$f":"PROJ1!P23","v":0},{"$f":"PROJ2!P23","v":0},{"$f":"PROJ3!P23","v":0},{"$f":"PROJ4!P23","v":0},{"$f":"PROJ5!P23","v":0},0]
[null,null,{"$f":"PROJ1!C24","v":""},{"$f":"FINANZAS!K22","v":""},{"$f":"FINANZAS!L22","v":""},{"$f":"PROJ1!P24","v":0},{"$f":"PROJ2!P24","v":0},{"$f":"PROJ3!P24","v":0},{"$f":"PROJ4!P24","v":0},{"$f":"PROJ5!P24","v":0},0]
[null,null,{"$f":"PROJ1!C25","v":""},{"$f":"FINANZAS!K23","v":""},{"$f":"FINANZAS!L23","v":""},{"$f":"PROJ1!P25","v":0},{"$f":"PROJ2!P25","v":0},{"$f":"PROJ3!P25","v":0},{"$f":"PROJ4!P25","v":0},{"$f":"PROJ5!P25","v":0},0]
[null,null,{"$f":"PROJ1!C26","v":""},{"$f":"FINANZAS!K24","v":""},{"$f":"FINANZAS!L24","v":""},{"$f":"PROJ1!P26","v":0},{"$f":"PROJ2!P26","v":0},{"$f":"PROJ3!P26","v":0},{"$f":"PROJ4!P26","v":0},{"$f":"PROJ5!P26","v":0},0]
[null,null,{"$f":"PROJ1!C27","v":""},{"$f":"FINANZAS!K25","v":""},{"$f":"FINANZAS!L25","v":""},{"$f":"PROJ1!P27","v":0},{"$f":"PROJ2!P27","v":0},{"$f":"PROJ3!P27","v":0},{"$f":"PROJ4!P27","v":0},{"$f":"PROJ5!P27","v":0},0]
[null,null,{"$f":"PROJ1!C28","v":""},{"$f":"FINANZAS!K26","v":""},{"$f":"FINANZAS!L26","v":""},{"$f":"PROJ1!P28","v":0},{"$f":"PROJ2!P28","v":0},{"$f":"PROJ3!P28","v":0},{"$f":"PROJ4!P28","v":0},{"$f":"PROJ5!P28","v":0},0]
[null,null,{"$f":"PROJ1!C29","v":""},{"$f":"FINANZAS!K27","v":""},{"$f":"FINANZAS!L27","v":""},{"$f":"PROJ1!P29","v":0},{"$f":"PROJ2!P29","v":0},{"$f":"PROJ3!P29","v":0},{"$f":"PROJ4!P29","v":0},{"$f":"PROJ5!P29","v":0},0]
[null,null,{"$f":"PROJ1!C30","v":""},{"$f":"FINANZAS!K28","v":""},{"$f":"FINANZAS!L28","v":""},{"$f":"PROJ1!P30","v":0},{"$f":"PROJ2!P30","v":0},{"$f":"PROJ3!P30","v":0},{"$f":"PROJ4!P30","v":0},{"$f":"PROJ5!P30","v":0},0]
[null,null,{"$f":"PROJ1!C31","v":""},{"$f":"FINANZAS!K29","v":""},{"$f":"FINANZAS!L29","v":""},{"$f":"PROJ1!P31","v":0},{"$f":"PROJ2!P31","v":0},{"$f":"PROJ3!P31","v":0},{"$f":"PROJ4!P31","v":0},{"$f":"PROJ5!P31","v":0},0]
[null,null,{"$f":"PROJ1!C32","v":""},{"$f":"FINANZAS!K30","v":""},{"$f":"FINANZAS!L30","v":""},{"$f":"PROJ1!P32","v":0},{"$f":"PROJ2!P32","v":0},{"$f":"PROJ3!P32","v":0},{"$f":"PROJ4!P32","v":0},{"$f":"PROJ5!P32","v":0},0]
[null,null,{"$f":"PROJ1!C33","v":""},{"$f":"FINANZAS!K31","v":""},{"$f":"FINANZAS!L31","v":""},{"$f":"PROJ1!P33","v":0},{"$f":"PROJ2!P33","v":0},{"$f":"PROJ3!P33","v":0},{"$f":"PROJ4!P33","v":0},{"$f":"PROJ5!P33","v":0},0]
[null,null,{"$f":"PROJ1!C34","v":""},{"$f":"FINANZAS!K32","v":""},{"$f":"FINANZAS!L32","v":""},{"$f":"PROJ1!P34","v":0},{"$f":"PROJ2!P34","v":0},{"$f":"PROJ3!P34","v":0},{"$f":"PROJ4!P34","v":0},{"$f":"PROJ5!P34","v":0},0]
[null,null,{"$f":"PROJ1!C35","v":""},{"$f":"FINANZAS!K33","v":""},{"$f":"FINANZAS!L33","v":""},{"$f":"PROJ1!P35","v":0},{"$f":"PROJ2!P35","v":0},{"$f":"PROJ3!P35","v":0},{"$f":"PROJ4!P35","v":0},{"$f":"PROJ5!P35","v":0},0]
[null,null,{"$f":"PROJ1!C36","v":""},{"$f":"FINANZAS!K34","v":""},{"$f":"FINANZAS!L34","v":""},{"$f":"PROJ1!P36","v":0},{"$f":"PROJ2!P36","v":0},{"$f":"PROJ3!P36","v":0},{"$f":"PROJ4!P36","v":0},{"$f":"PROJ5!P36","v":0},0]
[null,null,{"$f":"PROJ1!C37","v":""},{"$f":"FINANZAS!K35","v":""},{"$f":"FINANZAS!L35","v":""},{"$f":"PROJ1!P37","v":0},{"$f":"PROJ2!P37","v":0},{"$f":"PROJ3!P37","v":0},{"$f":"PROJ4!P37","v":0},{"$f":"PROJ5!P37","v":0},0]

{"sheet":"PROJ1","index":17,"n_rows":38,"n_cols":69,"rows_kept":38,"cut":false,"hidden":false,"merged":[]}
[]
[]
[]
[null,null,"Seleccione el año ->","resumen","1 año","2 años","3 años","4 años","5 años"]
[]
[null,null,"Proyecte una cantidad de ventas realizadas por cada producto o servicio en los meses siguientes",null,null,null,null,null,null,null,null,null,null,null,null,null,null,null,"Proyección de ingresos",null,null,null,null,null,null,null,null,null,null,null,null,"Los costos variables",null,null,null,null,null,null,null,null,null,null,null,null,"impuestos",null,null,null,null,null,null,null,null,null,null,null,null,"Margen de contribución"]
[null,null,"Descripción","Enero","Febrero","Marzo","Abril","Mayo","Junio","Julio","Agosto","Septiembre","Octubre","Noviembre","Diciembre","Total",null,"repetición","enero","febrero","marzo","abril","mayo","junio","julio","agosto","septiembre","octubre","noviembre","diciembre",null,"enero","febrero","marzo","abril","mayo","junio","julio","agosto","septiembre","octubre","noviembre","diciembre",null,"enero","febrero","marzo","abril","mayo","junio","julio","agosto","septiembre","octubre","noviembre","diciembre",null,"enero","febrero","marzo","abril","mayo","junio","julio","agosto","septiembre","octubre","noviembre","diciembre"]
[null,null,{"$f":"IF(FINANZAS!C6=\"\",\"\",FINANZAS!C6)","v":"Café Anibalito "},null,null,null,null,null,null,200,500,500,600,600,700,{"$f":"SUM(S8:AD8)","v":1185569.3232681432},null,{"$f":"C8","v":"Café Anibalito "},{"$f":"IFERROR(D8*FINANZAS!$K6,0)","v":0},{"$f":"IFERROR(E8*FINANZAS!$K6,0)","v":0},{"$f":"IFERROR(F8*FINANZAS!$K6,0)","v":0},{"$f":"IFERROR(G8*FINANZAS!$K6,0)","v":0},{"$f":"IFERROR(H8*FINANZAS!$K6,0)","v":0},{"$f":"IFERROR(I8*FINANZAS!$K6,0)","v":0},{"$f":"IFERROR(J8*FINANZAS!$K6,0)","v":76488.34343665441},{"$f":"IFERROR(K8*FINANZAS!$K6,0)","v":191220.858591636},{"$f":"IFERROR(L8*FINANZAS!$K6,0)","v":191220.858591636},{"$f":"IFERROR(M8*FINANZAS!$K6,0)","v":229465.03030996321},{"$f":"IFERROR(N8*FINANZAS!$K6,0)","v":229465.03030996321},{"$f":"IFERROR(O8*FINANZAS!$K6,0)","v":267709.20202829043},null,{"$f":"IFERROR(D8*FINANZAS!$G6,0)","v":0},{"$f":"IFERROR(E8*FINANZAS!$G6,0)","v":0},{"$f":"IFERROR(F8*FINANZAS!$G6,0)","v":0},{"$f":"IFERROR(G8*FINANZAS!$G6,0)","v":0},{"$f":"IFERROR(H8*FINANZAS!$G6,0)","v":0},{"$f":"IFERROR(I8*FINANZAS!$G6,0)","v":0},{"$f":"IFERROR(J8*FINANZAS!$G6,0)","v":27875.751830247391},{"$f":"IFERROR(K8*FINANZAS!$G6,0)","v":69689.37957561847},{"$f":"IFERROR(L8*FINANZAS!$G6,0)","v":69689.37957561847},{"$f":"IFERROR(M8*FINANZAS!$G6,0)","v":83627.255490742173},{"$f":"IFERROR(N8*FINANZAS!$G6,0)","v":83627.255490742173},{"$f":"IFERROR(O8*FINANZAS!$G6,0)","v":97565.131405865861},null,{"$f":"S8*FINANZAS!$J6","v":0},{"$f":"T8*FINANZAS!$J6","v":0},{"$f":"U8*FINANZAS!$J6","v":0},{"$f":"V8*FINANZAS!$J6","v":0},{"$f":"W8*FINANZAS!$J6","v":0},{"$f":"X8*FINANZAS!$J6","v":0},{"$f":"Y8*FINANZAS!$J6","v":13767.901818597793},{"$f":"Z8*FINANZAS!$J6","v":34419.754546494478},{"$f":"AA8*FINANZAS!$J6","v":34419.754546494478},{"$f":"AB8*FINANZAS!$J6","v":41303.705455793381},{"$f":"AC8*FINANZAS!$J6","v":41303.705455793381},{"$f":"AD8*FINANZAS!$J6","v":48187.656365092276},null,{"$f":"IFERROR(D8*FINANZAS!$N6,0)","v":0},{"$f":"IFERROR(E8*FINANZAS!$N6,0)","v":0},{"$f":"IFERROR(F8*FINANZAS!$N6,0)","v":0},{"$f":"IFERROR(G8*FINANZAS!$N6,0)","v":0},{"$f":"IFERROR(H8*FINANZAS!$N6,0)","v":0},{"$f":"IFERROR(I8*FINANZAS!$N6,0)","v":0},{"$f":"IFERROR(J8*FINANZAS!$N6,0)","v":34844.689787809228},{"$f":"IFERROR(K8*FINANZAS!$N6,0)","v":87111.724469523062},{"$f":"IFERROR(L8*FINANZAS!$N6,0)","v":87111.724469523062},{"$f":"IFERROR(M8*FINANZAS!$N6,0)","v":104534.06936342768},{"$f":"IFERROR(N8*FINANZAS!$N6,0)","v":104534.06936342768},{"$f":"IFERROR(O8*FINANZAS!$N6,0)","v":121956.41425733229}]
[null,null,{"$f":"IF(FINANZAS!C7=\"\",\"\",FINANZAS!C7)","v":"café en sobre"},null,null,null,null,null,null,300,300,300,300,300,300,{"$f":"SUM(S9:AD9)","v":65853.658536585368},null,{"$f":"C9","v":"café en sobre"},{"$f":"IFERROR(D9*FINANZAS!$K7,0)","v":0},{"$f":"IFERROR(E9*FINANZAS!$K7,0)","v":0},{"$f":"IFERROR(F9*FINANZAS!$K7,0)","v":0},{"$f":"IFERROR(G9*FINANZAS!$K7,0)","v":0},{"$f":"IFERROR(H9*FINANZAS!$K7,0)","v":0},{"$f":"IFERROR(I9*FINANZAS!$K7,0)","v":0},{"$f":"IFERROR(J9*FINANZAS!$K7,0)","v":10975.609756097561},{"$f":"IFERROR(K9*FINANZAS!$K7,0)","v":10975.609756097561},{"$f":"IFERROR(L9*FINANZAS!$K7,0)","v":10975.609756097561},{"$f":"IFERROR(M9*FINANZAS!$K7,0)","v":10975.609756097561},{"$f":"IFERROR(N9*FINANZAS!$K7,0)","v":10975.609756097561},{"$f":"IFERROR(O9*FINANZAS!$K7,0)","v":10975.609756097561},null,{"$f":"IFERROR(D9*FINANZAS!$G7,0)","v":0},{"$f":"IFERROR(E9*FINANZAS!$G7,0)","v":0},{"$f":"IFERROR(F9*FINANZAS!$G7,0)","v":0},{"$f":"IFERROR(G9*FINANZAS!$G7,0)","v":0},{"$f":"IFERROR(H9*FINANZAS!$G7,0)","v":0},{"$f":"IFERROR(I9*FINANZAS!$G7,0)","v":0},{"$f":"IFERROR(J9*FINANZAS!$G7,0)","v":7500},{"$f":"IFERROR(K9*FINANZAS!$G7,0)","v":7500},{"$f":"IFERROR(L9*FINANZAS!$G7,0)","v":7500},{"$f":"IFERROR(M9*FINANZAS!$G7,0)","v":7500},{"$f":"IFERROR(N9*FINANZAS!$G7,0)","v":7500},{"$f":"IFERROR(O9*FINANZAS!$G7,0)","v":7500},null,{"$f":"S9*FINANZAS!$J7","v":0},{"$f":"T9*FINANZAS!$J7","v":0},{"$f":"U9*FINANZAS!$J7","v":0},{"$f":"V9*FINANZAS!$J7","v":0},{"$f":"W9*FINANZAS!$J7","v":0},{"$f":"X9*FINANZAS!$J7","v":0},{"$f":"Y9*FINANZAS!$J7","v":1975.6097560975609},{"$f":"Z9*FINANZAS!$J7","v":1975.6097560975609},{"$f":"AA9*FINANZAS!$J7","v":1975.6097560975609},{"$f":"AB9*FINANZAS!$J7","v":1975.6097560975609},{"$f":"AC9*FINANZAS!$J7","v":1975.6097560975609},{"$f":"AD9*FINANZAS!$J7","v":1975.6097560975609},null,{"$f":"IFERROR(D9*FINANZAS!$N7,0)","v":0},{"$f":"IFERROR(E9*FINANZAS!$N7,0)","v":0},{"$f":"IFERROR(F9*FINANZAS!$N7,0)","v":0},{"$f":"IFERROR(G9*FINANZAS!$N7,0)","v":0},{"$f":"IFERROR(H9*FINANZAS!$N7,0)","v":0},{"$f":"IFERROR(I9*FINANZAS!$N7,0)","v":0},{"$f":"IFERROR(J9*FINANZAS!$N7,0)","v":1500.0000000000002},{"$f":"IFERROR(K9*FINANZAS!$N7,0)","v":1500.0000000000002},{"$f":"IFERROR(L9*FINANZAS!$N7,0)","v":1500.0000000000002},{"$f":"IFERROR(M9*FINANZAS!$N7,0)","v":1500.0000000000002},{"$f":"IFERROR(N9*FINANZAS!$N7,0)","v":1500.0000000000002},{"$f":"IFERROR(O9*FINANZAS!$N7,0)","v":1500.0000000000002}]
[null,null,{"$f":"IF(FINANZAS!C8=\"\",\"\",FINANZAS!C8)","v":1},null,null,null,null,null,null,200,500,500,600,600,700,440715.63643621118,null,1,{"$f":"IFERROR(D10*FINANZAS!$K8,0)","v":0},{"$f":"IFERROR(E10*FINANZAS!$K8,0)","v":0},{"$f":"IFERROR(F10*FINANZAS!$K8,0)","v":0},{"$f":"IFERROR(G10*FINANZAS!$K8,0)","v":0},{"$f":"IFERROR(H10*FINANZAS!$K8,0)","v":0},{"$f":"IFERROR(I10*FINANZAS!$K8,0)","v":0},{"$f":"IFERROR(J10*FINANZAS!$K8,0)","v":28433.266866852337},{"$f":"IFERROR(K10*FINANZAS!$K8,0)","v":71083.167167130843},{"$f":"IFERROR(L10*FINANZAS!$K8,0)","v":71083.167167130843},{"$f":"IFERROR(M10*FINANZAS!$K8,0)","v":85299.800600557006},{"$f":"IFERROR(N10*FINANZAS!$K8,0)","v":85299.800600557006},{"$f":"IFERROR(O10*FINANZAS!$K8,0)","v":99516.434033983169},null,{"$f":"IFERROR(D10*FINANZAS!$G8,0)","v":0},{"$f":"IFERROR(E10*FINANZAS!$G8,0)","v":0},{"$f":"IFERROR(F10*FINANZAS!$G8,0)","v":0},{"$f":"IFERROR(G10*FINANZAS!$G8,0)","v":0},{"$f":"IFERROR(H10*FINANZAS!$G8,0)","v":0},{"$f":"IFERROR(I10*FINANZAS!$G8,0)","v":0},{"$f":"IFERROR(J10*FINANZAS!$G8,0)","v":27875.751830247391},{"$f":"IFERROR(K10*FINANZAS!$G8,0)","v":69689.37957561847},{"$f":"IFERROR(L10*FINANZAS!$G8,0)","v":69689.37957561847},{"$f":"IFERROR(M10*FINANZAS!$G8,0)","v":83627.255490742173},{"$f":"IFERROR(N10*FINANZAS!$G8,0)","v":83627.255490742173},{"$f":"IFERROR(O10*FINANZAS!$G8,0)","v":97565.131405865861},null,{"$f":"S10*FINANZAS!$J8","v":0},{"$f":"T10*FINANZAS!$J8","v":0},{"$f":"U10*FINANZAS!$J8","v":0},{"$f":"V10*FINANZAS!$J8","v":0},{"$f":"W10*FINANZAS!$J8","v":0},{"$f":"X10*FINANZAS!$J8","v":0},{"$f":"Y10*FINANZAS!$J8","v":0},{"$f":"Z10*FINANZAS!$J8","v":0},{"$f":"AA10*FINANZAS!$J8","v":0},{"$f":"AB10*FINANZAS!$J8","v":0},{"$f":"AC10*FINANZAS!$J8","v":0},{"$f":"AD10*FINANZAS!$J8","v":0},null,{"$f":"IFERROR(D10*FINANZAS!$N8,0)","v":0},{"$f":"IFERROR(E10*FINANZAS!$N8,0)","v":0},{"$f":"IFERROR(F10*FINANZAS!$N8,0)","v":0},{"$f":"IFERROR(G10*FINANZAS!$N8,0)","v":0},{"$f":"IFERROR(H10*FINANZAS!$N8,0)","v":0},{"$f":"IFERROR(I10*FINANZAS!$N8,0)","v":0},{"$f":"IFERROR(J10*FINANZAS!$N8,0)","v":557.51503660494564},{"$f":"IFERROR(K10*FINANZAS!$N8,0)","v":1393.7875915123641},{"$f":"IFERROR(L10*FINANZAS!$N8,0)","v":1393.7875915123641},{"$f":"IFERROR(M10*FINANZAS!$N8,0)","v":1672.5451098148369},{"$f":"IFERROR(N10*FINANZAS!$N8,0)","v":1672.5451098148369},{"$f":"IFERROR(O10*FINANZAS!$N8,0)","v":1951.3026281173097}]
[null,null,{"$f":"IF(FINANZAS!C9=\"\",\"\",FINANZAS!C9)","v":2},null,null,null,null,null,null,300,300,300,300,300,300,46350,null,2,{"$f":"IFERROR(D11*FINANZAS!$K9,0)","v":0},{"$f":"IFERROR(E11*FINANZAS!$K9,0)","v":0},{"$f":"IFERROR(F11*FINANZAS!$K9,0)","v":0},{"$f":"IFERROR(G11*FINANZAS!$K9,0)","v":0},{"$f":"IFERROR(H11*FINANZAS!$K9,0)","v":0},{"$f":"IFERROR(I11*FINANZAS!$K9,0)","v":0},{"$f":"IFERROR(J11*FINANZAS!$K9,0)","v":7725},{"$f":"IFERROR(K11*FINANZAS!$K9,0)","v":7725},{"$f":"IFERROR(L11*FINANZAS!$K9,0)","v":7725},{"$f":"IFERROR(M11*FINANZAS!$K9,0)","v":7725},{"$f":"IFERROR(N11*FINANZAS!$K9,0)","v":7725},{"$f":"IFERROR(O11*FINANZAS!$K9,0)","v":7725},null,{"$f":"IFERROR(D11*FINANZAS!$G9,0)","v":0},{"$f":"IFERROR(E11*FINANZAS!$G9,0)","v":0},{"$f":"IFERROR(F11*FINANZAS!$G9,0)","v":0},{"$f":"IFERROR(G11*FINANZAS!$G9,0)","v":0},{"$f":"IFERROR(H11*FINANZAS!$G9,0)","v":0},{"$f":"IFERROR(I11*FINANZAS!$G9,0)","v":0},{"$f":"IFERROR(J11*FINANZAS!$G9,0)","v":7500},{"$f":"IFERROR(K11*FINANZAS!$G9,0)","v":7500},{"$f":"IFERROR(L11*FINANZAS!$G9,0)","v":7500},{"$f":"IFERROR(M11*FINANZAS!$G9,0)","v":7500},{"$f":"IFERROR(N11*FINANZAS!$G9,0)","v":7500},{"$f":"IFERROR(O11*FINANZAS!$G9,0)","v":7500},null,{"$f":"S11*FINANZAS!$J9","v":0},{"$f":"T11*FINANZAS!$J9","v":0},{"$f":"U11*FINANZAS!$J9","v":0},{"$f":"V11*FINANZAS!$J9","v":0},{"$f":"W11*FINANZAS!$J9","v":0},{"$f":"X11*FINANZAS!$J9","v":0},{"$f":"Y11*FINANZAS!$J9","v":0},{"$f":"Z11*FINANZAS!$J9","v":0},{"$f":"AA11*FINANZAS!$J9","v":0},{"$f":"AB11*FINANZAS!$J9","v":0},{"$f":"AC11*FINANZAS!$J9","v":0},{"$f":"AD11*FINANZAS!$J9","v":0},null,{"$f":"IFERROR(D11*FINANZAS!$N9,0)","v":0},{"$f":"IFERROR(E11*FINANZAS!$N9,0)","v":0},{"$f":"IFERROR(F11*FINANZAS!$N9,0)","v":0},{"$f":"IFERROR(G11*FINANZAS!$N9,0)","v":0},{"$f":"IFERROR(H11*FINANZAS!$N9,0)","v":0},{"$f":"IFERROR(I11*FINANZAS!$N9,0)","v":0},{"$f":"IFERROR(J11*FINANZAS!$N9,0)","v":225},{"$f":"IFERROR(K11*FINANZAS!$N9,0)","v":225},{"$f":"IFERROR(L11*FINANZAS!$N9,0)","v":225},{"$f":"IFERROR(M11*FINANZAS!$N9,0)","v":225},{"$f":"IFERROR(N11*FINANZAS!$N9,0)","v":225},{"$f":"IFERROR(O11*FINANZAS!$N9,0)","v":225}]
[null,null,{"$f":"IF(FINANZAS!C10=\"\",\"\",FINANZAS!C10)","v":3},null,null,null,null,null,null,200,500,500,600,600,700,440715.63643621118,null,3,{"$f":"IFERROR(D12*FINANZAS!$K10,0)","v":0},{"$f":"IFERROR(E12*FINANZAS!$K10,0)","v":0},{"$f":"IFERROR(F12*FINANZAS!$K10,0)","v":0},{"$f":"IFERROR(G12*FINANZAS!$K10,0)","v":0},{"$f":"IFERROR(H12*FINANZAS!$K10,0)","v":0},{"$f":"IFERROR(I12*FINANZAS!$K10,0)","v":0},{"$f":"IFERROR(J12*FINANZAS!$K10,0)","v":28433.266866852337},{"$f":"IFERROR(K12*FINANZAS!$K10,0)","v":71083.167167130843},{"$f":"IFERROR(L12*FINANZAS!$K10,0)","v":71083.167167130843},{"$f":"IFERROR(M12*FINANZAS!$K10,0)","v":85299.800600557006},{"$f":"IFERROR(N12*FINANZAS!$K10,0)","v":85299.800600557006},{"$f":"IFERROR(O12*FINANZAS!$K10,0)","v":99516.434033983169},null,{"$f":"IFERROR(D12*FINANZAS!$G10,0)","v":0},{"$f":"IFERROR(E12*FINANZAS!$G10,0)","v":0},{"$f":"IFERROR(F12*FINANZAS!$G10,0)","v":0},{"$f":"IFERROR(G12*FINANZAS!$G10,0)","v":0},{"$f":"IFERROR(H12*FINANZAS!$G10,0)","v":0},{"$f":"IFERROR(I12*FINANZAS!$G10,0)","v":0},{"$f":"IFERROR(J12*FINANZAS!$G10,0)","v":27875.751830247391},{"$f":"IFERROR(K12*FINANZAS!$G10,0)","v":69689.37957561847},{"$f":"IFERROR(L12*FINANZAS!$G10,0)","v":69689.37957561847},{"$f":"IFERROR(M12*FINANZAS!$G10,0)","v":83627.255490742173},{"$f":"IFERROR(N12*FINANZAS!$G10,0)","v":83627.255490742173},{"$f":"IFERROR(O12*FINANZAS!$G10,0)","v":97565.131405865861},null,{"$f":"S12*FINANZAS!$J10","v":0},{"$f":"T12*FINANZAS!$J10","v":0},{"$f":"U12*FINANZAS!$J10","v":0},{"$f":"V12*FINANZAS!$J10","v":0},{"$f":"W12*FINANZAS!$J10","v":0},{"$f":"X12*FINANZAS!$J10","v":0},{"$f":"Y12*FINANZAS!$J10","v":0},{"$f":"Z12*FINANZAS!$J10","v":0},{"$f":"AA12*FINANZAS!$J10","v":0},{"$f":"AB12*FINANZAS!$J10","v":0},{"$f":"AC12*FINANZAS!$J10","v":0},{"$f":"AD12*FINANZAS!$J10","v":0},null,{"$f":"IFERROR(D12*FINANZAS!$N10,0)","v":0},{"$f":"IFERROR(E12*FINANZAS!$N10,0)","v":0},{"$f":"IFERROR(F12*FINANZAS!$N10,0)","v":0},{"$f":"IFERROR(G12*FINANZAS!$N10,0)","v":0},{"$f":"IFERROR(H12*FINANZAS!$N10,0)","v":0},{"$f":"IFERROR(I12*FINANZAS!$N10,0)","v":0},{"$f":"IFERROR(J12*FINANZAS!$N10,0)","v":557.51503660494564},{"$f":"IFERROR(K12*FINANZAS!$N10,0)","v":1393.7875915123641},{"$f":"IFERROR(L12*FINANZAS!$N10,0)","v":1393.7875915123641},{"$f":"IFERROR(M12*FINANZAS!$N10,0)","v":1672.5451098148369},{"$f":"IFERROR(N12*FINANZAS!$N10,0)","v":1672.5451098148369},{"$f":"IFERROR(O12*FINANZAS!$N10,0)","v":1951.3026281173097}]
[null,null,{"$f":"IF(FINANZAS!C11=\"\",\"\",FINANZAS!C11)","v":4},null,null,null,null,null,null,300,300,300,300,300,300,46350,null,4,{"$f":"IFERROR(D13*FINANZAS!$K11,0)","v":0},{"$f":"IFERROR(E13*FINANZAS!$K11,0)","v":0},{"$f":"IFERROR(F13*FINANZAS!$K11,0)","v":0},{"$f":"IFERROR(G13*FINANZAS!$K11,0)","v":0},{"$f":"IFERROR(H13*FINANZAS!$K11,0)","v":0},{"$f":"IFERROR(I13*FINANZAS!$K11,0)","v":0},{"$f":"IFERROR(J13*FINANZAS!$K11,0)","v":7725},{"$f":"IFERROR(K13*FINANZAS!$K11,0)","v":7725},{"$f":"IFERROR(L13*FINANZAS!$K11,0)","v":7725},{"$f":"IFERROR(M13*FINANZAS!$K11,0)","v":7725},{"$f":"IFERROR(N13*FINANZAS!$K11,0)","v":7725},{"$f":"IFERROR(O13*FINANZAS!$K11,0)","v":7725},null,{"$f":"IFERROR(D13*FINANZAS!$G11,0)","v":0},{"$f":"IFERROR(E13*FINANZAS!$G11,0)","v":0},{"$f":"IFERROR(F13*FINANZAS!$G11,0)","v":0},{"$f":"IFERROR(G13*FINANZAS!$G11,0)","v":0},{"$f":"IFERROR(H13*FINANZAS!$G11,0)","v":0},{"$f":"IFERROR(I13*FINANZAS!$G11,0)","v":0},{"$f":"IFERROR(J13*FINANZAS!$G11,0)","v":7500},{"$f":"IFERROR(K13*FINANZAS!$G11,0)","v":7500},{"$f":"IFERROR(L13*FINANZAS!$G11,0)","v":7500},{"$f":"IFERROR(M13*FINANZAS!$G11,0)","v":7500},{"$f":"IFERROR(N13*FINANZAS!$G11,0)","v":7500},{"$f":"IFERROR(O13*FINANZAS!$G11,0)","v":7500},null,{"$f":"S13*FINANZAS!$J11","v":0},{"$f":"T13*FINANZAS!$J11","v":0},{"$f":"U13*FINANZAS!$J11","v":0},{"$f":"V13*FINANZAS!$J11","v":0},{"$f":"W13*FINANZAS!$J11","v":0},{"$f":"X13*FINANZAS!$J11","v":0},{"$f":"Y13*FINANZAS!$J11","v":0},{"$f":"Z13*FINANZAS!$J11","v":0},{"$f":"AA13*FINANZAS!$J11","v":0},{"$f":"AB13*FINANZAS!$J11","v":0},{"$f":"AC13*FINANZAS!$J11","v":0},{"$f":"AD13*FINANZAS!$J11","v":0},null,{"$f":"IFERROR(D13*FINANZAS!$N11,0)","v":0},{"$f":"IFERROR(E13*FINANZAS!$N11,0)","v":0},{"$f":"IFERROR(F13*FINANZAS!$N11,0)","v":0},{"$f":"IFERROR(G13*FINANZAS!$N11,0)","v":0},{"$f":"IFERROR(H13*FINANZAS!$N11,0)","v":0},{"$f":"IFERROR(I13*FINANZAS!$N11,0)","v":0},{"$f":"IFERROR(J13*FINANZAS!$N11,0)","v":225},{"$f":"IFERROR(K13*FINANZAS!$N11,0)","v":225},{"$f":"IFERROR(L13*FINANZAS!$N11,0)","v":225},{"$f":"IFERROR(M13*FINANZAS!$N11,0)","v":225},{"$f":"IFERROR(N13*FINANZAS!$N11,0)","v":225},{"$f":"IFERROR(O13*FINANZAS!$N11,0)","v":225}]
[null,null,{"$f":"IF(FINANZAS!C12=\"\",\"\",FINANZAS!C12)","v":5},null,null,null,null,null,null,300,300,300,300,300,300,51749.999999999993,null,5,{"$f":"IFERROR(D14*FINANZAS!$K12,0)","v":0},{"$f":"IFERROR(E14*FINANZAS!$K12,0)","v":0},{"$f":"IFERROR(F14*FINANZAS!$K12,0)","v":0},{"$f":"IFERROR(G14*FINANZAS!$K12,0)","v":0},{"$f":"IFERROR(H14*FINANZAS!$K12,0)","v":0},{"$f":"IFERROR(I14*FINANZAS!$K12,0)","v":0},{"$f":"IFERROR(J14*FINANZAS!$K12,0)","v":8624.9999999999982},{"$f":"IFERROR(K14*FINANZAS!$K12,0)","v":8624.9999999999982},{"$f":"IFERROR(L14*FINANZAS!$K12,0)","v":8624.9999999999982},{"$f":"IFERROR(M14*FINANZAS!$K12,0)","v":8624.9999999999982},{"$f":"IFERROR(N14*FINANZAS!$K12,0)","v":8624.9999999999982},{"$f":"IFERROR(O14*FINANZAS!$K12,0)","v":8624.9999999999982},null,{"$f":"IFERROR(D14*FINANZAS!$G12,0)","v":0},{"$f":"IFERROR(E14*FINANZAS!$G12,0)","v":0},{"$f":"IFERROR(F14*FINANZAS!$G12,0)","v":0},{"$f":"IFERROR(G14*FINANZAS!$G12,0)","v":0},{"$f":"IFERROR(H14*FINANZAS!$G12,0)","v":0},{"$f":"IFERROR(I14*FINANZAS!$G12,0)","v":0},{"$f":"IFERROR(J14*FINANZAS!$G12,0)","v":7500},{"$f":"IFERROR(K14*FINANZAS!$G12,0)","v":7500},{"$f":"IFERROR(L14*FINANZAS!$G12,0)","v":7500},{"$f":"IFERROR(M14*FINANZAS!$G12,0)","v":7500},{"$f":"IFERROR(N14*FINANZAS!$G12,0)","v":7500},{"$f":"IFERROR(O14*FINANZAS!$G12,0)","v":7500},null,{"$f":"S14*FINANZAS!$J12","v":0},{"$f":"T14*FINANZAS!$J12","v":0},{"$f":"U14*FINANZAS!$J12","v":0},{"$f":"V14*FINANZAS!$J12","v":0},{"$f":"W14*FINANZAS!$J12","v":0},{"$f":"X14*FINANZAS!$J12","v":0},{"$f":"Y14*FINANZAS!$J12","v":0},{"$f":"Z14*FINANZAS!$J12","v":0},{"$f":"AA14*FINANZAS!$J12","v":0},{"$f":"AB14*FINANZAS!$J12","v":0},{"$f":"AC14*FINANZAS!$J12","v":0},{"$f":"AD14*FINANZAS!$J12","v":0},null,{"$f":"IFERROR(D14*FINANZAS!$N12,0)","v":0},{"$f":"IFERROR(E14*FINANZAS!$N12,0)","v":0},{"$f":"IFERROR(F14*FINANZAS!$N12,0)","v":0},{"$f":"IFERROR(G14*FINANZAS!$N12,0)","v":0},{"$f":"IFERROR(H14*FINANZAS!$N12,0)","v":0},{"$f":"IFERROR(I14*FINANZAS!$N12,0)","v":0},{"$f":"IFERROR(J14*FINANZAS!$N12,0)","v":1124.9999999999989},{"$f":"IFERROR(K14*FINANZAS!$N12,0)","v":1124.9999999999989},{"$f":"IFERROR(L14*FINANZAS!$N12,0)","v":1124.9999999999989},{"$f":"IFERROR(M14*FINANZAS!$N12,0)","v":1124.9999999999989},{"$f":"IFERROR(N14*FINANZAS!$N12,0)","v":1124.9999999999989},{"$f":"IFERROR(O14*FINANZAS!$N12,0)","v":1124.9999999999989}]
[null,null,{"$f":"IF(FINANZAS!C13=\"\",\"\",FINANZAS!C13)","v":6},null,null,null,null,null,null,250,300,null,null,null,null,29040.000000000004,null,6,{"$f":"IFERROR(D15*FINANZAS!$K13,0)","v":0},{"$f":"IFERROR(E15*FINANZAS!$K13,0)","v":0},{"$f":"IFERROR(F15*FINANZAS!$K13,0)","v":0},{"$f":"IFERROR(G15*FINANZAS!$K13,0)","v":0},{"$f":"IFERROR(H15*FINANZAS!$K13,0)","v":0},{"$f":"IFERROR(I15*FINANZAS!$K13,0)","v":0},{"$f":"IFERROR(J15*FINANZAS!$K13,0)","v":13200.000000000002},{"$f":"IFERROR(K15*FINANZAS!$K13,0)","v":15840.000000000002},{"$f":"IFERROR(L15*FINANZAS!$K13,0)","v":0},{"$f":"IFERROR(M15*FINANZAS!$K13,0)","v":0},{"$f":"IFERROR(N15*FINANZAS!$K13,0)","v":0},{"$f":"IFERROR(O15*FINANZAS!$K13,0)","v":0},null,{"$f":"IFERROR(D15*FINANZAS!$G13,0)","v":0},{"$f":"IFERROR(E15*FINANZAS!$G13,0)","v":0},{"$f":"IFERROR(F15*FINANZAS!$G13,0)","v":0},{"$f":"IFERROR(G15*FINANZAS!$G13,0)","v":0},{"$f":"IFERROR(H15*FINANZAS!$G13,0)","v":0},{"$f":"IFERROR(I15*FINANZAS!$G13,0)","v":0},{"$f":"IFERROR(J15*FINANZAS!$G13,0)","v":8250},{"$f":"IFERROR(K15*FINANZAS!$G13,0)","v":9900},{"$f":"IFERROR(L15*FINANZAS!$G13,0)","v":0},{"$f":"IFERROR(M15*FINANZAS!$G13,0)","v":0},{"$f":"IFERROR(N15*FINANZAS!$G13,0)","v":0},{"$f":"IFERROR(O15*FINANZAS!$G13,0)","v":0},null,{"$f":"S15*FINANZAS!$J13","v":0},{"$f":"T15*FINANZAS!$J13","v":0},{"$f":"U15*FINANZAS!$J13","v":0},{"$f":"V15*FINANZAS!$J13","v":0},{"$f":"W15*FINANZAS!$J13","v":0},{"$f":"X15*FINANZAS!$J13","v":0},{"$f":"Y15*FINANZAS!$J13","v":0},{"$f":"Z15*FINANZAS!$J13","v":0},{"$f":"AA15*FINANZAS!$J13","v":0},{"$f":"AB15*FINANZAS!$J13","v":0},{"$f":"AC15*FINANZAS!$J13","v":0},{"$f":"AD15*FINANZAS!$J13","v":0},null,{"$f":"IFERROR(D15*FINANZAS!$N13,0)","v":0},{"$f":"IFERROR(E15*FINANZAS!$N13,0)","v":0},{"$f":"IFERROR(F15*FINANZAS!$N13,0)","v":0},{"$f":"IFERROR(G15*FINANZAS!$N13,0)","v":0},{"$f":"IFERROR(H15*FINANZAS!$N13,0)","v":0},{"$f":"IFERROR(I15*FINANZAS!$N13,0)","v":0},{"$f":"IFERROR(J15*FINANZAS!$N13,0)","v":4950.0000000000009},{"$f":"IFERROR(K15*FINANZAS!$N13,0)","v":5940.0000000000009},{"$f":"IFERROR(L15*FINANZAS!$N13,0)","v":0},{"$f":"IFERROR(M15*FINANZAS!$N13,0)","v":0},{"$f":"IFERROR(N15*FINANZAS!$N13,0)","v":0},{"$f":"IFERROR(O15*FINANZAS!$N13,0)","v":0}]
[null,null,{"$f":"IF(FINANZAS!C14=\"\",\"\",FINANZAS!C14)","v":7},null,null,null,null,null,null,null,null,null,null,null,null,0,null,7,{"$f":"IFERROR(D16*FINANZAS!$K14,0)","v":0},{"$f":"IFERROR(E16*FINANZAS!$K14,0)","v":0},{"$f":"IFERROR(F16*FINANZAS!$K14,0)","v":0},{"$f":"IFERROR(G16*FINANZAS!$K14,0)","v":0},{"$f":"IFERROR(H16*FINANZAS!$K14,0)","v":0},{"$f":"IFERROR(I16*FINANZAS!$K14,0)","v":0},{"$f":"IFERROR(J16*FINANZAS!$K14,0)","v":0},{"$f":"IFERROR(K16*FINANZAS!$K14,0)","v":0},{"$f":"IFERROR(L16*FINANZAS!$K14,0)","v":0},{"$f":"IFERROR(M16*FINANZAS!$K14,0)","v":0},{"$f":"IFERROR(N16*FINANZAS!$K14,0)","v":0},{"$f":"IFERROR(O16*FINANZAS!$K14,0)","v":0},null,{"$f":"IFERROR(D16*FINANZAS!$G14,0)","v":0},{"$f":"IFERROR(E16*FINANZAS!$G14,0)","v":0},{"$f":"IFERROR(F16*FINANZAS!$G14,0)","v":0},{"$f":"IFERROR(G16*FINANZAS!$G14,0)","v":0},{"$f":"IFERROR(H16*FINANZAS!$G14,0)","v":0},{"$f":"IFERROR(I16*FINANZAS!$G14,0)","v":0},{"$f":"IFERROR(J16*FINANZAS!$G14,0)","v":0},{"$f":"IFERROR(K16*FINANZAS!$G14,0)","v":0},{"$f":"IFERROR(L16*FINANZAS!$G14,0)","v":0},{"$f":"IFERROR(M16*FINANZAS!$G14,0)","v":0},{"$f":"IFERROR(N16*FINANZAS!$G14,0)","v":0},{"$f":"IFERROR(O16*FINANZAS!$G14,0)","v":0},null,{"$f":"S16*FINANZAS!$J14","v":0},{"$f":"T16*FINANZAS!$J14","v":0},{"$f":"U16*FINANZAS!$J14","v":0},{"$f":"V16*FINANZAS!$J14","v":0},{"$f":"W16*FINANZAS!$J14","v":0},{"$f":"X16*FINANZAS!$J14","v":0},{"$f":"Y16*FINANZAS!$J14","v":0},{"$f":"Z16*FINANZAS!$J14","v":0},{"$f":"AA16*FINANZAS!$J14","v":0},{"$f":"AB16*FINANZAS!$J14","v":0},{"$f":"AC16*FINANZAS!$J14","v":0},{"$f":"AD16*FINANZAS!$J14","v":0},null,{"$f":"IFERROR(D16*FINANZAS!$N14,0)","v":0},{"$f":"IFERROR(E16*FINANZAS!$N14,0)","v":0},{"$f":"IFERROR(F16*FINANZAS!$N14,0)","v":0},{"$f":"IFERROR(G16*FINANZAS!$N14,0)","v":0},{"$f":"IFERROR(H16*FINANZAS!$N14,0)","v":0},{"$f":"IFERROR(I16*FINANZAS!$N14,0)","v":0},{"$f":"IFERROR(J16*FINANZAS!$N14,0)","v":0},{"$f":"IFERROR(K16*FINANZAS!$N14,0)","v":0},{"$f":"IFERROR(L16*FINANZAS!$N14,0)","v":0},{"$f":"IFERROR(M16*FINANZAS!$N14,0)","v":0},{"$f":"IFERROR(N16*FINANZAS!$N14,0)","v":0},{"$f":"IFERROR(O16*FINANZAS!$N14,0)","v":0}]
[null,null,{"$f":"IF(FINANZAS!C15=\"\",\"\",FINANZAS!C15)","v":8},null,null,null,null,null,null,null,null,null,null,null,null,0,null,8,{"$f":"IFERROR(D17*FINANZAS!$K15,0)","v":0},{"$f":"IFERROR(E17*FINANZAS!$K15,0)","v":0},{"$f":"IFERROR(F17*FINANZAS!$K15,0)","v":0},{"$f":"IFERROR(G17*FINANZAS!$K15,0)","v":0},{"$f":"IFERROR(H17*FINANZAS!$K15,0)","v":0},{"$f":"IFERROR(I17*FINANZAS!$K15,0)","v":0},{"$f":"IFERROR(J17*FINANZAS!$K15,0)","v":0},{"$f":"IFERROR(K17*FINANZAS!$K15,0)","v":0},{"$f":"IFERROR(L17*FINANZAS!$K15,0)","v":0},{"$f":"IFERROR(M17*FINANZAS!$K15,0)","v":0},{"$f":"IFERROR(N17*FINANZAS!$K15,0)","v":0},{"$f":"IFERROR(O17*FINANZAS!$K15,0)","v":0},null,{"$f":"IFERROR(D17*FINANZAS!$G15,0)","v":0},{"$f":"IFERROR(E17*FINANZAS!$G15,0)","v":0},{"$f":"IFERROR(F17*FINANZAS!$G15,0)","v":0},{"$f":"IFERROR(G17*FINANZAS!$G15,0)","v":0},{"$f":"IFERROR(H17*FINANZAS!$G15,0)","v":0},{"$f":"IFERROR(I17*FINANZAS!$G15,0)","v":0},{"$f":"IFERROR(J17*FINANZAS!$G15,0)","v":0},{"$f":"IFERROR(K17*FINANZAS!$G15,0)","v":0},{"$f":"IFERROR(L17*FINANZAS!$G15,0)","v":0},{"$f":"IFERROR(M17*FINANZAS!$G15,0)","v":0},{"$f":"IFERROR(N17*FINANZAS!$G15,0)","v":0},{"$f":"IFERROR(O17*FINANZAS!$G15,0)","v":0},null,{"$f":"S17*FINANZAS!$J15","v":0},{"$f":"T17*FINANZAS!$J15","v":0},{"$f":"U17*FINANZAS!$J15","v":0},{"$f":"V17*FINANZAS!$J15","v":0},{"$f":"W17*FINANZAS!$J15","v":0},{"$f":"X17*FINANZAS!$J15","v":0},{"$f":"Y17*FINANZAS!$J15","v":0},{"$f":"Z17*FINANZAS!$J15","v":0},{"$f":"AA17*FINANZAS!$J15","v":0},{"$f":"AB17*FINANZAS!$J15","v":0},{"$f":"AC17*FINANZAS!$J15","v":0},{"$f":"AD17*FINANZAS!$J15","v":0},null,{"$f":"IFERROR(D17*FINANZAS!$N15,0)","v":0},{"$f":"IFERROR(E17*FINANZAS!$N15,0)","v":0},{"$f":"IFERROR(F17*FINANZAS!$N15,0)","v":0},{"$f":"IFERROR(G17*FINANZAS!$N15,0)","v":0},{"$f":"IFERROR(H17*FINANZAS!$N15,0)","v":0},{"$f":"IFERROR(I17*FINANZAS!$N15,0)","v":0},{"$f":"IFERROR(J17*FINANZAS!$N15,0)","v":0},{"$f":"IFERROR(K17*FINANZAS!$N15,0)","v":0},{"$f":"IFERROR(L17*FINANZAS!$N15,0)","v":0},{"$f":"IFERROR(M17*FINANZAS!$N15,0)","v":0},{"$f":"IFERROR(N17*FINANZAS!$N15,0)","v":0},{"$f":"IFERROR(O17*FINANZAS!$N15,0)","v":0}]
[null,null,{"$f":"IF(FINANZAS!C16=\"\",\"\",FINANZAS!C16)","v":""},null,null,null,null,null,null,null,null,null,null,null,null,0,null,"",{"$f":"IFERROR(D18*FINANZAS!$K16,0)","v":0},{"$f":"IFERROR(E18*FINANZAS!$K16,0)","v":0},{"$f":"IFERROR(F18*FINANZAS!$K16,0)","v":0},{"$f":"IFERROR(G18*FINANZAS!$K16,0)","v":0},{"$f":"IFERROR(H18*FINANZAS!$K16,0)","v":0},{"$f":"IFERROR(I18*FINANZAS!$K16,0)","v":0},{"$f":"IFERROR(J18*FINANZAS!$K16,0)","v":0},{"$f":"IFERROR(K18*FINANZAS!$K16,0)","v":0},{"$f":"IFERROR(L18*FINANZAS!$K16,0)","v":0},{"$f":"IFERROR(M18*FINANZAS!$K16,0)","v":0},{"$f":"IFERROR(N18*FINANZAS!$K16,0)","v":0},{"$f":"IFERROR(O18*FINANZAS!$K16,0)","v":0},null,{"$f":"IFERROR(D18*FINANZAS!$G16,0)","v":0},{"$f":"IFERROR(E18*FINANZAS!$G16,0)","v":0},{"$f":"IFERROR(F18*FINANZAS!$G16,0)","v":0},{"$f":"IFERROR(G18*FINANZAS!$G16,0)","v":0},{"$f":"IFERROR(H18*FINANZAS!$G16,0)","v":0},{"$f":"IFERROR(I18*FINANZAS!$G16,0)","v":0},{"$f":"IFERROR(J18*FINANZAS!$G16,0)","v":0},{"$f":"IFERROR(K18*FINANZAS!$G16,0)","v":0},{"$f":"IFERROR(L18*FINANZAS!$G16,0)","v":0},{"$f":"IFERROR(M18*FINANZAS!$G16,0)","v":0},{"$f":"IFERROR(N18*FINANZAS!$G16,0)","v":0},{"$f":"IFERROR(O18*FINANZAS!$G16,0)","v":0},null,{"$f":"S18*FINANZAS!$J16","v":0},{"$f":"T18*FINANZAS!$J16","v":0},{"$f":"U18*FINANZAS!$J16","v":0},{"$f":"V18*FINANZAS!$J16","v":0},{"$f":"W18*FINANZAS!$J16","v":0},{"$f":"X18*FINANZAS!$J16","v":0},{"$f":"Y18*FINANZAS!$J16","v":0},{"$f":"Z18*FINANZAS!$J16","v":0},{"$f":"AA18*FINANZAS!$J16","v":0},{"$f":"AB18*FINANZAS!$J16","v":0},{"$f":"AC18*FINANZAS!$J16","v":0},{"$f":"AD18*FINANZAS!$J16","v":0},null,{"$f":"IFERROR(D18*FINANZAS!$N16,0)","v":0},{"$f":"IFERROR(E18*FINANZAS!$N16,0)","v":0},{"$f":"IFERROR(F18*FINANZAS!$N16,0)","v":0},{"$f":"IFERROR(G18*FINANZAS!$N16,0)","v":0},{"$f":"IFERROR(H18*FINANZAS!$N16,0)","v":0},{"$f":"IFERROR(I18*FINANZAS!$N16,0)","v":0},{"$f":"IFERROR(J18*FINANZAS!$N16,0)","v":0},{"$f":"IFERROR(K18*FINANZAS!$N16,0)","v":0},{"$f":"IFERROR(L18*FINANZAS!$N16,0)","v":0},{"$f":"IFERROR(M18*FINANZAS!$N16,0)","v":0},{"$f":"IFERROR(N18*FINANZAS!$N16,0)","v":0},{"$f":"IFERROR(O18*FINANZAS!$N16,0)","v":0}]
[null,null,{"$f":"IF(FINANZAS!C17=\"\",\"\",FINANZAS!C17)","v":""},null,null,null,null,null,null,null,null,null,null,null,null,0,null,"",{"$f":"IFERROR(D19*FINANZAS!$K17,0)","v":0},{"$f":"IFERROR(E19*FINANZAS!$K17,0)","v":0},{"$f":"IFERROR(F19*FINANZAS!$K17,0)","v":0},{"$f":"IFERROR(G19*FINANZAS!$K17,0)","v":0},{"$f":"IFERROR(H19*FINANZAS!$K17,0)","v":0},{"$f":"IFERROR(I19*FINANZAS!$K17,0)","v":0},{"$f":"IFERROR(J19*FINANZAS!$K17,0)","v":0},{"$f":"IFERROR(K19*FINANZAS!$K17,0)","v":0},{"$f":"IFERROR(L19*FINANZAS!$K17,0)","v":0},{"$f":"IFERROR(M19*FINANZAS!$K17,0)","v":0},{"$f":"IFERROR(N19*FINANZAS!$K17,0)","v":0},{"$f":"IFERROR(O19*FINANZAS!$K17,0)","v":0},null,{"$f":"IFERROR(D19*FINANZAS!$G17,0)","v":0},{"$f":"IFERROR(E19*FINANZAS!$G17,0)","v":0},{"$f":"IFERROR(F19*FINANZAS!$G17,0)","v":0},{"$f":"IFERROR(G19*FINANZAS!$G17,0)","v":0},{"$f":"IFERROR(H19*FINANZAS!$G17,0)","v":0},{"$f":"IFERROR(I19*FINANZAS!$G17,0)","v":0},{"$f":"IFERROR(J19*FINANZAS!$G17,0)","v":0},{"$f":"IFERROR(K19*FINANZAS!$G17,0)","v":0},{"$f":"IFERROR(L19*FINANZAS!$G17,0)","v":0},{"$f":"IFERROR(M19*FINANZAS!$G17,0)","v":0},{"$f":"IFERROR(N19*FINANZAS!$G17,0)","v":0},{"$f":"IFERROR(O19*FINANZAS!$G17,0)","v":0},null,{"$f":"S19*FINANZAS!$J17","v":0},{"$f":"T19*FINANZAS!$J17","v":0},{"$f":"U19*FINANZAS!$J17","v":0},{"$f":"V19*FINANZAS!$J17","v":0},{"$f":"W19*FINANZAS!$J17","v":0},{"$f":"X19*FINANZAS!$J17","v":0},{"$f":"Y19*FINANZAS!$J17","v":0},{"$f":"Z19*FINANZAS!$J17","v":0},{"$f":"AA19*FINANZAS!$J17","v":0},{"$f":"AB19*FINANZAS!$J17","v":0},{"$f":"AC19*FINANZAS!$J17","v":0},{"$f":"AD19*FINANZAS!$J17","v":0},null,{"$f":"IFERROR(D19*FINANZAS!$N17,0)","v":0},{"$f":"IFERROR(E19*FINANZAS!$N17,0)","v":0},{"$f":"IFERROR(F19*FINANZAS!$N17,0)","v":0},{"$f":"IFERROR(G19*FINANZAS!$N17,0)","v":0},{"$f":"IFERROR(H19*FINANZAS!$N17,0)","v":0},{"$f":"IFERROR(I19*FINANZAS!$N17,0)","v":0},{"$f":"IFERROR(J19*FINANZAS!$N17,0)","v":0},{"$f":"IFERROR(K19*FINANZAS!$N17,0)","v":0},{"$f":"IFERROR(L19*FINANZAS!$N17,0)","v":0},{"$f":"IFERROR(M19*FINANZAS!$N17,0)","v":0},{"$f":"IFERROR(N19*FINANZAS!$N17,0)","v":0},{"$f":"IFERROR(O19*FINANZAS!$N17,0)","v":0}]
[null,null,{"$f":"IF(FINANZAS!C18=\"\",\"\",FINANZAS!C18)","v":""},null,null,null,null,null,null,null,null,null,null,null,null,0,null,"",{"$f":"IFERROR(D20*FINANZAS!$K18,0)","v":0},{"$f":"IFERROR(E20*FINANZAS!$K18,0)","v":0},{"$f":"IFERROR(F20*FINANZAS!$K18,0)","v":0},{"$f":"IFERROR(G20*FINANZAS!$K18,0)","v":0},{"$f":"IFERROR(H20*FINANZAS!$K18,0)","v":0},{"$f":"IFERROR(I20*FINANZAS!$K18,0)","v":0},{"$f":"IFERROR(J20*FINANZAS!$K18,0)","v":0},{"$f":"IFERROR(K20*FINANZAS!$K18,0)","v":0},{"$f":"IFERROR(L20*FINANZAS!$K18,0)","v":0},{"$f":"IFERROR(M20*FINANZAS!$K18,0)","v":0},{"$f":"IFERROR(N20*FINANZAS!$K18,0)","v":0},{"$f":"IFERROR(O20*FINANZAS!$K18,0)","v":0},null,{"$f":"IFERROR(D20*FINANZAS!$G18,0)","v":0},{"$f":"IFERROR(E20*FINANZAS!$G18,0)","v":0},{"$f":"IFERROR(F20*FINANZAS!$G18,0)","v":0},{"$f":"IFERROR(G20*FINANZAS!$G18,0)","v":0},{"$f":"IFERROR(H20*FINANZAS!$G18,0)","v":0},{"$f":"IFERROR(I20*FINANZAS!$G18,0)","v":0},{"$f":"IFERROR(J20*FINANZAS!$G18,0)","v":0},{"$f":"IFERROR(K20*FINANZAS!$G18,0)","v":0},{"$f":"IFERROR(L20*FINANZAS!$G18,0)","v":0},{"$f":"IFERROR(M20*FINANZAS!$G18,0)","v":0},{"$f":"IFERROR(N20*FINANZAS!$G18,0)","v":0},{"$f":"IFERROR(O20*FINANZAS!$G18,0)","v":0},null,{"$f":"S20*FINANZAS!$J18","v":0},{"$f":"T20*FINANZAS!$J18","v":0},{"$f":"U20*FINANZAS!$J18","v":0},{"$f":"V20*FINANZAS!$J18","v":0},{"$f":"W20*FINANZAS!$J18","v":0},{"$f":"X20*FINANZAS!$J18","v":0},{"$f":"Y20*FINANZAS!$J18","v":0},{"$f":"Z20*FINANZAS!$J18","v":0},{"$f":"AA20*FINANZAS!$J18","v":0},{"$f":"AB20*FINANZAS!$J18","v":0},{"$f":"AC20*FINANZAS!$J18","v":0},{"$f":"AD20*FINANZAS!$J18","v":0},null,{"$f":"IFERROR(D20*FINANZAS!$N18,0)","v":0},{"$f":"IFERROR(E20*FINANZAS!$N18,0)","v":0},{"$f":"IFERROR(F20*FINANZAS!$N18,0)","v":0},{"$f":"IFERROR(G20*FINANZAS!$N18,0)","v":0},{"$f":"IFERROR(H20*FINANZAS!$N18,0)","v":0},{"$f":"IFERROR(I20*FINANZAS!$N18,0)","v":0},{"$f":"IFERROR(J20*FINANZAS!$N18,0)","v":0},{"$f":"IFERROR(K20*FINANZAS!$N18,0)","v":0},{"$f":"IFERROR(L20*FINANZAS!$N18,0)","v":0},{"$f":"IFERROR(M20*FINANZAS!$N18,0)","v":0},{"$f":"IFERROR(N20*FINANZAS!$N18,0)","v":0},{"$f":"IFERROR(O20*FINANZAS!$N18,0)","v":0}]
[null,null,{"$f":"IF(FINANZAS!C19=\"\",\"\",FINANZAS!C19)","v":""},null,null,null,null,null,null,null,null,null,null,null,null,0,null,"",{"$f":"IFERROR(D21*FINANZAS!$K19,0)","v":0},{"$f":"IFERROR(E21*FINANZAS!$K19,0)","v":0},{"$f":"IFERROR(F21*FINANZAS!$K19,0)","v":0},{"$f":"IFERROR(G21*FINANZAS!$K19,0)","v":0},{"$f":"IFERROR(H21*FINANZAS!$K19,0)","v":0},{"$f":"IFERROR(I21*FINANZAS!$K19,0)","v":0},{"$f":"IFERROR(J21*FINANZAS!$K19,0)","v":0},{"$f":"IFERROR(K21*FINANZAS!$K19,0)","v":0},{"$f":"IFERROR(L21*FINANZAS!$K19,0)","v":0},{"$f":"IFERROR(M21*FINANZAS!$K19,0)","v":0},{"$f":"IFERROR(N21*FINANZAS!$K19,0)","v":0},{"$f":"IFERROR(O21*FINANZAS!$K19,0)","v":0},null,{"$f":"IFERROR(D21*FINANZAS!$G19,0)","v":0},{"$f":"IFERROR(E21*FINANZAS!$G19,0)","v":0},{"$f":"IFERROR(F21*FINANZAS!$G19,0)","v":0},{"$f":"IFERROR(G21*FINANZAS!$G19,0)","v":0},{"$f":"IFERROR(H21*FINANZAS!$G19,0)","v":0},{"$f":"IFERROR(I21*FINANZAS!$G19,0)","v":0},{"$f":"IFERROR(J21*FINANZAS!$G19,0)","v":0},{"$f":"IFERROR(K21*FINANZAS!$G19,0)","v":0},{"$f":"IFERROR(L21*FINANZAS!$G19,0)","v":0},{"$f":"IFERROR(M21*FINANZAS!$G19,0)","v":0},{"$f":"IFERROR(N21*FINANZAS!$G19,0)","v":0},{"$f":"IFERROR(O21*FINANZAS!$G19,0)","v":0},null,{"$f":"S21*FINANZAS!$J19","v":0},{"$f":"T21*FINANZAS!$J19","v":0},{"$f":"U21*FINANZAS!$J19","v":0},{"$f":"V21*FINANZAS!$J19","v":0},{"$f":"W21*FINANZAS!$J19","v":0},{"$f":"X21*FINANZAS!$J19","v":0},{"$f":"Y21*FINANZAS!$J19","v":0},{"$f":"Z21*FINANZAS!$J19","v":0},{"$f":"AA21*FINANZAS!$J19","v":0},{"$f":"AB21*FINANZAS!$J19","v":0},{"$f":"AC21*FINANZAS!$J19","v":0},{"$f":"AD21*FINANZAS!$J19","v":0},null,{"$f":"IFERROR(D21*FINANZAS!$N19,0)","v":0},{"$f":"IFERROR(E21*FINANZAS!$N19,0)","v":0},{"$f":"IFERROR(F21*FINANZAS!$N19,0)","v":0},{"$f":"IFERROR(G21*FINANZAS!$N19,0)","v":0},{"$f":"IFERROR(H21*FINANZAS!$N19,0)","v":0},{"$f":"IFERROR(I21*FINANZAS!$N19,0)","v":0},{"$f":"IFERROR(J21*FINANZAS!$N19,0)","v":0},{"$f":"IFERROR(K21*FINANZAS!$N19,0)","v":0},{"$f":"IFERROR(L21*FINANZAS!$N19,0)","v":0},{"$f":"IFERROR(M21*FINANZAS!$N19,0)","v":0},{"$f":"IFERROR(N21*FINANZAS!$N19,0)","v":0},{"$f":"IFERROR(O21*FINANZAS!$N19,0)","v":0}]
[null,null,{"$f":"IF(FINANZAS!C20=\"\",\"\",FINANZAS!C20)","v":""},null,null,null,null,null,null,null,null,null,null,null,null,0,null,"",{"$f":"IFERROR(D22*FINANZAS!$K20,0)","v":0},{"$f":"IFERROR(E22*FINANZAS!$K20,0)","v":0},{"$f":"IFERROR(F22*FINANZAS!$K20,0)","v":0},{"$f":"IFERROR(G22*FINANZAS!$K20,0)","v":0},{"$f":"IFERROR(H22*FINANZAS!$K20,0)","v":0},{"$f":"IFERROR(I22*FINANZAS!$K20,0)","v":0},{"$f":"IFERROR(J22*FINANZAS!$K20,0)","v":0},{"$f":"IFERROR(K22*FINANZAS!$K20,0)","v":0},{"$f":"IFERROR(L22*FINANZAS!$K20,0)","v":0},{"$f":"IFERROR(M22*FINANZAS!$K20,0)","v":0},{"$f":"IFERROR(N22*FINANZAS!$K20,0)","v":0},{"$f":"IFERROR(O22*FINANZAS!$K20,0)","v":0},null,{"$f":"IFERROR(D22*FINANZAS!$G20,0)","v":0},{"$f":"IFERROR(E22*FINANZAS!$G20,0)","v":0},{"$f":"IFERROR(F22*FINANZAS!$G20,0)","v":0},{"$f":"IFERROR(G22*FINANZAS!$G20,0)","v":0},{"$f":"IFERROR(H22*FINANZAS!$G20,0)","v":0},{"$f":"IFERROR(I22*FINANZAS!$G20,0)","v":0},{"$f":"IFERROR(J22*FINANZAS!$G20,0)","v":0},{"$f":"IFERROR(K22*FINANZAS!$G20,0)","v":0},{"$f":"IFERROR(L22*FINANZAS!$G20,0)","v":0},{"$f":"IFERROR(M22*FINANZAS!$G20,0)","v":0},{"$f":"IFERROR(N22*FINANZAS!$G20,0)","v":0},{"$f":"IFERROR(O22*FINANZAS!$G20,0)","v":0},null,{"$f":"S22*FINANZAS!$J20","v":0},{"$f":"T22*FINANZAS!$J20","v":0},{"$f":"U22*FINANZAS!$J20","v":0},{"$f":"V22*FINANZAS!$J20","v":0},{"$f":"W22*FINANZAS!$J20","v":0},{"$f":"X22*FINANZAS!$J20","v":0},{"$f":"Y22*FINANZAS!$J20","v":0},{"$f":"Z22*FINANZAS!$J20","v":0},{"$f":"AA22*FINANZAS!$J20","v":0},{"$f":"AB22*FINANZAS!$J20","v":0},{"$f":"AC22*FINANZAS!$J20","v":0},{"$f":"AD22*FINANZAS!$J20","v":0},null,{"$f":"IFERROR(D22*FINANZAS!$N20,0)","v":0},{"$f":"IFERROR(E22*FINANZAS!$N20,0)","v":0},{"$f":"IFERROR(F22*FINANZAS!$N20,0)","v":0},{"$f":"IFERROR(G22*FINANZAS!$N20,0)","v":0},{"$f":"IFERROR(H22*FINANZAS!$N20,0)","v":0},{"$f":"IFERROR(I22*FINANZAS!$N20,0)","v":0},{"$f":"IFERROR(J22*FINANZAS!$N20,0)","v":0},{"$f":"IFERROR(K22*FINANZAS!$N20,0)","v":0},{"$f":"IFERROR(L22*FINANZAS!$N20,0)","v":0},{"$f":"IFERROR(M22*FINANZAS!$N20,0)","v":0},{"$f":"IFERROR(N22*FINANZAS!$N20,0)","v":0},{"$f":"IFERROR(O22*FINANZAS!$N20,0)","v":0}]
[null,null,{"$f":"IF(FINANZAS!C21=\"\",\"\",FINANZAS!C21)","v":""},null,null,null,null,null,null,null,null,null,null,null,null,0,null,"",{"$f":"IFERROR(D23*FINANZAS!$K21,0)","v":0},{"$f":"IFERROR(E23*FINANZAS!$K21,0)","v":0},{"$f":"IFERROR(F23*FINANZAS!$K21,0)","v":0},{"$f":"IFERROR(G23*FINANZAS!$K21,0)","v":0},{"$f":"IFERROR(H23*FINANZAS!$K21,0)","v":0},{"$f":"IFERROR(I23*FINANZAS!$K21,0)","v":0},{"$f":"IFERROR(J23*FINANZAS!$K21,0)","v":0},{"$f":"IFERROR(K23*FINANZAS!$K21,0)","v":0},{"$f":"IFERROR(L23*FINANZAS!$K21,0)","v":0},{"$f":"IFERROR(M23*FINANZAS!$K21,0)","v":0},{"$f":"IFERROR(N23*FINANZAS!$K21,0)","v":0},{"$f":"IFERROR(O23*FINANZAS!$K21,0)","v":0},null,{"$f":"IFERROR(D23*FINANZAS!$G21,0)","v":0},{"$f":"IFERROR(E23*FINANZAS!$G21,0)","v":0},{"$f":"IFERROR(F23*FINANZAS!$G21,0)","v":0},{"$f":"IFERROR(G23*FINANZAS!$G21,0)","v":0},{"$f":"IFERROR(H23*FINANZAS!$G21,0)","v":0},{"$f":"IFERROR(I23*FINANZAS!$G21,0)","v":0},{"$f":"IFERROR(J23*FINANZAS!$G21,0)","v":0},{"$f":"IFERROR(K23*FINANZAS!$G21,0)","v":0},{"$f":"IFERROR(L23*FINANZAS!$G21,0)","v":0},{"$f":"IFERROR(M23*FINANZAS!$G21,0)","v":0},{"$f":"IFERROR(N23*FINANZAS!$G21,0)","v":0},{"$f":"IFERROR(O23*FINANZAS!$G21,0)","v":0},null,{"$f":"S23*FINANZAS!$J21","v":0},{"$f":"T23*FINANZAS!$J21","v":0},{"$f":"U23*FINANZAS!$J21","v":0},{"$f":"V23*FINANZAS!$J21","v":0},{"$f":"W23*FINANZAS!$J21","v":0},{"$f":"X23*FINANZAS!$J21","v":0},{"$f":"Y23*FINANZAS!$J21","v":0},{"$f":"Z23*FINANZAS!$J21","v":0},{"$f":"AA23*FINANZAS!$J21","v":0},{"$f":"AB23*FINANZAS!$J21","v":0},{"$f":"AC23*FINANZAS!$J21","v":0},{"$f":"AD23*FINANZAS!$J21","v":0},null,{"$f":"IFERROR(D23*FINANZAS!$N21,0)","v":0},{"$f":"IFERROR(E23*FINANZAS!$N21,0)","v":0},{"$f":"IFERROR(F23*FINANZAS!$N21,0)","v":0},{"$f":"IFERROR(G23*FINANZAS!$N21,0)","v":0},{"$f":"IFERROR(H23*FINANZAS!$N21,0)","v":0},{"$f":"IFERROR(I23*FINANZAS!$N21,0)","v":0},{"$f":"IFERROR(J23*FINANZAS!$N21,0)","v":0},{"$f":"IFERROR(K23*FINANZAS!$N21,0)","v":0},{"$f":"IFERROR(L23*FINANZAS!$N21,0)","v":0},{"$f":"IFERROR(M23*FINANZAS!$N21,0)","v":0},{"$f":"IFERROR(N23*FINANZAS!$N21,0)","v":0},{"$f":"IFERROR(O23*FINANZAS!$N21,0)","v":0}]
[null,null,{"$f":"IF(FINANZAS!C22=\"\",\"\",FINANZAS!C22)","v":""},null,null,null,null,null,null,null,null,null,null,null,null,0,null,"",{"$f":"IFERROR(D24*FINANZAS!$K22,0)","v":0},{"$f":"IFERROR(E24*FINANZAS!$K22,0)","v":0},{"$f":"IFERROR(F24*FINANZAS!$K22,0)","v":0},{"$f":"IFERROR(G24*FINANZAS!$K22,0)","v":0},{"$f":"IFERROR(H24*FINANZAS!$K22,0)","v":0},{"$f":"IFERROR(I24*FINANZAS!$K22,0)","v":0},{"$f":"IFERROR(J24*FINANZAS!$K22,0)","v":0},{"$f":"IFERROR(K24*FINANZAS!$K22,0)","v":0},{"$f":"IFERROR(L24*FINANZAS!$K22,0)","v":0},{"$f":"IFERROR(M24*FINANZAS!$K22,0)","v":0},{"$f":"IFERROR(N24*FINANZAS!$K22,0)","v":0},{"$f":"IFERROR(O24*FINANZAS!$K22,0)","v":0},null,{"$f":"IFERROR(D24*FINANZAS!$G22,0)","v":0},{"$f":"IFERROR(E24*FINANZAS!$G22,0)","v":0},{"$f":"IFERROR(F24*FINANZAS!$G22,0)","v":0},{"$f":"IFERROR(G24*FINANZAS!$G22,0)","v":0},{"$f":"IFERROR(H24*FINANZAS!$G22,0)","v":0},{"$f":"IFERROR(I24*FINANZAS!$G22,0)","v":0},{"$f":"IFERROR(J24*FINANZAS!$G22,0)","v":0},{"$f":"IFERROR(K24*FINANZAS!$G22,0)","v":0},{"$f":"IFERROR(L24*FINANZAS!$G22,0)","v":0},{"$f":"IFERROR(M24*FINANZAS!$G22,0)","v":0},{"$f":"IFERROR(N24*FINANZAS!$G22,0)","v":0},{"$f":"IFERROR(O24*FINANZAS!$G22,0)","v":0},null,{"$f":"S24*FINANZAS!$J22","v":0},{"$f":"T24*FINANZAS!$J22","v":0},{"$f":"U24*FINANZAS!$J22","v":0},{"$f":"V24*FINANZAS!$J22","v":0},{"$f":"W24*FINANZAS!$J22","v":0},{"$f":"X24*FINANZAS!$J22","v":0},{"$f":"Y24*FINANZAS!$J22","v":0},{"$f":"Z24*FINANZAS!$J22","v":0},{"$f":"AA24*FINANZAS!$J22","v":0},{"$f":"AB24*FINANZAS!$J22","v":0},{"$f":"AC24*FINANZAS!$J22","v":0},{"$f":"AD24*FINANZAS!$J22","v":0},null,{"$f":"IFERROR(D24*FINANZAS!$N22,0)","v":0},{"$f":"IFERROR(E24*FINANZAS!$N22,0)","v":0},{"$f":"IFERROR(F24*FINANZAS!$N22,0)","v":0},{"$f":"IFERROR(G24*FINANZAS!$N22,0)","v":0},{"$f":"IFERROR(H24*FINANZAS!$N22,0)","v":0},{"$f":"IFERROR(I24*FINANZAS!$N22,0)","v":0},{"$f":"IFERROR(J24*FINANZAS!$N22,0)","v":0},{"$f":"IFERROR(K24*FINANZAS!$N22,0)","v":0},{"$f":"IFERROR(L24*FINANZAS!$N22,0)","v":0},{"$f":"IFERROR(M24*FINANZAS!$N22,0)","v":0},{"$f":"IFERROR(N24*FINANZAS!$N22,0)","v":0},{"$f":"IFERROR(O24*FINANZAS!$N22,0)","v":0}]
[null,null,{"$f":"IF(FINANZAS!C23=\"\",\"\",FINANZAS!C23)","v":""},null,null,null,null,null,null,null,null,null,null,null,null,0,null,"",{"$f":"IFERROR(D25*FINANZAS!$K23,0)","v":0},{"$f":"IFERROR(E25*FINANZAS!$K23,0)","v":0},{"$f":"IFERROR(F25*FINANZAS!$K23,0)","v":0},{"$f":"IFERROR(G25*FINANZAS!$K23,0)","v":0},{"$f":"IFERROR(H25*FINANZAS!$K23,0)","v":0},{"$f":"IFERROR(I25*FINANZAS!$K23,0)","v":0},{"$f":"IFERROR(J25*FINANZAS!$K23,0)","v":0},{"$f":"IFERROR(K25*FINANZAS!$K23,0)","v":0},{"$f":"IFERROR(L25*FINANZAS!$K23,0)","v":0},{"$f":"IFERROR(M25*FINANZAS!$K23,0)","v":0},{"$f":"IFERROR(N25*FINANZAS!$K23,0)","v":0},{"$f":"IFERROR(O25*FINANZAS!$K23,0)","v":0},null,{"$f":"IFERROR(D25*FINANZAS!$G23,0)","v":0},{"$f":"IFERROR(E25*FINANZAS!$G23,0)","v":0},{"$f":"IFERROR(F25*FINANZAS!$G23,0)","v":0},{"$f":"IFERROR(G25*FINANZAS!$G23,0)","v":0},{"$f":"IFERROR(H25*FINANZAS!$G23,0)","v":0},{"$f":"IFERROR(I25*FINANZAS!$G23,0)","v":0},{"$f":"IFERROR(J25*FINANZAS!$G23,0)","v":0},{"$f":"IFERROR(K25*FINANZAS!$G23,0)","v":0},{"$f":"IFERROR(L25*FINANZAS!$G23,0)","v":0},{"$f":"IFERROR(M25*FINANZAS!$G23,0)","v":0},{"$f":"IFERROR(N25*FINANZAS!$G23,0)","v":0},{"$f":"IFERROR(O25*FINANZAS!$G23,0)","v":0},null,{"$f":"S25*FINANZAS!$J23","v":0},{"$f":"T25*FINANZAS!$J23","v":0},{"$f":"U25*FINANZAS!$J23","v":0},{"$f":"V25*FINANZAS!$J23","v":0},{"$f":"W25*FINANZAS!$J23","v":0},{"$f":"X25*FINANZAS!$J23","v":0},{"$f":"Y25*FINANZAS!$J23","v":0},{"$f":"Z25*FINANZAS!$J23","v":0},{"$f":"AA25*FINANZAS!$J23","v":0},{"$f":"AB25*FINANZAS!$J23","v":0},{"$f":"AC25*FINANZAS!$J23","v":0},{"$f":"AD25*FINANZAS!$J23","v":0},null,{"$f":"IFERROR(D25*FINANZAS!$N23,0)","v":0},{"$f":"IFERROR(E25*FINANZAS!$N23,0)","v":0},{"$f":"IFERROR(F25*FINANZAS!$N23,0)","v":0},{"$f":"IFERROR(G25*FINANZAS!$N23,0)","v":0},{"$f":"IFERROR(H25*FINANZAS!$N23,0)","v":0},{"$f":"IFERROR(I25*FINANZAS!$N23,0)","v":0},{"$f":"IFERROR(J25*FINANZAS!$N23,0)","v":0},{"$f":"IFERROR(K25*FINANZAS!$N23,0)","v":0},{"$f":"IFERROR(L25*FINANZAS!$N23,0)","v":0},{"$f":"IFERROR(M25*FINANZAS!$N23,0)","v":0},{"$f":"IFERROR(N25*FINANZAS!$N23,0)","v":0},{"$f":"IFERROR(O25*FINANZAS!$N23,0)","v":0}]
[null,null,{"$f":"IF(FINANZAS!C24=\"\",\"\",FINANZAS!C24)","v":""},null,null,null,null,null,null,null,null,null,null,null,null,0,null,"",{"$f":"IFERROR(D26*FINANZAS!$K24,0)","v":0},{"$f":"IFERROR(E26*FINANZAS!$K24,0)","v":0},{"$f":"IFERROR(F26*FINANZAS!$K24,0)","v":0},{"$f":"IFERROR(G26*FINANZAS!$K24,0)","v":0},{"$f":"IFERROR(H26*FINANZAS!$K24,0)","v":0},{"$f":"IFERROR(I26*FINANZAS!$K24,0)","v":0},{"$f":"IFERROR(J26*FINANZAS!$K24,0)","v":0},{"$f":"IFERROR(K26*FINANZAS!$K24,0)","v":0},{"$f":"IFERROR(L26*FINANZAS!$K24,0)","v":0},{"$f":"IFERROR(M26*FINANZAS!$K24,0)","v":0},{"$f":"IFERROR(N26*FINANZAS!$K24,0)","v":0},{"$f":"IFERROR(O26*FINANZAS!$K24,0)","v":0},null,{"$f":"IFERROR(D26*FINANZAS!$G24,0)","v":0},{"$f":"IFERROR(E26*FINANZAS!$G24,0)","v":0},{"$f":"IFERROR(F26*FINANZAS!$G24,0)","v":0},{"$f":"IFERROR(G26*FINANZAS!$G24,0)","v":0},{"$f":"IFERROR(H26*FINANZAS!$G24,0)","v":0},{"$f":"IFERROR(I26*FINANZAS!$G24,0)","v":0},{"$f":"IFERROR(J26*FINANZAS!$G24,0)","v":0},{"$f":"IFERROR(K26*FINANZAS!$G24,0)","v":0},{"$f":"IFERROR(L26*FINANZAS!$G24,0)","v":0},{"$f":"IFERROR(M26*FINANZAS!$G24,0)","v":0},{"$f":"IFERROR(N26*FINANZAS!$G24,0)","v":0},{"$f":"IFERROR(O26*FINANZAS!$G24,0)","v":0},null,{"$f":"S26*FINANZAS!$J24","v":0},{"$f":"T26*FINANZAS!$J24","v":0},{"$f":"U26*FINANZAS!$J24","v":0},{"$f":"V26*FINANZAS!$J24","v":0},{"$f":"W26*FINANZAS!$J24","v":0},{"$f":"X26*FINANZAS!$J24","v":0},{"$f":"Y26*FINANZAS!$J24","v":0},{"$f":"Z26*FINANZAS!$J24","v":0},{"$f":"AA26*FINANZAS!$J24","v":0},{"$f":"AB26*FINANZAS!$J24","v":0},{"$f":"AC26*FINANZAS!$J24","v":0},{"$f":"AD26*FINANZAS!$J24","v":0},null,{"$f":"IFERROR(D26*FINANZAS!$N24,0)","v":0},{"$f":"IFERROR(E26*FINANZAS!$N24,0)","v":0},{"$f":"IFERROR(F26*FINANZAS!$N24,0)","v":0},{"$f":"IFERROR(G26*FINANZAS!$N24,0)","v":0},{"$f":"IFERROR(H26*FINANZAS!$N24,0)","v":0},{"$f":"IFERROR(I26*FINANZAS!$N24,0)","v":0},{"$f":"IFERROR(J26*FINANZAS!$N24,0)","v":0},{"$f":"IFERROR(K26*FINANZAS!$N24,0)","v":0},{"$f":"IFERROR(L26*FINANZAS!$N24,0)","v":0},{"$f":"IFERROR(M26*FINANZAS!$N24,0)","v":0},{"$f":"IFERROR(N26*FINANZAS!$N24,0)","v":0},{"$f":"IFERROR(O26*FINANZAS!$N24,0)","v":0}]
[null,null,{"$f":"IF(FINANZAS!C25=\"\",\"\",FINANZAS!C25)","v":""},null,null,null,null,null,null,null,null,null,null,null,null,0,null,"",{"$f":"IFERROR(D27*FINANZAS!$K25,0)","v":0},{"$f":"IFERROR(E27*FINANZAS!$K25,0)","v":0},{"$f":"IFERROR(F27*FINANZAS!$K25,0)","v":0},{"$f":"IFERROR(G27*FINANZAS!$K25,0)","v":0},{"$f":"IFERROR(H27*FINANZAS!$K25,0)","v":0},{"$f":"IFERROR(I27*FINANZAS!$K25,0)","v":0},{"$f":"IFERROR(J27*FINANZAS!$K25,0)","v":0},{"$f":"IFERROR(K27*FINANZAS!$K25,0)","v":0},{"$f":"IFERROR(L27*FINANZAS!$K25,0)","v":0},{"$f":"IFERROR(M27*FINANZAS!$K25,0)","v":0},{"$f":"IFERROR(N27*FINANZAS!$K25,0)","v":0},{"$f":"IFERROR(O27*FINANZAS!$K25,0)","v":0},null,{"$f":"IFERROR(D27*FINANZAS!$G25,0)","v":0},{"$f":"IFERROR(E27*FINANZAS!$G25,0)","v":0},{"$f":"IFERROR(F27*FINANZAS!$G25,0)","v":0},{"$f":"IFERROR(G27*FINANZAS!$G25,0)","v":0},{"$f":"IFERROR(H27*FINANZAS!$G25,0)","v":0},{"$f":"IFERROR(I27*FINANZAS!$G25,0)","v":0},{"$f":"IFERROR(J27*FINANZAS!$G25,0)","v":0},{"$f":"IFERROR(K27*FINANZAS!$G25,0)","v":0},{"$f":"IFERROR(L27*FINANZAS!$G25,0)","v":0},{"$f":"IFERROR(M27*FINANZAS!$G25,0)","v":0},{"$f":"IFERROR(N27*FINANZAS!$G25,0)","v":0},{"$f":"IFERROR(O27*FINANZAS!$G25,0)","v":0},null,{"$f":"S27*FINANZAS!$J25","v":0},{"$f":"T27*FINANZAS!$J25","v":0},{"$f":"U27*FINANZAS!$J25","v":0},{"$f":"V27*FINANZAS!$J25","v":0},{"$f":"W27*FINANZAS!$J25","v":0},{"$f":"X27*FINANZAS!$J25","v":0},{"$f":"Y27*FINANZAS!$J25","v":0},{"$f":"Z27*FINANZAS!$J25","v":0},{"$f":"AA27*FINANZAS!$J25","v":0},{"$f":"AB27*FINANZAS!$J25","v":0},{"$f":"AC27*FINANZAS!$J25","v":0},{"$f":"AD27*FINANZAS!$J25","v":0},null,{"$f":"IFERROR(D27*FINANZAS!$N25,0)","v":0},{"$f":"IFERROR(E27*FINANZAS!$N25,0)","v":0},{"$f":"IFERROR(F27*FINANZAS!$N25,0)","v":0},{"$f":"IFERROR(G27*FINANZAS!$N25,0)","v":0},{"$f":"IFERROR(H27*FINANZAS!$N25,0)","v":0},{"$f":"IFERROR(I27*FINANZAS!$N25,0)","v":0},{"$f":"IFERROR(J27*FINANZAS!$N25,0)","v":0},{"$f":"IFERROR(K27*FINANZAS!$N25,0)","v":0},{"$f":"IFERROR(L27*FINANZAS!$N25,0)","v":0},{"$f":"IFERROR(M27*FINANZAS!$N25,0)","v":0},{"$f":"IFERROR(N27*FINANZAS!$N25,0)","v":0},{"$f":"IFERROR(O27*FINANZAS!$N25,0)","v":0}]
[null,null,{"$f":"IF(FINANZAS!C26=\"\",\"\",FINANZAS!C26)","v":""},null,null,null,null,null,null,null,null,null,null,null,null,0,null,"",{"$f":"IFERROR(D28*FINANZAS!$K26,0)","v":0},{"$f":"IFERROR(E28*FINANZAS!$K26,0)","v":0},{"$f":"IFERROR(F28*FINANZAS!$K26,0)","v":0},{"$f":"IFERROR(G28*FINANZAS!$K26,0)","v":0},{"$f":"IFERROR(H28*FINANZAS!$K26,0)","v":0},{"$f":"IFERROR(I28*FINANZAS!$K26,0)","v":0},{"$f":"IFERROR(J28*FINANZAS!$K26,0)","v":0},{"$f":"IFERROR(K28*FINANZAS!$K26,0)","v":0},{"$f":"IFERROR(L28*FINANZAS!$K26,0)","v":0},{"$f":"IFERROR(M28*FINANZAS!$K26,0)","v":0},{"$f":"IFERROR(N28*FINANZAS!$K26,0)","v":0},{"$f":"IFERROR(O28*FINANZAS!$K26,0)","v":0},null,{"$f":"IFERROR(D28*FINANZAS!$G26,0)","v":0},{"$f":"IFERROR(E28*FINANZAS!$G26,0)","v":0},{"$f":"IFERROR(F28*FINANZAS!$G26,0)","v":0},{"$f":"IFERROR(G28*FINANZAS!$G26,0)","v":0},{"$f":"IFERROR(H28*FINANZAS!$G26,0)","v":0},{"$f":"IFERROR(I28*FINANZAS!$G26,0)","v":0},{"$f":"IFERROR(J28*FINANZAS!$G26,0)","v":0},{"$f":"IFERROR(K28*FINANZAS!$G26,0)","v":0},{"$f":"IFERROR(L28*FINANZAS!$G26,0)","v":0},{"$f":"IFERROR(M28*FINANZAS!$G26,0)","v":0},{"$f":"IFERROR(N28*FINANZAS!$G26,0)","v":0},{"$f":"IFERROR(O28*FINANZAS!$G26,0)","v":0},null,{"$f":"S28*FINANZAS!$J26","v":0},{"$f":"T28*FINANZAS!$J26","v":0},{"$f":"U28*FINANZAS!$J26","v":0},{"$f":"V28*FINANZAS!$J26","v":0},{"$f":"W28*FINANZAS!$J26","v":0},{"$f":"X28*FINANZAS!$J26","v":0},{"$f":"Y28*FINANZAS!$J26","v":0},{"$f":"Z28*FINANZAS!$J26","v":0},{"$f":"AA28*FINANZAS!$J26","v":0},{"$f":"AB28*FINANZAS!$J26","v":0},{"$f":"AC28*FINANZAS!$J26","v":0},{"$f":"AD28*FINANZAS!$J26","v":0},null,{"$f":"IFERROR(D28*FINANZAS!$N26,0)","v":0},{"$f":"IFERROR(E28*FINANZAS!$N26,0)","v":0},{"$f":"IFERROR(F28*FINANZAS!$N26,0)","v":0},{"$f":"IFERROR(G28*FINANZAS!$N26,0)","v":0},{"$f":"IFERROR(H28*FINANZAS!$N26,0)","v":0},{"$f":"IFERROR(I28*FINANZAS!$N26,0)","v":0},{"$f":"IFERROR(J28*FINANZAS!$N26,0)","v":0},{"$f":"IFERROR(K28*FINANZAS!$N26,0)","v":0},{"$f":"IFERROR(L28*FINANZAS!$N26,0)","v":0},{"$f":"IFERROR(M28*FINANZAS!$N26,0)","v":0},{"$f":"IFERROR(N28*FINANZAS!$N26,0)","v":0},{"$f":"IFERROR(O28*FINANZAS!$N26,0)","v":0}]
[null,null,{"$f":"IF(FINANZAS!C27=\"\",\"\",FINANZAS!C27)","v":""},null,null,null,null,null,null,null,null,null,null,null,null,0,null,"",{"$f":"IFERROR(D29*FINANZAS!$K27,0)","v":0},{"$f":"IFERROR(E29*FINANZAS!$K27,0)","v":0},{"$f":"IFERROR(F29*FINANZAS!$K27,0)","v":0},{"$f":"IFERROR(G29*FINANZAS!$K27,0)","v":0},{"$f":"IFERROR(H29*FINANZAS!$K27,0)","v":0},{"$f":"IFERROR(I29*FINANZAS!$K27,0)","v":0},{"$f":"IFERROR(J29*FINANZAS!$K27,0)","v":0},{"$f":"IFERROR(K29*FINANZAS!$K27,0)","v":0},{"$f":"IFERROR(L29*FINANZAS!$K27,0)","v":0},{"$f":"IFERROR(M29*FINANZAS!$K27,0)","v":0},{"$f":"IFERROR(N29*FINANZAS!$K27,0)","v":0},{"$f":"IFERROR(O29*FINANZAS!$K27,0)","v":0},null,{"$f":"IFERROR(D29*FINANZAS!$G27,0)","v":0},{"$f":"IFERROR(E29*FINANZAS!$G27,0)","v":0},{"$f":"IFERROR(F29*FINANZAS!$G27,0)","v":0},{"$f":"IFERROR(G29*FINANZAS!$G27,0)","v":0},{"$f":"IFERROR(H29*FINANZAS!$G27,0)","v":0},{"$f":"IFERROR(I29*FINANZAS!$G27,0)","v":0},{"$f":"IFERROR(J29*FINANZAS!$G27,0)","v":0},{"$f":"IFERROR(K29*FINANZAS!$G27,0)","v":0},{"$f":"IFERROR(L29*FINANZAS!$G27,0)","v":0},{"$f":"IFERROR(M29*FINANZAS!$G27,0)","v":0},{"$f":"IFERROR(N29*FINANZAS!$G27,0)","v":0},{"$f":"IFERROR(O29*FINANZAS!$G27,0)","v":0},null,{"$f":"S29*FINANZAS!$J27","v":0},{"$f":"T29*FINANZAS!$J27","v":0},{"$f":"U29*FINANZAS!$J27","v":0},{"$f":"V29*FINANZAS!$J27","v":0},{"$f":"W29*FINANZAS!$J27","v":0},{"$f":"X29*FINANZAS!$J27","v":0},{"$f":"Y29*FINANZAS!$J27","v":0},{"$f":"Z29*FINANZAS!$J27","v":0},{"$f":"AA29*FINANZAS!$J27","v":0},{"$f":"AB29*FINANZAS!$J27","v":0},{"$f":"AC29*FINANZAS!$J27","v":0},{"$f":"AD29*FINANZAS!$J27","v":0},null,{"$f":"IFERROR(D29*FINANZAS!$N27,0)","v":0},{"$f":"IFERROR(E29*FINANZAS!$N27,0)","v":0},{"$f":"IFERROR(F29*FINANZAS!$N27,0)","v":0},{"$f":"IFERROR(G29*FINANZAS!$N27,0)","v":0},{"$f":"IFERROR(H29*FINANZAS!$N27,0)","v":0},{"$f":"IFERROR(I29*FINANZAS!$N27,0)","v":0},{"$f":"IFERROR(J29*FINANZAS!$N27,0)","v":0},{"$f":"IFERROR(K29*FINANZAS!$N27,0)","v":0},{"$f":"IFERROR(L29*FINANZAS!$N27,0)","v":0},{"$f":"IFERROR(M29*FINANZAS!$N27,0)","v":0},{"$f":"IFERROR(N29*FINANZAS!$N27,0)","v":0},{"$f":"IFERROR(O29*FINANZAS!$N27,0)","v":0}]
[null,null,{"$f":"IF(FINANZAS!C28=\"\",\"\",FINANZAS!C28)","v":""},null,null,null,null,null,null,null,null,null,null,null,null,0,null,"",{"$f":"IFERROR(D30*FINANZAS!$K28,0)","v":0},{"$f":"IFERROR(E30*FINANZAS!$K28,0)","v":0},{"$f":"IFERROR(F30*FINANZAS!$K28,0)","v":0},{"$f":"IFERROR(G30*FINANZAS!$K28,0)","v":0},{"$f":"IFERROR(H30*FINANZAS!$K28,0)","v":0},{"$f":"IFERROR(I30*FINANZAS!$K28,0)","v":0},{"$f":"IFERROR(J30*FINANZAS!$K28,0)","v":0},{"$f":"IFERROR(K30*FINANZAS!$K28,0)","v":0},{"$f":"IFERROR(L30*FINANZAS!$K28,0)","v":0},{"$f":"IFERROR(M30*FINANZAS!$K28,0)","v":0},{"$f":"IFERROR(N30*FINANZAS!$K28,0)","v":0},{"$f":"IFERROR(O30*FINANZAS!$K28,0)","v":0},null,{"$f":"IFERROR(D30*FINANZAS!$G28,0)","v":0},{"$f":"IFERROR(E30*FINANZAS!$G28,0)","v":0},{"$f":"IFERROR(F30*FINANZAS!$G28,0)","v":0},{"$f":"IFERROR(G30*FINANZAS!$G28,0)","v":0},{"$f":"IFERROR(H30*FINANZAS!$G28,0)","v":0},{"$f":"IFERROR(I30*FINANZAS!$G28,0)","v":0},{"$f":"IFERROR(J30*FINANZAS!$G28,0)","v":0},{"$f":"IFERROR(K30*FINANZAS!$G28,0)","v":0},{"$f":"IFERROR(L30*FINANZAS!$G28,0)","v":0},{"$f":"IFERROR(M30*FINANZAS!$G28,0)","v":0},{"$f":"IFERROR(N30*FINANZAS!$G28,0)","v":0},{"$f":"IFERROR(O30*FINANZAS!$G28,0)","v":0},null,{"$f":"S30*FINANZAS!$J28","v":0},{"$f":"T30*FINANZAS!$J28","v":0},{"$f":"U30*FINANZAS!$J28","v":0},{"$f":"V30*FINANZAS!$J28","v":0},{"$f":"W30*FINANZAS!$J28","v":0},{"$f":"X30*FINANZAS!$J28","v":0},{"$f":"Y30*FINANZAS!$J28","v":0},{"$f":"Z30*FINANZAS!$J28","v":0},{"$f":"AA30*FINANZAS!$J28","v":0},{"$f":"AB30*FINANZAS!$J28","v":0},{"$f":"AC30*FINANZAS!$J28","v":0},{"$f":"AD30*FINANZAS!$J28","v":0},null,{"$f":"IFERROR(D30*FINANZAS!$N28,0)","v":0},{"$f":"IFERROR(E30*FINANZAS!$N28,0)","v":0},{"$f":"IFERROR(F30*FINANZAS!$N28,0)","v":0},{"$f":"IFERROR(G30*FINANZAS!$N28,0)","v":0},{"$f":"IFERROR(H30*FINANZAS!$N28,0)","v":0},{"$f":"IFERROR(I30*FINANZAS!$N28,0)","v":0},{"$f":"IFERROR(J30*FINANZAS!$N28,0)","v":0},{"$f":"IFERROR(K30*FINANZAS!$N28,0)","v":0},{"$f":"IFERROR(L30*FINANZAS!$N28,0)","v":0},{"$f":"IFERROR(M30*FINANZAS!$N28,0)","v":0},{"$f":"IFERROR(N30*FINANZAS!$N28,0)","v":0},{"$f":"IFERROR(O30*FINANZAS!$N28,0)","v":0}]
[null,null,{"$f":"IF(FINANZAS!C29=\"\",\"\",FINANZAS!C29)","v":""},null,null,null,null,null,null,null,null,null,null,null,null,0,null,"",{"$f":"IFERROR(D31*FINANZAS!$K29,0)","v":0},{"$f":"IFERROR(E31*FINANZAS!$K29,0)","v":0},{"$f":"IFERROR(F31*FINANZAS!$K29,0)","v":0},{"$f":"IFERROR(G31*FINANZAS!$K29,0)","v":0},{"$f":"IFERROR(H31*FINANZAS!$K29,0)","v":0},{"$f":"IFERROR(I31*FINANZAS!$K29,0)","v":0},{"$f":"IFERROR(J31*FINANZAS!$K29,0)","v":0},{"$f":"IFERROR(K31*FINANZAS!$K29,0)","v":0},{"$f":"IFERROR(L31*FINANZAS!$K29,0)","v":0},{"$f":"IFERROR(M31*FINANZAS!$K29,0)","v":0},{"$f":"IFERROR(N31*FINANZAS!$K29,0)","v":0},{"$f":"IFERROR(O31*FINANZAS!$K29,0)","v":0},null,{"$f":"IFERROR(D31*FINANZAS!$G29,0)","v":0},{"$f":"IFERROR(E31*FINANZAS!$G29,0)","v":0},{"$f":"IFERROR(F31*FINANZAS!$G29,0)","v":0},{"$f":"IFERROR(G31*FINANZAS!$G29,0)","v":0},{"$f":"IFERROR(H31*FINANZAS!$G29,0)","v":0},{"$f":"IFERROR(I31*FINANZAS!$G29,0)","v":0},{"$f":"IFERROR(J31*FINANZAS!$G29,0)","v":0},{"$f":"IFERROR(K31*FINANZAS!$G29,0)","v":0},{"$f":"IFERROR(L31*FINANZAS!$G29,0)","v":0},{"$f":"IFERROR(M31*FINANZAS!$G29,0)","v":0},{"$f":"IFERROR(N31*FINANZAS!$G29,0)","v":0},{"$f":"IFERROR(O31*FINANZAS!$G29,0)","v":0},null,{"$f":"S31*FINANZAS!$J29","v":0},{"$f":"T31*FINANZAS!$J29","v":0},{"$f":"U31*FINANZAS!$J29","v":0},{"$f":"V31*FINANZAS!$J29","v":0},{"$f":"W31*FINANZAS!$J29","v":0},{"$f":"X31*FINANZAS!$J29","v":0},{"$f":"Y31*FINANZAS!$J29","v":0},{"$f":"Z31*FINANZAS!$J29","v":0},{"$f":"AA31*FINANZAS!$J29","v":0},{"$f":"AB31*FINANZAS!$J29","v":0},{"$f":"AC31*FINANZAS!$J29","v":0},{"$f":"AD31*FINANZAS!$J29","v":0},null,{"$f":"IFERROR(D31*FINANZAS!$N29,0)","v":0},{"$f":"IFERROR(E31*FINANZAS!$N29,0)","v":0},{"$f":"IFERROR(F31*FINANZAS!$N29,0)","v":0},{"$f":"IFERROR(G31*FINANZAS!$N29,0)","v":0},{"$f":"IFERROR(H31*FINANZAS!$N29,0)","v":0},{"$f":"IFERROR(I31*FINANZAS!$N29,0)","v":0},{"$f":"IFERROR(J31*FINANZAS!$N29,0)","v":0},{"$f":"IFERROR(K31*FINANZAS!$N29,0)","v":0},{"$f":"IFERROR(L31*FINANZAS!$N29,0)","v":0},{"$f":"IFERROR(M31*FINANZAS!$N29,0)","v":0},{"$f":"IFERROR(N31*FINANZAS!$N29,0)","v":0},{"$f":"IFERROR(O31*FINANZAS!$N29,0)","v":0}]
[null,null,{"$f":"IF(FINANZAS!C30=\"\",\"\",FINANZAS!C30)","v":""},null,null,null,null,null,null,null,null,null,null,null,null,0,null,"",{"$f":"IFERROR(D32*FINANZAS!$K30,0)","v":0},{"$f":"IFERROR(E32*FINANZAS!$K30,0)","v":0},{"$f":"IFERROR(F32*FINANZAS!$K30,0)","v":0},{"$f":"IFERROR(G32*FINANZAS!$K30,0)","v":0},{"$f":"IFERROR(H32*FINANZAS!$K30,0)","v":0},{"$f":"IFERROR(I32*FINANZAS!$K30,0)","v":0},{"$f":"IFERROR(J32*FINANZAS!$K30,0)","v":0},{"$f":"IFERROR(K32*FINANZAS!$K30,0)","v":0},{"$f":"IFERROR(L32*FINANZAS!$K30,0)","v":0},{"$f":"IFERROR(M32*FINANZAS!$K30,0)","v":0},{"$f":"IFERROR(N32*FINANZAS!$K30,0)","v":0},{"$f":"IFERROR(O32*FINANZAS!$K30,0)","v":0},null,{"$f":"IFERROR(D32*FINANZAS!$G30,0)","v":0},{"$f":"IFERROR(E32*FINANZAS!$G30,0)","v":0},{"$f":"IFERROR(F32*FINANZAS!$G30,0)","v":0},{"$f":"IFERROR(G32*FINANZAS!$G30,0)","v":0},{"$f":"IFERROR(H32*FINANZAS!$G30,0)","v":0},{"$f":"IFERROR(I32*FINANZAS!$G30,0)","v":0},{"$f":"IFERROR(J32*FINANZAS!$G30,0)","v":0},{"$f":"IFERROR(K32*FINANZAS!$G30,0)","v":0},{"$f":"IFERROR(L32*FINANZAS!$G30,0)","v":0},{"$f":"IFERROR(M32*FINANZAS!$G30,0)","v":0},{"$f":"IFERROR(N32*FINANZAS!$G30,0)","v":0},{"$f":"IFERROR(O32*FINANZAS!$G30,0)","v":0},null,{"$f":"S32*FINANZAS!$J30","v":0},{"$f":"T32*FINANZAS!$J30","v":0},{"$f":"U32*FINANZAS!$J30","v":0},{"$f":"V32*FINANZAS!$J30","v":0},{"$f":"W32*FINANZAS!$J30","v":0},{"$f":"X32*FINANZAS!$J30","v":0},{"$f":"Y32*FINANZAS!$J30","v":0},{"$f":"Z32*FINANZAS!$J30","v":0},{"$f":"AA32*FINANZAS!$J30","v":0},{"$f":"AB32*FINANZAS!$J30","v":0},{"$f":"AC32*FINANZAS!$J30","v":0},{"$f":"AD32*FINANZAS!$J30","v":0},null,{"$f":"IFERROR(D32*FINANZAS!$N30,0)","v":0},{"$f":"IFERROR(E32*FINANZAS!$N30,0)","v":0},{"$f":"IFERROR(F32*FINANZAS!$N30,0)","v":0},{"$f":"IFERROR(G32*FINANZAS!$N30,0)","v":0},{"$f":"IFERROR(H32*FINANZAS!$N30,0)","v":0},{"$f":"IFERROR(I32*FINANZAS!$N30,0)","v":0},{"$f":"IFERROR(J32*FINANZAS!$N30,0)","v":0},{"$f":"IFERROR(K32*FINANZAS!$N30,0)","v":0},{"$f":"IFERROR(L32*FINANZAS!$N30,0)","v":0},{"$f":"IFERROR(M32*FINANZAS!$N30,0)","v":0},{"$f":"IFERROR(N32*FINANZAS!$N30,0)","v":0},{"$f":"IFERROR(O32*FINANZAS!$N30,0)","v":0}]
[null,null,{"$f":"IF(FINANZAS!C31=\"\",\"\",FINANZAS!C31)","v":""},null,null,null,null,null,null,null,null,null,null,null,null,0,null,"",{"$f":"IFERROR(D33*FINANZAS!$K31,0)","v":0},{"$f":"IFERROR(E33*FINANZAS!$K31,0)","v":0},{"$f":"IFERROR(F33*FINANZAS!$K31,0)","v":0},{"$f":"IFERROR(G33*FINANZAS!$K31,0)","v":0},{"$f":"IFERROR(H33*FINANZAS!$K31,0)","v":0},{"$f":"IFERROR(I33*FINANZAS!$K31,0)","v":0},{"$f":"IFERROR(J33*FINANZAS!$K31,0)","v":0},{"$f":"IFERROR(K33*FINANZAS!$K31,0)","v":0},{"$f":"IFERROR(L33*FINANZAS!$K31,0)","v":0},{"$f":"IFERROR(M33*FINANZAS!$K31,0)","v":0},{"$f":"IFERROR(N33*FINANZAS!$K31,0)","v":0},{"$f":"IFERROR(O33*FINANZAS!$K31,0)","v":0},null,{"$f":"IFERROR(D33*FINANZAS!$G31,0)","v":0},{"$f":"IFERROR(E33*FINANZAS!$G31,0)","v":0},{"$f":"IFERROR(F33*FINANZAS!$G31,0)","v":0},{"$f":"IFERROR(G33*FINANZAS!$G31,0)","v":0},{"$f":"IFERROR(H33*FINANZAS!$G31,0)","v":0},{"$f":"IFERROR(I33*FINANZAS!$G31,0)","v":0},{"$f":"IFERROR(J33*FINANZAS!$G31,0)","v":0},{"$f":"IFERROR(K33*FINANZAS!$G31,0)","v":0},{"$f":"IFERROR(L33*FINANZAS!$G31,0)","v":0},{"$f":"IFERROR(M33*FINANZAS!$G31,0)","v":0},{"$f":"IFERROR(N33*FINANZAS!$G31,0)","v":0},{"$f":"IFERROR(O33*FINANZAS!$G31,0)","v":0},null,{"$f":"S33*FINANZAS!$J31","v":0},{"$f":"T33*FINANZAS!$J31","v":0},{"$f":"U33*FINANZAS!$J31","v":0},{"$f":"V33*FINANZAS!$J31","v":0},{"$f":"W33*FINANZAS!$J31","v":0},{"$f":"X33*FINANZAS!$J31","v":0},{"$f":"Y33*FINANZAS!$J31","v":0},{"$f":"Z33*FINANZAS!$J31","v":0},{"$f":"AA33*FINANZAS!$J31","v":0},{"$f":"AB33*FINANZAS!$J31","v":0},{"$f":"AC33*FINANZAS!$J31","v":0},{"$f":"AD33*FINANZAS!$J31","v":0},null,{"$f":"IFERROR(D33*FINANZAS!$N31,0)","v":0},{"$f":"IFERROR(E33*FINANZAS!$N31,0)","v":0},{"$f":"IFERROR(F33*FINANZAS!$N31,0)","v":0},{"$f":"IFERROR(G33*FINANZAS!$N31,0)","v":0},{"$f":"IFERROR(H33*FINANZAS!$N31,0)","v":0},{"$f":"IFERROR(I33*FINANZAS!$N31,0)","v":0},{"$f":"IFERROR(J33*FINANZAS!$N31,0)","v":0},{"$f":"IFERROR(K33*FINANZAS!$N31,0)","v":0},{"$f":"IFERROR(L33*FINANZAS!$N31,0)","v":0},{"$f":"IFERROR(M33*FINANZAS!$N31,0)","v":0},{"$f":"IFERROR(N33*FINANZAS!$N31,0)","v":0},{"$f":"IFERROR(O33*FINANZAS!$N31,0)","v":0}]
[null,null,{"$f":"IF(FINANZAS!C32=\"\",\"\",FINANZAS!C32)","v":""},null,null,null,null,null,null,null,null,null,null,null,null,0,null,"",{"$f":"IFERROR(D34*FINANZAS!$K32,0)","v":0},{"$f":"IFERROR(E34*FINANZAS!$K32,0)","v":0},{"$f":"IFERROR(F34*FINANZAS!$K32,0)","v":0},{"$f":"IFERROR(G34*FINANZAS!$K32,0)","v":0},{"$f":"IFERROR(H34*FINANZAS!$K32,0)","v":0},{"$f":"IFERROR(I34*FINANZAS!$K32,0)","v":0},{"$f":"IFERROR(J34*FINANZAS!$K32,0)","v":0},{"$f":"IFERROR(K34*FINANZAS!$K32,0)","v":0},{"$f":"IFERROR(L34*FINANZAS!$K32,0)","v":0},{"$f":"IFERROR(M34*FINANZAS!$K32,0)","v":0},{"$f":"IFERROR(N34*FINANZAS!$K32,0)","v":0},{"$f":"IFERROR(O34*FINANZAS!$K32,0)","v":0},null,{"$f":"IFERROR(D34*FINANZAS!$G32,0)","v":0},{"$f":"IFERROR(E34*FINANZAS!$G32,0)","v":0},{"$f":"IFERROR(F34*FINANZAS!$G32,0)","v":0},{"$f":"IFERROR(G34*FINANZAS!$G32,0)","v":0},{"$f":"IFERROR(H34*FINANZAS!$G32,0)","v":0},{"$f":"IFERROR(I34*FINANZAS!$G32,0)","v":0},{"$f":"IFERROR(J34*FINANZAS!$G32,0)","v":0},{"$f":"IFERROR(K34*FINANZAS!$G32,0)","v":0},{"$f":"IFERROR(L34*FINANZAS!$G32,0)","v":0},{"$f":"IFERROR(M34*FINANZAS!$G32,0)","v":0},{"$f":"IFERROR(N34*FINANZAS!$G32,0)","v":0},{"$f":"IFERROR(O34*FINANZAS!$G32,0)","v":0},null,{"$f":"S34*FINANZAS!$J32","v":0},{"$f":"T34*FINANZAS!$J32","v":0},{"$f":"U34*FINANZAS!$J32","v":0},{"$f":"V34*FINANZAS!$J32","v":0},{"$f":"W34*FINANZAS!$J32","v":0},{"$f":"X34*FINANZAS!$J32","v":0},{"$f":"Y34*FINANZAS!$J32","v":0},{"$f":"Z34*FINANZAS!$J32","v":0},{"$f":"AA34*FINANZAS!$J32","v":0},{"$f":"AB34*FINANZAS!$J32","v":0},{"$f":"AC34*FINANZAS!$J32","v":0},{"$f":"AD34*FINANZAS!$J32","v":0},null,{"$f":"IFERROR(D34*FINANZAS!$N32,0)","v":0},{"$f":"IFERROR(E34*FINANZAS!$N32,0)","v":0},{"$f":"IFERROR(F34*FINANZAS!$N32,0)","v":0},{"$f":"IFERROR(G34*FINANZAS!$N32,0)","v":0},{"$f":"IFERROR(H34*FINANZAS!$N32,0)","v":0},{"$f":"IFERROR(I34*FINANZAS!$N32,0)","v":0},{"$f":"IFERROR(J34*FINANZAS!$N32,0)","v":0},{"$f":"IFERROR(K34*FINANZAS!$N32,0)","v":0},{"$f":"IFERROR(L34*FINANZAS!$N32,0)","v":0},{"$f":"IFERROR(M34*FINANZAS!$N32,0)","v":0},{"$f":"IFERROR(N34*FINANZAS!$N32,0)","v":0},{"$f":"IFERROR(O34*FINANZAS!$N32,0)","v":0}]
[null,null,{"$f":"IF(FINANZAS!C33=\"\",\"\",FINANZAS!C33)","v":""},null,null,null,null,null,null,null,null,null,null,null,null,0,null,"",{"$f":"IFERROR(D35*FINANZAS!$K33,0)","v":0},{"$f":"IFERROR(E35*FINANZAS!$K33,0)","v":0},{"$f":"IFERROR(F35*FINANZAS!$K33,0)","v":0},{"$f":"IFERROR(G35*FINANZAS!$K33,0)","v":0},{"$f":"IFERROR(H35*FINANZAS!$K33,0)","v":0},{"$f":"IFERROR(I35*FINANZAS!$K33,0)","v":0},{"$f":"IFERROR(J35*FINANZAS!$K33,0)","v":0},{"$f":"IFERROR(K35*FINANZAS!$K33,0)","v":0},{"$f":"IFERROR(L35*FINANZAS!$K33,0)","v":0},{"$f":"IFERROR(M35*FINANZAS!$K33,0)","v":0},{"$f":"IFERROR(N35*FINANZAS!$K33,0)","v":0},{"$f":"IFERROR(O35*FINANZAS!$K33,0)","v":0},null,{"$f":"IFERROR(D35*FINANZAS!$G33,0)","v":0},{"$f":"IFERROR(E35*FINANZAS!$G33,0)","v":0},{"$f":"IFERROR(F35*FINANZAS!$G33,0)","v":0},{"$f":"IFERROR(G35*FINANZAS!$G33,0)","v":0},{"$f":"IFERROR(H35*FINANZAS!$G33,0)","v":0},{"$f":"IFERROR(I35*FINANZAS!$G33,0)","v":0},{"$f":"IFERROR(J35*FINANZAS!$G33,0)","v":0},{"$f":"IFERROR(K35*FINANZAS!$G33,0)","v":0},{"$f":"IFERROR(L35*FINANZAS!$G33,0)","v":0},{"$f":"IFERROR(M35*FINANZAS!$G33,0)","v":0},{"$f":"IFERROR(N35*FINANZAS!$G33,0)","v":0},{"$f":"IFERROR(O35*FINANZAS!$G33,0)","v":0},null,{"$f":"S35*FINANZAS!$J33","v":0},{"$f":"T35*FINANZAS!$J33","v":0},{"$f":"U35*FINANZAS!$J33","v":0},{"$f":"V35*FINANZAS!$J33","v":0},{"$f":"W35*FINANZAS!$J33","v":0},{"$f":"X35*FINANZAS!$J33","v":0},{"$f":"Y35*FINANZAS!$J33","v":0},{"$f":"Z35*FINANZAS!$J33","v":0},{"$f":"AA35*FINANZAS!$J33","v":0},{"$f":"AB35*FINANZAS!$J33","v":0},{"$f":"AC35*FINANZAS!$J33","v":0},{"$f":"AD35*FINANZAS!$J33","v":0},null,{"$f":"IFERROR(D35*FINANZAS!$N33,0)","v":0},{"$f":"IFERROR(E35*FINANZAS!$N33,0)","v":0},{"$f":"IFERROR(F35*FINANZAS!$N33,0)","v":0},{"$f":"IFERROR(G35*FINANZAS!$N33,0)","v":0},{"$f":"IFERROR(H35*FINANZAS!$N33,0)","v":0},{"$f":"IFERROR(I35*FINANZAS!$N33,0)","v":0},{"$f":"IFERROR(J35*FINANZAS!$N33,0)","v":0},{"$f":"IFERROR(K35*FINANZAS!$N33,0)","v":0},{"$f":"IFERROR(L35*FINANZAS!$N33,0)","v":0},{"$f":"IFERROR(M35*FINANZAS!$N33,0)","v":0},{"$f":"IFERROR(N35*FINANZAS!$N33,0)","v":0},{"$f":"IFERROR(O35*FINANZAS!$N33,0)","v":0}]
[null,null,{"$f":"IF(FINANZAS!C34=\"\",\"\",FINANZAS!C34)","v":""},null,null,null,null,null,null,null,null,null,null,null,null,0,null,"",{"$f":"IFERROR(D36*FINANZAS!$K34,0)","v":0},{"$f":"IFERROR(E36*FINANZAS!$K34,0)","v":0},{"$f":"IFERROR(F36*FINANZAS!$K34,0)","v":0},{"$f":"IFERROR(G36*FINANZAS!$K34,0)","v":0},{"$f":"IFERROR(H36*FINANZAS!$K34,0)","v":0},{"$f":"IFERROR(I36*FINANZAS!$K34,0)","v":0},{"$f":"IFERROR(J36*FINANZAS!$K34,0)","v":0},{"$f":"IFERROR(K36*FINANZAS!$K34,0)","v":0},{"$f":"IFERROR(L36*FINANZAS!$K34,0)","v":0},{"$f":"IFERROR(M36*FINANZAS!$K34,0)","v":0},{"$f":"IFERROR(N36*FINANZAS!$K34,0)","v":0},{"$f":"IFERROR(O36*FINANZAS!$K34,0)","v":0},null,{"$f":"IFERROR(D36*FINANZAS!$G34,0)","v":0},{"$f":"IFERROR(E36*FINANZAS!$G34,0)","v":0},{"$f":"IFERROR(F36*FINANZAS!$G34,0)","v":0},{"$f":"IFERROR(G36*FINANZAS!$G34,0)","v":0},{"$f":"IFERROR(H36*FINANZAS!$G34,0)","v":0},{"$f":"IFERROR(I36*FINANZAS!$G34,0)","v":0},{"$f":"IFERROR(J36*FINANZAS!$G34,0)","v":0},{"$f":"IFERROR(K36*FINANZAS!$G34,0)","v":0},{"$f":"IFERROR(L36*FINANZAS!$G34,0)","v":0},{"$f":"IFERROR(M36*FINANZAS!$G34,0)","v":0},{"$f":"IFERROR(N36*FINANZAS!$G34,0)","v":0},{"$f":"IFERROR(O36*FINANZAS!$G34,0)","v":0},null,{"$f":"S36*FINANZAS!$J34","v":0},{"$f":"T36*FINANZAS!$J34","v":0},{"$f":"U36*FINANZAS!$J34","v":0},{"$f":"V36*FINANZAS!$J34","v":0},{"$f":"W36*FINANZAS!$J34","v":0},{"$f":"X36*FINANZAS!$J34","v":0},{"$f":"Y36*FINANZAS!$J34","v":0},{"$f":"Z36*FINANZAS!$J34","v":0},{"$f":"AA36*FINANZAS!$J34","v":0},{"$f":"AB36*FINANZAS!$J34","v":0},{"$f":"AC36*FINANZAS!$J34","v":0},{"$f":"AD36*FINANZAS!$J34","v":0},null,{"$f":"IFERROR(D36*FINANZAS!$N34,0)","v":0},{"$f":"IFERROR(E36*FINANZAS!$N34,0)","v":0},{"$f":"IFERROR(F36*FINANZAS!$N34,0)","v":0},{"$f":"IFERROR(G36*FINANZAS!$N34,0)","v":0},{"$f":"IFERROR(H36*FINANZAS!$N34,0)","v":0},{"$f":"IFERROR(I36*FINANZAS!$N34,0)","v":0},{"$f":"IFERROR(J36*FINANZAS!$N34,0)","v":0},{"$f":"IFERROR(K36*FINANZAS!$N34,0)","v":0},{"$f":"IFERROR(L36*FINANZAS!$N34,0)","v":0},{"$f":"IFERROR(M36*FINANZAS!$N34,0)","v":0},{"$f":"IFERROR(N36*FINANZAS!$N34,0)","v":0},{"$f":"IFERROR(O36*FINANZAS!$N34,0)","v":0}]
[null,null,{"$f":"IF(FINANZAS!C35=\"\",\"\",FINANZAS!C35)","v":""},null,null,null,null,null,null,null,null,null,null,null,null,0,null,"",{"$f":"IFERROR(D37*FINANZAS!$K35,0)","v":0},{"$f":"IFERROR(E37*FINANZAS!$K35,0)","v":0},{"$f":"IFERROR(F37*FINANZAS!$K35,0)","v":0},{"$f":"IFERROR(G37*FINANZAS!$K35,0)","v":0},{"$f":"IFERROR(H37*FINANZAS!$K35,0)","v":0},{"$f":"IFERROR(I37*FINANZAS!$K35,0)","v":0},{"$f":"IFERROR(J37*FINANZAS!$K35,0)","v":0},{"$f":"IFERROR(K37*FINANZAS!$K35,0)","v":0},{"$f":"IFERROR(L37*FINANZAS!$K35,0)","v":0},{"$f":"IFERROR(M37*FINANZAS!$K35,0)","v":0},{"$f":"IFERROR(N37*FINANZAS!$K35,0)","v":0},{"$f":"IFERROR(O37*FINANZAS!$K35,0)","v":0},null,{"$f":"IFERROR(D37*FINANZAS!$G35,0)","v":0},{"$f":"IFERROR(E37*FINANZAS!$G35,0)","v":0},{"$f":"IFERROR(F37*FINANZAS!$G35,0)","v":0},{"$f":"IFERROR(G37*FINANZAS!$G35,0)","v":0},{"$f":"IFERROR(H37*FINANZAS!$G35,0)","v":0},{"$f":"IFERROR(I37*FINANZAS!$G35,0)","v":0},{"$f":"IFERROR(J37*FINANZAS!$G35,0)","v":0},{"$f":"IFERROR(K37*FINANZAS!$G35,0)","v":0},{"$f":"IFERROR(L37*FINANZAS!$G35,0)","v":0},{"$f":"IFERROR(M37*FINANZAS!$G35,0)","v":0},{"$f":"IFERROR(N37*FINANZAS!$G35,0)","v":0},{"$f":"IFERROR(O37*FINANZAS!$G35,0)","v":0},null,{"$f":"S37*FINANZAS!$J35","v":0},{"$f":"T37*FINANZAS!$J35","v":0},{"$f":"U37*FINANZAS!$J35","v":0},{"$f":"V37*FINANZAS!$J35","v":0},{"$f":"W37*FINANZAS!$J35","v":0},{"$f":"X37*FINANZAS!$J35","v":0},{"$f":"Y37*FINANZAS!$J35","v":0},{"$f":"Z37*FINANZAS!$J35","v":0},{"$f":"AA37*FINANZAS!$J35","v":0},{"$f":"AB37*FINANZAS!$J35","v":0},{"$f":"AC37*FINANZAS!$J35","v":0},{"$f":"AD37*FINANZAS!$J35","v":0},null,{"$f":"IFERROR(D37*FINANZAS!$N35,0)","v":0},{"$f":"IFERROR(E37*FINANZAS!$N35,0)","v":0},{"$f":"IFERROR(F37*FINANZAS!$N35,0)","v":0},{"$f":"IFERROR(G37*FINANZAS!$N35,0)","v":0},{"$f":"IFERROR(H37*FINANZAS!$N35,0)","v":0},{"$f":"IFERROR(I37*FINANZAS!$N35,0)","v":0},{"$f":"IFERROR(J37*FINANZAS!$N35,0)","v":0},{"$f":"IFERROR(K37*FINANZAS!$N35,0)","v":0},{"$f":"IFERROR(L37*FINANZAS!$N35,0)","v":0},{"$f":"IFERROR(M37*FINANZAS!$N35,0)","v":0},{"$f":"IFERROR(N37*FINANZAS!$N35,0)","v":0},{"$f":"IFERROR(O37*FINANZAS!$N35,0)","v":0}]
[null,null,{"$f":"IF(FINANZAS!C36=\"\",\"\",FINANZAS!C36)","v":""},null,null,null,null,null,null,null,null,null,null,null,null,0,null,"",{"$f":"IFERROR(D38*FINANZAS!$K36,0)","v":0},{"$f":"IFERROR(E38*FINANZAS!$K36,0)","v":0},{"$f":"IFERROR(F38*FINANZAS!$K36,0)","v":0},{"$f":"IFERROR(G38*FINANZAS!$K36,0)","v":0},{"$f":"IFERROR(H38*FINANZAS!$K36,0)","v":0},{"$f":"IFERROR(I38*FINANZAS!$K36,0)","v":0},{"$f":"IFERROR(J38*FINANZAS!$K36,0)","v":0},{"$f":"IFERROR(K38*FINANZAS!$K36,0)","v":0},{"$f":"IFERROR(L38*FINANZAS!$K36,0)","v":0},{"$f":"IFERROR(M38*FINANZAS!$K36,0)","v":0},{"$f":"IFERROR(N38*FINANZAS!$K36,0)","v":0},{"$f":"IFERROR(O38*FINANZAS!$K36,0)","v":0},null,{"$f":"IFERROR(D38*FINANZAS!$G36,0)","v":0},{"$f":"IFERROR(E38*FINANZAS!$G36,0)","v":0},{"$f":"IFERROR(F38*FINANZAS!$G36,0)","v":0},{"$f":"IFERROR(G38*FINANZAS!$G36,0)","v":0},{"$f":"IFERROR(H38*FINANZAS!$G36,0)","v":0},{"$f":"IFERROR(I38*FINANZAS!$G36,0)","v":0},{"$f":"IFERROR(J38*FINANZAS!$G36,0)","v":0},{"$f":"IFERROR(K38*FINANZAS!$G36,0)","v":0},{"$f":"IFERROR(L38*FINANZAS!$G36,0)","v":0},{"$f":"IFERROR(M38*FINANZAS!$G36,0)","v":0},{"$f":"IFERROR(N38*FINANZAS!$G36,0)","v":0},{"$f":"IFERROR(O38*FINANZAS!$G36,0)","v":0},null,{"$f":"S38*FINANZAS!$J36","v":0},{"$f":"T38*FINANZAS!$J36","v":0},{"$f":"U38*FINANZAS!$J36","v":0},{"$f":"V38*FINANZAS!$J36","v":0},{"$f":"W38*FINANZAS!$J36","v":0},{"$f":"X38*FINANZAS!$J36","v":0},{"$f":"Y38*FINANZAS!$J36","v":0},{"$f":"Z38*FINANZAS!$J36","v":0},{"$f":"AA38*FINANZAS!$J36","v":0},{"$f":"AB38*FINANZAS!$J36","v":0},{"$f":"AC38*FINANZAS!$J36","v":0},{"$f":"AD38*FINANZAS!$J36","v":0},null,{"$f":"IFERROR(D38*FINANZAS!$N36,0)","v":0},{"$f":"IFERROR(E38*FINANZAS!$N36,0)","v":0},{"$f":"IFERROR(F38*FINANZAS!$N36,0)","v":0},{"$f":"IFERROR(G38*FINANZAS!$N36,0)","v":0},{"$f":"IFERROR(H38*FINANZAS!$N36,0)","v":0},{"$f":"IFERROR(I38*FINANZAS!$N36,0)","v":0},{"$f":"IFERROR(J38*FINANZAS!$N36,0)","v":0},{"$f":"IFERROR(K38*FINANZAS!$N36,0)","v":0},{"$f":"IFERROR(L38*FINANZAS!$N36,0)","v":0},{"$f":"IFERROR(M38*FINANZAS!$N36,0)","v":0},{"$f":"IFERROR(N38*FINANZAS!$N36,0)","v":0},{"$f":"IFERROR(O38*FINANZAS!$N36,0)","v":0}]

{"sheet":"PROJ2","index":18,"n_rows":38,"n_cols":69,"rows_kept":38,"cut":false,"hidden":false,"merged":[[0,12,0,13],[0,2,0,5],[0,6,0,7],[0,8,0,9],[0,10,0,11]]}
[]
[]
[]
[null,null,"Seleccione el año ->","resumen","1 año","2 años","3 años","4 años","5 años"]
[]
[null,null,"Proyecte una cantidad de ventas realizadas por cada producto o servicio en los meses siguientes",null,null,null,null,null,null,null,null,null,null,null,null,null,null,null,"Proyección de ingresos",null,null,null,null,null,null,null,null,null,null,null,null,"Los costos variables",null,null,null,null,null,null,null,null,null,null,null,null,"impuestos",null,null,null,null,null,null,null,null,null,null,null,null,"Margen de contribución"]
[null,null,"Descripción","Enero","Febrero","Marzo","Abril","Mayo","Junio","Julio","Agosto","Septiembre","Octubre","Noviembre","Diciembre","Total",null,"repetición","enero","febrero","marzo","abril","mayo","junio","julio","agosto","septiembre","octubre","noviembre","diciembre",null,"enero","febrero","marzo","abril","mayo","junio","julio","agosto","septiembre","octubre","noviembre","diciembre",null,"enero","febrero","marzo","abril","mayo","junio","julio","agosto","septiembre","octubre","noviembre","diciembre",null,"enero","febrero","marzo","abril","mayo","junio","julio","agosto","septiembre","octubre","noviembre","diciembre"]
[null,null,{"$f":"IF(FINANZAS!C6=\"\",\"\",FINANZAS!C6)","v":"Café Anibalito "},400,500,400,500,600,700,400,500,500,500,400,700,{"$f":"SUM(S8:AD8)","v":2332894.4748179591},null,{"$f":"C8","v":"Café Anibalito "},{"$f":"IFERROR(D8*FINANZAS!$K6,0)","v":152976.68687330882},{"$f":"IFERROR(E8*FINANZAS!$K6,0)","v":191220.858591636},{"$f":"IFERROR(F8*FINANZAS!$K6,0)","v":152976.68687330882},{"$f":"IFERROR(G8*FINANZAS!$K6,0)","v":191220.858591636},{"$f":"IFERROR(H8*FINANZAS!$K6,0)","v":229465.03030996321},{"$f":"IFERROR(I8*FINANZAS!$K6,0)","v":267709.20202829043},{"$f":"IFERROR(J8*FINANZAS!$K6,0)","v":152976.68687330882},{"$f":"IFERROR(K8*FINANZAS!$K6,0)","v":191220.858591636},{"$f":"IFERROR(L8*FINANZAS!$K6,0)","v":191220.858591636},{"$f":"IFERROR(M8*FINANZAS!$K6,0)","v":191220.858591636},{"$f":"IFERROR(N8*FINANZAS!$K6,0)","v":152976.68687330882},{"$f":"IFERROR(O8*FINANZAS!$K6,0)","v":267709.20202829043},null,{"$f":"IFERROR(D8*FINANZAS!$G6,0)","v":55751.503660494782},{"$f":"IFERROR(E8*FINANZAS!$G6,0)","v":69689.37957561847},{"$f":"IFERROR(F8*FINANZAS!$G6,0)","v":55751.503660494782},{"$f":"IFERROR(G8*FINANZAS!$G6,0)","v":69689.37957561847},{"$f":"IFERROR(H8*FINANZAS!$G6,0)","v":83627.255490742173},{"$f":"IFERROR(I8*FINANZAS!$G6,0)","v":97565.131405865861},{"$f":"IFERROR(J8*FINANZAS!$G6,0)","v":55751.503660494782},{"$f":"IFERROR(K8*FINANZAS!$G6,0)","v":69689.37957561847},{"$f":"IFERROR(L8*FINANZAS!$G6,0)","v":69689.37957561847},{"$f":"IFERROR(M8*FINANZAS!$G6,0)","v":69689.37957561847},{"$f":"IFERROR(N8*FINANZAS!$G6,0)","v":55751.503660494782},{"$f":"IFERROR(O8*FINANZAS!$G6,0)","v":97565.131405865861},null,{"$f":"S8*FINANZAS!$J6","v":27535.803637195586},{"$f":"T8*FINANZAS!$J6","v":34419.754546494478},{"$f":"U8*FINANZAS!$J6","v":27535.803637195586},{"$f":"V8*FINANZAS!$J6","v":34419.754546494478},{"$f":"W8*FINANZAS!$J6","v":41303.705455793381},{"$f":"X8*FINANZAS!$J6","v":48187.656365092276},{"$f":"Y8*FINANZAS!$J6","v":27535.803637195586},{"$f":"Z8*FINANZAS!$J6","v":34419.754546494478},{"$f":"AA8*FINANZAS!$J6","v":34419.754546494478},{"$f":"AB8*FINANZAS!$J6","v":34419.754546494478},{"$f":"AC8*FINANZAS!$J6","v":27535.803637195586},{"$f":"AD8*FINANZAS!$J6","v":48187.656365092276},null,{"$f":"IFERROR(D8*FINANZAS!$N6,0)","v":69689.379575618455},{"$f":"IFERROR(E8*FINANZAS!$N6,0)","v":87111.724469523062},{"$f":"IFERROR(F8*FINANZAS!$N6,0)","v":69689.379575618455},{"$f":"IFERROR(G8*FINANZAS!$N6,0)","v":87111.724469523062},{"$f":"IFERROR(H8*FINANZAS!$N6,0)","v":104534.06936342768},{"$f":"IFERROR(I8*FINANZAS!$N6,0)","v":121956.41425733229},{"$f":"IFERROR(J8*FINANZAS!$N6,0)","v":69689.379575618455},{"$f":"IFERROR(K8*FINANZAS!$N6,0)","v":87111.724469523062},{"$f":"IFERROR(L8*FINANZAS!$N6,0)","v":87111.724469523062},{"$f":"IFERROR(M8*FINANZAS!$N6,0)","v":87111.724469523062},{"$f":"IFERROR(N8*FINANZAS!$N6,0)","v":69689.379575618455},{"$f":"IFERROR(O8*FINANZAS!$N6,0)","v":121956.41425733229}]
[null,null,{"$f":"IF(FINANZAS!C7=\"\",\"\",FINANZAS!C7)","v":"café en sobre"},300,300,300,300,300,300,300,300,300,300,300,300,{"$f":"SUM(S9:AD9)","v":131707.31707317074},null,{"$f":"C9","v":"café en sobre"},{"$f":"IFERROR(D9*FINANZAS!$K7,0)","v":10975.609756097561},{"$f":"IFERROR(E9*FINANZAS!$K7,0)","v":10975.609756097561},{"$f":"IFERROR(F9*FINANZAS!$K7,0)","v":10975.609756097561},{"$f":"IFERROR(G9*FINANZAS!$K7,0)","v":10975.609756097561},{"$f":"IFERROR(H9*FINANZAS!$K7,0)","v":10975.609756097561},{"$f":"IFERROR(I9*FINANZAS!$K7,0)","v":10975.609756097561},{"$f":"IFERROR(J9*FINANZAS!$K7,0)","v":10975.609756097561},{"$f":"IFERROR(K9*FINANZAS!$K7,0)","v":10975.609756097561},{"$f":"IFERROR(L9*FINANZAS!$K7,0)","v":10975.609756097561},{"$f":"IFERROR(M9*FINANZAS!$K7,0)","v":10975.609756097561},{"$f":"IFERROR(N9*FINANZAS!$K7,0)","v":10975.609756097561},{"$f":"IFERROR(O9*FINANZAS!$K7,0)","v":10975.609756097561},null,{"$f":"IFERROR(D9*FINANZAS!$G7,0)","v":7500},{"$f":"IFERROR(E9*FINANZAS!$G7,0)","v":7500},{"$f":"IFERROR(F9*FINANZAS!$G7,0)","v":7500},{"$f":"IFERROR(G9*FINANZAS!$G7,0)","v":7500},{"$f":"IFERROR(H9*FINANZAS!$G7,0)","v":7500},{"$f":"IFERROR(I9*FINANZAS!$G7,0)","v":7500},{"$f":"IFERROR(J9*FINANZAS!$G7,0)","v":7500},{"$f":"IFERROR(K9*FINANZAS!$G7,0)","v":7500},{"$f":"IFERROR(L9*FINANZAS!$G7,0)","v":7500},{"$f":"IFERROR(M9*FINANZAS!$G7,0)","v":7500},{"$f":"IFERROR(N9*FINANZAS!$G7,0)","v":7500},{"$f":"IFERROR(O9*FINANZAS!$G7,0)","v":7500},null,{"$f":"S9*FINANZAS!$J7","v":1975.6097560975609},{"$f":"T9*FINANZAS!$J7","v":1975.6097560975609},{"$f":"U9*FINANZAS!$J7","v":1975.6097560975609},{"$f":"V9*FINANZAS!$J7","v":1975.6097560975609},{"$f":"W9*FINANZAS!$J7","v":1975.6097560975609},{"$f":"X9*FINANZAS!$J7","v":1975.6097560975609},{"$f":"Y9*FINANZAS!$J7","v":1975.6097560975609},{"$f":"Z9*FINANZAS!$J7","v":1975.6097560975609},{"$f":"AA9*FINANZAS!$J7","v":1975.6097560975609},{"$f":"AB9*FINANZAS!$J7","v":1975.6097560975609},{"$f":"AC9*FINANZAS!$J7","v":1975.6097560975609},{"$f":"AD9*FINANZAS!$J7","v":1975.6097560975609},null,{"$f":"IFERROR(D9*FINANZAS!$N7,0)","v":1500.0000000000002},{"$f":"IFERROR(E9*FINANZAS!$N7,0)","v":1500.0000000000002},{"$f":"IFERROR(F9*FINANZAS!$N7,0)","v":1500.0000000000002},{"$f":"IFERROR(G9*FINANZAS!$N7,0)","v":1500.0000000000002},{"$f":"IFERROR(H9*FINANZAS!$N7,0)","v":1500.0000000000002},{"$f":"IFERROR(I9*FINANZAS!$N7,0)","v":1500.0000000000002},{"$f":"IFERROR(J9*FINANZAS!$N7,0)","v":1500.0000000000002},{"$f":"IFERROR(K9*FINANZAS!$N7,0)","v":1500.0000000000002},{"$f":"IFERROR(L9*FINANZAS!$N7,0)","v":1500.0000000000002},{"$f":"IFERROR(M9*FINANZAS!$N7,0)","v":1500.0000000000002},{"$f":"IFERROR(N9*FINANZAS!$N7,0)","v":1500.0000000000002},{"$f":"IFERROR(O9*FINANZAS!$N7,0)","v":1500.0000000000002}]
[null,null,{"$f":"IF(FINANZAS!C8=\"\",\"\",FINANZAS!C8)","v":1},400,500,400,500,600,700,400,500,500,500,400,700,867214.63943899621,null,1,{"$f":"IFERROR(D10*FINANZAS!$K8,0)","v":56866.533733704673},{"$f":"IFERROR(E10*FINANZAS!$K8,0)","v":71083.167167130843},{"$f":"IFERROR(F10*FINANZAS!$K8,0)","v":56866.533733704673},{"$f":"IFERROR(G10*FINANZAS!$K8,0)","v":71083.167167130843},{"$f":"IFERROR(H10*FINANZAS!$K8,0)","v":85299.800600557006},{"$f":"IFERROR(I10*FINANZAS!$K8,0)","v":99516.434033983169},{"$f":"IFERROR(J10*FINANZAS!$K8,0)","v":56866.533733704673},{"$f":"IFERROR(K10*FINANZAS!$K8,0)","v":71083.167167130843},{"$f":"IFERROR(L10*FINANZAS!$K8,0)","v":71083.167167130843},{"$f":"IFERROR(M10*FINANZAS!$K8,0)","v":71083.167167130843},{"$f":"IFERROR(N10*FINANZAS!$K8,0)","v":56866.533733704673},{"$f":"IFERROR(O10*FINANZAS!$K8,0)","v":99516.434033983169},null,{"$f":"IFERROR(D10*FINANZAS!$G8,0)","v":55751.503660494782},{"$f":"IFERROR(E10*FINANZAS!$G8,0)","v":69689.37957561847},{"$f":"IFERROR(F10*FINANZAS!$G8,0)","v":55751.503660494782},{"$f":"IFERROR(G10*FINANZAS!$G8,0)","v":69689.37957561847},{"$f":"IFERROR(H10*FINANZAS!$G8,0)","v":83627.255490742173},{"$f":"IFERROR(I10*FINANZAS!$G8,0)","v":97565.131405865861},{"$f":"IFERROR(J10*FINANZAS!$G8,0)","v":55751.503660494782},{"$f":"IFERROR(K10*FINANZAS!$G8,0)","v":69689.37957561847},{"$f":"IFERROR(L10*FINANZAS!$G8,0)","v":69689.37957561847},{"$f":"IFERROR(M10*FINANZAS!$G8,0)","v":69689.37957561847},{"$f":"IFERROR(N10*FINANZAS!$G8,0)","v":55751.503660494782},{"$f":"IFERROR(O10*FINANZAS!$G8,0)","v":97565.131405865861},null,{"$f":"S10*FINANZAS!$J8","v":0},{"$f":"T10*FINANZAS!$J8","v":0},{"$f":"U10*FINANZAS!$J8","v":0},{"$f":"V10*FINANZAS!$J8","v":0},{"$f":"W10*FINANZAS!$J8","v":0},{"$f":"X10*FINANZAS!$J8","v":0},{"$f":"Y10*FINANZAS!$J8","v":0},{"$f":"Z10*FINANZAS!$J8","v":0},{"$f":"AA10*FINANZAS!$J8","v":0},{"$f":"AB10*FINANZAS!$J8","v":0},{"$f":"AC10*FINANZAS!$J8","v":0},{"$f":"AD10*FINANZAS!$J8","v":0},null,{"$f":"IFERROR(D10*FINANZAS!$N8,0)","v":1115.0300732098913},{"$f":"IFERROR(E10*FINANZAS!$N8,0)","v":1393.7875915123641},{"$f":"IFERROR(F10*FINANZAS!$N8,0)","v":1115.0300732098913},{"$f":"IFERROR(G10*FINANZAS!$N8,0)","v":1393.7875915123641},{"$f":"IFERROR(H10*FINANZAS!$N8,0)","v":1672.5451098148369},{"$f":"IFERROR(I10*FINANZAS!$N8,0)","v":1951.3026281173097},{"$f":"IFERROR(J10*FINANZAS!$N8,0)","v":1115.0300732098913},{"$f":"IFERROR(K10*FINANZAS!$N8,0)","v":1393.7875915123641},{"$f":"IFERROR(L10*FINANZAS!$N8,0)","v":1393.7875915123641},{"$f":"IFERROR(M10*FINANZAS!$N8,0)","v":1393.7875915123641},{"$f":"IFERROR(N10*FINANZAS!$N8,0)","v":1115.0300732098913},{"$f":"IFERROR(O10*FINANZAS!$N8,0)","v":1951.3026281173097}]
[null,null,{"$f":"IF(FINANZAS!C9=\"\",\"\",FINANZAS!C9)","v":2},300,300,300,300,300,300,300,300,300,300,300,300,92700,null,2,{"$f":"IFERROR(D11*FINANZAS!$K9,0)","v":7725},{"$f":"IFERROR(E11*FINANZAS!$K9,0)","v":7725},{"$f":"IFERROR(F11*FINANZAS!$K9,0)","v":7725},{"$f":"IFERROR(G11*FINANZAS!$K9,0)","v":7725},{"$f":"IFERROR(H11*FINANZAS!$K9,0)","v":7725},{"$f":"IFERROR(I11*FINANZAS!$K9,0)","v":7725},{"$f":"IFERROR(J11*FINANZAS!$K9,0)","v":7725},{"$f":"IFERROR(K11*FINANZAS!$K9,0)","v":7725},{"$f":"IFERROR(L11*FINANZAS!$K9,0)","v":7725},{"$f":"IFERROR(M11*FINANZAS!$K9,0)","v":7725},{"$f":"IFERROR(N11*FINANZAS!$K9,0)","v":7725},{"$f":"IFERROR(O11*FINANZAS!$K9,0)","v":7725},null,{"$f":"IFERROR(D11*FINANZAS!$G9,0)","v":7500},{"$f":"IFERROR(E11*FINANZAS!$G9,0)","v":7500},{"$f":"IFERROR(F11*FINANZAS!$G9,0)","v":7500},{"$f":"IFERROR(G11*FINANZAS!$G9,0)","v":7500},{"$f":"IFERROR(H11*FINANZAS!$G9,0)","v":7500},{"$f":"IFERROR(I11*FINANZAS!$G9,0)","v":7500},{"$f":"IFERROR(J11*FINANZAS!$G9,0)","v":7500},{"$f":"IFERROR(K11*FINANZAS!$G9,0)","v":7500},{"$f":"IFERROR(L11*FINANZAS!$G9,0)","v":7500},{"$f":"IFERROR(M11*FINANZAS!$G9,0)","v":7500},{"$f":"IFERROR(N11*FINANZAS!$G9,0)","v":7500},{"$f":"IFERROR(O11*FINANZAS!$G9,0)","v":7500},null,{"$f":"S11*FINANZAS!$J9","v":0},{"$f":"T11*FINANZAS!$J9","v":0},{"$f":"U11*FINANZAS!$J9","v":0},{"$f":"V11*FINANZAS!$J9","v":0},{"$f":"W11*FINANZAS!$J9","v":0},{"$f":"X11*FINANZAS!$J9","v":0},{"$f":"Y11*FINANZAS!$J9","v":0},{"$f":"Z11*FINANZAS!$J9","v":0},{"$f":"AA11*FINANZAS!$J9","v":0},{"$f":"AB11*FINANZAS!$J9","v":0},{"$f":"AC11*FINANZAS!$J9","v":0},{"$f":"AD11*FINANZAS!$J9","v":0},null,{"$f":"IFERROR(D11*FINANZAS!$N9,0)","v":225},{"$f":"IFERROR(E11*FINANZAS!$N9,0)","v":225},{"$f":"IFERROR(F11*FINANZAS!$N9,0)","v":225},{"$f":"IFERROR(G11*FINANZAS!$N9,0)","v":225},{"$f":"IFERROR(H11*FINANZAS!$N9,0)","v":225},{"$f":"IFERROR(I11*FINANZAS!$N9,0)","v":225},{"$f":"IFERROR(J11*FINANZAS!$N9,0)","v":225},{"$f":"IFERROR(K11*FINANZAS!$N9,0)","v":225},{"$f":"IFERROR(L11*FINANZAS!$N9,0)","v":225},{"$f":"IFERROR(M11*FINANZAS!$N9,0)","v":225},{"$f":"IFERROR(N11*FINANZAS!$N9,0)","v":225},{"$f":"IFERROR(O11*FINANZAS!$N9,0)","v":225}]
[null,null,{"$f":"IF(FINANZAS!C10=\"\",\"\",FINANZAS!C10)","v":3},400,500,400,500,600,700,400,500,500,500,400,700,867214.63943899621,null,3,{"$f":"IFERROR(D12*FINANZAS!$K10,0)","v":56866.533733704673},{"$f":"IFERROR(E12*FINANZAS!$K10,0)","v":71083.167167130843},{"$f":"IFERROR(F12*FINANZAS!$K10,0)","v":56866.533733704673},{"$f":"IFERROR(G12*FINANZAS!$K10,0)","v":71083.167167130843},{"$f":"IFERROR(H12*FINANZAS!$K10,0)","v":85299.800600557006},{"$f":"IFERROR(I12*FINANZAS!$K10,0)","v":99516.434033983169},{"$f":"IFERROR(J12*FINANZAS!$K10,0)","v":56866.533733704673},{"$f":"IFERROR(K12*FINANZAS!$K10,0)","v":71083.167167130843},{"$f":"IFERROR(L12*FINANZAS!$K10,0)","v":71083.167167130843},{"$f":"IFERROR(M12*FINANZAS!$K10,0)","v":71083.167167130843},{"$f":"IFERROR(N12*FINANZAS!$K10,0)","v":56866.533733704673},{"$f":"IFERROR(O12*FINANZAS!$K10,0)","v":99516.434033983169},null,{"$f":"IFERROR(D12*FINANZAS!$G10,0)","v":55751.503660494782},{"$f":"IFERROR(E12*FINANZAS!$G10,0)","v":69689.37957561847},{"$f":"IFERROR(F12*FINANZAS!$G10,0)","v":55751.503660494782},{"$f":"IFERROR(G12*FINANZAS!$G10,0)","v":69689.37957561847},{"$f":"IFERROR(H12*FINANZAS!$G10,0)","v":83627.255490742173},{"$f":"IFERROR(I12*FINANZAS!$G10,0)","v":97565.131405865861},{"$f":"IFERROR(J12*FINANZAS!$G10,0)","v":55751.503660494782},{"$f":"IFERROR(K12*FINANZAS!$G10,0)","v":69689.37957561847},{"$f":"IFERROR(L12*FINANZAS!$G10,0)","v":69689.37957561847},{"$f":"IFERROR(M12*FINANZAS!$G10,0)","v":69689.37957561847},{"$f":"IFERROR(N12*FINANZAS!$G10,0)","v":55751.503660494782},{"$f":"IFERROR(O12*FINANZAS!$G10,0)","v":97565.131405865861},null,{"$f":"S12*FINANZAS!$J10","v":0},{"$f":"T12*FINANZAS!$J10","v":0},{"$f":"U12*FINANZAS!$J10","v":0},{"$f":"V12*FINANZAS!$J10","v":0},{"$f":"W12*FINANZAS!$J10","v":0},{"$f":"X12*FINANZAS!$J10","v":0},{"$f":"Y12*FINANZAS!$J10","v":0},{"$f":"Z12*FINANZAS!$J10","v":0},{"$f":"AA12*FINANZAS!$J10","v":0},{"$f":"AB12*FINANZAS!$J10","v":0},{"$f":"AC12*FINANZAS!$J10","v":0},{"$f":"AD12*FINANZAS!$J10","v":0},null,{"$f":"IFERROR(D12*FINANZAS!$N10,0)","v":1115.0300732098913},{"$f":"IFERROR(E12*FINANZAS!$N10,0)","v":1393.7875915123641},{"$f":"IFERROR(F12*FINANZAS!$N10,0)","v":1115.0300732098913},{"$f":"IFERROR(G12*FINANZAS!$N10,0)","v":1393.7875915123641},{"$f":"IFERROR(H12*FINANZAS!$N10,0)","v":1672.5451098148369},{"$f":"IFERROR(I12*FINANZAS!$N10,0)","v":1951.3026281173097},{"$f":"IFERROR(J12*FINANZAS!$N10,0)","v":1115.0300732098913},{"$f":"IFERROR(K12*FINANZAS!$N10,0)","v":1393.7875915123641},{"$f":"IFERROR(L12*FINANZAS!$N10,0)","v":1393.7875915123641},{"$f":"IFERROR(M12*FINANZAS!$N10,0)","v":1393.7875915123641},{"$f":"IFERROR(N12*FINANZAS!$N10,0)","v":1115.0300732098913},{"$f":"IFERROR(O12*FINANZAS!$N10,0)","v":1951.3026281173097}]
[null,null,{"$f":"IF(FINANZAS!C11=\"\",\"\",FINANZAS!C11)","v":4},300,300,300,300,300,300,300,300,300,300,300,300,92700,null,4,{"$f":"IFERROR(D13*FINANZAS!$K11,0)","v":7725},{"$f":"IFERROR(E13*FINANZAS!$K11,0)","v":7725},{"$f":"IFERROR(F13*FINANZAS!$K11,0)","v":7725},{"$f":"IFERROR(G13*FINANZAS!$K11,0)","v":7725},{"$f":"IFERROR(H13*FINANZAS!$K11,0)","v":7725},{"$f":"IFERROR(I13*FINANZAS!$K11,0)","v":7725},{"$f":"IFERROR(J13*FINANZAS!$K11,0)","v":7725},{"$f":"IFERROR(K13*FINANZAS!$K11,0)","v":7725},{"$f":"IFERROR(L13*FINANZAS!$K11,0)","v":7725},{"$f":"IFERROR(M13*FINANZAS!$K11,0)","v":7725},{"$f":"IFERROR(N13*FINANZAS!$K11,0)","v":7725},{"$f":"IFERROR(O13*FINANZAS!$K11,0)","v":7725},null,{"$f":"IFERROR(D13*FINANZAS!$G11,0)","v":7500},{"$f":"IFERROR(E13*FINANZAS!$G11,0)","v":7500},{"$f":"IFERROR(F13*FINANZAS!$G11,0)","v":7500},{"$f":"IFERROR(G13*FINANZAS!$G11,0)","v":7500},{"$f":"IFERROR(H13*FINANZAS!$G11,0)","v":7500},{"$f":"IFERROR(I13*FINANZAS!$G11,0)","v":7500},{"$f":"IFERROR(J13*FINANZAS!$G11,0)","v":7500},{"$f":"IFERROR(K13*FINANZAS!$G11,0)","v":7500},{"$f":"IFERROR(L13*FINANZAS!$G11,0)","v":7500},{"$f":"IFERROR(M13*FINANZAS!$G11,0)","v":7500},{"$f":"IFERROR(N13*FINANZAS!$G11,0)","v":7500},{"$f":"IFERROR(O13*FINANZAS!$G11,0)","v":7500},null,{"$f":"S13*FINANZAS!$J11","v":0},{"$f":"T13*FINANZAS!$J11","v":0},{"$f":"U13*FINANZAS!$J11","v":0},{"$f":"V13*FINANZAS!$J11","v":0},{"$f":"W13*FINANZAS!$J11","v":0},{"$f":"X13*FINANZAS!$J11","v":0},{"$f":"Y13*FINANZAS!$J11","v":0},{"$f":"Z13*FINANZAS!$J11","v":0},{"$f":"AA13*FINANZAS!$J11","v":0},{"$f":"AB13*FINANZAS!$J11","v":0},{"$f":"AC13*FINANZAS!$J11","v":0},{"$f":"AD13*FINANZAS!$J11","v":0},null,{"$f":"IFERROR(D13*FINANZAS!$N11,0)","v":225},{"$f":"IFERROR(E13*FINANZAS!$N11,0)","v":225},{"$f":"IFERROR(F13*FINANZAS!$N11,0)","v":225},{"$f":"IFERROR(G13*FINANZAS!$N11,0)","v":225},{"$f":"IFERROR(H13*FINANZAS!$N11,0)","v":225},{"$f":"IFERROR(I13*FINANZAS!$N11,0)","v":225},{"$f":"IFERROR(J13*FINANZAS!$N11,0)","v":225},{"$f":"IFERROR(K13*FINANZAS!$N11,0)","v":225},{"$f":"IFERROR(L13*FINANZAS!$N11,0)","v":225},{"$f":"IFERROR(M13*FINANZAS!$N11,0)","v":225},{"$f":"IFERROR(N13*FINANZAS!$N11,0)","v":225},{"$f":"IFERROR(O13*FINANZAS!$N11,0)","v":225}]
[null,null,{"$f":"IF(FINANZAS!C12=\"\",\"\",FINANZAS!C12)","v":5},400,500,400,500,600,700,400,500,500,500,400,700,175374.99999999997,null,5,{"$f":"IFERROR(D14*FINANZAS!$K12,0)","v":11499.999999999998},{"$f":"IFERROR(E14*FINANZAS!$K12,0)","v":14374.999999999998},{"$f":"IFERROR(F14*FINANZAS!$K12,0)","v":11499.999999999998},{"$f":"IFERROR(G14*FINANZAS!$K12,0)","v":14374.999999999998},{"$f":"IFERROR(H14*FINANZAS!$K12,0)","v":17249.999999999996},{"$f":"IFERROR(I14*FINANZAS!$K12,0)","v":20124.999999999996},{"$f":"IFERROR(J14*FINANZAS!$K12,0)","v":11499.999999999998},{"$f":"IFERROR(K14*FINANZAS!$K12,0)","v":14374.999999999998},{"$f":"IFERROR(L14*FINANZAS!$K12,0)","v":14374.999999999998},{"$f":"IFERROR(M14*FINANZAS!$K12,0)","v":14374.999999999998},{"$f":"IFERROR(N14*FINANZAS!$K12,0)","v":11499.999999999998},{"$f":"IFERROR(O14*FINANZAS!$K12,0)","v":20124.999999999996},null,{"$f":"IFERROR(D14*FINANZAS!$G12,0)","v":10000},{"$f":"IFERROR(E14*FINANZAS!$G12,0)","v":12500},{"$f":"IFERROR(F14*FINANZAS!$G12,0)","v":10000},{"$f":"IFERROR(G14*FINANZAS!$G12,0)","v":12500},{"$f":"IFERROR(H14*FINANZAS!$G12,0)","v":15000},{"$f":"IFERROR(I14*FINANZAS!$G12,0)","v":17500},{"$f":"IFERROR(J14*FINANZAS!$G12,0)","v":10000},{"$f":"IFERROR(K14*FINANZAS!$G12,0)","v":12500},{"$f":"IFERROR(L14*FINANZAS!$G12,0)","v":12500},{"$f":"IFERROR(M14*FINANZAS!$G12,0)","v":12500},{"$f":"IFERROR(N14*FINANZAS!$G12,0)","v":10000},{"$f":"IFERROR(O14*FINANZAS!$G12,0)","v":17500},null,{"$f":"S14*FINANZAS!$J12","v":0},{"$f":"T14*FINANZAS!$J12","v":0},{"$f":"U14*FINANZAS!$J12","v":0},{"$f":"V14*FINANZAS!$J12","v":0},{"$f":"W14*FINANZAS!$J12","v":0},{"$f":"X14*FINANZAS!$J12","v":0},{"$f":"Y14*FINANZAS!$J12","v":0},{"$f":"Z14*FINANZAS!$J12","v":0},{"$f":"AA14*FINANZAS!$J12","v":0},{"$f":"AB14*FINANZAS!$J12","v":0},{"$f":"AC14*FINANZAS!$J12","v":0},{"$f":"AD14*FINANZAS!$J12","v":0},null,{"$f":"IFERROR(D14*FINANZAS!$N12,0)","v":1499.9999999999986},{"$f":"IFERROR(E14*FINANZAS!$N12,0)","v":1874.9999999999982},{"$f":"IFERROR(F14*FINANZAS!$N12,0)","v":1499.9999999999986},{"$f":"IFERROR(G14*FINANZAS!$N12,0)","v":1874.9999999999982},{"$f":"IFERROR(H14*FINANZAS!$N12,0)","v":2249.9999999999977},{"$f":"IFERROR(I14*FINANZAS!$N12,0)","v":2624.9999999999977},{"$f":"IFERROR(J14*FINANZAS!$N12,0)","v":1499.9999999999986},{"$f":"IFERROR(K14*FINANZAS!$N12,0)","v":1874.9999999999982},{"$f":"IFERROR(L14*FINANZAS!$N12,0)","v":1874.9999999999982},{"$f":"IFERROR(M14*FINANZAS!$N12,0)","v":1874.9999999999982},{"$f":"IFERROR(N14*FINANZAS!$N12,0)","v":1499.9999999999986},{"$f":"IFERROR(O14*FINANZAS!$N12,0)","v":2624.9999999999977}]
[null,null,{"$f":"IF(FINANZAS!C13=\"\",\"\",FINANZAS!C13)","v":6},400,500,400,500,600,700,400,500,500,500,400,700,322080,null,6,{"$f":"IFERROR(D15*FINANZAS!$K13,0)","v":21120},{"$f":"IFERROR(E15*FINANZAS!$K13,0)","v":26400.000000000004},{"$f":"IFERROR(F15*FINANZAS!$K13,0)","v":21120},{"$f":"IFERROR(G15*FINANZAS!$K13,0)","v":26400.000000000004},{"$f":"IFERROR(H15*FINANZAS!$K13,0)","v":31680.000000000004},{"$f":"IFERROR(I15*FINANZAS!$K13,0)","v":36960},{"$f":"IFERROR(J15*FINANZAS!$K13,0)","v":21120},{"$f":"IFERROR(K15*FINANZAS!$K13,0)","v":26400.000000000004},{"$f":"IFERROR(L15*FINANZAS!$K13,0)","v":26400.000000000004},{"$f":"IFERROR(M15*FINANZAS!$K13,0)","v":26400.000000000004},{"$f":"IFERROR(N15*FINANZAS!$K13,0)","v":21120},{"$f":"IFERROR(O15*FINANZAS!$K13,0)","v":36960},null,{"$f":"IFERROR(D15*FINANZAS!$G13,0)","v":13200},{"$f":"IFERROR(E15*FINANZAS!$G13,0)","v":16500},{"$f":"IFERROR(F15*FINANZAS!$G13,0)","v":13200},{"$f":"IFERROR(G15*FINANZAS!$G13,0)","v":16500},{"$f":"IFERROR(H15*FINANZAS!$G13,0)","v":19800},{"$f":"IFERROR(I15*FINANZAS!$G13,0)","v":23100},{"$f":"IFERROR(J15*FINANZAS!$G13,0)","v":13200},{"$f":"IFERROR(K15*FINANZAS!$G13,0)","v":16500},{"$f":"IFERROR(L15*FINANZAS!$G13,0)","v":16500},{"$f":"IFERROR(M15*FINANZAS!$G13,0)","v":16500},{"$f":"IFERROR(N15*FINANZAS!$G13,0)","v":13200},{"$f":"IFERROR(O15*FINANZAS!$G13,0)","v":23100},null,{"$f":"S15*FINANZAS!$J13","v":0},{"$f":"T15*FINANZAS!$J13","v":0},{"$f":"U15*FINANZAS!$J13","v":0},{"$f":"V15*FINANZAS!$J13","v":0},{"$f":"W15*FINANZAS!$J13","v":0},{"$f":"X15*FINANZAS!$J13","v":0},{"$f":"Y15*FINANZAS!$J13","v":0},{"$f":"Z15*FINANZAS!$J13","v":0},{"$f":"AA15*FINANZAS!$J13","v":0},{"$f":"AB15*FINANZAS!$J13","v":0},{"$f":"AC15*FINANZAS!$J13","v":0},{"$f":"AD15*FINANZAS!$J13","v":0},null,{"$f":"IFERROR(D15*FINANZAS!$N13,0)","v":7920.0000000000018},{"$f":"IFERROR(E15*FINANZAS!$N13,0)","v":9900.0000000000018},{"$f":"IFERROR(F15*FINANZAS!$N13,0)","v":7920.0000000000018},{"$f":"IFERROR(G15*FINANZAS!$N13,0)","v":9900.0000000000018},{"$f":"IFERROR(H15*FINANZAS!$N13,0)","v":11880.000000000002},{"$f":"IFERROR(I15*FINANZAS!$N13,0)","v":13860.000000000004},{"$f":"IFERROR(J15*FINANZAS!$N13,0)","v":7920.0000000000018},{"$f":"IFERROR(K15*FINANZAS!$N13,0)","v":9900.0000000000018},{"$f":"IFERROR(L15*FINANZAS!$N13,0)","v":9900.0000000000018},{"$f":"IFERROR(M15*FINANZAS!$N13,0)","v":9900.0000000000018},{"$f":"IFERROR(N15*FINANZAS!$N13,0)","v":7920.0000000000018},{"$f":"IFERROR(O15*FINANZAS!$N13,0)","v":13860.000000000004}]
[null,null,{"$f":"IF(FINANZAS!C14=\"\",\"\",FINANZAS!C14)","v":7},null,null,null,null,null,null,null,null,null,null,null,null,0,null,7,{"$f":"IFERROR(D16*FINANZAS!$K14,0)","v":0},{"$f":"IFERROR(E16*FINANZAS!$K14,0)","v":0},{"$f":"IFERROR(F16*FINANZAS!$K14,0)","v":0},{"$f":"IFERROR(G16*FINANZAS!$K14,0)","v":0},{"$f":"IFERROR(H16*FINANZAS!$K14,0)","v":0},{"$f":"IFERROR(I16*FINANZAS!$K14,0)","v":0},{"$f":"IFERROR(J16*FINANZAS!$K14,0)","v":0},{"$f":"IFERROR(K16*FINANZAS!$K14,0)","v":0},{"$f":"IFERROR(L16*FINANZAS!$K14,0)","v":0},{"$f":"IFERROR(M16*FINANZAS!$K14,0)","v":0},{"$f":"IFERROR(N16*FINANZAS!$K14,0)","v":0},{"$f":"IFERROR(O16*FINANZAS!$K14,0)","v":0},null,{"$f":"IFERROR(D16*FINANZAS!$G14,0)","v":0},{"$f":"IFERROR(E16*FINANZAS!$G14,0)","v":0},{"$f":"IFERROR(F16*FINANZAS!$G14,0)","v":0},{"$f":"IFERROR(G16*FINANZAS!$G14,0)","v":0},{"$f":"IFERROR(H16*FINANZAS!$G14,0)","v":0},{"$f":"IFERROR(I16*FINANZAS!$G14,0)","v":0},{"$f":"IFERROR(J16*FINANZAS!$G14,0)","v":0},{"$f":"IFERROR(K16*FINANZAS!$G14,0)","v":0},{"$f":"IFERROR(L16*FINANZAS!$G14,0)","v":0},{"$f":"IFERROR(M16*FINANZAS!$G14,0)","v":0},{"$f":"IFERROR(N16*FINANZAS!$G14,0)","v":0},{"$f":"IFERROR(O16*FINANZAS!$G14,0)","v":0},null,{"$f":"S16*FINANZAS!$J14","v":0},{"$f":"T16*FINANZAS!$J14","v":0},{"$f":"U16*FINANZAS!$J14","v":0},{"$f":"V16*FINANZAS!$J14","v":0},{"$f":"W16*FINANZAS!$J14","v":0},{"$f":"X16*FINANZAS!$J14","v":0},{"$f":"Y16*FINANZAS!$J14","v":0},{"$f":"Z16*FINANZAS!$J14","v":0},{"$f":"AA16*FINANZAS!$J14","v":0},{"$f":"AB16*FINANZAS!$J14","v":0},{"$f":"AC16*FINANZAS!$J14","v":0},{"$f":"AD16*FINANZAS!$J14","v":0},null,{"$f":"IFERROR(D16*FINANZAS!$N14,0)","v":0},{"$f":"IFERROR(E16*FINANZAS!$N14,0)","v":0},{"$f":"IFERROR(F16*FINANZAS!$N14,0)","v":0},{"$f":"IFERROR(G16*FINANZAS!$N14,0)","v":0},{"$f":"IFERROR(H16*FINANZAS!$N14,0)","v":0},{"$f":"IFERROR(I16*FINANZAS!$N14,0)","v":0},{"$f":"IFERROR(J16*FINANZAS!$N14,0)","v":0},{"$f":"IFERROR(K16*FINANZAS!$N14,0)","v":0},{"$f":"IFERROR(L16*FINANZAS!$N14,0)","v":0},{"$f":"IFERROR(M16*FINANZAS!$N14,0)","v":0},{"$f":"IFERROR(N16*FINANZAS!$N14,0)","v":0},{"$f":"IFERROR(O16*FINANZAS!$N14,0)","v":0}]
[null,null,{"$f":"IF(FINANZAS!C15=\"\",\"\",FINANZAS!C15)","v":8},null,null,null,null,null,null,null,null,null,null,null,null,0,null,8,{"$f":"IFERROR(D17*FINANZAS!$K15,0)","v":0},{"$f":"IFERROR(E17*FINANZAS!$K15,0)","v":0},{"$f":"IFERROR(F17*FINANZAS!$K15,0)","v":0},{"$f":"IFERROR(G17*FINANZAS!$K15,0)","v":0},{"$f":"IFERROR(H17*FINANZAS!$K15,0)","v":0},{"$f":"IFERROR(I17*FINANZAS!$K15,0)","v":0},{"$f":"IFERROR(J17*FINANZAS!$K15,0)","v":0},{"$f":"IFERROR(K17*FINANZAS!$K15,0)","v":0},{"$f":"IFERROR(L17*FINANZAS!$K15,0)","v":0},{"$f":"IFERROR(M17*FINANZAS!$K15,0)","v":0},{"$f":"IFERROR(N17*FINANZAS!$K15,0)","v":0},{"$f":"IFERROR(O17*FINANZAS!$K15,0)","v":0},null,{"$f":"IFERROR(D17*FINANZAS!$G15,0)","v":0},{"$f":"IFERROR(E17*FINANZAS!$G15,0)","v":0},{"$f":"IFERROR(F17*FINANZAS!$G15,0)","v":0},{"$f":"IFERROR(G17*FINANZAS!$G15,0)","v":0},{"$f":"IFERROR(H17*FINANZAS!$G15,0)","v":0},{"$f":"IFERROR(I17*FINANZAS!$G15,0)","v":0},{"$f":"IFERROR(J17*FINANZAS!$G15,0)","v":0},{"$f":"IFERROR(K17*FINANZAS!$G15,0)","v":0},{"$f":"IFERROR(L17*FINANZAS!$G15,0)","v":0},{"$f":"IFERROR(M17*FINANZAS!$G15,0)","v":0},{"$f":"IFERROR(N17*FINANZAS!$G15,0)","v":0},{"$f":"IFERROR(O17*FINANZAS!$G15,0)","v":0},null,{"$f":"S17*FINANZAS!$J15","v":0},{"$f":"T17*FINANZAS!$J15","v":0},{"$f":"U17*FINANZAS!$J15","v":0},{"$f":"V17*FINANZAS!$J15","v":0},{"$f":"W17*FINANZAS!$J15","v":0},{"$f":"X17*FINANZAS!$J15","v":0},{"$f":"Y17*FINANZAS!$J15","v":0},{"$f":"Z17*FINANZAS!$J15","v":0},{"$f":"AA17*FINANZAS!$J15","v":0},{"$f":"AB17*FINANZAS!$J15","v":0},{"$f":"AC17*FINANZAS!$J15","v":0},{"$f":"AD17*FINANZAS!$J15","v":0},null,{"$f":"IFERROR(D17*FINANZAS!$N15,0)","v":0},{"$f":"IFERROR(E17*FINANZAS!$N15,0)","v":0},{"$f":"IFERROR(F17*FINANZAS!$N15,0)","v":0},{"$f":"IFERROR(G17*FINANZAS!$N15,0)","v":0},{"$f":"IFERROR(H17*FINANZAS!$N15,0)","v":0},{"$f":"IFERROR(I17*FINANZAS!$N15,0)","v":0},{"$f":"IFERROR(J17*FINANZAS!$N15,0)","v":0},{"$f":"IFERROR(K17*FINANZAS!$N15,0)","v":0},{"$f":"IFERROR(L17*FINANZAS!$N15,0)","v":0},{"$f":"IFERROR(M17*FINANZAS!$N15,0)","v":0},{"$f":"IFERROR(N17*FINANZAS!$N15,0)","v":0},{"$f":"IFERROR(O17*FINANZAS!$N15,0)","v":0}]
[null,null,{"$f":"IF(FINANZAS!C16=\"\",\"\",FINANZAS!C16)","v":""},null,null,null,null,null,null,null,null,null,null,null,null,0,null,"",{"$f":"IFERROR(D18*FINANZAS!$K16,0)","v":0},{"$f":"IFERROR(E18*FINANZAS!$K16,0)","v":0},{"$f":"IFERROR(F18*FINANZAS!$K16,0)","v":0},{"$f":"IFERROR(G18*FINANZAS!$K16,0)","v":0},{"$f":"IFERROR(H18*FINANZAS!$K16,0)","v":0},{"$f":"IFERROR(I18*FINANZAS!$K16,0)","v":0},{"$f":"IFERROR(J18*FINANZAS!$K16,0)","v":0},{"$f":"IFERROR(K18*FINANZAS!$K16,0)","v":0},{"$f":"IFERROR(L18*FINANZAS!$K16,0)","v":0},{"$f":"IFERROR(M18*FINANZAS!$K16,0)","v":0},{"$f":"IFERROR(N18*FINANZAS!$K16,0)","v":0},{"$f":"IFERROR(O18*FINANZAS!$K16,0)","v":0},null,{"$f":"IFERROR(D18*FINANZAS!$G16,0)","v":0},{"$f":"IFERROR(E18*FINANZAS!$G16,0)","v":0},{"$f":"IFERROR(F18*FINANZAS!$G16,0)","v":0},{"$f":"IFERROR(G18*FINANZAS!$G16,0)","v":0},{"$f":"IFERROR(H18*FINANZAS!$G16,0)","v":0},{"$f":"IFERROR(I18*FINANZAS!$G16,0)","v":0},{"$f":"IFERROR(J18*FINANZAS!$G16,0)","v":0},{"$f":"IFERROR(K18*FINANZAS!$G16,0)","v":0},{"$f":"IFERROR(L18*FINANZAS!$G16,0)","v":0},{"$f":"IFERROR(M18*FINANZAS!$G16,0)","v":0},{"$f":"IFERROR(N18*FINANZAS!$G16,0)","v":0},{"$f":"IFERROR(O18*FINANZAS!$G16,0)","v":0},null,{"$f":"S18*FINANZAS!$J16","v":0},{"$f":"T18*FINANZAS!$J16","v":0},{"$f":"U18*FINANZAS!$J16","v":0},{"$f":"V18*FINANZAS!$J16","v":0},{"$f":"W18*FINANZAS!$J16","v":0},{"$f":"X18*FINANZAS!$J16","v":0},{"$f":"Y18*FINANZAS!$J16","v":0},{"$f":"Z18*FINANZAS!$J16","v":0},{"$f":"AA18*FINANZAS!$J16","v":0},{"$f":"AB18*FINANZAS!$J16","v":0},{"$f":"AC18*FINANZAS!$J16","v":0},{"$f":"AD18*FINANZAS!$J16","v":0},null,{"$f":"IFERROR(D18*FINANZAS!$N16,0)","v":0},{"$f":"IFERROR(E18*FINANZAS!$N16,0)","v":0},{"$f":"IFERROR(F18*FINANZAS!$N16,0)","v":0},{"$f":"IFERROR(G18*FINANZAS!$N16,0)","v":0},{"$f":"IFERROR(H18*FINANZAS!$N16,0)","v":0},{"$f":"IFERROR(I18*FINANZAS!$N16,0)","v":0},{"$f":"IFERROR(J18*FINANZAS!$N16,0)","v":0},{"$f":"IFERROR(K18*FINANZAS!$N16,0)","v":0},{"$f":"IFERROR(L18*FINANZAS!$N16,0)","v":0},{"$f":"IFERROR(M18*FINANZAS!$N16,0)","v":0},{"$f":"IFERROR(N18*FINANZAS!$N16,0)","v":0},{"$f":"IFERROR(O18*FINANZAS!$N16,0)","v":0}]
[null,null,{"$f":"IF(FINANZAS!C17=\"\",\"\",FINANZAS!C17)","v":""},null,null,null,null,null,null,null,null,null,null,null,null,0,null,"",{"$f":"IFERROR(D19*FINANZAS!$K17,0)","v":0},{"$f":"IFERROR(E19*FINANZAS!$K17,0)","v":0},{"$f":"IFERROR(F19*FINANZAS!$K17,0)","v":0},{"$f":"IFERROR(G19*FINANZAS!$K17,0)","v":0},{"$f":"IFERROR(H19*FINANZAS!$K17,0)","v":0},{"$f":"IFERROR(I19*FINANZAS!$K17,0)","v":0},{"$f":"IFERROR(J19*FINANZAS!$K17,0)","v":0},{"$f":"IFERROR(K19*FINANZAS!$K17,0)","v":0},{"$f":"IFERROR(L19*FINANZAS!$K17,0)","v":0},{"$f":"IFERROR(M19*FINANZAS!$K17,0)","v":0},{"$f":"IFERROR(N19*FINANZAS!$K17,0)","v":0},{"$f":"IFERROR(O19*FINANZAS!$K17,0)","v":0},null,{"$f":"IFERROR(D19*FINANZAS!$G17,0)","v":0},{"$f":"IFERROR(E19*FINANZAS!$G17,0)","v":0},{"$f":"IFERROR(F19*FINANZAS!$G17,0)","v":0},{"$f":"IFERROR(G19*FINANZAS!$G17,0)","v":0},{"$f":"IFERROR(H19*FINANZAS!$G17,0)","v":0},{"$f":"IFERROR(I19*FINANZAS!$G17,0)","v":0},{"$f":"IFERROR(J19*FINANZAS!$G17,0)","v":0},{"$f":"IFERROR(K19*FINANZAS!$G17,0)","v":0},{"$f":"IFERROR(L19*FINANZAS!$G17,0)","v":0},{"$f":"IFERROR(M19*FINANZAS!$G17,0)","v":0},{"$f":"IFERROR(N19*FINANZAS!$G17,0)","v":0},{"$f":"IFERROR(O19*FINANZAS!$G17,0)","v":0},null,{"$f":"S19*FINANZAS!$J17","v":0},{"$f":"T19*FINANZAS!$J17","v":0},{"$f":"U19*FINANZAS!$J17","v":0},{"$f":"V19*FINANZAS!$J17","v":0},{"$f":"W19*FINANZAS!$J17","v":0},{"$f":"X19*FINANZAS!$J17","v":0},{"$f":"Y19*FINANZAS!$J17","v":0},{"$f":"Z19*FINANZAS!$J17","v":0},{"$f":"AA19*FINANZAS!$J17","v":0},{"$f":"AB19*FINANZAS!$J17","v":0},{"$f":"AC19*FINANZAS!$J17","v":0},{"$f":"AD19*FINANZAS!$J17","v":0},null,{"$f":"IFERROR(D19*FINANZAS!$N17,0)","v":0},{"$f":"IFERROR(E19*FINANZAS!$N17,0)","v":0},{"$f":"IFERROR(F19*FINANZAS!$N17,0)","v":0},{"$f":"IFERROR(G19*FINANZAS!$N17,0)","v":0},{"$f":"IFERROR(H19*FINANZAS!$N17,0)","v":0},{"$f":"IFERROR(I19*FINANZAS!$N17,0)","v":0},{"$f":"IFERROR(J19*FINANZAS!$N17,0)","v":0},{"$f":"IFERROR(K19*FINANZAS!$N17,0)","v":0},{"$f":"IFERROR(L19*FINANZAS!$N17,0)","v":0},{"$f":"IFERROR(M19*FINANZAS!$N17,0)","v":0},{"$f":"IFERROR(N19*FINANZAS!$N17,0)","v":0},{"$f":"IFERROR(O19*FINANZAS!$N17,0)","v":0}]
[null,null,{"$f":"IF(FINANZAS!C18=\"\",\"\",FINANZAS!C18)","v":""},null,null,null,null,null,null,null,null,null,null,null,null,0,null,"",{"$f":"IFERROR(D20*FINANZAS!$K18,0)","v":0},{"$f":"IFERROR(E20*FINANZAS!$K18,0)","v":0},{"$f":"IFERROR(F20*FINANZAS!$K18,0)","v":0},{"$f":"IFERROR(G20*FINANZAS!$K18,0)","v":0},{"$f":"IFERROR(H20*FINANZAS!$K18,0)","v":0},{"$f":"IFERROR(I20*FINANZAS!$K18,0)","v":0},{"$f":"IFERROR(J20*FINANZAS!$K18,0)","v":0},{"$f":"IFERROR(K20*FINANZAS!$K18,0)","v":0},{"$f":"IFERROR(L20*FINANZAS!$K18,0)","v":0},{"$f":"IFERROR(M20*FINANZAS!$K18,0)","v":0},{"$f":"IFERROR(N20*FINANZAS!$K18,0)","v":0},{"$f":"IFERROR(O20*FINANZAS!$K18,0)","v":0},null,{"$f":"IFERROR(D20*FINANZAS!$G18,0)","v":0},{"$f":"IFERROR(E20*FINANZAS!$G18,0)","v":0},{"$f":"IFERROR(F20*FINANZAS!$G18,0)","v":0},{"$f":"IFERROR(G20*FINANZAS!$G18,0)","v":0},{"$f":"IFERROR(H20*FINANZAS!$G18,0)","v":0},{"$f":"IFERROR(I20*FINANZAS!$G18,0)","v":0},{"$f":"IFERROR(J20*FINANZAS!$G18,0)","v":0},{"$f":"IFERROR(K20*FINANZAS!$G18,0)","v":0},{"$f":"IFERROR(L20*FINANZAS!$G18,0)","v":0},{"$f":"IFERROR(M20*FINANZAS!$G18,0)","v":0},{"$f":"IFERROR(N20*FINANZAS!$G18,0)","v":0},{"$f":"IFERROR(O20*FINANZAS!$G18,0)","v":0},null,{"$f":"S20*FINANZAS!$J18","v":0},{"$f":"T20*FINANZAS!$J18","v":0},{"$f":"U20*FINANZAS!$J18","v":0},{"$f":"V20*FINANZAS!$J18","v":0},{"$f":"W20*FINANZAS!$J18","v":0},{"$f":"X20*FINANZAS!$J18","v":0},{"$f":"Y20*FINANZAS!$J18","v":0},{"$f":"Z20*FINANZAS!$J18","v":0},{"$f":"AA20*FINANZAS!$J18","v":0},{"$f":"AB20*FINANZAS!$J18","v":0},{"$f":"AC20*FINANZAS!$J18","v":0},{"$f":"AD20*FINANZAS!$J18","v":0},null,{"$f":"IFERROR(D20*FINANZAS!$N18,0)","v":0},{"$f":"IFERROR(E20*FINANZAS!$N18,0)","v":0},{"$f":"IFERROR(F20*FINANZAS!$N18,0)","v":0},{"$f":"IFERROR(G20*FINANZAS!$N18,0)","v":0},{"$f":"IFERROR(H20*FINANZAS!$N18,0)","v":0},{"$f":"IFERROR(I20*FINANZAS!$N18,0)","v":0},{"$f":"IFERROR(J20*FINANZAS!$N18,0)","v":0},{"$f":"IFERROR(K20*FINANZAS!$N18,0)","v":0},{"$f":"IFERROR(L20*FINANZAS!$N18,0)","v":0},{"$f":"IFERROR(M20*FINANZAS!$N18,0)","v":0},{"$f":"IFERROR(N20*FINANZAS!$N18,0)","v":0},{"$f":"IFERROR(O20*FINANZAS!$N18,0)","v":0}]
[null,null,{"$f":"IF(FINANZAS!C19=\"\",\"\",FINANZAS!C19)","v":""},null,null,null,null,null,null,null,null,null,null,null,null,0,null,"",{"$f":"IFERROR(D21*FINANZAS!$K19,0)","v":0},{"$f":"IFERROR(E21*FINANZAS!$K19,0)","v":0},{"$f":"IFERROR(F21*FINANZAS!$K19,0)","v":0},{"$f":"IFERROR(G21*FINANZAS!$K19,0)","v":0},{"$f":"IFERROR(H21*FINANZAS!$K19,0)","v":0},{"$f":"IFERROR(I21*FINANZAS!$K19,0)","v":0},{"$f":"IFERROR(J21*FINANZAS!$K19,0)","v":0},{"$f":"IFERROR(K21*FINANZAS!$K19,0)","v":0},{"$f":"IFERROR(L21*FINANZAS!$K19,0)","v":0},{"$f":"IFERROR(M21*FINANZAS!$K19,0)","v":0},{"$f":"IFERROR(N21*FINANZAS!$K19,0)","v":0},{"$f":"IFERROR(O21*FINANZAS!$K19,0)","v":0},null,{"$f":"IFERROR(D21*FINANZAS!$G19,0)","v":0},{"$f":"IFERROR(E21*FINANZAS!$G19,0)","v":0},{"$f":"IFERROR(F21*FINANZAS!$G19,0)","v":0},{"$f":"IFERROR(G21*FINANZAS!$G19,0)","v":0},{"$f":"IFERROR(H21*FINANZAS!$G19,0)","v":0},{"$f":"IFERROR(I21*FINANZAS!$G19,0)","v":0},{"$f":"IFERROR(J21*FINANZAS!$G19,0)","v":0},{"$f":"IFERROR(K21*FINANZAS!$G19,0)","v":0},{"$f":"IFERROR(L21*FINANZAS!$G19,0)","v":0},{"$f":"IFERROR(M21*FINANZAS!$G19,0)","v":0},{"$f":"IFERROR(N21*FINANZAS!$G19,0)","v":0},{"$f":"IFERROR(O21*FINANZAS!$G19,0)","v":0},null,{"$f":"S21*FINANZAS!$J19","v":0},{"$f":"T21*FINANZAS!$J19","v":0},{"$f":"U21*FINANZAS!$J19","v":0},{"$f":"V21*FINANZAS!$J19","v":0},{"$f":"W21*FINANZAS!$J19","v":0},{"$f":"X21*FINANZAS!$J19","v":0},{"$f":"Y21*FINANZAS!$J19","v":0},{"$f":"Z21*FINANZAS!$J19","v":0},{"$f":"AA21*FINANZAS!$J19","v":0},{"$f":"AB21*FINANZAS!$J19","v":0},{"$f":"AC21*FINANZAS!$J19","v":0},{"$f":"AD21*FINANZAS!$J19","v":0},null,{"$f":"IFERROR(D21*FINANZAS!$N19,0)","v":0},{"$f":"IFERROR(E21*FINANZAS!$N19,0)","v":0},{"$f":"IFERROR(F21*FINANZAS!$N19,0)","v":0},{"$f":"IFERROR(G21*FINANZAS!$N19,0)","v":0},{"$f":"IFERROR(H21*FINANZAS!$N19,0)","v":0},{"$f":"IFERROR(I21*FINANZAS!$N19,0)","v":0},{"$f":"IFERROR(J21*FINANZAS!$N19,0)","v":0},{"$f":"IFERROR(K21*FINANZAS!$N19,0)","v":0},{"$f":"IFERROR(L21*FINANZAS!$N19,0)","v":0},{"$f":"IFERROR(M21*FINANZAS!$N19,0)","v":0},{"$f":"IFERROR(N21*FINANZAS!$N19,0)","v":0},{"$f":"IFERROR(O21*FINANZAS!$N19,0)","v":0}]
[null,null,{"$f":"IF(FINANZAS!C20=\"\",\"\",FINANZAS!C20)","v":""},null,null,null,null,null,null,null,null,null,null,null,null,0,null,"",{"$f":"IFERROR(D22*FINANZAS!$K20,0)","v":0},{"$f":"IFERROR(E22*FINANZAS!$K20,0)","v":0},{"$f":"IFERROR(F22*FINANZAS!$K20,0)","v":0},{"$f":"IFERROR(G22*FINANZAS!$K20,0)","v":0},{"$f":"IFERROR(H22*FINANZAS!$K20,0)","v":0},{"$f":"IFERROR(I22*FINANZAS!$K20,0)","v":0},{"$f":"IFERROR(J22*FINANZAS!$K20,0)","v":0},{"$f":"IFERROR(K22*FINANZAS!$K20,0)","v":0},{"$f":"IFERROR(L22*FINANZAS!$K20,0)","v":0},{"$f":"IFERROR(M22*FINANZAS!$K20,0)","v":0},{"$f":"IFERROR(N22*FINANZAS!$K20,0)","v":0},{"$f":"IFERROR(O22*FINANZAS!$K20,0)","v":0},null,{"$f":"IFERROR(D22*FINANZAS!$G20,0)","v":0},{"$f":"IFERROR(E22*FINANZAS!$G20,0)","v":0},{"$f":"IFERROR(F22*FINANZAS!$G20,0)","v":0},{"$f":"IFERROR(G22*FINANZAS!$G20,0)","v":0},{"$f":"IFERROR(H22*FINANZAS!$G20,0)","v":0},{"$f":"IFERROR(I22*FINANZAS!$G20,0)","v":0},{"$f":"IFERROR(J22*FINANZAS!$G20,0)","v":0},{"$f":"IFERROR(K22*FINANZAS!$G20,0)","v":0},{"$f":"IFERROR(L22*FINANZAS!$G20,0)","v":0},{"$f":"IFERROR(M22*FINANZAS!$G20,0)","v":0},{"$f":"IFERROR(N22*FINANZAS!$G20,0)","v":0},{"$f":"IFERROR(O22*FINANZAS!$G20,0)","v":0},null,{"$f":"S22*FINANZAS!$J20","v":0},{"$f":"T22*FINANZAS!$J20","v":0},{"$f":"U22*FINANZAS!$J20","v":0},{"$f":"V22*FINANZAS!$J20","v":0},{"$f":"W22*FINANZAS!$J20","v":0},{"$f":"X22*FINANZAS!$J20","v":0},{"$f":"Y22*FINANZAS!$J20","v":0},{"$f":"Z22*FINANZAS!$J20","v":0},{"$f":"AA22*FINANZAS!$J20","v":0},{"$f":"AB22*FINANZAS!$J20","v":0},{"$f":"AC22*FINANZAS!$J20","v":0},{"$f":"AD22*FINANZAS!$J20","v":0},null,{"$f":"IFERROR(D22*FINANZAS!$N20,0)","v":0},{"$f":"IFERROR(E22*FINANZAS!$N20,0)","v":0},{"$f":"IFERROR(F22*FINANZAS!$N20,0)","v":0},{"$f":"IFERROR(G22*FINANZAS!$N20,0)","v":0},{"$f":"IFERROR(H22*FINANZAS!$N20,0)","v":0},{"$f":"IFERROR(I22*FINANZAS!$N20,0)","v":0},{"$f":"IFERROR(J22*FINANZAS!$N20,0)","v":0},{"$f":"IFERROR(K22*FINANZAS!$N20,0)","v":0},{"$f":"IFERROR(L22*FINANZAS!$N20,0)","v":0},{"$f":"IFERROR(M22*FINANZAS!$N20,0)","v":0},{"$f":"IFERROR(N22*FINANZAS!$N20,0)","v":0},{"$f":"IFERROR(O22*FINANZAS!$N20,0)","v":0}]
[null,null,{"$f":"IF(FINANZAS!C21=\"\",\"\",FINANZAS!C21)","v":""},null,null,null,null,null,null,null,null,null,null,null,null,0,null,"",{"$f":"IFERROR(D23*FINANZAS!$K21,0)","v":0},{"$f":"IFERROR(E23*FINANZAS!$K21,0)","v":0},{"$f":"IFERROR(F23*FINANZAS!$K21,0)","v":0},{"$f":"IFERROR(G23*FINANZAS!$K21,0)","v":0},{"$f":"IFERROR(H23*FINANZAS!$K21,0)","v":0},{"$f":"IFERROR(I23*FINANZAS!$K21,0)","v":0},{"$f":"IFERROR(J23*FINANZAS!$K21,0)","v":0},{"$f":"IFERROR(K23*FINANZAS!$K21,0)","v":0},{"$f":"IFERROR(L23*FINANZAS!$K21,0)","v":0},{"$f":"IFERROR(M23*FINANZAS!$K21,0)","v":0},{"$f":"IFERROR(N23*FINANZAS!$K21,0)","v":0},{"$f":"IFERROR(O23*FINANZAS!$K21,0)","v":0},null,{"$f":"IFERROR(D23*FINANZAS!$G21,0)","v":0},{"$f":"IFERROR(E23*FINANZAS!$G21,0)","v":0},{"$f":"IFERROR(F23*FINANZAS!$G21,0)","v":0},{"$f":"IFERROR(G23*FINANZAS!$G21,0)","v":0},{"$f":"IFERROR(H23*FINANZAS!$G21,0)","v":0},{"$f":"IFERROR(I23*FINANZAS!$G21,0)","v":0},{"$f":"IFERROR(J23*FINANZAS!$G21,0)","v":0},{"$f":"IFERROR(K23*FINANZAS!$G21,0)","v":0},{"$f":"IFERROR(L23*FINANZAS!$G21,0)","v":0},{"$f":"IFERROR(M23*FINANZAS!$G21,0)","v":0},{"$f":"IFERROR(N23*FINANZAS!$G21,0)","v":0},{"$f":"IFERROR(O23*FINANZAS!$G21,0)","v":0},null,{"$f":"S23*FINANZAS!$J21","v":0},{"$f":"T23*FINANZAS!$J21","v":0},{"$f":"U23*FINANZAS!$J21","v":0},{"$f":"V23*FINANZAS!$J21","v":0},{"$f":"W23*FINANZAS!$J21","v":0},{"$f":"X23*FINANZAS!$J21","v":0},{"$f":"Y23*FINANZAS!$J21","v":0},{"$f":"Z23*FINANZAS!$J21","v":0},{"$f":"AA23*FINANZAS!$J21","v":0},{"$f":"AB23*FINANZAS!$J21","v":0},{"$f":"AC23*FINANZAS!$J21","v":0},{"$f":"AD23*FINANZAS!$J21","v":0},null,{"$f":"IFERROR(D23*FINANZAS!$N21,0)","v":0},{"$f":"IFERROR(E23*FINANZAS!$N21,0)","v":0},{"$f":"IFERROR(F23*FINANZAS!$N21,0)","v":0},{"$f":"IFERROR(G23*FINANZAS!$N21,0)","v":0},{"$f":"IFERROR(H23*FINANZAS!$N21,0)","v":0},{"$f":"IFERROR(I23*FINANZAS!$N21,0)","v":0},{"$f":"IFERROR(J23*FINANZAS!$N21,0)","v":0},{"$f":"IFERROR(K23*FINANZAS!$N21,0)","v":0},{"$f":"IFERROR(L23*FINANZAS!$N21,0)","v":0},{"$f":"IFERROR(M23*FINANZAS!$N21,0)","v":0},{"$f":"IFERROR(N23*FINANZAS!$N21,0)","v":0},{"$f":"IFERROR(O23*FINANZAS!$N21,0)","v":0}]
[null,null,{"$f":"IF(FINANZAS!C22=\"\",\"\",FINANZAS!C22)","v":""},null,null,null,null,null,null,null,null,null,null,null,null,0,null,"",{"$f":"IFERROR(D24*FINANZAS!$K22,0)","v":0},{"$f":"IFERROR(E24*FINANZAS!$K22,0)","v":0},{"$f":"IFERROR(F24*FINANZAS!$K22,0)","v":0},{"$f":"IFERROR(G24*FINANZAS!$K22,0)","v":0},{"$f":"IFERROR(H24*FINANZAS!$K22,0)","v":0},{"$f":"IFERROR(I24*FINANZAS!$K22,0)","v":0},{"$f":"IFERROR(J24*FINANZAS!$K22,0)","v":0},{"$f":"IFERROR(K24*FINANZAS!$K22,0)","v":0},{"$f":"IFERROR(L24*FINANZAS!$K22,0)","v":0},{"$f":"IFERROR(M24*FINANZAS!$K22,0)","v":0},{"$f":"IFERROR(N24*FINANZAS!$K22,0)","v":0},{"$f":"IFERROR(O24*FINANZAS!$K22,0)","v":0},null,{"$f":"IFERROR(D24*FINANZAS!$G22,0)","v":0},{"$f":"IFERROR(E24*FINANZAS!$G22,0)","v":0},{"$f":"IFERROR(F24*FINANZAS!$G22,0)","v":0},{"$f":"IFERROR(G24*FINANZAS!$G22,0)","v":0},{"$f":"IFERROR(H24*FINANZAS!$G22,0)","v":0},{"$f":"IFERROR(I24*FINANZAS!$G22,0)","v":0},{"$f":"IFERROR(J24*FINANZAS!$G22,0)","v":0},{"$f":"IFERROR(K24*FINANZAS!$G22,0)","v":0},{"$f":"IFERROR(L24*FINANZAS!$G22,0)","v":0},{"$f":"IFERROR(M24*FINANZAS!$G22,0)","v":0},{"$f":"IFERROR(N24*FINANZAS!$G22,0)","v":0},{"$f":"IFERROR(O24*FINANZAS!$G22,0)","v":0},null,{"$f":"S24*FINANZAS!$J22","v":0},{"$f":"T24*FINANZAS!$J22","v":0},{"$f":"U24*FINANZAS!$J22","v":0},{"$f":"V24*FINANZAS!$J22","v":0},{"$f":"W24*FINANZAS!$J22","v":0},{"$f":"X24*FINANZAS!$J22","v":0},{"$f":"Y24*FINANZAS!$J22","v":0},{"$f":"Z24*FINANZAS!$J22","v":0},{"$f":"AA24*FINANZAS!$J22","v":0},{"$f":"AB24*FINANZAS!$J22","v":0},{"$f":"AC24*FINANZAS!$J22","v":0},{"$f":"AD24*FINANZAS!$J22","v":0},null,{"$f":"IFERROR(D24*FINANZAS!$N22,0)","v":0},{"$f":"IFERROR(E24*FINANZAS!$N22,0)","v":0},{"$f":"IFERROR(F24*FINANZAS!$N22,0)","v":0},{"$f":"IFERROR(G24*FINANZAS!$N22,0)","v":0},{"$f":"IFERROR(H24*FINANZAS!$N22,0)","v":0},{"$f":"IFERROR(I24*FINANZAS!$N22,0)","v":0},{"$f":"IFERROR(J24*FINANZAS!$N22,0)","v":0},{"$f":"IFERROR(K24*FINANZAS!$N22,0)","v":0},{"$f":"IFERROR(L24*FINANZAS!$N22,0)","v":0},{"$f":"IFERROR(M24*FINANZAS!$N22,0)","v":0},{"$f":"IFERROR(N24*FINANZAS!$N22,0)","v":0},{"$f":"IFERROR(O24*FINANZAS!$N22,0)","v":0}]
[null,null,{"$f":"IF(FINANZAS!C23=\"\",\"\",FINANZAS!C23)","v":""},null,null,null,null,null,null,null,null,null,null,null,null,0,null,"",{"$f":"IFERROR(D25*FINANZAS!$K23,0)","v":0},{"$f":"IFERROR(E25*FINANZAS!$K23,0)","v":0},{"$f":"IFERROR(F25*FINANZAS!$K23,0)","v":0},{"$f":"IFERROR(G25*FINANZAS!$K23,0)","v":0},{"$f":"IFERROR(H25*FINANZAS!$K23,0)","v":0},{"$f":"IFERROR(I25*FINANZAS!$K23,0)","v":0},{"$f":"IFERROR(J25*FINANZAS!$K23,0)","v":0},{"$f":"IFERROR(K25*FINANZAS!$K23,0)","v":0},{"$f":"IFERROR(L25*FINANZAS!$K23,0)","v":0},{"$f":"IFERROR(M25*FINANZAS!$K23,0)","v":0},{"$f":"IFERROR(N25*FINANZAS!$K23,0)","v":0},{"$f":"IFERROR(O25*FINANZAS!$K23,0)","v":0},null,{"$f":"IFERROR(D25*FINANZAS!$G23,0)","v":0},{"$f":"IFERROR(E25*FINANZAS!$G23,0)","v":0},{"$f":"IFERROR(F25*FINANZAS!$G23,0)","v":0},{"$f":"IFERROR(G25*FINANZAS!$G23,0)","v":0},{"$f":"IFERROR(H25*FINANZAS!$G23,0)","v":0},{"$f":"IFERROR(I25*FINANZAS!$G23,0)","v":0},{"$f":"IFERROR(J25*FINANZAS!$G23,0)","v":0},{"$f":"IFERROR(K25*FINANZAS!$G23,0)","v":0},{"$f":"IFERROR(L25*FINANZAS!$G23,0)","v":0},{"$f":"IFERROR(M25*FINANZAS!$G23,0)","v":0},{"$f":"IFERROR(N25*FINANZAS!$G23,0)","v":0},{"$f":"IFERROR(O25*FINANZAS!$G23,0)","v":0},null,{"$f":"S25*FINANZAS!$J23","v":0},{"$f":"T25*FINANZAS!$J23","v":0},{"$f":"U25*FINANZAS!$J23","v":0},{"$f":"V25*FINANZAS!$J23","v":0},{"$f":"W25*FINANZAS!$J23","v":0},{"$f":"X25*FINANZAS!$J23","v":0},{"$f":"Y25*FINANZAS!$J23","v":0},{"$f":"Z25*FINANZAS!$J23","v":0},{"$f":"AA25*FINANZAS!$J23","v":0},{"$f":"AB25*FINANZAS!$J23","v":0},{"$f":"AC25*FINANZAS!$J23","v":0},{"$f":"AD25*FINANZAS!$J23","v":0},null,{"$f":"IFERROR(D25*FINANZAS!$N23,0)","v":0},{"$f":"IFERROR(E25*FINANZAS!$N23,0)","v":0},{"$f":"IFERROR(F25*FINANZAS!$N23,0)","v":0},{"$f":"IFERROR(G25*FINANZAS!$N23,0)","v":0},{"$f":"IFERROR(H25*FINANZAS!$N23,0)","v":0},{"$f":"IFERROR(I25*FINANZAS!$N23,0)","v":0},{"$f":"IFERROR(J25*FINANZAS!$N23,0)","v":0},{"$f":"IFERROR(K25*FINANZAS!$N23,0)","v":0},{"$f":"IFERROR(L25*FINANZAS!$N23,0)","v":0},{"$f":"IFERROR(M25*FINANZAS!$N23,0)","v":0},{"$f":"IFERROR(N25*FINANZAS!$N23,0)","v":0},{"$f":"IFERROR(O25*FINANZAS!$N23,0)","v":0}]
[null,null,{"$f":"IF(FINANZAS!C24=\"\",\"\",FINANZAS!C24)","v":""},null,null,null,null,null,null,null,null,null,null,null,null,0,null,"",{"$f":"IFERROR(D26*FINANZAS!$K24,0)","v":0},{"$f":"IFERROR(E26*FINANZAS!$K24,0)","v":0},{"$f":"IFERROR(F26*FINANZAS!$K24,0)","v":0},{"$f":"IFERROR(G26*FINANZAS!$K24,0)","v":0},{"$f":"IFERROR(H26*FINANZAS!$K24,0)","v":0},{"$f":"IFERROR(I26*FINANZAS!$K24,0)","v":0},{"$f":"IFERROR(J26*FINANZAS!$K24,0)","v":0},{"$f":"IFERROR(K26*FINANZAS!$K24,0)","v":0},{"$f":"IFERROR(L26*FINANZAS!$K24,0)","v":0},{"$f":"IFERROR(M26*FINANZAS!$K24,0)","v":0},{"$f":"IFERROR(N26*FINANZAS!$K24,0)","v":0},{"$f":"IFERROR(O26*FINANZAS!$K24,0)","v":0},null,{"$f":"IFERROR(D26*FINANZAS!$G24,0)","v":0},{"$f":"IFERROR(E26*FINANZAS!$G24,0)","v":0},{"$f":"IFERROR(F26*FINANZAS!$G24,0)","v":0},{"$f":"IFERROR(G26*FINANZAS!$G24,0)","v":0},{"$f":"IFERROR(H26*FINANZAS!$G24,0)","v":0},{"$f":"IFERROR(I26*FINANZAS!$G24,0)","v":0},{"$f":"IFERROR(J26*FINANZAS!$G24,0)","v":0},{"$f":"IFERROR(K26*FINANZAS!$G24,0)","v":0},{"$f":"IFERROR(L26*FINANZAS!$G24,0)","v":0},{"$f":"IFERROR(M26*FINANZAS!$G24,0)","v":0},{"$f":"IFERROR(N26*FINANZAS!$G24,0)","v":0},{"$f":"IFERROR(O26*FINANZAS!$G24,0)","v":0},null,{"$f":"S26*FINANZAS!$J24","v":0},{"$f":"T26*FINANZAS!$J24","v":0},{"$f":"U26*FINANZAS!$J24","v":0},{"$f":"V26*FINANZAS!$J24","v":0},{"$f":"W26*FINANZAS!$J24","v":0},{"$f":"X26*FINANZAS!$J24","v":0},{"$f":"Y26*FINANZAS!$J24","v":0},{"$f":"Z26*FINANZAS!$J24","v":0},{"$f":"AA26*FINANZAS!$J24","v":0},{"$f":"AB26*FINANZAS!$J24","v":0},{"$f":"AC26*FINANZAS!$J24","v":0},{"$f":"AD26*FINANZAS!$J24","v":0},null,{"$f":"IFERROR(D26*FINANZAS!$N24,0)","v":0},{"$f":"IFERROR(E26*FINANZAS!$N24,0)","v":0},{"$f":"IFERROR(F26*FINANZAS!$N24,0)","v":0},{"$f":"IFERROR(G26*FINANZAS!$N24,0)","v":0},{"$f":"IFERROR(H26*FINANZAS!$N24,0)","v":0},{"$f":"IFERROR(I26*FINANZAS!$N24,0)","v":0},{"$f":"IFERROR(J26*FINANZAS!$N24,0)","v":0},{"$f":"IFERROR(K26*FINANZAS!$N24,0)","v":0},{"$f":"IFERROR(L26*FINANZAS!$N24,0)","v":0},{"$f":"IFERROR(M26*FINANZAS!$N24,0)","v":0},{"$f":"IFERROR(N26*FINANZAS!$N24,0)","v":0},{"$f":"IFERROR(O26*FINANZAS!$N24,0)","v":0}]
[null,null,{"$f":"IF(FINANZAS!C25=\"\",\"\",FINANZAS!C25)","v":""},null,null,null,null,null,null,null,null,null,null,null,null,0,null,"",{"$f":"IFERROR(D27*FINANZAS!$K25,0)","v":0},{"$f":"IFERROR(E27*FINANZAS!$K25,0)","v":0},{"$f":"IFERROR(F27*FINANZAS!$K25,0)","v":0},{"$f":"IFERROR(G27*FINANZAS!$K25,0)","v":0},{"$f":"IFERROR(H27*FINANZAS!$K25,0)","v":0},{"$f":"IFERROR(I27*FINANZAS!$K25,0)","v":0},{"$f":"IFERROR(J27*FINANZAS!$K25,0)","v":0},{"$f":"IFERROR(K27*FINANZAS!$K25,0)","v":0},{"$f":"IFERROR(L27*FINANZAS!$K25,0)","v":0},{"$f":"IFERROR(M27*FINANZAS!$K25,0)","v":0},{"$f":"IFERROR(N27*FINANZAS!$K25,0)","v":0},{"$f":"IFERROR(O27*FINANZAS!$K25,0)","v":0},null,{"$f":"IFERROR(D27*FINANZAS!$G25,0)","v":0},{"$f":"IFERROR(E27*FINANZAS!$G25,0)","v":0},{"$f":"IFERROR(F27*FINANZAS!$G25,0)","v":0},{"$f":"IFERROR(G27*FINANZAS!$G25,0)","v":0},{"$f":"IFERROR(H27*FINANZAS!$G25,0)","v":0},{"$f":"IFERROR(I27*FINANZAS!$G25,0)","v":0},{"$f":"IFERROR(J27*FINANZAS!$G25,0)","v":0},{"$f":"IFERROR(K27*FINANZAS!$G25,0)","v":0},{"$f":"IFERROR(L27*FINANZAS!$G25,0)","v":0},{"$f":"IFERROR(M27*FINANZAS!$G25,0)","v":0},{"$f":"IFERROR(N27*FINANZAS!$G25,0)","v":0},{"$f":"IFERROR(O27*FINANZAS!$G25,0)","v":0},null,{"$f":"S27*FINANZAS!$J25","v":0},{"$f":"T27*FINANZAS!$J25","v":0},{"$f":"U27*FINANZAS!$J25","v":0},{"$f":"V27*FINANZAS!$J25","v":0},{"$f":"W27*FINANZAS!$J25","v":0},{"$f":"X27*FINANZAS!$J25","v":0},{"$f":"Y27*FINANZAS!$J25","v":0},{"$f":"Z27*FINANZAS!$J25","v":0},{"$f":"AA27*FINANZAS!$J25","v":0},{"$f":"AB27*FINANZAS!$J25","v":0},{"$f":"AC27*FINANZAS!$J25","v":0},{"$f":"AD27*FINANZAS!$J25","v":0},null,{"$f":"IFERROR(D27*FINANZAS!$N25,0)","v":0},{"$f":"IFERROR(E27*FINANZAS!$N25,0)","v":0},{"$f":"IFERROR(F27*FINANZAS!$N25,0)","v":0},{"$f":"IFERROR(G27*FINANZAS!$N25,0)","v":0},{"$f":"IFERROR(H27*FINANZAS!$N25,0)","v":0},{"$f":"IFERROR(I27*FINANZAS!$N25,0)","v":0},{"$f":"IFERROR(J27*FINANZAS!$N25,0)","v":0},{"$f":"IFERROR(K27*FINANZAS!$N25,0)","v":0},{"$f":"IFERROR(L27*FINANZAS!$N25,0)","v":0},{"$f":"IFERROR(M27*FINANZAS!$N25,0)","v":0},{"$f":"IFERROR(N27*FINANZAS!$N25,0)","v":0},{"$f":"IFERROR(O27*FINANZAS!$N25,0)","v":0}]
[null,null,{"$f":"IF(FINANZAS!C26=\"\",\"\",FINANZAS!C26)","v":""},null,null,null,null,null,null,null,null,null,null,null,null,0,null,"",{"$f":"IFERROR(D28*FINANZAS!$K26,0)","v":0},{"$f":"IFERROR(E28*FINANZAS!$K26,0)","v":0},{"$f":"IFERROR(F28*FINANZAS!$K26,0)","v":0},{"$f":"IFERROR(G28*FINANZAS!$K26,0)","v":0},{"$f":"IFERROR(H28*FINANZAS!$K26,0)","v":0},{"$f":"IFERROR(I28*FINANZAS!$K26,0)","v":0},{"$f":"IFERROR(J28*FINANZAS!$K26,0)","v":0},{"$f":"IFERROR(K28*FINANZAS!$K26,0)","v":0},{"$f":"IFERROR(L28*FINANZAS!$K26,0)","v":0},{"$f":"IFERROR(M28*FINANZAS!$K26,0)","v":0},{"$f":"IFERROR(N28*FINANZAS!$K26,0)","v":0},{"$f":"IFERROR(O28*FINANZAS!$K26,0)","v":0},null,{"$f":"IFERROR(D28*FINANZAS!$G26,0)","v":0},{"$f":"IFERROR(E28*FINANZAS!$G26,0)","v":0},{"$f":"IFERROR(F28*FINANZAS!$G26,0)","v":0},{"$f":"IFERROR(G28*FINANZAS!$G26,0)","v":0},{"$f":"IFERROR(H28*FINANZAS!$G26,0)","v":0},{"$f":"IFERROR(I28*FINANZAS!$G26,0)","v":0},{"$f":"IFERROR(J28*FINANZAS!$G26,0)","v":0},{"$f":"IFERROR(K28*FINANZAS!$G26,0)","v":0},{"$f":"IFERROR(L28*FINANZAS!$G26,0)","v":0},{"$f":"IFERROR(M28*FINANZAS!$G26,0)","v":0},{"$f":"IFERROR(N28*FINANZAS!$G26,0)","v":0},{"$f":"IFERROR(O28*FINANZAS!$G26,0)","v":0},null,{"$f":"S28*FINANZAS!$J26","v":0},{"$f":"T28*FINANZAS!$J26","v":0},{"$f":"U28*FINANZAS!$J26","v":0},{"$f":"V28*FINANZAS!$J26","v":0},{"$f":"W28*FINANZAS!$J26","v":0},{"$f":"X28*FINANZAS!$J26","v":0},{"$f":"Y28*FINANZAS!$J26","v":0},{"$f":"Z28*FINANZAS!$J26","v":0},{"$f":"AA28*FINANZAS!$J26","v":0},{"$f":"AB28*FINANZAS!$J26","v":0},{"$f":"AC28*FINANZAS!$J26","v":0},{"$f":"AD28*FINANZAS!$J26","v":0},null,{"$f":"IFERROR(D28*FINANZAS!$N26,0)","v":0},{"$f":"IFERROR(E28*FINANZAS!$N26,0)","v":0},{"$f":"IFERROR(F28*FINANZAS!$N26,0)","v":0},{"$f":"IFERROR(G28*FINANZAS!$N26,0)","v":0},{"$f":"IFERROR(H28*FINANZAS!$N26,0)","v":0},{"$f":"IFERROR(I28*FINANZAS!$N26,0)","v":0},{"$f":"IFERROR(J28*FINANZAS!$N26,0)","v":0},{"$f":"IFERROR(K28*FINANZAS!$N26,0)","v":0},{"$f":"IFERROR(L28*FINANZAS!$N26,0)","v":0},{"$f":"IFERROR(M28*FINANZAS!$N26,0)","v":0},{"$f":"IFERROR(N28*FINANZAS!$N26,0)","v":0},{"$f":"IFERROR(O28*FINANZAS!$N26,0)","v":0}]
[null,null,{"$f":"IF(FINANZAS!C27=\"\",\"\",FINANZAS!C27)","v":""},null,null,null,null,null,null,null,null,null,null,null,null,0,null,"",{"$f":"IFERROR(D29*FINANZAS!$K27,0)","v":0},{"$f":"IFERROR(E29*FINANZAS!$K27,0)","v":0},{"$f":"IFERROR(F29*FINANZAS!$K27,0)","v":0},{"$f":"IFERROR(G29*FINANZAS!$K27,0)","v":0},{"$f":"IFERROR(H29*FINANZAS!$K27,0)","v":0},{"$f":"IFERROR(I29*FINANZAS!$K27,0)","v":0},{"$f":"IFERROR(J29*FINANZAS!$K27,0)","v":0},{"$f":"IFERROR(K29*FINANZAS!$K27,0)","v":0},{"$f":"IFERROR(L29*FINANZAS!$K27,0)","v":0},{"$f":"IFERROR(M29*FINANZAS!$K27,0)","v":0},{"$f":"IFERROR(N29*FINANZAS!$K27,0)","v":0},{"$f":"IFERROR(O29*FINANZAS!$K27,0)","v":0},null,{"$f":"IFERROR(D29*FINANZAS!$G27,0)","v":0},{"$f":"IFERROR(E29*FINANZAS!$G27,0)","v":0},{"$f":"IFERROR(F29*FINANZAS!$G27,0)","v":0},{"$f":"IFERROR(G29*FINANZAS!$G27,0)","v":0},{"$f":"IFERROR(H29*FINANZAS!$G27,0)","v":0},{"$f":"IFERROR(I29*FINANZAS!$G27,0)","v":0},{"$f":"IFERROR(J29*FINANZAS!$G27,0)","v":0},{"$f":"IFERROR(K29*FINANZAS!$G27,0)","v":0},{"$f":"IFERROR(L29*FINANZAS!$G27,0)","v":0},{"$f":"IFERROR(M29*FINANZAS!$G27,0)","v":0},{"$f":"IFERROR(N29*FINANZAS!$G27,0)","v":0},{"$f":"IFERROR(O29*FINANZAS!$G27,0)","v":0},null,{"$f":"S29*FINANZAS!$J27","v":0},{"$f":"T29*FINANZAS!$J27","v":0},{"$f":"U29*FINANZAS!$J27","v":0},{"$f":"V29*FINANZAS!$J27","v":0},{"$f":"W29*FINANZAS!$J27","v":0},{"$f":"X29*FINANZAS!$J27","v":0},{"$f":"Y29*FINANZAS!$J27","v":0},{"$f":"Z29*FINANZAS!$J27","v":0},{"$f":"AA29*FINANZAS!$J27","v":0},{"$f":"AB29*FINANZAS!$J27","v":0},{"$f":"AC29*FINANZAS!$J27","v":0},{"$f":"AD29*FINANZAS!$J27","v":0},null,{"$f":"IFERROR(D29*FINANZAS!$N27,0)","v":0},{"$f":"IFERROR(E29*FINANZAS!$N27,0)","v":0},{"$f":"IFERROR(F29*FINANZAS!$N27,0)","v":0},{"$f":"IFERROR(G29*FINANZAS!$N27,0)","v":0},{"$f":"IFERROR(H29*FINANZAS!$N27,0)","v":0},{"$f":"IFERROR(I29*FINANZAS!$N27,0)","v":0},{"$f":"IFERROR(J29*FINANZAS!$N27,0)","v":0},{"$f":"IFERROR(K29*FINANZAS!$N27,0)","v":0},{"$f":"IFERROR(L29*FINANZAS!$N27,0)","v":0},{"$f":"IFERROR(M29*FINANZAS!$N27,0)","v":0},{"$f":"IFERROR(N29*FINANZAS!$N27,0)","v":0},{"$f":"IFERROR(O29*FINANZAS!$N27,0)","v":0}]
[null,null,{"$f":"IF(FINANZAS!C28=\"\",\"\",FINANZAS!C28)","v":""},null,null,null,null,null,null,null,null,null,null,null,null,0,null,"",{"$f":"IFERROR(D30*FINANZAS!$K28,0)","v":0},{"$f":"IFERROR(E30*FINANZAS!$K28,0)","v":0},{"$f":"IFERROR(F30*FINANZAS!$K28,0)","v":0},{"$f":"IFERROR(G30*FINANZAS!$K28,0)","v":0},{"$f":"IFERROR(H30*FINANZAS!$K28,0)","v":0},{"$f":"IFERROR(I30*FINANZAS!$K28,0)","v":0},{"$f":"IFERROR(J30*FINANZAS!$K28,0)","v":0},{"$f":"IFERROR(K30*FINANZAS!$K28,0)","v":0},{"$f":"IFERROR(L30*FINANZAS!$K28,0)","v":0},{"$f":"IFERROR(M30*FINANZAS!$K28,0)","v":0},{"$f":"IFERROR(N30*FINANZAS!$K28,0)","v":0},{"$f":"IFERROR(O30*FINANZAS!$K28,0)","v":0},null,{"$f":"IFERROR(D30*FINANZAS!$G28,0)","v":0},{"$f":"IFERROR(E30*FINANZAS!$G28,0)","v":0},{"$f":"IFERROR(F30*FINANZAS!$G28,0)","v":0},{"$f":"IFERROR(G30*FINANZAS!$G28,0)","v":0},{"$f":"IFERROR(H30*FINANZAS!$G28,0)","v":0},{"$f":"IFERROR(I30*FINANZAS!$G28,0)","v":0},{"$f":"IFERROR(J30*FINANZAS!$G28,0)","v":0},{"$f":"IFERROR(K30*FINANZAS!$G28,0)","v":0},{"$f":"IFERROR(L30*FINANZAS!$G28,0)","v":0},{"$f":"IFERROR(M30*FINANZAS!$G28,0)","v":0},{"$f":"IFERROR(N30*FINANZAS!$G28,0)","v":0},{"$f":"IFERROR(O30*FINANZAS!$G28,0)","v":0},null,{"$f":"S30*FINANZAS!$J28","v":0},{"$f":"T30*FINANZAS!$J28","v":0},{"$f":"U30*FINANZAS!$J28","v":0},{"$f":"V30*FINANZAS!$J28","v":0},{"$f":"W30*FINANZAS!$J28","v":0},{"$f":"X30*FINANZAS!$J28","v":0},{"$f":"Y30*FINANZAS!$J28","v":0},{"$f":"Z30*FINANZAS!$J28","v":0},{"$f":"AA30*FINANZAS!$J28","v":0},{"$f":"AB30*FINANZAS!$J28","v":0},{"$f":"AC30*FINANZAS!$J28","v":0},{"$f":"AD30*FINANZAS!$J28","v":0},null,{"$f":"IFERROR(D30*FINANZAS!$N28,0)","v":0},{"$f":"IFERROR(E30*FINANZAS!$N28,0)","v":0},{"$f":"IFERROR(F30*FINANZAS!$N28,0)","v":0},{"$f":"IFERROR(G30*FINANZAS!$N28,0)","v":0},{"$f":"IFERROR(H30*FINANZAS!$N28,0)","v":0},{"$f":"IFERROR(I30*FINANZAS!$N28,0)","v":0},{"$f":"IFERROR(J30*FINANZAS!$N28,0)","v":0},{"$f":"IFERROR(K30*FINANZAS!$N28,0)","v":0},{"$f":"IFERROR(L30*FINANZAS!$N28,0)","v":0},{"$f":"IFERROR(M30*FINANZAS!$N28,0)","v":0},{"$f":"IFERROR(N30*FINANZAS!$N28,0)","v":0},{"$f":"IFERROR(O30*FINANZAS!$N28,0)","v":0}]
[null,null,{"$f":"IF(FINANZAS!C29=\"\",\"\",FINANZAS!C29)","v":""},null,null,null,null,null,null,null,null,null,null,null,null,0,null,"",{"$f":"IFERROR(D31*FINANZAS!$K29,0)","v":0},{"$f":"IFERROR(E31*FINANZAS!$K29,0)","v":0},{"$f":"IFERROR(F31*FINANZAS!$K29,0)","v":0},{"$f":"IFERROR(G31*FINANZAS!$K29,0)","v":0},{"$f":"IFERROR(H31*FINANZAS!$K29,0)","v":0},{"$f":"IFERROR(I31*FINANZAS!$K29,0)","v":0},{"$f":"IFERROR(J31*FINANZAS!$K29,0)","v":0},{"$f":"IFERROR(K31*FINANZAS!$K29,0)","v":0},{"$f":"IFERROR(L31*FINANZAS!$K29,0)","v":0},{"$f":"IFERROR(M31*FINANZAS!$K29,0)","v":0},{"$f":"IFERROR(N31*FINANZAS!$K29,0)","v":0},{"$f":"IFERROR(O31*FINANZAS!$K29,0)","v":0},null,{"$f":"IFERROR(D31*FINANZAS!$G29,0)","v":0},{"$f":"IFERROR(E31*FINANZAS!$G29,0)","v":0},{"$f":"IFERROR(F31*FINANZAS!$G29,0)","v":0},{"$f":"IFERROR(G31*FINANZAS!$G29,0)","v":0},{"$f":"IFERROR(H31*FINANZAS!$G29,0)","v":0},{"$f":"IFERROR(I31*FINANZAS!$G29,0)","v":0},{"$f":"IFERROR(J31*FINANZAS!$G29,0)","v":0},{"$f":"IFERROR(K31*FINANZAS!$G29,0)","v":0},{"$f":"IFERROR(L31*FINANZAS!$G29,0)","v":0},{"$f":"IFERROR(M31*FINANZAS!$G29,0)","v":0},{"$f":"IFERROR(N31*FINANZAS!$G29,0)","v":0},{"$f":"IFERROR(O31*FINANZAS!$G29,0)","v":0},null,{"$f":"S31*FINANZAS!$J29","v":0},{"$f":"T31*FINANZAS!$J29","v":0},{"$f":"U31*FINANZAS!$J29","v":0},{"$f":"V31*FINANZAS!$J29","v":0},{"$f":"W31*FINANZAS!$J29","v":0},{"$f":"X31*FINANZAS!$J29","v":0},{"$f":"Y31*FINANZAS!$J29","v":0},{"$f":"Z31*FINANZAS!$J29","v":0},{"$f":"AA31*FINANZAS!$J29","v":0},{"$f":"AB31*FINANZAS!$J29","v":0},{"$f":"AC31*FINANZAS!$J29","v":0},{"$f":"AD31*FINANZAS!$J29","v":0},null,{"$f":"IFERROR(D31*FINANZAS!$N29,0)","v":0},{"$f":"IFERROR(E31*FINANZAS!$N29,0)","v":0},{"$f":"IFERROR(F31*FINANZAS!$N29,0)","v":0},{"$f":"IFERROR(G31*FINANZAS!$N29,0)","v":0},{"$f":"IFERROR(H31*FINANZAS!$N29,0)","v":0},{"$f":"IFERROR(I31*FINANZAS!$N29,0)","v":0},{"$f":"IFERROR(J31*FINANZAS!$N29,0)","v":0},{"$f":"IFERROR(K31*FINANZAS!$N29,0)","v":0},{"$f":"IFERROR(L31*FINANZAS!$N29,0)","v":0},{"$f":"IFERROR(M31*FINANZAS!$N29,0)","v":0},{"$f":"IFERROR(N31*FINANZAS!$N29,0)","v":0},{"$f":"IFERROR(O31*FINANZAS!$N29,0)","v":0}]
[null,null,{"$f":"IF(FINANZAS!C30=\"\",\"\",FINANZAS!C30)","v":""},null,null,null,null,null,null,null,null,null,null,null,null,0,null,"",{"$f":"IFERROR(D32*FINANZAS!$K30,0)","v":0},{"$f":"IFERROR(E32*FINANZAS!$K30,0)","v":0},{"$f":"IFERROR(F32*FINANZAS!$K30,0)","v":0},{"$f":"IFERROR(G32*FINANZAS!$K30,0)","v":0},{"$f":"IFERROR(H32*FINANZAS!$K30,0)","v":0},{"$f":"IFERROR(I32*FINANZAS!$K30,0)","v":0},{"$f":"IFERROR(J32*FINANZAS!$K30,0)","v":0},{"$f":"IFERROR(K32*FINANZAS!$K30,0)","v":0},{"$f":"IFERROR(L32*FINANZAS!$K30,0)","v":0},{"$f":"IFERROR(M32*FINANZAS!$K30,0)","v":0},{"$f":"IFERROR(N32*FINANZAS!$K30,0)","v":0},{"$f":"IFERROR(O32*FINANZAS!$K30,0)","v":0},null,{"$f":"IFERROR(D32*FINANZAS!$G30,0)","v":0},{"$f":"IFERROR(E32*FINANZAS!$G30,0)","v":0},{"$f":"IFERROR(F32*FINANZAS!$G30,0)","v":0},{"$f":"IFERROR(G32*FINANZAS!$G30,0)","v":0},{"$f":"IFERROR(H32*FINANZAS!$G30,0)","v":0},{"$f":"IFERROR(I32*FINANZAS!$G30,0)","v":0},{"$f":"IFERROR(J32*FINANZAS!$G30,0)","v":0},{"$f":"IFERROR(K32*FINANZAS!$G30,0)","v":0},{"$f":"IFERROR(L32*FINANZAS!$G30,0)","v":0},{"$f":"IFERROR(M32*FINANZAS!$G30,0)","v":0},{"$f":"IFERROR(N32*FINANZAS!$G30,0)","v":0},{"$f":"IFERROR(O32*FINANZAS!$G30,0)","v":0},null,{"$f":"S32*FINANZAS!$J30","v":0},{"$f":"T32*FINANZAS!$J30","v":0},{"$f":"U32*FINANZAS!$J30","v":0},{"$f":"V32*FINANZAS!$J30","v":0},{"$f":"W32*FINANZAS!$J30","v":0},{"$f":"X32*FINANZAS!$J30","v":0},{"$f":"Y32*FINANZAS!$J30","v":0},{"$f":"Z32*FINANZAS!$J30","v":0},{"$f":"AA32*FINANZAS!$J30","v":0},{"$f":"AB32*FINANZAS!$J30","v":0},{"$f":"AC32*FINANZAS!$J30","v":0},{"$f":"AD32*FINANZAS!$J30","v":0},null,{"$f":"IFERROR(D32*FINANZAS!$N30,0)","v":0},{"$f":"IFERROR(E32*FINANZAS!$N30,0)","v":0},{"$f":"IFERROR(F32*FINANZAS!$N30,0)","v":0},{"$f":"IFERROR(G32*FINANZAS!$N30,0)","v":0},{"$f":"IFERROR(H32*FINANZAS!$N30,0)","v":0},{"$f":"IFERROR(I32*FINANZAS!$N30,0)","v":0},{"$f":"IFERROR(J32*FINANZAS!$N30,0)","v":0},{"$f":"IFERROR(K32*FINANZAS!$N30,0)","v":0},{"$f":"IFERROR(L32*FINANZAS!$N30,0)","v":0},{"$f":"IFERROR(M32*FINANZAS!$N30,0)","v":0},{"$f":"IFERROR(N32*FINANZAS!$N30,0)","v":0},{"$f":"IFERROR(O32*FINANZAS!$N30,0)","v":0}]
[null,null,{"$f":"IF(FINANZAS!C31=\"\",\"\",FINANZAS!C31)","v":""},null,null,null,null,null,null,null,null,null,null,null,null,0,null,"",{"$f":"IFERROR(D33*FINANZAS!$K31,0)","v":0},{"$f":"IFERROR(E33*FINANZAS!$K31,0)","v":0},{"$f":"IFERROR(F33*FINANZAS!$K31,0)","v":0},{"$f":"IFERROR(G33*FINANZAS!$K31,0)","v":0},{"$f":"IFERROR(H33*FINANZAS!$K31,0)","v":0},{"$f":"IFERROR(I33*FINANZAS!$K31,0)","v":0},{"$f":"IFERROR(J33*FINANZAS!$K31,0)","v":0},{"$f":"IFERROR(K33*FINANZAS!$K31,0)","v":0},{"$f":"IFERROR(L33*FINANZAS!$K31,0)","v":0},{"$f":"IFERROR(M33*FINANZAS!$K31,0)","v":0},{"$f":"IFERROR(N33*FINANZAS!$K31,0)","v":0},{"$f":"IFERROR(O33*FINANZAS!$K31,0)","v":0},null,{"$f":"IFERROR(D33*FINANZAS!$G31,0)","v":0},{"$f":"IFERROR(E33*FINANZAS!$G31,0)","v":0},{"$f":"IFERROR(F33*FINANZAS!$G31,0)","v":0},{"$f":"IFERROR(G33*FINANZAS!$G31,0)","v":0},{"$f":"IFERROR(H33*FINANZAS!$G31,0)","v":0},{"$f":"IFERROR(I33*FINANZAS!$G31,0)","v":0},{"$f":"IFERROR(J33*FINANZAS!$G31,0)","v":0},{"$f":"IFERROR(K33*FINANZAS!$G31,0)","v":0},{"$f":"IFERROR(L33*FINANZAS!$G31,0)","v":0},{"$f":"IFERROR(M33*FINANZAS!$G31,0)","v":0},{"$f":"IFERROR(N33*FINANZAS!$G31,0)","v":0},{"$f":"IFERROR(O33*FINANZAS!$G31,0)","v":0},null,{"$f":"S33*FINANZAS!$J31","v":0},{"$f":"T33*FINANZAS!$J31","v":0},{"$f":"U33*FINANZAS!$J31","v":0},{"$f":"V33*FINANZAS!$J31","v":0},{"$f":"W33*FINANZAS!$J31","v":0},{"$f":"X33*FINANZAS!$J31","v":0},{"$f":"Y33*FINANZAS!$J31","v":0},{"$f":"Z33*FINANZAS!$J31","v":0},{"$f":"AA33*FINANZAS!$J31","v":0},{"$f":"AB33*FINANZAS!$J31","v":0},{"$f":"AC33*FINANZAS!$J31","v":0},{"$f":"AD33*FINANZAS!$J31","v":0},null,{"$f":"IFERROR(D33*FINANZAS!$N31,0)","v":0},{"$f":"IFERROR(E33*FINANZAS!$N31,0)","v":0},{"$f":"IFERROR(F33*FINANZAS!$N31,0)","v":0},{"$f":"IFERROR(G33*FINANZAS!$N31,0)","v":0},{"$f":"IFERROR(H33*FINANZAS!$N31,0)","v":0},{"$f":"IFERROR(I33*FINANZAS!$N31,0)","v":0},{"$f":"IFERROR(J33*FINANZAS!$N31,0)","v":0},{"$f":"IFERROR(K33*FINANZAS!$N31,0)","v":0},{"$f":"IFERROR(L33*FINANZAS!$N31,0)","v":0},{"$f":"IFERROR(M33*FINANZAS!$N31,0)","v":0},{"$f":"IFERROR(N33*FINANZAS!$N31,0)","v":0},{"$f":"IFERROR(O33*FINANZAS!$N31,0)","v":0}]
[null,null,{"$f":"IF(FINANZAS!C32=\"\",\"\",FINANZAS!C32)","v":""},null,null,null,null,null,null,null,null,null,null,null,null,0,null,"",{"$f":"IFERROR(D34*FINANZAS!$K32,0)","v":0},{"$f":"IFERROR(E34*FINANZAS!$K32,0)","v":0},{"$f":"IFERROR(F34*FINANZAS!$K32,0)","v":0},{"$f":"IFERROR(G34*FINANZAS!$K32,0)","v":0},{"$f":"IFERROR(H34*FINANZAS!$K32,0)","v":0},{"$f":"IFERROR(I34*FINANZAS!$K32,0)","v":0},{"$f":"IFERROR(J34*FINANZAS!$K32,0)","v":0},{"$f":"IFERROR(K34*FINANZAS!$K32,0)","v":0},{"$f":"IFERROR(L34*FINANZAS!$K32,0)","v":0},{"$f":"IFERROR(M34*FINANZAS!$K32,0)","v":0},{"$f":"IFERROR(N34*FINANZAS!$K32,0)","v":0},{"$f":"IFERROR(O34*FINANZAS!$K32,0)","v":0},null,{"$f":"IFERROR(D34*FINANZAS!$G32,0)","v":0},{"$f":"IFERROR(E34*FINANZAS!$G32,0)","v":0},{"$f":"IFERROR(F34*FINANZAS!$G32,0)","v":0},{"$f":"IFERROR(G34*FINANZAS!$G32,0)","v":0},{"$f":"IFERROR(H34*FINANZAS!$G32,0)","v":0},{"$f":"IFERROR(I34*FINANZAS!$G32,0)","v":0},{"$f":"IFERROR(J34*FINANZAS!$G32,0)","v":0},{"$f":"IFERROR(K34*FINANZAS!$G32,0)","v":0},{"$f":"IFERROR(L34*FINANZAS!$G32,0)","v":0},{"$f":"IFERROR(M34*FINANZAS!$G32,0)","v":0},{"$f":"IFERROR(N34*FINANZAS!$G32,0)","v":0},{"$f":"IFERROR(O34*FINANZAS!$G32,0)","v":0},null,{"$f":"S34*FINANZAS!$J32","v":0},{"$f":"T34*FINANZAS!$J32","v":0},{"$f":"U34*FINANZAS!$J32","v":0},{"$f":"V34*FINANZAS!$J32","v":0},{"$f":"W34*FINANZAS!$J32","v":0},{"$f":"X34*FINANZAS!$J32","v":0},{"$f":"Y34*FINANZAS!$J32","v":0},{"$f":"Z34*FINANZAS!$J32","v":0},{"$f":"AA34*FINANZAS!$J32","v":0},{"$f":"AB34*FINANZAS!$J32","v":0},{"$f":"AC34*FINANZAS!$J32","v":0},{"$f":"AD34*FINANZAS!$J32","v":0},null,{"$f":"IFERROR(D34*FINANZAS!$N32,0)","v":0},{"$f":"IFERROR(E34*FINANZAS!$N32,0)","v":0},{"$f":"IFERROR(F34*FINANZAS!$N32,0)","v":0},{"$f":"IFERROR(G34*FINANZAS!$N32,0)","v":0},{"$f":"IFERROR(H34*FINANZAS!$N32,0)","v":0},{"$f":"IFERROR(I34*FINANZAS!$N32,0)","v":0},{"$f":"IFERROR(J34*FINANZAS!$N32,0)","v":0},{"$f":"IFERROR(K34*FINANZAS!$N32,0)","v":0},{"$f":"IFERROR(L34*FINANZAS!$N32,0)","v":0},{"$f":"IFERROR(M34*FINANZAS!$N32,0)","v":0},{"$f":"IFERROR(N34*FINANZAS!$N32,0)","v":0},{"$f":"IFERROR(O34*FINANZAS!$N32,0)","v":0}]
[null,null,{"$f":"IF(FINANZAS!C33=\"\",\"\",FINANZAS!C33)","v":""},null,null,null,null,null,null,null,null,null,null,null,null,0,null,"",{"$f":"IFERROR(D35*FINANZAS!$K33,0)","v":0},{"$f":"IFERROR(E35*FINANZAS!$K33,0)","v":0},{"$f":"IFERROR(F35*FINANZAS!$K33,0)","v":0},{"$f":"IFERROR(G35*FINANZAS!$K33,0)","v":0},{"$f":"IFERROR(H35*FINANZAS!$K33,0)","v":0},{"$f":"IFERROR(I35*FINANZAS!$K33,0)","v":0},{"$f":"IFERROR(J35*FINANZAS!$K33,0)","v":0},{"$f":"IFERROR(K35*FINANZAS!$K33,0)","v":0},{"$f":"IFERROR(L35*FINANZAS!$K33,0)","v":0},{"$f":"IFERROR(M35*FINANZAS!$K33,0)","v":0},{"$f":"IFERROR(N35*FINANZAS!$K33,0)","v":0},{"$f":"IFERROR(O35*FINANZAS!$K33,0)","v":0},null,{"$f":"IFERROR(D35*FINANZAS!$G33,0)","v":0},{"$f":"IFERROR(E35*FINANZAS!$G33,0)","v":0},{"$f":"IFERROR(F35*FINANZAS!$G33,0)","v":0},{"$f":"IFERROR(G35*FINANZAS!$G33,0)","v":0},{"$f":"IFERROR(H35*FINANZAS!$G33,0)","v":0},{"$f":"IFERROR(I35*FINANZAS!$G33,0)","v":0},{"$f":"IFERROR(J35*FINANZAS!$G33,0)","v":0},{"$f":"IFERROR(K35*FINANZAS!$G33,0)","v":0},{"$f":"IFERROR(L35*FINANZAS!$G33,0)","v":0},{"$f":"IFERROR(M35*FINANZAS!$G33,0)","v":0},{"$f":"IFERROR(N35*FINANZAS!$G33,0)","v":0},{"$f":"IFERROR(O35*FINANZAS!$G33,0)","v":0},null,{"$f":"S35*FINANZAS!$J33","v":0},{"$f":"T35*FINANZAS!$J33","v":0},{"$f":"U35*FINANZAS!$J33","v":0},{"$f":"V35*FINANZAS!$J33","v":0},{"$f":"W35*FINANZAS!$J33","v":0},{"$f":"X35*FINANZAS!$J33","v":0},{"$f":"Y35*FINANZAS!$J33","v":0},{"$f":"Z35*FINANZAS!$J33","v":0},{"$f":"AA35*FINANZAS!$J33","v":0},{"$f":"AB35*FINANZAS!$J33","v":0},{"$f":"AC35*FINANZAS!$J33","v":0},{"$f":"AD35*FINANZAS!$J33","v":0},null,{"$f":"IFERROR(D35*FINANZAS!$N33,0)","v":0},{"$f":"IFERROR(E35*FINANZAS!$N33,0)","v":0},{"$f":"IFERROR(F35*FINANZAS!$N33,0)","v":0},{"$f":"IFERROR(G35*FINANZAS!$N33,0)","v":0},{"$f":"IFERROR(H35*FINANZAS!$N33,0)","v":0},{"$f":"IFERROR(I35*FINANZAS!$N33,0)","v":0},{"$f":"IFERROR(J35*FINANZAS!$N33,0)","v":0},{"$f":"IFERROR(K35*FINANZAS!$N33,0)","v":0},{"$f":"IFERROR(L35*FINANZAS!$N33,0)","v":0},{"$f":"IFERROR(M35*FINANZAS!$N33,0)","v":0},{"$f":"IFERROR(N35*FINANZAS!$N33,0)","v":0},{"$f":"IFERROR(O35*FINANZAS!$N33,0)","v":0}]
[null,null,{"$f":"IF(FINANZAS!C34=\"\",\"\",FINANZAS!C34)","v":""},null,null,null,null,null,null,null,null,null,null,null,null,0,null,"",{"$f":"IFERROR(D36*FINANZAS!$K34,0)","v":0},{"$f":"IFERROR(E36*FINANZAS!$K34,0)","v":0},{"$f":"IFERROR(F36*FINANZAS!$K34,0)","v":0},{"$f":"IFERROR(G36*FINANZAS!$K34,0)","v":0},{"$f":"IFERROR(H36*FINANZAS!$K34,0)","v":0},{"$f":"IFERROR(I36*FINANZAS!$K34,0)","v":0},{"$f":"IFERROR(J36*FINANZAS!$K34,0)","v":0},{"$f":"IFERROR(K36*FINANZAS!$K34,0)","v":0},{"$f":"IFERROR(L36*FINANZAS!$K34,0)","v":0},{"$f":"IFERROR(M36*FINANZAS!$K34,0)","v":0},{"$f":"IFERROR(N36*FINANZAS!$K34,0)","v":0},{"$f":"IFERROR(O36*FINANZAS!$K34,0)","v":0},null,{"$f":"IFERROR(D36*FINANZAS!$G34,0)","v":0},{"$f":"IFERROR(E36*FINANZAS!$G34,0)","v":0},{"$f":"IFERROR(F36*FINANZAS!$G34,0)","v":0},{"$f":"IFERROR(G36*FINANZAS!$G34,0)","v":0},{"$f":"IFERROR(H36*FINANZAS!$G34,0)","v":0},{"$f":"IFERROR(I36*FINANZAS!$G34,0)","v":0},{"$f":"IFERROR(J36*FINANZAS!$G34,0)","v":0},{"$f":"IFERROR(K36*FINANZAS!$G34,0)","v":0},{"$f":"IFERROR(L36*FINANZAS!$G34,0)","v":0},{"$f":"IFERROR(M36*FINANZAS!$G34,0)","v":0},{"$f":"IFERROR(N36*FINANZAS!$G34,0)","v":0},{"$f":"IFERROR(O36*FINANZAS!$G34,0)","v":0},null,{"$f":"S36*FINANZAS!$J34","v":0},{"$f":"T36*FINANZAS!$J34","v":0},{"$f":"U36*FINANZAS!$J34","v":0},{"$f":"V36*FINANZAS!$J34","v":0},{"$f":"W36*FINANZAS!$J34","v":0},{"$f":"X36*FINANZAS!$J34","v":0},{"$f":"Y36*FINANZAS!$J34","v":0},{"$f":"Z36*FINANZAS!$J34","v":0},{"$f":"AA36*FINANZAS!$J34","v":0},{"$f":"AB36*FINANZAS!$J34","v":0},{"$f":"AC36*FINANZAS!$J34","v":0},{"$f":"AD36*FINANZAS!$J34","v":0},null,{"$f":"IFERROR(D36*FINANZAS!$N34,0)","v":0},{"$f":"IFERROR(E36*FINANZAS!$N34,0)","v":0},{"$f":"IFERROR(F36*FINANZAS!$N34,0)","v":0},{"$f":"IFERROR(G36*FINANZAS!$N34,0)","v":0},{"$f":"IFERROR(H36*FINANZAS!$N34,0)","v":0},{"$f":"IFERROR(I36*FINANZAS!$N34,0)","v":0},{"$f":"IFERROR(J36*FINANZAS!$N34,0)","v":0},{"$f":"IFERROR(K36*FINANZAS!$N34,0)","v":0},{"$f":"IFERROR(L36*FINANZAS!$N34,0)","v":0},{"$f":"IFERROR(M36*FINANZAS!$N34,0)","v":0},{"$f":"IFERROR(N36*FINANZAS!$N34,0)","v":0},{"$f":"IFERROR(O36*FINANZAS!$N34,0)","v":0}]
[null,null,{"$f":"IF(FINANZAS!C35=\"\",\"\",FINANZAS!C35)","v":""},null,null,null,null,null,null,null,null,null,null,null,null,0,null,"",{"$f":"IFERROR(D37*FINANZAS!$K35,0)","v":0},{"$f":"IFERROR(E37*FINANZAS!$K35,0)","v":0},{"$f":"IFERROR(F37*FINANZAS!$K35,0)","v":0},{"$f":"IFERROR(G37*FINANZAS!$K35,0)","v":0},{"$f":"IFERROR(H37*FINANZAS!$K35,0)","v":0},{"$f":"IFERROR(I37*FINANZAS!$K35,0)","v":0},{"$f":"IFERROR(J37*FINANZAS!$K35,0)","v":0},{"$f":"IFERROR(K37*FINANZAS!$K35,0)","v":0},{"$f":"IFERROR(L37*FINANZAS!$K35,0)","v":0},{"$f":"IFERROR(M37*FINANZAS!$K35,0)","v":0},{"$f":"IFERROR(N37*FINANZAS!$K35,0)","v":0},{"$f":"IFERROR(O37*FINANZAS!$K35,0)","v":0},null,{"$f":"IFERROR(D37*FINANZAS!$G35,0)","v":0},{"$f":"IFERROR(E37*FINANZAS!$G35,0)","v":0},{"$f":"IFERROR(F37*FINANZAS!$G35,0)","v":0},{"$f":"IFERROR(G37*FINANZAS!$G35,0)","v":0},{"$f":"IFERROR(H37*FINANZAS!$G35,0)","v":0},{"$f":"IFERROR(I37*FINANZAS!$G35,0)","v":0},{"$f":"IFERROR(J37*FINANZAS!$G35,0)","v":0},{"$f":"IFERROR(K37*FINANZAS!$G35,0)","v":0},{"$f":"IFERROR(L37*FINANZAS!$G35,0)","v":0},{"$f":"IFERROR(M37*FINANZAS!$G35,0)","v":0},{"$f":"IFERROR(N37*FINANZAS!$G35,0)","v":0},{"$f":"IFERROR(O37*FINANZAS!$G35,0)","v":0},null,{"$f":"S37*FINANZAS!$J35","v":0},{"$f":"T37*FINANZAS!$J35","v":0},{"$f":"U37*FINANZAS!$J35","v":0},{"$f":"V37*FINANZAS!$J35","v":0},{"$f":"W37*FINANZAS!$J35","v":0},{"$f":"X37*FINANZAS!$J35","v":0},{"$f":"Y37*FINANZAS!$J35","v":0},{"$f":"Z37*FINANZAS!$J35","v":0},{"$f":"AA37*FINANZAS!$J35","v":0},{"$f":"AB37*FINANZAS!$J35","v":0},{"$f":"AC37*FINANZAS!$J35","v":0},{"$f":"AD37*FINANZAS!$J35","v":0},null,{"$f":"IFERROR(D37*FINANZAS!$N35,0)","v":0},{"$f":"IFERROR(E37*FINANZAS!$N35,0)","v":0},{"$f":"IFERROR(F37*FINANZAS!$N35,0)","v":0},{"$f":"IFERROR(G37*FINANZAS!$N35,0)","v":0},{"$f":"IFERROR(H37*FINANZAS!$N35,0)","v":0},{"$f":"IFERROR(I37*FINANZAS!$N35,0)","v":0},{"$f":"IFERROR(J37*FINANZAS!$N35,0)","v":0},{"$f":"IFERROR(K37*FINANZAS!$N35,0)","v":0},{"$f":"IFERROR(L37*FINANZAS!$N35,0)","v":0},{"$f":"IFERROR(M37*FINANZAS!$N35,0)","v":0},{"$f":"IFERROR(N37*FINANZAS!$N35,0)","v":0},{"$f":"IFERROR(O37*FINANZAS!$N35,0)","v":0}]
[null,null,{"$f":"IF(FINANZAS!C36=\"\",\"\",FINANZAS!C36)","v":""},null,null,null,null,null,null,null,null,null,null,null,null,0,null,"",{"$f":"IFERROR(D38*FINANZAS!$K36,0)","v":0},{"$f":"IFERROR(E38*FINANZAS!$K36,0)","v":0},{"$f":"IFERROR(F38*FINANZAS!$K36,0)","v":0},{"$f":"IFERROR(G38*FINANZAS!$K36,0)","v":0},{"$f":"IFERROR(H38*FINANZAS!$K36,0)","v":0},{"$f":"IFERROR(I38*FINANZAS!$K36,0)","v":0},{"$f":"IFERROR(J38*FINANZAS!$K36,0)","v":0},{"$f":"IFERROR(K38*FINANZAS!$K36,0)","v":0},{"$f":"IFERROR(L38*FINANZAS!$K36,0)","v":0},{"$f":"IFERROR(M38*FINANZAS!$K36,0)","v":0},{"$f":"IFERROR(N38*FINANZAS!$K36,0)","v":0},{"$f":"IFERROR(O38*FINANZAS!$K36,0)","v":0},null,{"$f":"D38*FINANZAS!$E$6","v":0},{"$f":"E38*FINANZAS!$E$6","v":0},{"$f":"F38*FINANZAS!$E$6","v":0},{"$f":"G38*FINANZAS!$E$6","v":0},{"$f":"H38*FINANZAS!$E$6","v":0},{"$f":"I38*FINANZAS!$E$6","v":0},{"$f":"J38*FINANZAS!$E$6","v":0},{"$f":"K38*FINANZAS!$E$6","v":0},{"$f":"L38*FINANZAS!$E$6","v":0},{"$f":"M38*FINANZAS!$E$6","v":0},{"$f":"N38*FINANZAS!$E$6","v":0},{"$f":"O38*FINANZAS!$E$6","v":0},null,{"$f":"S38*FINANZAS!$J36","v":0},{"$f":"T38*FINANZAS!$J36","v":0},{"$f":"U38*FINANZAS!$J36","v":0},{"$f":"V38*FINANZAS!$J36","v":0},{"$f":"W38*FINANZAS!$J36","v":0},{"$f":"X38*FINANZAS!$J36","v":0},{"$f":"Y38*FINANZAS!$J36","v":0},{"$f":"Z38*FINANZAS!$J36","v":0},{"$f":"AA38*FINANZAS!$J36","v":0},{"$f":"AB38*FINANZAS!$J36","v":0},{"$f":"AC38*FINANZAS!$J36","v":0},{"$f":"AD38*FINANZAS!$J36","v":0},null,{"$f":"IFERROR(D38*FINANZAS!$N36,0)","v":0},{"$f":"IFERROR(E38*FINANZAS!$N36,0)","v":0},{"$f":"IFERROR(F38*FINANZAS!$N36,0)","v":0},{"$f":"IFERROR(G38*FINANZAS!$N36,0)","v":0},{"$f":"IFERROR(H38*FINANZAS!$N36,0)","v":0},{"$f":"IFERROR(I38*FINANZAS!$N36,0)","v":0},{"$f":"IFERROR(J38*FINANZAS!$N36,0)","v":0},{"$f":"IFERROR(K38*FINANZAS!$N36,0)","v":0},{"$f":"IFERROR(L38*FINANZAS!$N36,0)","v":0},{"$f":"IFERROR(M38*FINANZAS!$N36,0)","v":0},{"$f":"IFERROR(N38*FINANZAS!$N36,0)","v":0},{"$f":"IFERROR(O38*FINANZAS!$N36,0)","v":0}]

{"sheet":"PROJ3","index":19,"n_rows":38,"n_cols":69,"rows_kept":38,"cut":false,"hidden":false,"merged":[[0,12,0,13],[0,2,0,5],[0,6,0,7],[0,8,0,9],[0,10,0,11]]}
[]
[]
[]
[null,null,"Seleccione el año ->","resumen","1 año","2 años","3 años","4 años","5 años"]
[]
[null,null,"Proyecte una cantidad de ventas realizadas por cada producto o servicio en los meses siguientes",null,null,null,null,null,null,null,null,null,null,null,null,null,null,null,"Proyección de ingresos",null,null,null,null,null,null,null,null,null,null,null,null,"Los costos variables",null,null,null,null,null,null,null,null,null,null,null,null,"impuestos",null,null,null,null,null,null,null,null,null,null,null,null,"Margen de contribución"]
[null,null,"Descripción","Enero","Febrero","Marzo","Abril","Mayo","Junio","Julio","Agosto","Septiembre","Octubre","Noviembre","Diciembre","Total",null,"repetición","enero","febrero","marzo","abril","mayo","junio","julio","agosto","septiembre","octubre","noviembre","diciembre",null,"enero","febrero","marzo","abril","mayo","junio","julio","agosto","septiembre","octubre","noviembre","diciembre",null,"enero","febrero","marzo","abril","mayo","junio","julio","agosto","septiembre","octubre","noviembre","diciembre",null,"enero","febrero","marzo","abril","mayo","junio","julio","agosto","septiembre","octubre","noviembre","diciembre"]
[null,null,{"$f":"IF(FINANZAS!C6=\"\",\"\",FINANZAS!C6)","v":"Café Anibalito "},400,500,400,500,600,700,400,500,500,500,400,700,{"$f":"SUM(S8:AD8)","v":2332894.4748179591},null,{"$f":"C8","v":"Café Anibalito "},{"$f":"IFERROR(D8*FINANZAS!$K6,0)","v":152976.68687330882},{"$f":"IFERROR(E8*FINANZAS!$K6,0)","v":191220.858591636},{"$f":"IFERROR(F8*FINANZAS!$K6,0)","v":152976.68687330882},{"$f":"IFERROR(G8*FINANZAS!$K6,0)","v":191220.858591636},{"$f":"IFERROR(H8*FINANZAS!$K6,0)","v":229465.03030996321},{"$f":"IFERROR(I8*FINANZAS!$K6,0)","v":267709.20202829043},{"$f":"IFERROR(J8*FINANZAS!$K6,0)","v":152976.68687330882},{"$f":"IFERROR(K8*FINANZAS!$K6,0)","v":191220.858591636},{"$f":"IFERROR(L8*FINANZAS!$K6,0)","v":191220.858591636},{"$f":"IFERROR(M8*FINANZAS!$K6,0)","v":191220.858591636},{"$f":"IFERROR(N8*FINANZAS!$K6,0)","v":152976.68687330882},{"$f":"IFERROR(O8*FINANZAS!$K6,0)","v":267709.20202829043},null,{"$f":"IFERROR(D8*FINANZAS!$G6,0)","v":55751.503660494782},{"$f":"IFERROR(E8*FINANZAS!$G6,0)","v":69689.37957561847},{"$f":"IFERROR(F8*FINANZAS!$G6,0)","v":55751.503660494782},{"$f":"IFERROR(G8*FINANZAS!$G6,0)","v":69689.37957561847},{"$f":"IFERROR(H8*FINANZAS!$G6,0)","v":83627.255490742173},{"$f":"IFERROR(I8*FINANZAS!$G6,0)","v":97565.131405865861},{"$f":"IFERROR(J8*FINANZAS!$G6,0)","v":55751.503660494782},{"$f":"IFERROR(K8*FINANZAS!$G6,0)","v":69689.37957561847},{"$f":"IFERROR(L8*FINANZAS!$G6,0)","v":69689.37957561847},{"$f":"IFERROR(M8*FINANZAS!$G6,0)","v":69689.37957561847},{"$f":"IFERROR(N8*FINANZAS!$G6,0)","v":55751.503660494782},{"$f":"IFERROR(O8*FINANZAS!$G6,0)","v":97565.131405865861},null,{"$f":"S8*FINANZAS!$J6","v":27535.803637195586},{"$f":"T8*FINANZAS!$J6","v":34419.754546494478},{"$f":"U8*FINANZAS!$J6","v":27535.803637195586},{"$f":"V8*FINANZAS!$J6","v":34419.754546494478},{"$f":"W8*FINANZAS!$J6","v":41303.705455793381},{"$f":"X8*FINANZAS!$J6","v":48187.656365092276},{"$f":"Y8*FINANZAS!$J6","v":27535.803637195586},{"$f":"Z8*FINANZAS!$J6","v":34419.754546494478},{"$f":"AA8*FINANZAS!$J6","v":34419.754546494478},{"$f":"AB8*FINANZAS!$J6","v":34419.754546494478},{"$f":"AC8*FINANZAS!$J6","v":27535.803637195586},{"$f":"AD8*FINANZAS!$J6","v":48187.656365092276},null,{"$f":"IFERROR(D8*FINANZAS!$N6,0)","v":69689.379575618455},{"$f":"IFERROR(E8*FINANZAS!$N6,0)","v":87111.724469523062},{"$f":"IFERROR(F8*FINANZAS!$N6,0)","v":69689.379575618455},{"$f":"IFERROR(G8*FINANZAS!$N6,0)","v":87111.724469523062},{"$f":"IFERROR(H8*FINANZAS!$N6,0)","v":104534.06936342768},{"$f":"IFERROR(I8*FINANZAS!$N6,0)","v":121956.41425733229},{"$f":"IFERROR(J8*FINANZAS!$N6,0)","v":69689.379575618455},{"$f":"IFERROR(K8*FINANZAS!$N6,0)","v":87111.724469523062},{"$f":"IFERROR(L8*FINANZAS!$N6,0)","v":87111.724469523062},{"$f":"IFERROR(M8*FINANZAS!$N6,0)","v":87111.724469523062},{"$f":"IFERROR(N8*FINANZAS!$N6,0)","v":69689.379575618455},{"$f":"IFERROR(O8*FINANZAS!$N6,0)","v":121956.41425733229}]
[null,null,{"$f":"IF(FINANZAS!C7=\"\",\"\",FINANZAS!C7)","v":"café en sobre"},300,300,300,300,300,300,300,300,300,300,300,300,{"$f":"SUM(S9:AD9)","v":131707.31707317074},null,{"$f":"C9","v":"café en sobre"},{"$f":"IFERROR(D9*FINANZAS!$K7,0)","v":10975.609756097561},{"$f":"IFERROR(E9*FINANZAS!$K7,0)","v":10975.609756097561},{"$f":"IFERROR(F9*FINANZAS!$K7,0)","v":10975.609756097561},{"$f":"IFERROR(G9*FINANZAS!$K7,0)","v":10975.609756097561},{"$f":"IFERROR(H9*FINANZAS!$K7,0)","v":10975.609756097561},{"$f":"IFERROR(I9*FINANZAS!$K7,0)","v":10975.609756097561},{"$f":"IFERROR(J9*FINANZAS!$K7,0)","v":10975.609756097561},{"$f":"IFERROR(K9*FINANZAS!$K7,0)","v":10975.609756097561},{"$f":"IFERROR(L9*FINANZAS!$K7,0)","v":10975.609756097561},{"$f":"IFERROR(M9*FINANZAS!$K7,0)","v":10975.609756097561},{"$f":"IFERROR(N9*FINANZAS!$K7,0)","v":10975.609756097561},{"$f":"IFERROR(O9*FINANZAS!$K7,0)","v":10975.609756097561},null,{"$f":"IFERROR(D9*FINANZAS!$G7,0)","v":7500},{"$f":"IFERROR(E9*FINANZAS!$G7,0)","v":7500},{"$f":"IFERROR(F9*FINANZAS!$G7,0)","v":7500},{"$f":"IFERROR(G9*FINANZAS!$G7,0)","v":7500},{"$f":"IFERROR(H9*FINANZAS!$G7,0)","v":7500},{"$f":"IFERROR(I9*FINANZAS!$G7,0)","v":7500},{"$f":"IFERROR(J9*FINANZAS!$G7,0)","v":7500},{"$f":"IFERROR(K9*FINANZAS!$G7,0)","v":7500},{"$f":"IFERROR(L9*FINANZAS!$G7,0)","v":7500},{"$f":"IFERROR(M9*FINANZAS!$G7,0)","v":7500},{"$f":"IFERROR(N9*FINANZAS!$G7,0)","v":7500},{"$f":"IFERROR(O9*FINANZAS!$G7,0)","v":7500},null,{"$f":"S9*FINANZAS!$J7","v":1975.6097560975609},{"$f":"T9*FINANZAS!$J7","v":1975.6097560975609},{"$f":"U9*FINANZAS!$J7","v":1975.6097560975609},{"$f":"V9*FINANZAS!$J7","v":1975.6097560975609},{"$f":"W9*FINANZAS!$J7","v":1975.6097560975609},{"$f":"X9*FINANZAS!$J7","v":1975.6097560975609},{"$f":"Y9*FINANZAS!$J7","v":1975.6097560975609},{"$f":"Z9*FINANZAS!$J7","v":1975.6097560975609},{"$f":"AA9*FINANZAS!$J7","v":1975.6097560975609},{"$f":"AB9*FINANZAS!$J7","v":1975.6097560975609},{"$f":"AC9*FINANZAS!$J7","v":1975.6097560975609},{"$f":"AD9*FINANZAS!$J7","v":1975.6097560975609},null,{"$f":"IFERROR(D9*FINANZAS!$N7,0)","v":1500.0000000000002},{"$f":"IFERROR(E9*FINANZAS!$N7,0)","v":1500.0000000000002},{"$f":"IFERROR(F9*FINANZAS!$N7,0)","v":1500.0000000000002},{"$f":"IFERROR(G9*FINANZAS!$N7,0)","v":1500.0000000000002},{"$f":"IFERROR(H9*FINANZAS!$N7,0)","v":1500.0000000000002},{"$f":"IFERROR(I9*FINANZAS!$N7,0)","v":1500.0000000000002},{"$f":"IFERROR(J9*FINANZAS!$N7,0)","v":1500.0000000000002},{"$f":"IFERROR(K9*FINANZAS!$N7,0)","v":1500.0000000000002},{"$f":"IFERROR(L9*FINANZAS!$N7,0)","v":1500.0000000000002},{"$f":"IFERROR(M9*FINANZAS!$N7,0)","v":1500.0000000000002},{"$f":"IFERROR(N9*FINANZAS!$N7,0)","v":1500.0000000000002},{"$f":"IFERROR(O9*FINANZAS!$N7,0)","v":1500.0000000000002}]
[null,null,{"$f":"IF(FINANZAS!C8=\"\",\"\",FINANZAS!C8)","v":1},400,500,400,500,600,700,400,500,500,500,400,700,867214.63943899621,null,1,{"$f":"IFERROR(D10*FINANZAS!$K8,0)","v":56866.533733704673},{"$f":"IFERROR(E10*FINANZAS!$K8,0)","v":71083.167167130843},{"$f":"IFERROR(F10*FINANZAS!$K8,0)","v":56866.533733704673},{"$f":"IFERROR(G10*FINANZAS!$K8,0)","v":71083.167167130843},{"$f":"IFERROR(H10*FINANZAS!$K8,0)","v":85299.800600557006},{"$f":"IFERROR(I10*FINANZAS!$K8,0)","v":99516.434033983169},{"$f":"IFERROR(J10*FINANZAS!$K8,0)","v":56866.533733704673},{"$f":"IFERROR(K10*FINANZAS!$K8,0)","v":71083.167167130843},{"$f":"IFERROR(L10*FINANZAS!$K8,0)","v":71083.167167130843},{"$f":"IFERROR(M10*FINANZAS!$K8,0)","v":71083.167167130843},{"$f":"IFERROR(N10*FINANZAS!$K8,0)","v":56866.533733704673},{"$f":"IFERROR(O10*FINANZAS!$K8,0)","v":99516.434033983169},null,{"$f":"IFERROR(D10*FINANZAS!$G8,0)","v":55751.503660494782},{"$f":"IFERROR(E10*FINANZAS!$G8,0)","v":69689.37957561847},{"$f":"IFERROR(F10*FINANZAS!$G8,0)","v":55751.503660494782},{"$f":"IFERROR(G10*FINANZAS!$G8,0)","v":69689.37957561847},{"$f":"IFERROR(H10*FINANZAS!$G8,0)","v":83627.255490742173},{"$f":"IFERROR(I10*FINANZAS!$G8,0)","v":97565.131405865861},{"$f":"IFERROR(J10*FINANZAS!$G8,0)","v":55751.503660494782},{"$f":"IFERROR(K10*FINANZAS!$G8,0)","v":69689.37957561847},{"$f":"IFERROR(L10*FINANZAS!$G8,0)","v":69689.37957561847},{"$f":"IFERROR(M10*FINANZAS!$G8,0)","v":69689.37957561847},{"$f":"IFERROR(N10*FINANZAS!$G8,0)","v":55751.503660494782},{"$f":"IFERROR(O10*FINANZAS!$G8,0)","v":97565.131405865861},null,{"$f":"S10*FINANZAS!$J8","v":0},{"$f":"T10*FINANZAS!$J8","v":0},{"$f":"U10*FINANZAS!$J8","v":0},{"$f":"V10*FINANZAS!$J8","v":0},{"$f":"W10*FINANZAS!$J8","v":0},{"$f":"X10*FINANZAS!$J8","v":0},{"$f":"Y10*FINANZAS!$J8","v":0},{"$f":"Z10*FINANZAS!$J8","v":0},{"$f":"AA10*FINANZAS!$J8","v":0},{"$f":"AB10*FINANZAS!$J8","v":0},{"$f":"AC10*FINANZAS!$J8","v":0},{"$f":"AD10*FINANZAS!$J8","v":0},null,{"$f":"IFERROR(D10*FINANZAS!$N8,0)","v":1115.0300732098913},{"$f":"IFERROR(E10*FINANZAS!$N8,0)","v":1393.7875915123641},{"$f":"IFERROR(F10*FINANZAS!$N8,0)","v":1115.0300732098913},{"$f":"IFERROR(G10*FINANZAS!$N8,0)","v":1393.7875915123641},{"$f":"IFERROR(H10*FINANZAS!$N8,0)","v":1672.5451098148369},{"$f":"IFERROR(I10*FINANZAS!$N8,0)","v":1951.3026281173097},{"$f":"IFERROR(J10*FINANZAS!$N8,0)","v":1115.0300732098913},{"$f":"IFERROR(K10*FINANZAS!$N8,0)","v":1393.7875915123641},{"$f":"IFERROR(L10*FINANZAS!$N8,0)","v":1393.7875915123641},{"$f":"IFERROR(M10*FINANZAS!$N8,0)","v":1393.7875915123641},{"$f":"IFERROR(N10*FINANZAS!$N8,0)","v":1115.0300732098913},{"$f":"IFERROR(O10*FINANZAS!$N8,0)","v":1951.3026281173097}]
[null,null,{"$f":"IF(FINANZAS!C9=\"\",\"\",FINANZAS!C9)","v":2},300,300,300,300,300,300,300,300,300,300,300,300,92700,null,2,{"$f":"IFERROR(D11*FINANZAS!$K9,0)","v":7725},{"$f":"IFERROR(E11*FINANZAS!$K9,0)","v":7725},{"$f":"IFERROR(F11*FINANZAS!$K9,0)","v":7725},{"$f":"IFERROR(G11*FINANZAS!$K9,0)","v":7725},{"$f":"IFERROR(H11*FINANZAS!$K9,0)","v":7725},{"$f":"IFERROR(I11*FINANZAS!$K9,0)","v":7725},{"$f":"IFERROR(J11*FINANZAS!$K9,0)","v":7725},{"$f":"IFERROR(K11*FINANZAS!$K9,0)","v":7725},{"$f":"IFERROR(L11*FINANZAS!$K9,0)","v":7725},{"$f":"IFERROR(M11*FINANZAS!$K9,0)","v":7725},{"$f":"IFERROR(N11*FINANZAS!$K9,0)","v":7725},{"$f":"IFERROR(O11*FINANZAS!$K9,0)","v":7725},null,{"$f":"IFERROR(D11*FINANZAS!$G9,0)","v":7500},{"$f":"IFERROR(E11*FINANZAS!$G9,0)","v":7500},{"$f":"IFERROR(F11*FINANZAS!$G9,0)","v":7500},{"$f":"IFERROR(G11*FINANZAS!$G9,0)","v":7500},{"$f":"IFERROR(H11*FINANZAS!$G9,0)","v":7500},{"$f":"IFERROR(I11*FINANZAS!$G9,0)","v":7500},{"$f":"IFERROR(J11*FINANZAS!$G9,0)","v":7500},{"$f":"IFERROR(K11*FINANZAS!$G9,0)","v":7500},{"$f":"IFERROR(L11*FINANZAS!$G9,0)","v":7500},{"$f":"IFERROR(M11*FINANZAS!$G9,0)","v":7500},{"$f":"IFERROR(N11*FINANZAS!$G9,0)","v":7500},{"$f":"IFERROR(O11*FINANZAS!$G9,0)","v":7500},null,{"$f":"S11*FINANZAS!$J9","v":0},{"$f":"T11*FINANZAS!$J9","v":0},{"$f":"U11*FINANZAS!$J9","v":0},{"$f":"V11*FINANZAS!$J9","v":0},{"$f":"W11*FINANZAS!$J9","v":0},{"$f":"X11*FINANZAS!$J9","v":0},{"$f":"Y11*FINANZAS!$J9","v":0},{"$f":"Z11*FINANZAS!$J9","v":0},{"$f":"AA11*FINANZAS!$J9","v":0},{"$f":"AB11*FINANZAS!$J9","v":0},{"$f":"AC11*FINANZAS!$J9","v":0},{"$f":"AD11*FINANZAS!$J9","v":0},null,{"$f":"IFERROR(D11*FINANZAS!$N9,0)","v":225},{"$f":"IFERROR(E11*FINANZAS!$N9,0)","v":225},{"$f":"IFERROR(F11*FINANZAS!$N9,0)","v":225},{"$f":"IFERROR(G11*FINANZAS!$N9,0)","v":225},{"$f":"IFERROR(H11*FINANZAS!$N9,0)","v":225},{"$f":"IFERROR(I11*FINANZAS!$N9,0)","v":225},{"$f":"IFERROR(J11*FINANZAS!$N9,0)","v":225},{"$f":"IFERROR(K11*FINANZAS!$N9,0)","v":225},{"$f":"IFERROR(L11*FINANZAS!$N9,0)","v":225},{"$f":"IFERROR(M11*FINANZAS!$N9,0)","v":225},{"$f":"IFERROR(N11*FINANZAS!$N9,0)","v":225},{"$f":"IFERROR(O11*FINANZAS!$N9,0)","v":225}]
[null,null,{"$f":"IF(FINANZAS!C10=\"\",\"\",FINANZAS!C10)","v":3},400,500,400,500,600,700,400,500,500,500,400,700,867214.63943899621,null,3,{"$f":"IFERROR(D12*FINANZAS!$K10,0)","v":56866.533733704673},{"$f":"IFERROR(E12*FINANZAS!$K10,0)","v":71083.167167130843},{"$f":"IFERROR(F12*FINANZAS!$K10,0)","v":56866.533733704673},{"$f":"IFERROR(G12*FINANZAS!$K10,0)","v":71083.167167130843},{"$f":"IFERROR(H12*FINANZAS!$K10,0)","v":85299.800600557006},{"$f":"IFERROR(I12*FINANZAS!$K10,0)","v":99516.434033983169},{"$f":"IFERROR(J12*FINANZAS!$K10,0)","v":56866.533733704673},{"$f":"IFERROR(K12*FINANZAS!$K10,0)","v":71083.167167130843},{"$f":"IFERROR(L12*FINANZAS!$K10,0)","v":71083.167167130843},{"$f":"IFERROR(M12*FINANZAS!$K10,0)","v":71083.167167130843},{"$f":"IFERROR(N12*FINANZAS!$K10,0)","v":56866.533733704673},{"$f":"IFERROR(O12*FINANZAS!$K10,0)","v":99516.434033983169},null,{"$f":"IFERROR(D12*FINANZAS!$G10,0)","v":55751.503660494782},{"$f":"IFERROR(E12*FINANZAS!$G10,0)","v":69689.37957561847},{"$f":"IFERROR(F12*FINANZAS!$G10,0)","v":55751.503660494782},{"$f":"IFERROR(G12*FINANZAS!$G10,0)","v":69689.37957561847},{"$f":"IFERROR(H12*FINANZAS!$G10,0)","v":83627.255490742173},{"$f":"IFERROR(I12*FINANZAS!$G10,0)","v":97565.131405865861},{"$f":"IFERROR(J12*FINANZAS!$G10,0)","v":55751.503660494782},{"$f":"IFERROR(K12*FINANZAS!$G10,0)","v":69689.37957561847},{"$f":"IFERROR(L12*FINANZAS!$G10,0)","v":69689.37957561847},{"$f":"IFERROR(M12*FINANZAS!$G10,0)","v":69689.37957561847},{"$f":"IFERROR(N12*FINANZAS!$G10,0)","v":55751.503660494782},{"$f":"IFERROR(O12*FINANZAS!$G10,0)","v":97565.131405865861},null,{"$f":"S12*FINANZAS!$J10","v":0},{"$f":"T12*FINANZAS!$J10","v":0},{"$f":"U12*FINANZAS!$J10","v":0},{"$f":"V12*FINANZAS!$J10","v":0},{"$f":"W12*FINANZAS!$J10","v":0},{"$f":"X12*FINANZAS!$J10","v":0},{"$f":"Y12*FINANZAS!$J10","v":0},{"$f":"Z12*FINANZAS!$J10","v":0},{"$f":"AA12*FINANZAS!$J10","v":0},{"$f":"AB12*FINANZAS!$J10","v":0},{"$f":"AC12*FINANZAS!$J10","v":0},{"$f":"AD12*FINANZAS!$J10","v":0},null,{"$f":"IFERROR(D12*FINANZAS!$N10,0)","v":1115.0300732098913},{"$f":"IFERROR(E12*FINANZAS!$N10,0)","v":1393.7875915123641},{"$f":"IFERROR(F12*FINANZAS!$N10,0)","v":1115.0300732098913},{"$f":"IFERROR(G12*FINANZAS!$N10,0)","v":1393.7875915123641},{"$f":"IFERROR(H12*FINANZAS!$N10,0)","v":1672.5451098148369},{"$f":"IFERROR(I12*FINANZAS!$N10,0)","v":1951.3026281173097},{"$f":"IFERROR(J12*FINANZAS!$N10,0)","v":1115.0300732098913},{"$f":"IFERROR(K12*FINANZAS!$N10,0)","v":1393.7875915123641},{"$f":"IFERROR(L12*FINANZAS!$N10,0)","v":1393.7875915123641},{"$f":"IFERROR(M12*FINANZAS!$N10,0)","v":1393.7875915123641},{"$f":"IFERROR(N12*FINANZAS!$N10,0)","v":1115.0300732098913},{"$f":"IFERROR(O12*FINANZAS!$N10,0)","v":1951.3026281173097}]
[null,null,{"$f":"IF(FINANZAS!C11=\"\",\"\",FINANZAS!C11)","v":4},300,300,300,300,300,300,300,300,300,300,300,300,92700,null,4,{"$f":"IFERROR(D13*FINANZAS!$K11,0)","v":7725},{"$f":"IFERROR(E13*FINANZAS!$K11,0)","v":7725},{"$f":"IFERROR(F13*FINANZAS!$K11,0)","v":7725},{"$f":"IFERROR(G13*FINANZAS!$K11,0)","v":7725},{"$f":"IFERROR(H13*FINANZAS!$K11,0)","v":7725},{"$f":"IFERROR(I13*FINANZAS!$K11,0)","v":7725},{"$f":"IFERROR(J13*FINANZAS!$K11,0)","v":7725},{"$f":"IFERROR(K13*FINANZAS!$K11,0)","v":7725},{"$f":"IFERROR(L13*FINANZAS!$K11,0)","v":7725},{"$f":"IFERROR(M13*FINANZAS!$K11,0)","v":7725},{"$f":"IFERROR(N13*FINANZAS!$K11,0)","v":7725},{"$f":"IFERROR(O13*FINANZAS!$K11,0)","v":7725},null,{"$f":"IFERROR(D13*FINANZAS!$G11,0)","v":7500},{"$f":"IFERROR(E13*FINANZAS!$G11,0)","v":7500},{"$f":"IFERROR(F13*FINANZAS!$G11,0)","v":7500},{"$f":"IFERROR(G13*FINANZAS!$G11,0)","v":7500},{"$f":"IFERROR(H13*FINANZAS!$G11,0)","v":7500},{"$f":"IFERROR(I13*FINANZAS!$G11,0)","v":7500},{"$f":"IFERROR(J13*FINANZAS!$G11,0)","v":7500},{"$f":"IFERROR(K13*FINANZAS!$G11,0)","v":7500},{"$f":"IFERROR(L13*FINANZAS!$G11,0)","v":7500},{"$f":"IFERROR(M13*FINANZAS!$G11,0)","v":7500},{"$f":"IFERROR(N13*FINANZAS!$G11,0)","v":7500},{"$f":"IFERROR(O13*FINANZAS!$G11,0)","v":7500},null,{"$f":"S13*FINANZAS!$J11","v":0},{"$f":"T13*FINANZAS!$J11","v":0},{"$f":"U13*FINANZAS!$J11","v":0},{"$f":"V13*FINANZAS!$J11","v":0},{"$f":"W13*FINANZAS!$J11","v":0},{"$f":"X13*FINANZAS!$J11","v":0},{"$f":"Y13*FINANZAS!$J11","v":0},{"$f":"Z13*FINANZAS!$J11","v":0},{"$f":"AA13*FINANZAS!$J11","v":0},{"$f":"AB13*FINANZAS!$J11","v":0},{"$f":"AC13*FINANZAS!$J11","v":0},{"$f":"AD13*FINANZAS!$J11","v":0},null,{"$f":"IFERROR(D13*FINANZAS!$N11,0)","v":225},{"$f":"IFERROR(E13*FINANZAS!$N11,0)","v":225},{"$f":"IFERROR(F13*FINANZAS!$N11,0)","v":225},{"$f":"IFERROR(G13*FINANZAS!$N11,0)","v":225},{"$f":"IFERROR(H13*FINANZAS!$N11,0)","v":225},{"$f":"IFERROR(I13*FINANZAS!$N11,0)","v":225},{"$f":"IFERROR(J13*FINANZAS!$N11,0)","v":225},{"$f":"IFERROR(K13*FINANZAS!$N11,0)","v":225},{"$f":"IFERROR(L13*FINANZAS!$N11,0)","v":225},{"$f":"IFERROR(M13*FINANZAS!$N11,0)","v":225},{"$f":"IFERROR(N13*FINANZAS!$N11,0)","v":225},{"$f":"IFERROR(O13*FINANZAS!$N11,0)","v":225}]
[null,null,{"$f":"IF(FINANZAS!C12=\"\",\"\",FINANZAS!C12)","v":5},400,500,400,500,600,700,400,500,500,500,400,700,175374.99999999997,null,5,{"$f":"IFERROR(D14*FINANZAS!$K12,0)","v":11499.999999999998},{"$f":"IFERROR(E14*FINANZAS!$K12,0)","v":14374.999999999998},{"$f":"IFERROR(F14*FINANZAS!$K12,0)","v":11499.999999999998},{"$f":"IFERROR(G14*FINANZAS!$K12,0)","v":14374.999999999998},{"$f":"IFERROR(H14*FINANZAS!$K12,0)","v":17249.999999999996},{"$f":"IFERROR(I14*FINANZAS!$K12,0)","v":20124.999999999996},{"$f":"IFERROR(J14*FINANZAS!$K12,0)","v":11499.999999999998},{"$f":"IFERROR(K14*FINANZAS!$K12,0)","v":14374.999999999998},{"$f":"IFERROR(L14*FINANZAS!$K12,0)","v":14374.999999999998},{"$f":"IFERROR(M14*FINANZAS!$K12,0)","v":14374.999999999998},{"$f":"IFERROR(N14*FINANZAS!$K12,0)","v":11499.999999999998},{"$f":"IFERROR(O14*FINANZAS!$K12,0)","v":20124.999999999996},null,{"$f":"IFERROR(D14*FINANZAS!$G12,0)","v":10000},{"$f":"IFERROR(E14*FINANZAS!$G12,0)","v":12500},{"$f":"IFERROR(F14*FINANZAS!$G12,0)","v":10000},{"$f":"IFERROR(G14*FINANZAS!$G12,0)","v":12500},{"$f":"IFERROR(H14*FINANZAS!$G12,0)","v":15000},{"$f":"IFERROR(I14*FINANZAS!$G12,0)","v":17500},{"$f":"IFERROR(J14*FINANZAS!$G12,0)","v":10000},{"$f":"IFERROR(K14*FINANZAS!$G12,0)","v":12500},{"$f":"IFERROR(L14*FINANZAS!$G12,0)","v":12500},{"$f":"IFERROR(M14*FINANZAS!$G12,0)","v":12500},{"$f":"IFERROR(N14*FINANZAS!$G12,0)","v":10000},{"$f":"IFERROR(O14*FINANZAS!$G12,0)","v":17500},null,{"$f":"S14*FINANZAS!$J12","v":0},{"$f":"T14*FINANZAS!$J12","v":0},{"$f":"U14*FINANZAS!$J12","v":0},{"$f":"V14*FINANZAS!$J12","v":0},{"$f":"W14*FINANZAS!$J12","v":0},{"$f":"X14*FINANZAS!$J12","v":0},{"$f":"Y14*FINANZAS!$J12","v":0},{"$f":"Z14*FINANZAS!$J12","v":0},{"$f":"AA14*FINANZAS!$J12","v":0},{"$f":"AB14*FINANZAS!$J12","v":0},{"$f":"AC14*FINANZAS!$J12","v":0},{"$f":"AD14*FINANZAS!$J12","v":0},null,{"$f":"IFERROR(D14*FINANZAS!$N12,0)","v":1499.9999999999986},{"$f":"IFERROR(E14*FINANZAS!$N12,0)","v":1874.9999999999982},{"$f":"IFERROR(F14*FINANZAS!$N12,0)","v":1499.9999999999986},{"$f":"IFERROR(G14*FINANZAS!$N12,0)","v":1874.9999999999982},{"$f":"IFERROR(H14*FINANZAS!$N12,0)","v":2249.9999999999977},{"$f":"IFERROR(I14*FINANZAS!$N12,0)","v":2624.9999999999977},{"$f":"IFERROR(J14*FINANZAS!$N12,0)","v":1499.9999999999986},{"$f":"IFERROR(K14*FINANZAS!$N12,0)","v":1874.9999999999982},{"$f":"IFERROR(L14*FINANZAS!$N12,0)","v":1874.9999999999982},{"$f":"IFERROR(M14*FINANZAS!$N12,0)","v":1874.9999999999982},{"$f":"IFERROR(N14*FINANZAS!$N12,0)","v":1499.9999999999986},{"$f":"IFERROR(O14*FINANZAS!$N12,0)","v":2624.9999999999977}]
[null,null,{"$f":"IF(FINANZAS!C13=\"\",\"\",FINANZAS!C13)","v":6},null,null,null,null,null,null,null,null,null,null,null,null,0,null,6,{"$f":"IFERROR(D15*FINANZAS!$K13,0)","v":0},{"$f":"IFERROR(E15*FINANZAS!$K13,0)","v":0},{"$f":"IFERROR(F15*FINANZAS!$K13,0)","v":0},{"$f":"IFERROR(G15*FINANZAS!$K13,0)","v":0},{"$f":"IFERROR(H15*FINANZAS!$K13,0)","v":0},{"$f":"IFERROR(I15*FINANZAS!$K13,0)","v":0},{"$f":"IFERROR(J15*FINANZAS!$K13,0)","v":0},{"$f":"IFERROR(K15*FINANZAS!$K13,0)","v":0},{"$f":"IFERROR(L15*FINANZAS!$K13,0)","v":0},{"$f":"IFERROR(M15*FINANZAS!$K13,0)","v":0},{"$f":"IFERROR(N15*FINANZAS!$K13,0)","v":0},{"$f":"IFERROR(O15*FINANZAS!$K13,0)","v":0},null,{"$f":"IFERROR(D15*FINANZAS!$G13,0)","v":0},{"$f":"IFERROR(E15*FINANZAS!$G13,0)","v":0},{"$f":"IFERROR(F15*FINANZAS!$G13,0)","v":0},{"$f":"IFERROR(G15*FINANZAS!$G13,0)","v":0},{"$f":"IFERROR(H15*FINANZAS!$G13,0)","v":0},{"$f":"IFERROR(I15*FINANZAS!$G13,0)","v":0},{"$f":"IFERROR(J15*FINANZAS!$G13,0)","v":0},{"$f":"IFERROR(K15*FINANZAS!$G13,0)","v":0},{"$f":"IFERROR(L15*FINANZAS!$G13,0)","v":0},{"$f":"IFERROR(M15*FINANZAS!$G13,0)","v":0},{"$f":"IFERROR(N15*FINANZAS!$G13,0)","v":0},{"$f":"IFERROR(O15*FINANZAS!$G13,0)","v":0},null,{"$f":"S15*FINANZAS!$J13","v":0},{"$f":"T15*FINANZAS!$J13","v":0},{"$f":"U15*FINANZAS!$J13","v":0},{"$f":"V15*FINANZAS!$J13","v":0},{"$f":"W15*FINANZAS!$J13","v":0},{"$f":"X15*FINANZAS!$J13","v":0},{"$f":"Y15*FINANZAS!$J13","v":0},{"$f":"Z15*FINANZAS!$J13","v":0},{"$f":"AA15*FINANZAS!$J13","v":0},{"$f":"AB15*FINANZAS!$J13","v":0},{"$f":"AC15*FINANZAS!$J13","v":0},{"$f":"AD15*FINANZAS!$J13","v":0},null,{"$f":"IFERROR(D15*FINANZAS!$N13,0)","v":0},{"$f":"IFERROR(E15*FINANZAS!$N13,0)","v":0},{"$f":"IFERROR(F15*FINANZAS!$N13,0)","v":0},{"$f":"IFERROR(G15*FINANZAS!$N13,0)","v":0},{"$f":"IFERROR(H15*FINANZAS!$N13,0)","v":0},{"$f":"IFERROR(I15*FINANZAS!$N13,0)","v":0},{"$f":"IFERROR(J15*FINANZAS!$N13,0)","v":0},{"$f":"IFERROR(K15*FINANZAS!$N13,0)","v":0},{"$f":"IFERROR(L15*FINANZAS!$N13,0)","v":0},{"$f":"IFERROR(M15*FINANZAS!$N13,0)","v":0},{"$f":"IFERROR(N15*FINANZAS!$N13,0)","v":0},{"$f":"IFERROR(O15*FINANZAS!$N13,0)","v":0}]
[null,null,{"$f":"IF(FINANZAS!C14=\"\",\"\",FINANZAS!C14)","v":7},null,null,null,null,null,null,null,null,null,null,null,null,0,null,7,{"$f":"IFERROR(D16*FINANZAS!$K14,0)","v":0},{"$f":"IFERROR(E16*FINANZAS!$K14,0)","v":0},{"$f":"IFERROR(F16*FINANZAS!$K14,0)","v":0},{"$f":"IFERROR(G16*FINANZAS!$K14,0)","v":0},{"$f":"IFERROR(H16*FINANZAS!$K14,0)","v":0},{"$f":"IFERROR(I16*FINANZAS!$K14,0)","v":0},{"$f":"IFERROR(J16*FINANZAS!$K14,0)","v":0},{"$f":"IFERROR(K16*FINANZAS!$K14,0)","v":0},{"$f":"IFERROR(L16*FINANZAS!$K14,0)","v":0},{"$f":"IFERROR(M16*FINANZAS!$K14,0)","v":0},{"$f":"IFERROR(N16*FINANZAS!$K14,0)","v":0},{"$f":"IFERROR(O16*FINANZAS!$K14,0)","v":0},null,{"$f":"IFERROR(D16*FINANZAS!$G14,0)","v":0},{"$f":"IFERROR(E16*FINANZAS!$G14,0)","v":0},{"$f":"IFERROR(F16*FINANZAS!$G14,0)","v":0},{"$f":"IFERROR(G16*FINANZAS!$G14,0)","v":0},{"$f":"IFERROR(H16*FINANZAS!$G14,0)","v":0},{"$f":"IFERROR(I16*FINANZAS!$G14,0)","v":0},{"$f":"IFERROR(J16*FINANZAS!$G14,0)","v":0},{"$f":"IFERROR(K16*FINANZAS!$G14,0)","v":0},{"$f":"IFERROR(L16*FINANZAS!$G14,0)","v":0},{"$f":"IFERROR(M16*FINANZAS!$G14,0)","v":0},{"$f":"IFERROR(N16*FINANZAS!$G14,0)","v":0},{"$f":"IFERROR(O16*FINANZAS!$G14,0)","v":0},null,{"$f":"S16*FINANZAS!$J14","v":0},{"$f":"T16*FINANZAS!$J14","v":0},{"$f":"U16*FINANZAS!$J14","v":0},{"$f":"V16*FINANZAS!$J14","v":0},{"$f":"W16*FINANZAS!$J14","v":0},{"$f":"X16*FINANZAS!$J14","v":0},{"$f":"Y16*FINANZAS!$J14","v":0},{"$f":"Z16*FINANZAS!$J14","v":0},{"$f":"AA16*FINANZAS!$J14","v":0},{"$f":"AB16*FINANZAS!$J14","v":0},{"$f":"AC16*FINANZAS!$J14","v":0},{"$f":"AD16*FINANZAS!$J14","v":0},null,{"$f":"IFERROR(D16*FINANZAS!$N14,0)","v":0},{"$f":"IFERROR(E16*FINANZAS!$N14,0)","v":0},{"$f":"IFERROR(F16*FINANZAS!$N14,0)","v":0},{"$f":"IFERROR(G16*FINANZAS!$N14,0)","v":0},{"$f":"IFERROR(H16*FINANZAS!$N14,0)","v":0},{"$f":"IFERROR(I16*FINANZAS!$N14,0)","v":0},{"$f":"IFERROR(J16*FINANZAS!$N14,0)","v":0},{"$f":"IFERROR(K16*FINANZAS!$N14,0)","v":0},{"$f":"IFERROR(L16*FINANZAS!$N14,0)","v":0},{"$f":"IFERROR(M16*FINANZAS!$N14,0)","v":0},{"$f":"IFERROR(N16*FINANZAS!$N14,0)","v":0},{"$f":"IFERROR(O16*FINANZAS!$N14,0)","v":0}]
[null,null,{"$f":"IF(FINANZAS!C15=\"\",\"\",FINANZAS!C15)","v":8},null,null,null,null,null,null,null,null,null,null,null,null,0,null,8,{"$f":"IFERROR(D17*FINANZAS!$K15,0)","v":0},{"$f":"IFERROR(E17*FINANZAS!$K15,0)","v":0},{"$f":"IFERROR(F17*FINANZAS!$K15,0)","v":0},{"$f":"IFERROR(G17*FINANZAS!$K15,0)","v":0},{"$f":"IFERROR(H17*FINANZAS!$K15,0)","v":0},{"$f":"IFERROR(I17*FINANZAS!$K15,0)","v":0},{"$f":"IFERROR(J17*FINANZAS!$K15,0)","v":0},{"$f":"IFERROR(K17*FINANZAS!$K15,0)","v":0},{"$f":"IFERROR(L17*FINANZAS!$K15,0)","v":0},{"$f":"IFERROR(M17*FINANZAS!$K15,0)","v":0},{"$f":"IFERROR(N17*FINANZAS!$K15,0)","v":0},{"$f":"IFERROR(O17*FINANZAS!$K15,0)","v":0},null,{"$f":"IFERROR(D17*FINANZAS!$G15,0)","v":0},{"$f":"IFERROR(E17*FINANZAS!$G15,0)","v":0},{"$f":"IFERROR(F17*FINANZAS!$G15,0)","v":0},{"$f":"IFERROR(G17*FINANZAS!$G15,0)","v":0},{"$f":"IFERROR(H17*FINANZAS!$G15,0)","v":0},{"$f":"IFERROR(I17*FINANZAS!$G15,0)","v":0},{"$f":"IFERROR(J17*FINANZAS!$G15,0)","v":0},{"$f":"IFERROR(K17*FINANZAS!$G15,0)","v":0},{"$f":"IFERROR(L17*FINANZAS!$G15,0)","v":0},{"$f":"IFERROR(M17*FINANZAS!$G15,0)","v":0},{"$f":"IFERROR(N17*FINANZAS!$G15,0)","v":0},{"$f":"IFERROR(O17*FINANZAS!$G15,0)","v":0},null,{"$f":"S17*FINANZAS!$J15","v":0},{"$f":"T17*FINANZAS!$J15","v":0},{"$f":"U17*FINANZAS!$J15","v":0},{"$f":"V17*FINANZAS!$J15","v":0},{"$f":"W17*FINANZAS!$J15","v":0},{"$f":"X17*FINANZAS!$J15","v":0},{"$f":"Y17*FINANZAS!$J15","v":0},{"$f":"Z17*FINANZAS!$J15","v":0},{"$f":"AA17*FINANZAS!$J15","v":0},{"$f":"AB17*FINANZAS!$J15","v":0},{"$f":"AC17*FINANZAS!$J15","v":0},{"$f":"AD17*FINANZAS!$J15","v":0},null,{"$f":"IFERROR(D17*FINANZAS!$N15,0)","v":0},{"$f":"IFERROR(E17*FINANZAS!$N15,0)","v":0},{"$f":"IFERROR(F17*FINANZAS!$N15,0)","v":0},{"$f":"IFERROR(G17*FINANZAS!$N15,0)","v":0},{"$f":"IFERROR(H17*FINANZAS!$N15,0)","v":0},{"$f":"IFERROR(I17*FINANZAS!$N15,0)","v":0},{"$f":"IFERROR(J17*FINANZAS!$N15,0)","v":0},{"$f":"IFERROR(K17*FINANZAS!$N15,0)","v":0},{"$f":"IFERROR(L17*FINANZAS!$N15,0)","v":0},{"$f":"IFERROR(M17*FINANZAS!$N15,0)","v":0},{"$f":"IFERROR(N17*FINANZAS!$N15,0)","v":0},{"$f":"IFERROR(O17*FINANZAS!$N15,0)","v":0}]
[null,null,{"$f":"IF(FINANZAS!C16=\"\",\"\",FINANZAS!C16)","v":""},null,null,null,null,null,null,null,null,null,null,null,null,0,null,"",{"$f":"IFERROR(D18*FINANZAS!$K16,0)","v":0},{"$f":"IFERROR(E18*FINANZAS!$K16,0)","v":0},{"$f":"IFERROR(F18*FINANZAS!$K16,0)","v":0},{"$f":"IFERROR(G18*FINANZAS!$K16,0)","v":0},{"$f":"IFERROR(H18*FINANZAS!$K16,0)","v":0},{"$f":"IFERROR(I18*FINANZAS!$K16,0)","v":0},{"$f":"IFERROR(J18*FINANZAS!$K16,0)","v":0},{"$f":"IFERROR(K18*FINANZAS!$K16,0)","v":0},{"$f":"IFERROR(L18*FINANZAS!$K16,0)","v":0},{"$f":"IFERROR(M18*FINANZAS!$K16,0)","v":0},{"$f":"IFERROR(N18*FINANZAS!$K16,0)","v":0},{"$f":"IFERROR(O18*FINANZAS!$K16,0)","v":0},null,{"$f":"IFERROR(D18*FINANZAS!$G16,0)","v":0},{"$f":"IFERROR(E18*FINANZAS!$G16,0)","v":0},{"$f":"IFERROR(F18*FINANZAS!$G16,0)","v":0},{"$f":"IFERROR(G18*FINANZAS!$G16,0)","v":0},{"$f":"IFERROR(H18*FINANZAS!$G16,0)","v":0},{"$f":"IFERROR(I18*FINANZAS!$G16,0)","v":0},{"$f":"IFERROR(J18*FINANZAS!$G16,0)","v":0},{"$f":"IFERROR(K18*FINANZAS!$G16,0)","v":0},{"$f":"IFERROR(L18*FINANZAS!$G16,0)","v":0},{"$f":"IFERROR(M18*FINANZAS!$G16,0)","v":0},{"$f":"IFERROR(N18*FINANZAS!$G16,0)","v":0},{"$f":"IFERROR(O18*FINANZAS!$G16,0)","v":0},null,{"$f":"S18*FINANZAS!$J16","v":0},{"$f":"T18*FINANZAS!$J16","v":0},{"$f":"U18*FINANZAS!$J16","v":0},{"$f":"V18*FINANZAS!$J16","v":0},{"$f":"W18*FINANZAS!$J16","v":0},{"$f":"X18*FINANZAS!$J16","v":0},{"$f":"Y18*FINANZAS!$J16","v":0},{"$f":"Z18*FINANZAS!$J16","v":0},{"$f":"AA18*FINANZAS!$J16","v":0},{"$f":"AB18*FINANZAS!$J16","v":0},{"$f":"AC18*FINANZAS!$J16","v":0},{"$f":"AD18*FINANZAS!$J16","v":0},null,{"$f":"IFERROR(D18*FINANZAS!$N16,0)","v":0},{"$f":"IFERROR(E18*FINANZAS!$N16,0)","v":0},{"$f":"IFERROR(F18*FINANZAS!$N16,0)","v":0},{"$f":"IFERROR(G18*FINANZAS!$N16,0)","v":0},{"$f":"IFERROR(H18*FINANZAS!$N16,0)","v":0},{"$f":"IFERROR(I18*FINANZAS!$N16,0)","v":0},{"$f":"IFERROR(J18*FINANZAS!$N16,0)","v":0},{"$f":"IFERROR(K18*FINANZAS!$N16,0)","v":0},{"$f":"IFERROR(L18*FINANZAS!$N16,0)","v":0},{"$f":"IFERROR(M18*FINANZAS!$N16,0)","v":0},{"$f":"IFERROR(N18*FINANZAS!$N16,0)","v":0},{"$f":"IFERROR(O18*FINANZAS!$N16,0)","v":0}]
[null,null,{"$f":"IF(FINANZAS!C17=\"\",\"\",FINANZAS!C17)","v":""},null,null,null,null,null,null,null,null,null,null,null,null,0,null,"",{"$f":"IFERROR(D19*FINANZAS!$K17,0)","v":0},{"$f":"IFERROR(E19*FINANZAS!$K17,0)","v":0},{"$f":"IFERROR(F19*FINANZAS!$K17,0)","v":0},{"$f":"IFERROR(G19*FINANZAS!$K17,0)","v":0},{"$f":"IFERROR(H19*FINANZAS!$K17,0)","v":0},{"$f":"IFERROR(I19*FINANZAS!$K17,0)","v":0},{"$f":"IFERROR(J19*FINANZAS!$K17,0)","v":0},{"$f":"IFERROR(K19*FINANZAS!$K17,0)","v":0},{"$f":"IFERROR(L19*FINANZAS!$K17,0)","v":0},{"$f":"IFERROR(M19*FINANZAS!$K17,0)","v":0},{"$f":"IFERROR(N19*FINANZAS!$K17,0)","v":0},{"$f":"IFERROR(O19*FINANZAS!$K17,0)","v":0},null,{"$f":"IFERROR(D19*FINANZAS!$G17,0)","v":0},{"$f":"IFERROR(E19*FINANZAS!$G17,0)","v":0},{"$f":"IFERROR(F19*FINANZAS!$G17,0)","v":0},{"$f":"IFERROR(G19*FINANZAS!$G17,0)","v":0},{"$f":"IFERROR(H19*FINANZAS!$G17,0)","v":0},{"$f":"IFERROR(I19*FINANZAS!$G17,0)","v":0},{"$f":"IFERROR(J19*FINANZAS!$G17,0)","v":0},{"$f":"IFERROR(K19*FINANZAS!$G17,0)","v":0},{"$f":"IFERROR(L19*FINANZAS!$G17,0)","v":0},{"$f":"IFERROR(M19*FINANZAS!$G17,0)","v":0},{"$f":"IFERROR(N19*FINANZAS!$G17,0)","v":0},{"$f":"IFERROR(O19*FINANZAS!$G17,0)","v":0},null,{"$f":"S19*FINANZAS!$J17","v":0},{"$f":"T19*FINANZAS!$J17","v":0},{"$f":"U19*FINANZAS!$J17","v":0},{"$f":"V19*FINANZAS!$J17","v":0},{"$f":"W19*FINANZAS!$J17","v":0},{"$f":"X19*FINANZAS!$J17","v":0},{"$f":"Y19*FINANZAS!$J17","v":0},{"$f":"Z19*FINANZAS!$J17","v":0},{"$f":"AA19*FINANZAS!$J17","v":0},{"$f":"AB19*FINANZAS!$J17","v":0},{"$f":"AC19*FINANZAS!$J17","v":0},{"$f":"AD19*FINANZAS!$J17","v":0},null,{"$f":"IFERROR(D19*FINANZAS!$N17,0)","v":0},{"$f":"IFERROR(E19*FINANZAS!$N17,0)","v":0},{"$f":"IFERROR(F19*FINANZAS!$N17,0)","v":0},{"$f":"IFERROR(G19*FINANZAS!$N17,0)","v":0},{"$f":"IFERROR(H19*FINANZAS!$N17,0)","v":0},{"$f":"IFERROR(I19*FINANZAS!$N17,0)","v":0},{"$f":"IFERROR(J19*FINANZAS!$N17,0)","v":0},{"$f":"IFERROR(K19*FINANZAS!$N17,0)","v":0},{"$f":"IFERROR(L19*FINANZAS!$N17,0)","v":0},{"$f":"IFERROR(M19*FINANZAS!$N17,0)","v":0},{"$f":"IFERROR(N19*FINANZAS!$N17,0)","v":0},{"$f":"IFERROR(O19*FINANZAS!$N17,0)","v":0}]
[null,null,{"$f":"IF(FINANZAS!C18=\"\",\"\",FINANZAS!C18)","v":""},null,null,null,null,null,null,null,null,null,null,null,null,0,null,"",{"$f":"IFERROR(D20*FINANZAS!$K18,0)","v":0},{"$f":"IFERROR(E20*FINANZAS!$K18,0)","v":0},{"$f":"IFERROR(F20*FINANZAS!$K18,0)","v":0},{"$f":"IFERROR(G20*FINANZAS!$K18,0)","v":0},{"$f":"IFERROR(H20*FINANZAS!$K18,0)","v":0},{"$f":"IFERROR(I20*FINANZAS!$K18,0)","v":0},{"$f":"IFERROR(J20*FINANZAS!$K18,0)","v":0},{"$f":"IFERROR(K20*FINANZAS!$K18,0)","v":0},{"$f":"IFERROR(L20*FINANZAS!$K18,0)","v":0},{"$f":"IFERROR(M20*FINANZAS!$K18,0)","v":0},{"$f":"IFERROR(N20*FINANZAS!$K18,0)","v":0},{"$f":"IFERROR(O20*FINANZAS!$K18,0)","v":0},null,{"$f":"IFERROR(D20*FINANZAS!$G18,0)","v":0},{"$f":"IFERROR(E20*FINANZAS!$G18,0)","v":0},{"$f":"IFERROR(F20*FINANZAS!$G18,0)","v":0},{"$f":"IFERROR(G20*FINANZAS!$G18,0)","v":0},{"$f":"IFERROR(H20*FINANZAS!$G18,0)","v":0},{"$f":"IFERROR(I20*FINANZAS!$G18,0)","v":0},{"$f":"IFERROR(J20*FINANZAS!$G18,0)","v":0},{"$f":"IFERROR(K20*FINANZAS!$G18,0)","v":0},{"$f":"IFERROR(L20*FINANZAS!$G18,0)","v":0},{"$f":"IFERROR(M20*FINANZAS!$G18,0)","v":0},{"$f":"IFERROR(N20*FINANZAS!$G18,0)","v":0},{"$f":"IFERROR(O20*FINANZAS!$G18,0)","v":0},null,{"$f":"S20*FINANZAS!$J18","v":0},{"$f":"T20*FINANZAS!$J18","v":0},{"$f":"U20*FINANZAS!$J18","v":0},{"$f":"V20*FINANZAS!$J18","v":0},{"$f":"W20*FINANZAS!$J18","v":0},{"$f":"X20*FINANZAS!$J18","v":0},{"$f":"Y20*FINANZAS!$J18","v":0},{"$f":"Z20*FINANZAS!$J18","v":0},{"$f":"AA20*FINANZAS!$J18","v":0},{"$f":"AB20*FINANZAS!$J18","v":0},{"$f":"AC20*FINANZAS!$J18","v":0},{"$f":"AD20*FINANZAS!$J18","v":0},null,{"$f":"IFERROR(D20*FINANZAS!$N18,0)","v":0},{"$f":"IFERROR(E20*FINANZAS!$N18,0)","v":0},{"$f":"IFERROR(F20*FINANZAS!$N18,0)","v":0},{"$f":"IFERROR(G20*FINANZAS!$N18,0)","v":0},{"$f":"IFERROR(H20*FINANZAS!$N18,0)","v":0},{"$f":"IFERROR(I20*FINANZAS!$N18,0)","v":0},{"$f":"IFERROR(J20*FINANZAS!$N18,0)","v":0},{"$f":"IFERROR(K20*FINANZAS!$N18,0)","v":0},{"$f":"IFERROR(L20*FINANZAS!$N18,0)","v":0},{"$f":"IFERROR(M20*FINANZAS!$N18,0)","v":0},{"$f":"IFERROR(N20*FINANZAS!$N18,0)","v":0},{"$f":"IFERROR(O20*FINANZAS!$N18,0)","v":0}]
[null,null,{"$f":"IF(FINANZAS!C19=\"\",\"\",FINANZAS!C19)","v":""},null,null,null,null,null,null,null,null,null,null,null,null,0,null,"",{"$f":"IFERROR(D21*FINANZAS!$K19,0)","v":0},{"$f":"IFERROR(E21*FINANZAS!$K19,0)","v":0},{"$f":"IFERROR(F21*FINANZAS!$K19,0)","v":0},{"$f":"IFERROR(G21*FINANZAS!$K19,0)","v":0},{"$f":"IFERROR(H21*FINANZAS!$K19,0)","v":0},{"$f":"IFERROR(I21*FINANZAS!$K19,0)","v":0},{"$f":"IFERROR(J21*FINANZAS!$K19,0)","v":0},{"$f":"IFERROR(K21*FINANZAS!$K19,0)","v":0},{"$f":"IFERROR(L21*FINANZAS!$K19,0)","v":0},{"$f":"IFERROR(M21*FINANZAS!$K19,0)","v":0},{"$f":"IFERROR(N21*FINANZAS!$K19,0)","v":0},{"$f":"IFERROR(O21*FINANZAS!$K19,0)","v":0},null,{"$f":"IFERROR(D21*FINANZAS!$G19,0)","v":0},{"$f":"IFERROR(E21*FINANZAS!$G19,0)","v":0},{"$f":"IFERROR(F21*FINANZAS!$G19,0)","v":0},{"$f":"IFERROR(G21*FINANZAS!$G19,0)","v":0},{"$f":"IFERROR(H21*FINANZAS!$G19,0)","v":0},{"$f":"IFERROR(I21*FINANZAS!$G19,0)","v":0},{"$f":"IFERROR(J21*FINANZAS!$G19,0)","v":0},{"$f":"IFERROR(K21*FINANZAS!$G19,0)","v":0},{"$f":"IFERROR(L21*FINANZAS!$G19,0)","v":0},{"$f":"IFERROR(M21*FINANZAS!$G19,0)","v":0},{"$f":"IFERROR(N21*FINANZAS!$G19,0)","v":0},{"$f":"IFERROR(O21*FINANZAS!$G19,0)","v":0},null,{"$f":"S21*FINANZAS!$J19","v":0},{"$f":"T21*FINANZAS!$J19","v":0},{"$f":"U21*FINANZAS!$J19","v":0},{"$f":"V21*FINANZAS!$J19","v":0},{"$f":"W21*FINANZAS!$J19","v":0},{"$f":"X21*FINANZAS!$J19","v":0},{"$f":"Y21*FINANZAS!$J19","v":0},{"$f":"Z21*FINANZAS!$J19","v":0},{"$f":"AA21*FINANZAS!$J19","v":0},{"$f":"AB21*FINANZAS!$J19","v":0},{"$f":"AC21*FINANZAS!$J19","v":0},{"$f":"AD21*FINANZAS!$J19","v":0},null,{"$f":"IFERROR(D21*FINANZAS!$N19,0)","v":0},{"$f":"IFERROR(E21*FINANZAS!$N19,0)","v":0},{"$f":"IFERROR(F21*FINANZAS!$N19,0)","v":0},{"$f":"IFERROR(G21*FINANZAS!$N19,0)","v":0},{"$f":"IFERROR(H21*FINANZAS!$N19,0)","v":0},{"$f":"IFERROR(I21*FINANZAS!$N19,0)","v":0},{"$f":"IFERROR(J21*FINANZAS!$N19,0)","v":0},{"$f":"IFERROR(K21*FINANZAS!$N19,0)","v":0},{"$f":"IFERROR(L21*FINANZAS!$N19,0)","v":0},{"$f":"IFERROR(M21*FINANZAS!$N19,0)","v":0},{"$f":"IFERROR(N21*FINANZAS!$N19,0)","v":0},{"$f":"IFERROR(O21*FINANZAS!$N19,0)","v":0}]
[null,null,{"$f":"IF(FINANZAS!C20=\"\",\"\",FINANZAS!C20)","v":""},null,null,null,null,null,null,null,null,null,null,null,null,0,null,"",{"$f":"IFERROR(D22*FINANZAS!$K20,0)","v":0},{"$f":"IFERROR(E22*FINANZAS!$K20,0)","v":0},{"$f":"IFERROR(F22*FINANZAS!$K20,0)","v":0},{"$f":"IFERROR(G22*FINANZAS!$K20,0)","v":0},{"$f":"IFERROR(H22*FINANZAS!$K20,0)","v":0},{"$f":"IFERROR(I22*FINANZAS!$K20,0)","v":0},{"$f":"IFERROR(J22*FINANZAS!$K20,0)","v":0},{"$f":"IFERROR(K22*FINANZAS!$K20,0)","v":0},{"$f":"IFERROR(L22*FINANZAS!$K20,0)","v":0},{"$f":"IFERROR(M22*FINANZAS!$K20,0)","v":0},{"$f":"IFERROR(N22*FINANZAS!$K20,0)","v":0},{"$f":"IFERROR(O22*FINANZAS!$K20,0)","v":0},null,{"$f":"IFERROR(D22*FINANZAS!$G20,0)","v":0},{"$f":"IFERROR(E22*FINANZAS!$G20,0)","v":0},{"$f":"IFERROR(F22*FINANZAS!$G20,0)","v":0},{"$f":"IFERROR(G22*FINANZAS!$G20,0)","v":0},{"$f":"IFERROR(H22*FINANZAS!$G20,0)","v":0},{"$f":"IFERROR(I22*FINANZAS!$G20,0)","v":0},{"$f":"IFERROR(J22*FINANZAS!$G20,0)","v":0},{"$f":"IFERROR(K22*FINANZAS!$G20,0)","v":0},{"$f":"IFERROR(L22*FINANZAS!$G20,0)","v":0},{"$f":"IFERROR(M22*FINANZAS!$G20,0)","v":0},{"$f":"IFERROR(N22*FINANZAS!$G20,0)","v":0},{"$f":"IFERROR(O22*FINANZAS!$G20,0)","v":0},null,{"$f":"S22*FINANZAS!$J20","v":0},{"$f":"T22*FINANZAS!$J20","v":0},{"$f":"U22*FINANZAS!$J20","v":0},{"$f":"V22*FINANZAS!$J20","v":0},{"$f":"W22*FINANZAS!$J20","v":0},{"$f":"X22*FINANZAS!$J20","v":0},{"$f":"Y22*FINANZAS!$J20","v":0},{"$f":"Z22*FINANZAS!$J20","v":0},{"$f":"AA22*FINANZAS!$J20","v":0},{"$f":"AB22*FINANZAS!$J20","v":0},{"$f":"AC22*FINANZAS!$J20","v":0},{"$f":"AD22*FINANZAS!$J20","v":0},null,{"$f":"IFERROR(D22*FINANZAS!$N20,0)","v":0},{"$f":"IFERROR(E22*FINANZAS!$N20,0)","v":0},{"$f":"IFERROR(F22*FINANZAS!$N20,0)","v":0},{"$f":"IFERROR(G22*FINANZAS!$N20,0)","v":0},{"$f":"IFERROR(H22*FINANZAS!$N20,0)","v":0},{"$f":"IFERROR(I22*FINANZAS!$N20,0)","v":0},{"$f":"IFERROR(J22*FINANZAS!$N20,0)","v":0},{"$f":"IFERROR(K22*FINANZAS!$N20,0)","v":0},{"$f":"IFERROR(L22*FINANZAS!$N20,0)","v":0},{"$f":"IFERROR(M22*FINANZAS!$N20,0)","v":0},{"$f":"IFERROR(N22*FINANZAS!$N20,0)","v":0},{"$f":"IFERROR(O22*FINANZAS!$N20,0)","v":0}]
[null,null,{"$f":"IF(FINANZAS!C21=\"\",\"\",FINANZAS!C21)","v":""},null,null,null,null,null,null,null,null,null,null,null,null,0,null,"",{"$f":"IFERROR(D23*FINANZAS!$K21,0)","v":0},{"$f":"IFERROR(E23*FINANZAS!$K21,0)","v":0},{"$f":"IFERROR(F23*FINANZAS!$K21,0)","v":0},{"$f":"IFERROR(G23*FINANZAS!$K21,0)","v":0},{"$f":"IFERROR(H23*FINANZAS!$K21,0)","v":0},{"$f":"IFERROR(I23*FINANZAS!$K21,0)","v":0},{"$f":"IFERROR(J23*FINANZAS!$K21,0)","v":0},{"$f":"IFERROR(K23*FINANZAS!$K21,0)","v":0},{"$f":"IFERROR(L23*FINANZAS!$K21,0)","v":0},{"$f":"IFERROR(M23*FINANZAS!$K21,0)","v":0},{"$f":"IFERROR(N23*FINANZAS!$K21,0)","v":0},{"$f":"IFERROR(O23*FINANZAS!$K21,0)","v":0},null,{"$f":"IFERROR(D23*FINANZAS!$G21,0)","v":0},{"$f":"IFERROR(E23*FINANZAS!$G21,0)","v":0},{"$f":"IFERROR(F23*FINANZAS!$G21,0)","v":0},{"$f":"IFERROR(G23*FINANZAS!$G21,0)","v":0},{"$f":"IFERROR(H23*FINANZAS!$G21,0)","v":0},{"$f":"IFERROR(I23*FINANZAS!$G21,0)","v":0},{"$f":"IFERROR(J23*FINANZAS!$G21,0)","v":0},{"$f":"IFERROR(K23*FINANZAS!$G21,0)","v":0},{"$f":"IFERROR(L23*FINANZAS!$G21,0)","v":0},{"$f":"IFERROR(M23*FINANZAS!$G21,0)","v":0},{"$f":"IFERROR(N23*FINANZAS!$G21,0)","v":0},{"$f":"IFERROR(O23*FINANZAS!$G21,0)","v":0},null,{"$f":"S23*FINANZAS!$J21","v":0},{"$f":"T23*FINANZAS!$J21","v":0},{"$f":"U23*FINANZAS!$J21","v":0},{"$f":"V23*FINANZAS!$J21","v":0},{"$f":"W23*FINANZAS!$J21","v":0},{"$f":"X23*FINANZAS!$J21","v":0},{"$f":"Y23*FINANZAS!$J21","v":0},{"$f":"Z23*FINANZAS!$J21","v":0},{"$f":"AA23*FINANZAS!$J21","v":0},{"$f":"AB23*FINANZAS!$J21","v":0},{"$f":"AC23*FINANZAS!$J21","v":0},{"$f":"AD23*FINANZAS!$J21","v":0},null,{"$f":"IFERROR(D23*FINANZAS!$N21,0)","v":0},{"$f":"IFERROR(E23*FINANZAS!$N21,0)","v":0},{"$f":"IFERROR(F23*FINANZAS!$N21,0)","v":0},{"$f":"IFERROR(G23*FINANZAS!$N21,0)","v":0},{"$f":"IFERROR(H23*FINANZAS!$N21,0)","v":0},{"$f":"IFERROR(I23*FINANZAS!$N21,0)","v":0},{"$f":"IFERROR(J23*FINANZAS!$N21,0)","v":0},{"$f":"IFERROR(K23*FINANZAS!$N21,0)","v":0},{"$f":"IFERROR(L23*FINANZAS!$N21,0)","v":0},{"$f":"IFERROR(M23*FINANZAS!$N21,0)","v":0},{"$f":"IFERROR(N23*FINANZAS!$N21,0)","v":0},{"$f":"IFERROR(O23*FINANZAS!$N21,0)","v":0}]
[null,null,{"$f":"IF(FINANZAS!C22=\"\",\"\",FINANZAS!C22)","v":""},null,null,null,null,null,null,null,null,null,null,null,null,0,null,"",{"$f":"IFERROR(D24*FINANZAS!$K22,0)","v":0},{"$f":"IFERROR(E24*FINANZAS!$K22,0)","v":0},{"$f":"IFERROR(F24*FINANZAS!$K22,0)","v":0},{"$f":"IFERROR(G24*FINANZAS!$K22,0)","v":0},{"$f":"IFERROR(H24*FINANZAS!$K22,0)","v":0},{"$f":"IFERROR(I24*FINANZAS!$K22,0)","v":0},{"$f":"IFERROR(J24*FINANZAS!$K22,0)","v":0},{"$f":"IFERROR(K24*FINANZAS!$K22,0)","v":0},{"$f":"IFERROR(L24*FINANZAS!$K22,0)","v":0},{"$f":"IFERROR(M24*FINANZAS!$K22,0)","v":0},{"$f":"IFERROR(N24*FINANZAS!$K22,0)","v":0},{"$f":"IFERROR(O24*FINANZAS!$K22,0)","v":0},null,{"$f":"IFERROR(D24*FINANZAS!$G22,0)","v":0},{"$f":"IFERROR(E24*FINANZAS!$G22,0)","v":0},{"$f":"IFERROR(F24*FINANZAS!$G22,0)","v":0},{"$f":"IFERROR(G24*FINANZAS!$G22,0)","v":0},{"$f":"IFERROR(H24*FINANZAS!$G22,0)","v":0},{"$f":"IFERROR(I24*FINANZAS!$G22,0)","v":0},{"$f":"IFERROR(J24*FINANZAS!$G22,0)","v":0},{"$f":"IFERROR(K24*FINANZAS!$G22,0)","v":0},{"$f":"IFERROR(L24*FINANZAS!$G22,0)","v":0},{"$f":"IFERROR(M24*FINANZAS!$G22,0)","v":0},{"$f":"IFERROR(N24*FINANZAS!$G22,0)","v":0},{"$f":"IFERROR(O24*FINANZAS!$G22,0)","v":0},null,{"$f":"S24*FINANZAS!$J22","v":0},{"$f":"T24*FINANZAS!$J22","v":0},{"$f":"U24*FINANZAS!$J22","v":0},{"$f":"V24*FINANZAS!$J22","v":0},{"$f":"W24*FINANZAS!$J22","v":0},{"$f":"X24*FINANZAS!$J22","v":0},{"$f":"Y24*FINANZAS!$J22","v":0},{"$f":"Z24*FINANZAS!$J22","v":0},{"$f":"AA24*FINANZAS!$J22","v":0},{"$f":"AB24*FINANZAS!$J22","v":0},{"$f":"AC24*FINANZAS!$J22","v":0},{"$f":"AD24*FINANZAS!$J22","v":0},null,{"$f":"IFERROR(D24*FINANZAS!$N22,0)","v":0},{"$f":"IFERROR(E24*FINANZAS!$N22,0)","v":0},{"$f":"IFERROR(F24*FINANZAS!$N22,0)","v":0},{"$f":"IFERROR(G24*FINANZAS!$N22,0)","v":0},{"$f":"IFERROR(H24*FINANZAS!$N22,0)","v":0},{"$f":"IFERROR(I24*FINANZAS!$N22,0)","v":0},{"$f":"IFERROR(J24*FINANZAS!$N22,0)","v":0},{"$f":"IFERROR(K24*FINANZAS!$N22,0)","v":0},{"$f":"IFERROR(L24*FINANZAS!$N22,0)","v":0},{"$f":"IFERROR(M24*FINANZAS!$N22,0)","v":0},{"$f":"IFERROR(N24*FINANZAS!$N22,0)","v":0},{"$f":"IFERROR(O24*FINANZAS!$N22,0)","v":0}]
[null,null,{"$f":"IF(FINANZAS!C23=\"\",\"\",FINANZAS!C23)","v":""},null,null,null,null,null,null,null,null,null,null,null,null,0,null,"",{"$f":"IFERROR(D25*FINANZAS!$K23,0)","v":0},{"$f":"IFERROR(E25*FINANZAS!$K23,0)","v":0},{"$f":"IFERROR(F25*FINANZAS!$K23,0)","v":0},{"$f":"IFERROR(G25*FINANZAS!$K23,0)","v":0},{"$f":"IFERROR(H25*FINANZAS!$K23,0)","v":0},{"$f":"IFERROR(I25*FINANZAS!$K23,0)","v":0},{"$f":"IFERROR(J25*FINANZAS!$K23,0)","v":0},{"$f":"IFERROR(K25*FINANZAS!$K23,0)","v":0},{"$f":"IFERROR(L25*FINANZAS!$K23,0)","v":0},{"$f":"IFERROR(M25*FINANZAS!$K23,0)","v":0},{"$f":"IFERROR(N25*FINANZAS!$K23,0)","v":0},{"$f":"IFERROR(O25*FINANZAS!$K23,0)","v":0},null,{"$f":"IFERROR(D25*FINANZAS!$G23,0)","v":0},{"$f":"IFERROR(E25*FINANZAS!$G23,0)","v":0},{"$f":"IFERROR(F25*FINANZAS!$G23,0)","v":0},{"$f":"IFERROR(G25*FINANZAS!$G23,0)","v":0},{"$f":"IFERROR(H25*FINANZAS!$G23,0)","v":0},{"$f":"IFERROR(I25*FINANZAS!$G23,0)","v":0},{"$f":"IFERROR(J25*FINANZAS!$G23,0)","v":0},{"$f":"IFERROR(K25*FINANZAS!$G23,0)","v":0},{"$f":"IFERROR(L25*FINANZAS!$G23,0)","v":0},{"$f":"IFERROR(M25*FINANZAS!$G23,0)","v":0},{"$f":"IFERROR(N25*FINANZAS!$G23,0)","v":0},{"$f":"IFERROR(O25*FINANZAS!$G23,0)","v":0},null,{"$f":"S25*FINANZAS!$J23","v":0},{"$f":"T25*FINANZAS!$J23","v":0},{"$f":"U25*FINANZAS!$J23","v":0},{"$f":"V25*FINANZAS!$J23","v":0},{"$f":"W25*FINANZAS!$J23","v":0},{"$f":"X25*FINANZAS!$J23","v":0},{"$f":"Y25*FINANZAS!$J23","v":0},{"$f":"Z25*FINANZAS!$J23","v":0},{"$f":"AA25*FINANZAS!$J23","v":0},{"$f":"AB25*FINANZAS!$J23","v":0},{"$f":"AC25*FINANZAS!$J23","v":0},{"$f":"AD25*FINANZAS!$J23","v":0},null,{"$f":"IFERROR(D25*FINANZAS!$N23,0)","v":0},{"$f":"IFERROR(E25*FINANZAS!$N23,0)","v":0},{"$f":"IFERROR(F25*FINANZAS!$N23,0)","v":0},{"$f":"IFERROR(G25*FINANZAS!$N23,0)","v":0},{"$f":"IFERROR(H25*FINANZAS!$N23,0)","v":0},{"$f":"IFERROR(I25*FINANZAS!$N23,0)","v":0},{"$f":"IFERROR(J25*FINANZAS!$N23,0)","v":0},{"$f":"IFERROR(K25*FINANZAS!$N23,0)","v":0},{"$f":"IFERROR(L25*FINANZAS!$N23,0)","v":0},{"$f":"IFERROR(M25*FINANZAS!$N23,0)","v":0},{"$f":"IFERROR(N25*FINANZAS!$N23,0)","v":0},{"$f":"IFERROR(O25*FINANZAS!$N23,0)","v":0}]
[null,null,{"$f":"IF(FINANZAS!C24=\"\",\"\",FINANZAS!C24)","v":""},null,null,null,null,null,null,null,null,null,null,null,null,0,null,"",{"$f":"IFERROR(D26*FINANZAS!$K24,0)","v":0},{"$f":"IFERROR(E26*FINANZAS!$K24,0)","v":0},{"$f":"IFERROR(F26*FINANZAS!$K24,0)","v":0},{"$f":"IFERROR(G26*FINANZAS!$K24,0)","v":0},{"$f":"IFERROR(H26*FINANZAS!$K24,0)","v":0},{"$f":"IFERROR(I26*FINANZAS!$K24,0)","v":0},{"$f":"IFERROR(J26*FINANZAS!$K24,0)","v":0},{"$f":"IFERROR(K26*FINANZAS!$K24,0)","v":0},{"$f":"IFERROR(L26*FINANZAS!$K24,0)","v":0},{"$f":"IFERROR(M26*FINANZAS!$K24,0)","v":0},{"$f":"IFERROR(N26*FINANZAS!$K24,0)","v":0},{"$f":"IFERROR(O26*FINANZAS!$K24,0)","v":0},null,{"$f":"IFERROR(D26*FINANZAS!$G24,0)","v":0},{"$f":"IFERROR(E26*FINANZAS!$G24,0)","v":0},{"$f":"IFERROR(F26*FINANZAS!$G24,0)","v":0},{"$f":"IFERROR(G26*FINANZAS!$G24,0)","v":0},{"$f":"IFERROR(H26*FINANZAS!$G24,0)","v":0},{"$f":"IFERROR(I26*FINANZAS!$G24,0)","v":0},{"$f":"IFERROR(J26*FINANZAS!$G24,0)","v":0},{"$f":"IFERROR(K26*FINANZAS!$G24,0)","v":0},{"$f":"IFERROR(L26*FINANZAS!$G24,0)","v":0},{"$f":"IFERROR(M26*FINANZAS!$G24,0)","v":0},{"$f":"IFERROR(N26*FINANZAS!$G24,0)","v":0},{"$f":"IFERROR(O26*FINANZAS!$G24,0)","v":0},null,{"$f":"S26*FINANZAS!$J24","v":0},{"$f":"T26*FINANZAS!$J24","v":0},{"$f":"U26*FINANZAS!$J24","v":0},{"$f":"V26*FINANZAS!$J24","v":0},{"$f":"W26*FINANZAS!$J24","v":0},{"$f":"X26*FINANZAS!$J24","v":0},{"$f":"Y26*FINANZAS!$J24","v":0},{"$f":"Z26*FINANZAS!$J24","v":0},{"$f":"AA26*FINANZAS!$J24","v":0},{"$f":"AB26*FINANZAS!$J24","v":0},{"$f":"AC26*FINANZAS!$J24","v":0},{"$f":"AD26*FINANZAS!$J24","v":0},null,{"$f":"IFERROR(D26*FINANZAS!$N24,0)","v":0},{"$f":"IFERROR(E26*FINANZAS!$N24,0)","v":0},{"$f":"IFERROR(F26*FINANZAS!$N24,0)","v":0},{"$f":"IFERROR(G26*FINANZAS!$N24,0)","v":0},{"$f":"IFERROR(H26*FINANZAS!$N24,0)","v":0},{"$f":"IFERROR(I26*FINANZAS!$N24,0)","v":0},{"$f":"IFERROR(J26*FINANZAS!$N24,0)","v":0},{"$f":"IFERROR(K26*FINANZAS!$N24,0)","v":0},{"$f":"IFERROR(L26*FINANZAS!$N24,0)","v":0},{"$f":"IFERROR(M26*FINANZAS!$N24,0)","v":0},{"$f":"IFERROR(N26*FINANZAS!$N24,0)","v":0},{"$f":"IFERROR(O26*FINANZAS!$N24,0)","v":0}]
[null,null,{"$f":"IF(FINANZAS!C25=\"\",\"\",FINANZAS!C25)","v":""},null,null,null,null,null,null,null,null,null,null,null,null,0,null,"",{"$f":"IFERROR(D27*FINANZAS!$K25,0)","v":0},{"$f":"IFERROR(E27*FINANZAS!$K25,0)","v":0},{"$f":"IFERROR(F27*FINANZAS!$K25,0)","v":0},{"$f":"IFERROR(G27*FINANZAS!$K25,0)","v":0},{"$f":"IFERROR(H27*FINANZAS!$K25,0)","v":0},{"$f":"IFERROR(I27*FINANZAS!$K25,0)","v":0},{"$f":"IFERROR(J27*FINANZAS!$K25,0)","v":0},{"$f":"IFERROR(K27*FINANZAS!$K25,0)","v":0},{"$f":"IFERROR(L27*FINANZAS!$K25,0)","v":0},{"$f":"IFERROR(M27*FINANZAS!$K25,0)","v":0},{"$f":"IFERROR(N27*FINANZAS!$K25,0)","v":0},{"$f":"IFERROR(O27*FINANZAS!$K25,0)","v":0},null,{"$f":"IFERROR(D27*FINANZAS!$G25,0)","v":0},{"$f":"IFERROR(E27*FINANZAS!$G25,0)","v":0},{"$f":"IFERROR(F27*FINANZAS!$G25,0)","v":0},{"$f":"IFERROR(G27*FINANZAS!$G25,0)","v":0},{"$f":"IFERROR(H27*FINANZAS!$G25,0)","v":0},{"$f":"IFERROR(I27*FINANZAS!$G25,0)","v":0},{"$f":"IFERROR(J27*FINANZAS!$G25,0)","v":0},{"$f":"IFERROR(K27*FINANZAS!$G25,0)","v":0},{"$f":"IFERROR(L27*FINANZAS!$G25,0)","v":0},{"$f":"IFERROR(M27*FINANZAS!$G25,0)","v":0},{"$f":"IFERROR(N27*FINANZAS!$G25,0)","v":0},{"$f":"IFERROR(O27*FINANZAS!$G25,0)","v":0},null,{"$f":"S27*FINANZAS!$J25","v":0},{"$f":"T27*FINANZAS!$J25","v":0},{"$f":"U27*FINANZAS!$J25","v":0},{"$f":"V27*FINANZAS!$J25","v":0},{"$f":"W27*FINANZAS!$J25","v":0},{"$f":"X27*FINANZAS!$J25","v":0},{"$f":"Y27*FINANZAS!$J25","v":0},{"$f":"Z27*FINANZAS!$J25","v":0},{"$f":"AA27*FINANZAS!$J25","v":0},{"$f":"AB27*FINANZAS!$J25","v":0},{"$f":"AC27*FINANZAS!$J25","v":0},{"$f":"AD27*FINANZAS!$J25","v":0},null,{"$f":"IFERROR(D27*FINANZAS!$N25,0)","v":0},{"$f":"IFERROR(E27*FINANZAS!$N25,0)","v":0},{"$f":"IFERROR(F27*FINANZAS!$N25,0)","v":0},{"$f":"IFERROR(G27*FINANZAS!$N25,0)","v":0},{"$f":"IFERROR(H27*FINANZAS!$N25,0)","v":0},{"$f":"IFERROR(I27*FINANZAS!$N25,0)","v":0},{"$f":"IFERROR(J27*FINANZAS!$N25,0)","v":0},{"$f":"IFERROR(K27*FINANZAS!$N25,0)","v":0},{"$f":"IFERROR(L27*FINANZAS!$N25,0)","v":0},{"$f":"IFERROR(M27*FINANZAS!$N25,0)","v":0},{"$f":"IFERROR(N27*FINANZAS!$N25,0)","v":0},{"$f":"IFERROR(O27*FINANZAS!$N25,0)","v":0}]
[null,null,{"$f":"IF(FINANZAS!C26=\"\",\"\",FINANZAS!C26)","v":""},null,null,null,null,null,null,null,null,null,null,null,null,0,null,"",{"$f":"IFERROR(D28*FINANZAS!$K26,0)","v":0},{"$f":"IFERROR(E28*FINANZAS!$K26,0)","v":0},{"$f":"IFERROR(F28*FINANZAS!$K26,0)","v":0},{"$f":"IFERROR(G28*FINANZAS!$K26,0)","v":0},{"$f":"IFERROR(H28*FINANZAS!$K26,0)","v":0},{"$f":"IFERROR(I28*FINANZAS!$K26,0)","v":0},{"$f":"IFERROR(J28*FINANZAS!$K26,0)","v":0},{"$f":"IFERROR(K28*FINANZAS!$K26,0)","v":0},{"$f":"IFERROR(L28*FINANZAS!$K26,0)","v":0},{"$f":"IFERROR(M28*FINANZAS!$K26,0)","v":0},{"$f":"IFERROR(N28*FINANZAS!$K26,0)","v":0},{"$f":"IFERROR(O28*FINANZAS!$K26,0)","v":0},null,{"$f":"IFERROR(D28*FINANZAS!$G26,0)","v":0},{"$f":"IFERROR(E28*FINANZAS!$G26,0)","v":0},{"$f":"IFERROR(F28*FINANZAS!$G26,0)","v":0},{"$f":"IFERROR(G28*FINANZAS!$G26,0)","v":0},{"$f":"IFERROR(H28*FINANZAS!$G26,0)","v":0},{"$f":"IFERROR(I28*FINANZAS!$G26,0)","v":0},{"$f":"IFERROR(J28*FINANZAS!$G26,0)","v":0},{"$f":"IFERROR(K28*FINANZAS!$G26,0)","v":0},{"$f":"IFERROR(L28*FINANZAS!$G26,0)","v":0},{"$f":"IFERROR(M28*FINANZAS!$G26,0)","v":0},{"$f":"IFERROR(N28*FINANZAS!$G26,0)","v":0},{"$f":"IFERROR(O28*FINANZAS!$G26,0)","v":0},null,{"$f":"S28*FINANZAS!$J26","v":0},{"$f":"T28*FINANZAS!$J26","v":0},{"$f":"U28*FINANZAS!$J26","v":0},{"$f":"V28*FINANZAS!$J26","v":0},{"$f":"W28*FINANZAS!$J26","v":0},{"$f":"X28*FINANZAS!$J26","v":0},{"$f":"Y28*FINANZAS!$J26","v":0},{"$f":"Z28*FINANZAS!$J26","v":0},{"$f":"AA28*FINANZAS!$J26","v":0},{"$f":"AB28*FINANZAS!$J26","v":0},{"$f":"AC28*FINANZAS!$J26","v":0},{"$f":"AD28*FINANZAS!$J26","v":0},null,{"$f":"IFERROR(D28*FINANZAS!$N26,0)","v":0},{"$f":"IFERROR(E28*FINANZAS!$N26,0)","v":0},{"$f":"IFERROR(F28*FINANZAS!$N26,0)","v":0},{"$f":"IFERROR(G28*FINANZAS!$N26,0)","v":0},{"$f":"IFERROR(H28*FINANZAS!$N26,0)","v":0},{"$f":"IFERROR(I28*FINANZAS!$N26,0)","v":0},{"$f":"IFERROR(J28*FINANZAS!$N26,0)","v":0},{"$f":"IFERROR(K28*FINANZAS!$N26,0)","v":0},{"$f":"IFERROR(L28*FINANZAS!$N26,0)","v":0},{"$f":"IFERROR(M28*FINANZAS!$N26,0)","v":0},{"$f":"IFERROR(N28*FINANZAS!$N26,0)","v":0},{"$f":"IFERROR(O28*FINANZAS!$N26,0)","v":0}]
[null,null,{"$f":"IF(FINANZAS!C27=\"\",\"\",FINANZAS!C27)","v":""},null,null,null,null,null,null,null,null,null,null,null,null,0,null,"",{"$f":"IFERROR(D29*FINANZAS!$K27,0)","v":0},{"$f":"IFERROR(E29*FINANZAS!$K27,0)","v":0},{"$f":"IFERROR(F29*FINANZAS!$K27,0)","v":0},{"$f":"IFERROR(G29*FINANZAS!$K27,0)","v":0},{"$f":"IFERROR(H29*FINANZAS!$K27,0)","v":0},{"$f":"IFERROR(I29*FINANZAS!$K27,0)","v":0},{"$f":"IFERROR(J29*FINANZAS!$K27,0)","v":0},{"$f":"IFERROR(K29*FINANZAS!$K27,0)","v":0},{"$f":"IFERROR(L29*FINANZAS!$K27,0)","v":0},{"$f":"IFERROR(M29*FINANZAS!$K27,0)","v":0},{"$f":"IFERROR(N29*FINANZAS!$K27,0)","v":0},{"$f":"IFERROR(O29*FINANZAS!$K27,0)","v":0},null,{"$f":"IFERROR(D29*FINANZAS!$G27,0)","v":0},{"$f":"IFERROR(E29*FINANZAS!$G27,0)","v":0},{"$f":"IFERROR(F29*FINANZAS!$G27,0)","v":0},{"$f":"IFERROR(G29*FINANZAS!$G27,0)","v":0},{"$f":"IFERROR(H29*FINANZAS!$G27,0)","v":0},{"$f":"IFERROR(I29*FINANZAS!$G27,0)","v":0},{"$f":"IFERROR(J29*FINANZAS!$G27,0)","v":0},{"$f":"IFERROR(K29*FINANZAS!$G27,0)","v":0},{"$f":"IFERROR(L29*FINANZAS!$G27,0)","v":0},{"$f":"IFERROR(M29*FINANZAS!$G27,0)","v":0},{"$f":"IFERROR(N29*FINANZAS!$G27,0)","v":0},{"$f":"IFERROR(O29*FINANZAS!$G27,0)","v":0},null,{"$f":"S29*FINANZAS!$J27","v":0},{"$f":"T29*FINANZAS!$J27","v":0},{"$f":"U29*FINANZAS!$J27","v":0},{"$f":"V29*FINANZAS!$J27","v":0},{"$f":"W29*FINANZAS!$J27","v":0},{"$f":"X29*FINANZAS!$J27","v":0},{"$f":"Y29*FINANZAS!$J27","v":0},{"$f":"Z29*FINANZAS!$J27","v":0},{"$f":"AA29*FINANZAS!$J27","v":0},{"$f":"AB29*FINANZAS!$J27","v":0},{"$f":"AC29*FINANZAS!$J27","v":0},{"$f":"AD29*FINANZAS!$J27","v":0},null,{"$f":"IFERROR(D29*FINANZAS!$N27,0)","v":0},{"$f":"IFERROR(E29*FINANZAS!$N27,0)","v":0},{"$f":"IFERROR(F29*FINANZAS!$N27,0)","v":0},{"$f":"IFERROR(G29*FINANZAS!$N27,0)","v":0},{"$f":"IFERROR(H29*FINANZAS!$N27,0)","v":0},{"$f":"IFERROR(I29*FINANZAS!$N27,0)","v":0},{"$f":"IFERROR(J29*FINANZAS!$N27,0)","v":0},{"$f":"IFERROR(K29*FINANZAS!$N27,0)","v":0},{"$f":"IFERROR(L29*FINANZAS!$N27,0)","v":0},{"$f":"IFERROR(M29*FINANZAS!$N27,0)","v":0},{"$f":"IFERROR(N29*FINANZAS!$N27,0)","v":0},{"$f":"IFERROR(O29*FINANZAS!$N27,0)","v":0}]
[null,null,{"$f":"IF(FINANZAS!C28=\"\",\"\",FINANZAS!C28)","v":""},null,null,null,null,null,null,null,null,null,null,null,null,0,null,"",{"$f":"IFERROR(D30*FINANZAS!$K28,0)","v":0},{"$f":"IFERROR(E30*FINANZAS!$K28,0)","v":0},{"$f":"IFERROR(F30*FINANZAS!$K28,0)","v":0},{"$f":"IFERROR(G30*FINANZAS!$K28,0)","v":0},{"$f":"IFERROR(H30*FINANZAS!$K28,0)","v":0},{"$f":"IFERROR(I30*FINANZAS!$K28,0)","v":0},{"$f":"IFERROR(J30*FINANZAS!$K28,0)","v":0},{"$f":"IFERROR(K30*FINANZAS!$K28,0)","v":0},{"$f":"IFERROR(L30*FINANZAS!$K28,0)","v":0},{"$f":"IFERROR(M30*FINANZAS!$K28,0)","v":0},{"$f":"IFERROR(N30*FINANZAS!$K28,0)","v":0},{"$f":"IFERROR(O30*FINANZAS!$K28,0)","v":0},null,{"$f":"IFERROR(D30*FINANZAS!$G28,0)","v":0},{"$f":"IFERROR(E30*FINANZAS!$G28,0)","v":0},{"$f":"IFERROR(F30*FINANZAS!$G28,0)","v":0},{"$f":"IFERROR(G30*FINANZAS!$G28,0)","v":0},{"$f":"IFERROR(H30*FINANZAS!$G28,0)","v":0},{"$f":"IFERROR(I30*FINANZAS!$G28,0)","v":0},{"$f":"IFERROR(J30*FINANZAS!$G28,0)","v":0},{"$f":"IFERROR(K30*FINANZAS!$G28,0)","v":0},{"$f":"IFERROR(L30*FINANZAS!$G28,0)","v":0},{"$f":"IFERROR(M30*FINANZAS!$G28,0)","v":0},{"$f":"IFERROR(N30*FINANZAS!$G28,0)","v":0},{"$f":"IFERROR(O30*FINANZAS!$G28,0)","v":0},null,{"$f":"S30*FINANZAS!$J28","v":0},{"$f":"T30*FINANZAS!$J28","v":0},{"$f":"U30*FINANZAS!$J28","v":0},{"$f":"V30*FINANZAS!$J28","v":0},{"$f":"W30*FINANZAS!$J28","v":0},{"$f":"X30*FINANZAS!$J28","v":0},{"$f":"Y30*FINANZAS!$J28","v":0},{"$f":"Z30*FINANZAS!$J28","v":0},{"$f":"AA30*FINANZAS!$J28","v":0},{"$f":"AB30*FINANZAS!$J28","v":0},{"$f":"AC30*FINANZAS!$J28","v":0},{"$f":"AD30*FINANZAS!$J28","v":0},null,{"$f":"IFERROR(D30*FINANZAS!$N28,0)","v":0},{"$f":"IFERROR(E30*FINANZAS!$N28,0)","v":0},{"$f":"IFERROR(F30*FINANZAS!$N28,0)","v":0},{"$f":"IFERROR(G30*FINANZAS!$N28,0)","v":0},{"$f":"IFERROR(H30*FINANZAS!$N28,0)","v":0},{"$f":"IFERROR(I30*FINANZAS!$N28,0)","v":0},{"$f":"IFERROR(J30*FINANZAS!$N28,0)","v":0},{"$f":"IFERROR(K30*FINANZAS!$N28,0)","v":0},{"$f":"IFERROR(L30*FINANZAS!$N28,0)","v":0},{"$f":"IFERROR(M30*FINANZAS!$N28,0)","v":0},{"$f":"IFERROR(N30*FINANZAS!$N28,0)","v":0},{"$f":"IFERROR(O30*FINANZAS!$N28,0)","v":0}]
[null,null,{"$f":"IF(FINANZAS!C29=\"\",\"\",FINANZAS!C29)","v":""},null,null,null,null,null,null,null,null,null,null,null,null,0,null,"",{"$f":"IFERROR(D31*FINANZAS!$K29,0)","v":0},{"$f":"IFERROR(E31*FINANZAS!$K29,0)","v":0},{"$f":"IFERROR(F31*FINANZAS!$K29,0)","v":0},{"$f":"IFERROR(G31*FINANZAS!$K29,0)","v":0},{"$f":"IFERROR(H31*FINANZAS!$K29,0)","v":0},{"$f":"IFERROR(I31*FINANZAS!$K29,0)","v":0},{"$f":"IFERROR(J31*FINANZAS!$K29,0)","v":0},{"$f":"IFERROR(K31*FINANZAS!$K29,0)","v":0},{"$f":"IFERROR(L31*FINANZAS!$K29,0)","v":0},{"$f":"IFERROR(M31*FINANZAS!$K29,0)","v":0},{"$f":"IFERROR(N31*FINANZAS!$K29,0)","v":0},{"$f":"IFERROR(O31*FINANZAS!$K29,0)","v":0},null,{"$f":"IFERROR(D31*FINANZAS!$G29,0)","v":0},{"$f":"IFERROR(E31*FINANZAS!$G29,0)","v":0},{"$f":"IFERROR(F31*FINANZAS!$G29,0)","v":0},{"$f":"IFERROR(G31*FINANZAS!$G29,0)","v":0},{"$f":"IFERROR(H31*FINANZAS!$G29,0)","v":0},{"$f":"IFERROR(I31*FINANZAS!$G29,0)","v":0},{"$f":"IFERROR(J31*FINANZAS!$G29,0)","v":0},{"$f":"IFERROR(K31*FINANZAS!$G29,0)","v":0},{"$f":"IFERROR(L31*FINANZAS!$G29,0)","v":0},{"$f":"IFERROR(M31*FINANZAS!$G29,0)","v":0},{"$f":"IFERROR(N31*FINANZAS!$G29,0)","v":0},{"$f":"IFERROR(O31*FINANZAS!$G29,0)","v":0},null,{"$f":"S31*FINANZAS!$J29","v":0},{"$f":"T31*FINANZAS!$J29","v":0},{"$f":"U31*FINANZAS!$J29","v":0},{"$f":"V31*FINANZAS!$J29","v":0},{"$f":"W31*FINANZAS!$J29","v":0},{"$f":"X31*FINANZAS!$J29","v":0},{"$f":"Y31*FINANZAS!$J29","v":0},{"$f":"Z31*FINANZAS!$J29","v":0},{"$f":"AA31*FINANZAS!$J29","v":0},{"$f":"AB31*FINANZAS!$J29","v":0},{"$f":"AC31*FINANZAS!$J29","v":0},{"$f":"AD31*FINANZAS!$J29","v":0},null,{"$f":"IFERROR(D31*FINANZAS!$N29,0)","v":0},{"$f":"IFERROR(E31*FINANZAS!$N29,0)","v":0},{"$f":"IFERROR(F31*FINANZAS!$N29,0)","v":0},{"$f":"IFERROR(G31*FINANZAS!$N29,0)","v":0},{"$f":"IFERROR(H31*FINANZAS!$N29,0)","v":0},{"$f":"IFERROR(I31*FINANZAS!$N29,0)","v":0},{"$f":"IFERROR(J31*FINANZAS!$N29,0)","v":0},{"$f":"IFERROR(K31*FINANZAS!$N29,0)","v":0},{"$f":"IFERROR(L31*FINANZAS!$N29,0)","v":0},{"$f":"IFERROR(M31*FINANZAS!$N29,0)","v":0},{"$f":"IFERROR(N31*FINANZAS!$N29,0)","v":0},{"$f":"IFERROR(O31*FINANZAS!$N29,0)","v":0}]
[null,null,{"$f":"IF(FINANZAS!C30=\"\",\"\",FINANZAS!C30)","v":""},null,null,null,null,null,null,null,null,null,null,null,null,0,null,"",{"$f":"IFERROR(D32*FINANZAS!$K30,0)","v":0},{"$f":"IFERROR(E32*FINANZAS!$K30,0)","v":0},{"$f":"IFERROR(F32*FINANZAS!$K30,0)","v":0},{"$f":"IFERROR(G32*FINANZAS!$K30,0)","v":0},{"$f":"IFERROR(H32*FINANZAS!$K30,0)","v":0},{"$f":"IFERROR(I32*FINANZAS!$K30,0)","v":0},{"$f":"IFERROR(J32*FINANZAS!$K30,0)","v":0},{"$f":"IFERROR(K32*FINANZAS!$K30,0)","v":0},{"$f":"IFERROR(L32*FINANZAS!$K30,0)","v":0},{"$f":"IFERROR(M32*FINANZAS!$K30,0)","v":0},{"$f":"IFERROR(N32*FINANZAS!$K30,0)","v":0},{"$f":"IFERROR(O32*FINANZAS!$K30,0)","v":0},null,{"$f":"IFERROR(D32*FINANZAS!$G30,0)","v":0},{"$f":"IFERROR(E32*FINANZAS!$G30,0)","v":0},{"$f":"IFERROR(F32*FINANZAS!$G30,0)","v":0},{"$f":"IFERROR(G32*FINANZAS!$G30,0)","v":0},{"$f":"IFERROR(H32*FINANZAS!$G30,0)","v":0},{"$f":"IFERROR(I32*FINANZAS!$G30,0)","v":0},{"$f":"IFERROR(J32*FINANZAS!$G30,0)","v":0},{"$f":"IFERROR(K32*FINANZAS!$G30,0)","v":0},{"$f":"IFERROR(L32*FINANZAS!$G30,0)","v":0},{"$f":"IFERROR(M32*FINANZAS!$G30,0)","v":0},{"$f":"IFERROR(N32*FINANZAS!$G30,0)","v":0},{"$f":"IFERROR(O32*FINANZAS!$G30,0)","v":0},null,{"$f":"S32*FINANZAS!$J30","v":0},{"$f":"T32*FINANZAS!$J30","v":0},{"$f":"U32*FINANZAS!$J30","v":0},{"$f":"V32*FINANZAS!$J30","v":0},{"$f":"W32*FINANZAS!$J30","v":0},{"$f":"X32*FINANZAS!$J30","v":0},{"$f":"Y32*FINANZAS!$J30","v":0},{"$f":"Z32*FINANZAS!$J30","v":0},{"$f":"AA32*FINANZAS!$J30","v":0},{"$f":"AB32*FINANZAS!$J30","v":0},{"$f":"AC32*FINANZAS!$J30","v":0},{"$f":"AD32*FINANZAS!$J30","v":0},null,{"$f":"IFERROR(D32*FINANZAS!$N30,0)","v":0},{"$f":"IFERROR(E32*FINANZAS!$N30,0)","v":0},{"$f":"IFERROR(F32*FINANZAS!$N30,0)","v":0},{"$f":"IFERROR(G32*FINANZAS!$N30,0)","v":0},{"$f":"IFERROR(H32*FINANZAS!$N30,0)","v":0},{"$f":"IFERROR(I32*FINANZAS!$N30,0)","v":0},{"$f":"IFERROR(J32*FINANZAS!$N30,0)","v":0},{"$f":"IFERROR(K32*FINANZAS!$N30,0)","v":0},{"$f":"IFERROR(L32*FINANZAS!$N30,0)","v":0},{"$f":"IFERROR(M32*FINANZAS!$N30,0)","v":0},{"$f":"IFERROR(N32*FINANZAS!$N30,0)","v":0},{"$f":"IFERROR(O32*FINANZAS!$N30,0)","v":0}]
[null,null,{"$f":"IF(FINANZAS!C31=\"\",\"\",FINANZAS!C31)","v":""},null,null,null,null,null,null,null,null,null,null,null,null,0,null,"",{"$f":"IFERROR(D33*FINANZAS!$K31,0)","v":0},{"$f":"IFERROR(E33*FINANZAS!$K31,0)","v":0},{"$f":"IFERROR(F33*FINANZAS!$K31,0)","v":0},{"$f":"IFERROR(G33*FINANZAS!$K31,0)","v":0},{"$f":"IFERROR(H33*FINANZAS!$K31,0)","v":0},{"$f":"IFERROR(I33*FINANZAS!$K31,0)","v":0},{"$f":"IFERROR(J33*FINANZAS!$K31,0)","v":0},{"$f":"IFERROR(K33*FINANZAS!$K31,0)","v":0},{"$f":"IFERROR(L33*FINANZAS!$K31,0)","v":0},{"$f":"IFERROR(M33*FINANZAS!$K31,0)","v":0},{"$f":"IFERROR(N33*FINANZAS!$K31,0)","v":0},{"$f":"IFERROR(O33*FINANZAS!$K31,0)","v":0},null,{"$f":"IFERROR(D33*FINANZAS!$G31,0)","v":0},{"$f":"IFERROR(E33*FINANZAS!$G31,0)","v":0},{"$f":"IFERROR(F33*FINANZAS!$G31,0)","v":0},{"$f":"IFERROR(G33*FINANZAS!$G31,0)","v":0},{"$f":"IFERROR(H33*FINANZAS!$G31,0)","v":0},{"$f":"IFERROR(I33*FINANZAS!$G31,0)","v":0},{"$f":"IFERROR(J33*FINANZAS!$G31,0)","v":0},{"$f":"IFERROR(K33*FINANZAS!$G31,0)","v":0},{"$f":"IFERROR(L33*FINANZAS!$G31,0)","v":0},{"$f":"IFERROR(M33*FINANZAS!$G31,0)","v":0},{"$f":"IFERROR(N33*FINANZAS!$G31,0)","v":0},{"$f":"IFERROR(O33*FINANZAS!$G31,0)","v":0},null,{"$f":"S33*FINANZAS!$J31","v":0},{"$f":"T33*FINANZAS!$J31","v":0},{"$f":"U33*FINANZAS!$J31","v":0},{"$f":"V33*FINANZAS!$J31","v":0},{"$f":"W33*FINANZAS!$J31","v":0},{"$f":"X33*FINANZAS!$J31","v":0},{"$f":"Y33*FINANZAS!$J31","v":0},{"$f":"Z33*FINANZAS!$J31","v":0},{"$f":"AA33*FINANZAS!$J31","v":0},{"$f":"AB33*FINANZAS!$J31","v":0},{"$f":"AC33*FINANZAS!$J31","v":0},{"$f":"AD33*FINANZAS!$J31","v":0},null,{"$f":"IFERROR(D33*FINANZAS!$N31,0)","v":0},{"$f":"IFERROR(E33*FINANZAS!$N31,0)","v":0},{"$f":"IFERROR(F33*FINANZAS!$N31,0)","v":0},{"$f":"IFERROR(G33*FINANZAS!$N31,0)","v":0},{"$f":"IFERROR(H33*FINANZAS!$N31,0)","v":0},{"$f":"IFERROR(I33*FINANZAS!$N31,0)","v":0},{"$f":"IFERROR(J33*FINANZAS!$N31,0)","v":0},{"$f":"IFERROR(K33*FINANZAS!$N31,0)","v":0},{"$f":"IFERROR(L33*FINANZAS!$N31,0)","v":0},{"$f":"IFERROR(M33*FINANZAS!$N31,0)","v":0},{"$f":"IFERROR(N33*FINANZAS!$N31,0)","v":0},{"$f":"IFERROR(O33*FINANZAS!$N31,0)","v":0}]
[null,null,{"$f":"IF(FINANZAS!C32=\"\",\"\",FINANZAS!C32)","v":""},null,null,null,null,null,null,null,null,null,null,null,null,0,null,"",{"$f":"IFERROR(D34*FINANZAS!$K32,0)","v":0},{"$f":"IFERROR(E34*FINANZAS!$K32,0)","v":0},{"$f":"IFERROR(F34*FINANZAS!$K32,0)","v":0},{"$f":"IFERROR(G34*FINANZAS!$K32,0)","v":0},{"$f":"IFERROR(H34*FINANZAS!$K32,0)","v":0},{"$f":"IFERROR(I34*FINANZAS!$K32,0)","v":0},{"$f":"IFERROR(J34*FINANZAS!$K32,0)","v":0},{"$f":"IFERROR(K34*FINANZAS!$K32,0)","v":0},{"$f":"IFERROR(L34*FINANZAS!$K32,0)","v":0},{"$f":"IFERROR(M34*FINANZAS!$K32,0)","v":0},{"$f":"IFERROR(N34*FINANZAS!$K32,0)","v":0},{"$f":"IFERROR(O34*FINANZAS!$K32,0)","v":0},null,{"$f":"IFERROR(D34*FINANZAS!$G32,0)","v":0},{"$f":"IFERROR(E34*FINANZAS!$G32,0)","v":0},{"$f":"IFERROR(F34*FINANZAS!$G32,0)","v":0},{"$f":"IFERROR(G34*FINANZAS!$G32,0)","v":0},{"$f":"IFERROR(H34*FINANZAS!$G32,0)","v":0},{"$f":"IFERROR(I34*FINANZAS!$G32,0)","v":0},{"$f":"IFERROR(J34*FINANZAS!$G32,0)","v":0},{"$f":"IFERROR(K34*FINANZAS!$G32,0)","v":0},{"$f":"IFERROR(L34*FINANZAS!$G32,0)","v":0},{"$f":"IFERROR(M34*FINANZAS!$G32,0)","v":0},{"$f":"IFERROR(N34*FINANZAS!$G32,0)","v":0},{"$f":"IFERROR(O34*FINANZAS!$G32,0)","v":0},null,{"$f":"S34*FINANZAS!$J32","v":0},{"$f":"T34*FINANZAS!$J32","v":0},{"$f":"U34*FINANZAS!$J32","v":0},{"$f":"V34*FINANZAS!$J32","v":0},{"$f":"W34*FINANZAS!$J32","v":0},{"$f":"X34*FINANZAS!$J32","v":0},{"$f":"Y34*FINANZAS!$J32","v":0},{"$f":"Z34*FINANZAS!$J32","v":0},{"$f":"AA34*FINANZAS!$J32","v":0},{"$f":"AB34*FINANZAS!$J32","v":0},{"$f":"AC34*FINANZAS!$J32","v":0},{"$f":"AD34*FINANZAS!$J32","v":0},null,{"$f":"IFERROR(D34*FINANZAS!$N32,0)","v":0},{"$f":"IFERROR(E34*FINANZAS!$N32,0)","v":0},{"$f":"IFERROR(F34*FINANZAS!$N32,0)","v":0},{"$f":"IFERROR(G34*FINANZAS!$N32,0)","v":0},{"$f":"IFERROR(H34*FINANZAS!$N32,0)","v":0},{"$f":"IFERROR(I34*FINANZAS!$N32,0)","v":0},{"$f":"IFERROR(J34*FINANZAS!$N32,0)","v":0},{"$f":"IFERROR(K34*FINANZAS!$N32,0)","v":0},{"$f":"IFERROR(L34*FINANZAS!$N32,0)","v":0},{"$f":"IFERROR(M34*FINANZAS!$N32,0)","v":0},{"$f":"IFERROR(N34*FINANZAS!$N32,0)","v":0},{"$f":"IFERROR(O34*FINANZAS!$N32,0)","v":0}]
[null,null,{"$f":"IF(FINANZAS!C33=\"\",\"\",FINANZAS!C33)","v":""},null,null,null,null,null,null,null,null,null,null,null,null,0,null,"",{"$f":"IFERROR(D35*FINANZAS!$K33,0)","v":0},{"$f":"IFERROR(E35*FINANZAS!$K33,0)","v":0},{"$f":"IFERROR(F35*FINANZAS!$K33,0)","v":0},{"$f":"IFERROR(G35*FINANZAS!$K33,0)","v":0},{"$f":"IFERROR(H35*FINANZAS!$K33,0)","v":0},{"$f":"IFERROR(I35*FINANZAS!$K33,0)","v":0},{"$f":"IFERROR(J35*FINANZAS!$K33,0)","v":0},{"$f":"IFERROR(K35*FINANZAS!$K33,0)","v":0},{"$f":"IFERROR(L35*FINANZAS!$K33,0)","v":0},{"$f":"IFERROR(M35*FINANZAS!$K33,0)","v":0},{"$f":"IFERROR(N35*FINANZAS!$K33,0)","v":0},{"$f":"IFERROR(O35*FINANZAS!$K33,0)","v":0},null,{"$f":"IFERROR(D35*FINANZAS!$G33,0)","v":0},{"$f":"IFERROR(E35*FINANZAS!$G33,0)","v":0},{"$f":"IFERROR(F35*FINANZAS!$G33,0)","v":0},{"$f":"IFERROR(G35*FINANZAS!$G33,0)","v":0},{"$f":"IFERROR(H35*FINANZAS!$G33,0)","v":0},{"$f":"IFERROR(I35*FINANZAS!$G33,0)","v":0},{"$f":"IFERROR(J35*FINANZAS!$G33,0)","v":0},{"$f":"IFERROR(K35*FINANZAS!$G33,0)","v":0},{"$f":"IFERROR(L35*FINANZAS!$G33,0)","v":0},{"$f":"IFERROR(M35*FINANZAS!$G33,0)","v":0},{"$f":"IFERROR(N35*FINANZAS!$G33,0)","v":0},{"$f":"IFERROR(O35*FINANZAS!$G33,0)","v":0},null,{"$f":"S35*FINANZAS!$J33","v":0},{"$f":"T35*FINANZAS!$J33","v":0},{"$f":"U35*FINANZAS!$J33","v":0},{"$f":"V35*FINANZAS!$J33","v":0},{"$f":"W35*FINANZAS!$J33","v":0},{"$f":"X35*FINANZAS!$J33","v":0},{"$f":"Y35*FINANZAS!$J33","v":0},{"$f":"Z35*FINANZAS!$J33","v":0},{"$f":"AA35*FINANZAS!$J33","v":0},{"$f":"AB35*FINANZAS!$J33","v":0},{"$f":"AC35*FINANZAS!$J33","v":0},{"$f":"AD35*FINANZAS!$J33","v":0},null,{"$f":"IFERROR(D35*FINANZAS!$N33,0)","v":0},{"$f":"IFERROR(E35*FINANZAS!$N33,0)","v":0},{"$f":"IFERROR(F35*FINANZAS!$N33,0)","v":0},{"$f":"IFERROR(G35*FINANZAS!$N33,0)","v":0},{"$f":"IFERROR(H35*FINANZAS!$N33,0)","v":0},{"$f":"IFERROR(I35*FINANZAS!$N33,0)","v":0},{"$f":"IFERROR(J35*FINANZAS!$N33,0)","v":0},{"$f":"IFERROR(K35*FINANZAS!$N33,0)","v":0},{"$f":"IFERROR(L35*FINANZAS!$N33,0)","v":0},{"$f":"IFERROR(M35*FINANZAS!$N33,0)","v":0},{"$f":"IFERROR(N35*FINANZAS!$N33,0)","v":0},{"$f":"IFERROR(O35*FINANZAS!$N33,0)","v":0}]
[null,null,{"$f":"IF(FINANZAS!C34=\"\",\"\",FINANZAS!C34)","v":""},null,null,null,null,null,null,null,null,null,null,null,null,0,null,"",{"$f":"IFERROR(D36*FINANZAS!$K34,0)","v":0},{"$f":"IFERROR(E36*FINANZAS!$K34,0)","v":0},{"$f":"IFERROR(F36*FINANZAS!$K34,0)","v":0},{"$f":"IFERROR(G36*FINANZAS!$K34,0)","v":0},{"$f":"IFERROR(H36*FINANZAS!$K34,0)","v":0},{"$f":"IFERROR(I36*FINANZAS!$K34,0)","v":0},{"$f":"IFERROR(J36*FINANZAS!$K34,0)","v":0},{"$f":"IFERROR(K36*FINANZAS!$K34,0)","v":0},{"$f":"IFERROR(L36*FINANZAS!$K34,0)","v":0},{"$f":"IFERROR(M36*FINANZAS!$K34,0)","v":0},{"$f":"IFERROR(N36*FINANZAS!$K34,0)","v":0},{"$f":"IFERROR(O36*FINANZAS!$K34,0)","v":0},null,{"$f":"IFERROR(D36*FINANZAS!$G34,0)","v":0},{"$f":"IFERROR(E36*FINANZAS!$G34,0)","v":0},{"$f":"IFERROR(F36*FINANZAS!$G34,0)","v":0},{"$f":"IFERROR(G36*FINANZAS!$G34,0)","v":0},{"$f":"IFERROR(H36*FINANZAS!$G34,0)","v":0},{"$f":"IFERROR(I36*FINANZAS!$G34,0)","v":0},{"$f":"IFERROR(J36*FINANZAS!$G34,0)","v":0},{"$f":"IFERROR(K36*FINANZAS!$G34,0)","v":0},{"$f":"IFERROR(L36*FINANZAS!$G34,0)","v":0},{"$f":"IFERROR(M36*FINANZAS!$G34,0)","v":0},{"$f":"IFERROR(N36*FINANZAS!$G34,0)","v":0},{"$f":"IFERROR(O36*FINANZAS!$G34,0)","v":0},null,{"$f":"S36*FINANZAS!$J34","v":0},{"$f":"T36*FINANZAS!$J34","v":0},{"$f":"U36*FINANZAS!$J34","v":0},{"$f":"V36*FINANZAS!$J34","v":0},{"$f":"W36*FINANZAS!$J34","v":0},{"$f":"X36*FINANZAS!$J34","v":0},{"$f":"Y36*FINANZAS!$J34","v":0},{"$f":"Z36*FINANZAS!$J34","v":0},{"$f":"AA36*FINANZAS!$J34","v":0},{"$f":"AB36*FINANZAS!$J34","v":0},{"$f":"AC36*FINANZAS!$J34","v":0},{"$f":"AD36*FINANZAS!$J34","v":0},null,{"$f":"IFERROR(D36*FINANZAS!$N34,0)","v":0},{"$f":"IFERROR(E36*FINANZAS!$N34,0)","v":0},{"$f":"IFERROR(F36*FINANZAS!$N34,0)","v":0},{"$f":"IFERROR(G36*FINANZAS!$N34,0)","v":0},{"$f":"IFERROR(H36*FINANZAS!$N34,0)","v":0},{"$f":"IFERROR(I36*FINANZAS!$N34,0)","v":0},{"$f":"IFERROR(J36*FINANZAS!$N34,0)","v":0},{"$f":"IFERROR(K36*FINANZAS!$N34,0)","v":0},{"$f":"IFERROR(L36*FINANZAS!$N34,0)","v":0},{"$f":"IFERROR(M36*FINANZAS!$N34,0)","v":0},{"$f":"IFERROR(N36*FINANZAS!$N34,0)","v":0},{"$f":"IFERROR(O36*FINANZAS!$N34,0)","v":0}]
[null,null,{"$f":"IF(FINANZAS!C35=\"\",\"\",FINANZAS!C35)","v":""},null,null,null,null,null,null,null,null,null,null,null,null,0,null,"",{"$f":"IFERROR(D37*FINANZAS!$K35,0)","v":0},{"$f":"IFERROR(E37*FINANZAS!$K35,0)","v":0},{"$f":"IFERROR(F37*FINANZAS!$K35,0)","v":0},{"$f":"IFERROR(G37*FINANZAS!$K35,0)","v":0},{"$f":"IFERROR(H37*FINANZAS!$K35,0)","v":0},{"$f":"IFERROR(I37*FINANZAS!$K35,0)","v":0},{"$f":"IFERROR(J37*FINANZAS!$K35,0)","v":0},{"$f":"IFERROR(K37*FINANZAS!$K35,0)","v":0},{"$f":"IFERROR(L37*FINANZAS!$K35,0)","v":0},{"$f":"IFERROR(M37*FINANZAS!$K35,0)","v":0},{"$f":"IFERROR(N37*FINANZAS!$K35,0)","v":0},{"$f":"IFERROR(O37*FINANZAS!$K35,0)","v":0},null,{"$f":"IFERROR(D37*FINANZAS!$G35,0)","v":0},{"$f":"IFERROR(E37*FINANZAS!$G35,0)","v":0},{"$f":"IFERROR(F37*FINANZAS!$G35,0)","v":0},{"$f":"IFERROR(G37*FINANZAS!$G35,0)","v":0},{"$f":"IFERROR(H37*FINANZAS!$G35,0)","v":0},{"$f":"IFERROR(I37*FINANZAS!$G35,0)","v":0},{"$f":"IFERROR(J37*FINANZAS!$G35,0)","v":0},{"$f":"IFERROR(K37*FINANZAS!$G35,0)","v":0},{"$f":"IFERROR(L37*FINANZAS!$G35,0)","v":0},{"$f":"IFERROR(M37*FINANZAS!$G35,0)","v":0},{"$f":"IFERROR(N37*FINANZAS!$G35,0)","v":0},{"$f":"IFERROR(O37*FINANZAS!$G35,0)","v":0},null,{"$f":"S37*FINANZAS!$J35","v":0},{"$f":"T37*FINANZAS!$J35","v":0},{"$f":"U37*FINANZAS!$J35","v":0},{"$f":"V37*FINANZAS!$J35","v":0},{"$f":"W37*FINANZAS!$J35","v":0},{"$f":"X37*FINANZAS!$J35","v":0},{"$f":"Y37*FINANZAS!$J35","v":0},{"$f":"Z37*FINANZAS!$J35","v":0},{"$f":"AA37*FINANZAS!$J35","v":0},{"$f":"AB37*FINANZAS!$J35","v":0},{"$f":"AC37*FINANZAS!$J35","v":0},{"$f":"AD37*FINANZAS!$J35","v":0},null,{"$f":"IFERROR(D37*FINANZAS!$N35,0)","v":0},{"$f":"IFERROR(E37*FINANZAS!$N35,0)","v":0},{"$f":"IFERROR(F37*FINANZAS!$N35,0)","v":0},{"$f":"IFERROR(G37*FINANZAS!$N35,0)","v":0},{"$f":"IFERROR(H37*FINANZAS!$N35,0)","v":0},{"$f":"IFERROR(I37*FINANZAS!$N35,0)","v":0},{"$f":"IFERROR(J37*FINANZAS!$N35,0)","v":0},{"$f":"IFERROR(K37*FINANZAS!$N35,0)","v":0},{"$f":"IFERROR(L37*FINANZAS!$N35,0)","v":0},{"$f":"IFERROR(M37*FINANZAS!$N35,0)","v":0},{"$f":"IFERROR(N37*FINANZAS!$N35,0)","v":0},{"$f":"IFERROR(O37*FINANZAS!$N35,0)","v":0}]
[null,null,{"$f":"IF(FINANZAS!C36=\"\",\"\",FINANZAS!C36)","v":""},null,null,null,null,null,null,null,null,null,null,null,null,0,null,"",{"$f":"IFERROR(D38*FINANZAS!$K36,0)","v":0},{"$f":"IFERROR(E38*FINANZAS!$K36,0)","v":0},{"$f":"IFERROR(F38*FINANZAS!$K36,0)","v":0},{"$f":"IFERROR(G38*FINANZAS!$K36,0)","v":0},{"$f":"IFERROR(H38*FINANZAS!$K36,0)","v":0},{"$f":"IFERROR(I38*FINANZAS!$K36,0)","v":0},{"$f":"IFERROR(J38*FINANZAS!$K36,0)","v":0},{"$f":"IFERROR(K38*FINANZAS!$K36,0)","v":0},{"$f":"IFERROR(L38*FINANZAS!$K36,0)","v":0},{"$f":"IFERROR(M38*FINANZAS!$K36,0)","v":0},{"$f":"IFERROR(N38*FINANZAS!$K36,0)","v":0},{"$f":"IFERROR(O38*FINANZAS!$K36,0)","v":0},null,{"$f":"D38*FINANZAS!$E$6","v":0},{"$f":"E38*FINANZAS!$E$6","v":0},{"$f":"F38*FINANZAS!$E$6","v":0},{"$f":"G38*FINANZAS!$E$6","v":0},{"$f":"H38*FINANZAS!$E$6","v":0},{"$f":"I38*FINANZAS!$E$6","v":0},{"$f":"J38*FINANZAS!$E$6","v":0},{"$f":"K38*FINANZAS!$E$6","v":0},{"$f":"L38*FINANZAS!$E$6","v":0},{"$f":"M38*FINANZAS!$E$6","v":0},{"$f":"N38*FINANZAS!$E$6","v":0},{"$f":"O38*FINANZAS!$E$6","v":0},null,{"$f":"S38*FINANZAS!$J36","v":0},{"$f":"T38*FINANZAS!$J36","v":0},{"$f":"U38*FINANZAS!$J36","v":0},{"$f":"V38*FINANZAS!$J36","v":0},{"$f":"W38*FINANZAS!$J36","v":0},{"$f":"X38*FINANZAS!$J36","v":0},{"$f":"Y38*FINANZAS!$J36","v":0},{"$f":"Z38*FINANZAS!$J36","v":0},{"$f":"AA38*FINANZAS!$J36","v":0},{"$f":"AB38*FINANZAS!$J36","v":0},{"$f":"AC38*FINANZAS!$J36","v":0},{"$f":"AD38*FINANZAS!$J36","v":0},null,{"$f":"IFERROR(D38*FINANZAS!$N36,0)","v":0},{"$f":"IFERROR(E38*FINANZAS!$N36,0)","v":0},{"$f":"IFERROR(F38*FINANZAS!$N36,0)","v":0},{"$f":"IFERROR(G38*FINANZAS!$N36,0)","v":0},{"$f":"IFERROR(H38*FINANZAS!$N36,0)","v":0},{"$f":"IFERROR(I38*FINANZAS!$N36,0)","v":0},{"$f":"IFERROR(J38*FINANZAS!$N36,0)","v":0},{"$f":"IFERROR(K38*FINANZAS!$N36,0)","v":0},{"$f":"IFERROR(L38*FINANZAS!$N36,0)","v":0},{"$f":"IFERROR(M38*FINANZAS!$N36,0)","v":0},{"$f":"IFERROR(N38*FINANZAS!$N36,0)","v":0},{"$f":"IFERROR(O38*FINANZAS!$N36,0)","v":0}]

{"sheet":"PROJ4","index":20,"n_rows":38,"n_cols":69,"rows_kept":38,"cut":false,"hidden":false,"merged":[[0,12,0,13],[0,2,0,5],[0,6,0,7],[0,8,0,9],[0,10,0,11]]}
[]
[]
[]
[null,null,"Seleccione el año ->","resumen","1 año","2 años","3 años","4 años","5 años"]
[]
[null,null,"Proyecte una cantidad de ventas realizadas por cada producto o servicio en los meses siguientes",null,null,null,null,null,null,null,null,null,null,null,null,null,null,null,"Proyección de ingresos",null,null,null,null,null,null,null,null,null,null,null,null,"Los costos variables",null,null,null,null,null,null,null,null,null,null,null,null,"impuestos",null,null,null,null,null,null,null,null,null,null,null,null,"Margen de contribución"]
[null,null,"Descripción","Enero","Febrero","Marzo","Abril","Mayo","Junio","Julio","Agosto","Septiembre","Octubre","Noviembre","Diciembre","Total",null,"repetición","enero","febrero","marzo","abril","mayo","junio","julio","agosto","septiembre","octubre","noviembre","diciembre",null,"enero","febrero","marzo","abril","mayo","junio","julio","agosto","septiembre","octubre","noviembre","diciembre",null,"enero","febrero","marzo","abril","mayo","junio","julio","agosto","septiembre","octubre","noviembre","diciembre",null,"enero","febrero","marzo","abril","mayo","junio","julio","agosto","septiembre","octubre","noviembre","diciembre"]
[null,null,{"$f":"IF(FINANZAS!C6=\"\",\"\",FINANZAS!C6)","v":"Café Anibalito "},400,500,400,500,600,700,400,500,500,500,400,700,{"$f":"SUM(S8:AD8)","v":2332894.4748179591},null,{"$f":"C8","v":"Café Anibalito "},{"$f":"IFERROR(D8*FINANZAS!$K6,0)","v":152976.68687330882},{"$f":"IFERROR(E8*FINANZAS!$K6,0)","v":191220.858591636},{"$f":"IFERROR(F8*FINANZAS!$K6,0)","v":152976.68687330882},{"$f":"IFERROR(G8*FINANZAS!$K6,0)","v":191220.858591636},{"$f":"IFERROR(H8*FINANZAS!$K6,0)","v":229465.03030996321},{"$f":"IFERROR(I8*FINANZAS!$K6,0)","v":267709.20202829043},{"$f":"IFERROR(J8*FINANZAS!$K6,0)","v":152976.68687330882},{"$f":"IFERROR(K8*FINANZAS!$K6,0)","v":191220.858591636},{"$f":"IFERROR(L8*FINANZAS!$K6,0)","v":191220.858591636},{"$f":"IFERROR(M8*FINANZAS!$K6,0)","v":191220.858591636},{"$f":"IFERROR(N8*FINANZAS!$K6,0)","v":152976.68687330882},{"$f":"IFERROR(O8*FINANZAS!$K6,0)","v":267709.20202829043},null,{"$f":"IFERROR(D8*FINANZAS!$G6,0)","v":55751.503660494782},{"$f":"IFERROR(E8*FINANZAS!$G6,0)","v":69689.37957561847},{"$f":"IFERROR(F8*FINANZAS!$G6,0)","v":55751.503660494782},{"$f":"IFERROR(G8*FINANZAS!$G6,0)","v":69689.37957561847},{"$f":"IFERROR(H8*FINANZAS!$G6,0)","v":83627.255490742173},{"$f":"IFERROR(I8*FINANZAS!$G6,0)","v":97565.131405865861},{"$f":"IFERROR(J8*FINANZAS!$G6,0)","v":55751.503660494782},{"$f":"IFERROR(K8*FINANZAS!$G6,0)","v":69689.37957561847},{"$f":"IFERROR(L8*FINANZAS!$G6,0)","v":69689.37957561847},{"$f":"IFERROR(M8*FINANZAS!$G6,0)","v":69689.37957561847},{"$f":"IFERROR(N8*FINANZAS!$G6,0)","v":55751.503660494782},{"$f":"IFERROR(O8*FINANZAS!$G6,0)","v":97565.131405865861},null,{"$f":"S8*FINANZAS!$J6","v":27535.803637195586},{"$f":"T8*FINANZAS!$J6","v":34419.754546494478},{"$f":"U8*FINANZAS!$J6","v":27535.803637195586},{"$f":"V8*FINANZAS!$J6","v":34419.754546494478},{"$f":"W8*FINANZAS!$J6","v":41303.705455793381},{"$f":"X8*FINANZAS!$J6","v":48187.656365092276},{"$f":"Y8*FINANZAS!$J6","v":27535.803637195586},{"$f":"Z8*FINANZAS!$J6","v":34419.754546494478},{"$f":"AA8*FINANZAS!$J6","v":34419.754546494478},{"$f":"AB8*FINANZAS!$J6","v":34419.754546494478},{"$f":"AC8*FINANZAS!$J6","v":27535.803637195586},{"$f":"AD8*FINANZAS!$J6","v":48187.656365092276},null,{"$f":"IFERROR(D8*FINANZAS!$N6,0)","v":69689.379575618455},{"$f":"IFERROR(E8*FINANZAS!$N6,0)","v":87111.724469523062},{"$f":"IFERROR(F8*FINANZAS!$N6,0)","v":69689.379575618455},{"$f":"IFERROR(G8*FINANZAS!$N6,0)","v":87111.724469523062},{"$f":"IFERROR(H8*FINANZAS!$N6,0)","v":104534.06936342768},{"$f":"IFERROR(I8*FINANZAS!$N6,0)","v":121956.41425733229},{"$f":"IFERROR(J8*FINANZAS!$N6,0)","v":69689.379575618455},{"$f":"IFERROR(K8*FINANZAS!$N6,0)","v":87111.724469523062},{"$f":"IFERROR(L8*FINANZAS!$N6,0)","v":87111.724469523062},{"$f":"IFERROR(M8*FINANZAS!$N6,0)","v":87111.724469523062},{"$f":"IFERROR(N8*FINANZAS!$N6,0)","v":69689.379575618455},{"$f":"IFERROR(O8*FINANZAS!$N6,0)","v":121956.41425733229}]
[null,null,{"$f":"IF(FINANZAS!C7=\"\",\"\",FINANZAS!C7)","v":"café en sobre"},300,300,300,300,300,300,300,300,300,300,300,300,{"$f":"SUM(S9:AD9)","v":131707.31707317074},null,{"$f":"C9","v":"café en sobre"},{"$f":"IFERROR(D9*FINANZAS!$K7,0)","v":10975.609756097561},{"$f":"IFERROR(E9*FINANZAS!$K7,0)","v":10975.609756097561},{"$f":"IFERROR(F9*FINANZAS!$K7,0)","v":10975.609756097561},{"$f":"IFERROR(G9*FINANZAS!$K7,0)","v":10975.609756097561},{"$f":"IFERROR(H9*FINANZAS!$K7,0)","v":10975.609756097561},{"$f":"IFERROR(I9*FINANZAS!$K7,0)","v":10975.609756097561},{"$f":"IFERROR(J9*FINANZAS!$K7,0)","v":10975.609756097561},{"$f":"IFERROR(K9*FINANZAS!$K7,0)","v":10975.609756097561},{"$f":"IFERROR(L9*FINANZAS!$K7,0)","v":10975.609756097561},{"$f":"IFERROR(M9*FINANZAS!$K7,0)","v":10975.609756097561},{"$f":"IFERROR(N9*FINANZAS!$K7,0)","v":10975.609756097561},{"$f":"IFERROR(O9*FINANZAS!$K7,0)","v":10975.609756097561},null,{"$f":"IFERROR(D9*FINANZAS!$G7,0)","v":7500},{"$f":"IFERROR(E9*FINANZAS!$G7,0)","v":7500},{"$f":"IFERROR(F9*FINANZAS!$G7,0)","v":7500},{"$f":"IFERROR(G9*FINANZAS!$G7,0)","v":7500},{"$f":"IFERROR(H9*FINANZAS!$G7,0)","v":7500},{"$f":"IFERROR(I9*FINANZAS!$G7,0)","v":7500},{"$f":"IFERROR(J9*FINANZAS!$G7,0)","v":7500},{"$f":"IFERROR(K9*FINANZAS!$G7,0)","v":7500},{"$f":"IFERROR(L9*FINANZAS!$G7,0)","v":7500},{"$f":"IFERROR(M9*FINANZAS!$G7,0)","v":7500},{"$f":"IFERROR(N9*FINANZAS!$G7,0)","v":7500},{"$f":"IFERROR(O9*FINANZAS!$G7,0)","v":7500},null,{"$f":"S9*FINANZAS!$J7","v":1975.6097560975609},{"$f":"T9*FINANZAS!$J7","v":1975.6097560975609},{"$f":"U9*FINANZAS!$J7","v":1975.6097560975609},{"$f":"V9*FINANZAS!$J7","v":1975.6097560975609},{"$f":"W9*FINANZAS!$J7","v":1975.6097560975609},{"$f":"X9*FINANZAS!$J7","v":1975.6097560975609},{"$f":"Y9*FINANZAS!$J7","v":1975.6097560975609},{"$f":"Z9*FINANZAS!$J7","v":1975.6097560975609},{"$f":"AA9*FINANZAS!$J7","v":1975.6097560975609},{"$f":"AB9*FINANZAS!$J7","v":1975.6097560975609},{"$f":"AC9*FINANZAS!$J7","v":1975.6097560975609},{"$f":"AD9*FINANZAS!$J7","v":1975.6097560975609},null,{"$f":"IFERROR(D9*FINANZAS!$N7,0)","v":1500.0000000000002},{"$f":"IFERROR(E9*FINANZAS!$N7,0)","v":1500.0000000000002},{"$f":"IFERROR(F9*FINANZAS!$N7,0)","v":1500.0000000000002},{"$f":"IFERROR(G9*FINANZAS!$N7,0)","v":1500.0000000000002},{"$f":"IFERROR(H9*FINANZAS!$N7,0)","v":1500.0000000000002},{"$f":"IFERROR(I9*FINANZAS!$N7,0)","v":1500.0000000000002},{"$f":"IFERROR(J9*FINANZAS!$N7,0)","v":1500.0000000000002},{"$f":"IFERROR(K9*FINANZAS!$N7,0)","v":1500.0000000000002},{"$f":"IFERROR(L9*FINANZAS!$N7,0)","v":1500.0000000000002},{"$f":"IFERROR(M9*FINANZAS!$N7,0)","v":1500.0000000000002},{"$f":"IFERROR(N9*FINANZAS!$N7,0)","v":1500.0000000000002},{"$f":"IFERROR(O9*FINANZAS!$N7,0)","v":1500.0000000000002}]
[null,null,{"$f":"IF(FINANZAS!C8=\"\",\"\",FINANZAS!C8)","v":1},400,500,400,500,600,700,400,500,500,500,400,700,867214.63943899621,null,1,{"$f":"IFERROR(D10*FINANZAS!$K8,0)","v":56866.533733704673},{"$f":"IFERROR(E10*FINANZAS!$K8,0)","v":71083.167167130843},{"$f":"IFERROR(F10*FINANZAS!$K8,0)","v":56866.533733704673},{"$f":"IFERROR(G10*FINANZAS!$K8,0)","v":71083.167167130843},{"$f":"IFERROR(H10*FINANZAS!$K8,0)","v":85299.800600557006},{"$f":"IFERROR(I10*FINANZAS!$K8,0)","v":99516.434033983169},{"$f":"IFERROR(J10*FINANZAS!$K8,0)","v":56866.533733704673},{"$f":"IFERROR(K10*FINANZAS!$K8,0)","v":71083.167167130843},{"$f":"IFERROR(L10*FINANZAS!$K8,0)","v":71083.167167130843},{"$f":"IFERROR(M10*FINANZAS!$K8,0)","v":71083.167167130843},{"$f":"IFERROR(N10*FINANZAS!$K8,0)","v":56866.533733704673},{"$f":"IFERROR(O10*FINANZAS!$K8,0)","v":99516.434033983169},null,{"$f":"IFERROR(D10*FINANZAS!$G8,0)","v":55751.503660494782},{"$f":"IFERROR(E10*FINANZAS!$G8,0)","v":69689.37957561847},{"$f":"IFERROR(F10*FINANZAS!$G8,0)","v":55751.503660494782},{"$f":"IFERROR(G10*FINANZAS!$G8,0)","v":69689.37957561847},{"$f":"IFERROR(H10*FINANZAS!$G8,0)","v":83627.255490742173},{"$f":"IFERROR(I10*FINANZAS!$G8,0)","v":97565.131405865861},{"$f":"IFERROR(J10*FINANZAS!$G8,0)","v":55751.503660494782},{"$f":"IFERROR(K10*FINANZAS!$G8,0)","v":69689.37957561847},{"$f":"IFERROR(L10*FINANZAS!$G8,0)","v":69689.37957561847},{"$f":"IFERROR(M10*FINANZAS!$G8,0)","v":69689.37957561847},{"$f":"IFERROR(N10*FINANZAS!$G8,0)","v":55751.503660494782},{"$f":"IFERROR(O10*FINANZAS!$G8,0)","v":97565.131405865861},null,{"$f":"S10*FINANZAS!$J8","v":0},{"$f":"T10*FINANZAS!$J8","v":0},{"$f":"U10*FINANZAS!$J8","v":0},{"$f":"V10*FINANZAS!$J8","v":0},{"$f":"W10*FINANZAS!$J8","v":0},{"$f":"X10*FINANZAS!$J8","v":0},{"$f":"Y10*FINANZAS!$J8","v":0},{"$f":"Z10*FINANZAS!$J8","v":0},{"$f":"AA10*FINANZAS!$J8","v":0},{"$f":"AB10*FINANZAS!$J8","v":0},{"$f":"AC10*FINANZAS!$J8","v":0},{"$f":"AD10*FINANZAS!$J8","v":0},null,{"$f":"IFERROR(D10*FINANZAS!$N8,0)","v":1115.0300732098913},{"$f":"IFERROR(E10*FINANZAS!$N8,0)","v":1393.7875915123641},{"$f":"IFERROR(F10*FINANZAS!$N8,0)","v":1115.0300732098913},{"$f":"IFERROR(G10*FINANZAS!$N8,0)","v":1393.7875915123641},{"$f":"IFERROR(H10*FINANZAS!$N8,0)","v":1672.5451098148369},{"$f":"IFERROR(I10*FINANZAS!$N8,0)","v":1951.3026281173097},{"$f":"IFERROR(J10*FINANZAS!$N8,0)","v":1115.0300732098913},{"$f":"IFERROR(K10*FINANZAS!$N8,0)","v":1393.7875915123641},{"$f":"IFERROR(L10*FINANZAS!$N8,0)","v":1393.7875915123641},{"$f":"IFERROR(M10*FINANZAS!$N8,0)","v":1393.7875915123641},{"$f":"IFERROR(N10*FINANZAS!$N8,0)","v":1115.0300732098913},{"$f":"IFERROR(O10*FINANZAS!$N8,0)","v":1951.3026281173097}]
[null,null,{"$f":"IF(FINANZAS!C9=\"\",\"\",FINANZAS!C9)","v":2},300,300,300,300,300,300,300,300,300,300,300,300,92700,null,2,{"$f":"IFERROR(D11*FINANZAS!$K9,0)","v":7725},{"$f":"IFERROR(E11*FINANZAS!$K9,0)","v":7725},{"$f":"IFERROR(F11*FINANZAS!$K9,0)","v":7725},{"$f":"IFERROR(G11*FINANZAS!$K9,0)","v":7725},{"$f":"IFERROR(H11*FINANZAS!$K9,0)","v":7725},{"$f":"IFERROR(I11*FINANZAS!$K9,0)","v":7725},{"$f":"IFERROR(J11*FINANZAS!$K9,0)","v":7725},{"$f":"IFERROR(K11*FINANZAS!$K9,0)","v":7725},{"$f":"IFERROR(L11*FINANZAS!$K9,0)","v":7725},{"$f":"IFERROR(M11*FINANZAS!$K9,0)","v":7725},{"$f":"IFERROR(N11*FINANZAS!$K9,0)","v":7725},{"$f":"IFERROR(O11*FINANZAS!$K9,0)","v":7725},null,{"$f":"IFERROR(D11*FINANZAS!$G9,0)","v":7500},{"$f":"IFERROR(E11*FINANZAS!$G9,0)","v":7500},{"$f":"IFERROR(F11*FINANZAS!$G9,0)","v":7500},{"$f":"IFERROR(G11*FINANZAS!$G9,0)","v":7500},{"$f":"IFERROR(H11*FINANZAS!$G9,0)","v":7500},{"$f":"IFERROR(I11*FINANZAS!$G9,0)","v":7500},{"$f":"IFERROR(J11*FINANZAS!$G9,0)","v":7500},{"$f":"IFERROR(K11*FINANZAS!$G9,0)","v":7500},{"$f":"IFERROR(L11*FINANZAS!$G9,0)","v":7500},{"$f":"IFERROR(M11*FINANZAS!$G9,0)","v":7500},{"$f":"IFERROR(N11*FINANZAS!$G9,0)","v":7500},{"$f":"IFERROR(O11*FINANZAS!$G9,0)","v":7500},null,{"$f":"S11*FINANZAS!$J9","v":0},{"$f":"T11*FINANZAS!$J9","v":0},{"$f":"U11*FINANZAS!$J9","v":0},{"$f":"V11*FINANZAS!$J9","v":0},{"$f":"W11*FINANZAS!$J9","v":0},{"$f":"X11*FINANZAS!$J9","v":0},{"$f":"Y11*FINANZAS!$J9","v":0},{"$f":"Z11*FINANZAS!$J9","v":0},{"$f":"AA11*FINANZAS!$J9","v":0},{"$f":"AB11*FINANZAS!$J9","v":0},{"$f":"AC11*FINANZAS!$J9","v":0},{"$f":"AD11*FINANZAS!$J9","v":0},null,{"$f":"IFERROR(D11*FINANZAS!$N9,0)","v":225},{"$f":"IFERROR(E11*FINANZAS!$N9,0)","v":225},{"$f":"IFERROR(F11*FINANZAS!$N9,0)","v":225},{"$f":"IFERROR(G11*FINANZAS!$N9,0)","v":225},{"$f":"IFERROR(H11*FINANZAS!$N9,0)","v":225},{"$f":"IFERROR(I11*FINANZAS!$N9,0)","v":225},{"$f":"IFERROR(J11*FINANZAS!$N9,0)","v":225},{"$f":"IFERROR(K11*FINANZAS!$N9,0)","v":225},{"$f":"IFERROR(L11*FINANZAS!$N9,0)","v":225},{"$f":"IFERROR(M11*FINANZAS!$N9,0)","v":225},{"$f":"IFERROR(N11*FINANZAS!$N9,0)","v":225},{"$f":"IFERROR(O11*FINANZAS!$N9,0)","v":225}]
[null,null,{"$f":"IF(FINANZAS!C10=\"\",\"\",FINANZAS!C10)","v":3},400,500,400,500,600,700,400,500,500,500,400,700,867214.63943899621,null,3,{"$f":"IFERROR(D12*FINANZAS!$K10,0)","v":56866.533733704673},{"$f":"IFERROR(E12*FINANZAS!$K10,0)","v":71083.167167130843},{"$f":"IFERROR(F12*FINANZAS!$K10,0)","v":56866.533733704673},{"$f":"IFERROR(G12*FINANZAS!$K10,0)","v":71083.167167130843},{"$f":"IFERROR(H12*FINANZAS!$K10,0)","v":85299.800600557006},{"$f":"IFERROR(I12*FINANZAS!$K10,0)","v":99516.434033983169},{"$f":"IFERROR(J12*FINANZAS!$K10,0)","v":56866.533733704673},{"$f":"IFERROR(K12*FINANZAS!$K10,0)","v":71083.167167130843},{"$f":"IFERROR(L12*FINANZAS!$K10,0)","v":71083.167167130843},{"$f":"IFERROR(M12*FINANZAS!$K10,0)","v":71083.167167130843},{"$f":"IFERROR(N12*FINANZAS!$K10,0)","v":56866.533733704673},{"$f":"IFERROR(O12*FINANZAS!$K10,0)","v":99516.434033983169},null,{"$f":"IFERROR(D12*FINANZAS!$G10,0)","v":55751.503660494782},{"$f":"IFERROR(E12*FINANZAS!$G10,0)","v":69689.37957561847},{"$f":"IFERROR(F12*FINANZAS!$G10,0)","v":55751.503660494782},{"$f":"IFERROR(G12*FINANZAS!$G10,0)","v":69689.37957561847},{"$f":"IFERROR(H12*FINANZAS!$G10,0)","v":83627.255490742173},{"$f":"IFERROR(I12*FINANZAS!$G10,0)","v":97565.131405865861},{"$f":"IFERROR(J12*FINANZAS!$G10,0)","v":55751.503660494782},{"$f":"IFERROR(K12*FINANZAS!$G10,0)","v":69689.37957561847},{"$f":"IFERROR(L12*FINANZAS!$G10,0)","v":69689.37957561847},{"$f":"IFERROR(M12*FINANZAS!$G10,0)","v":69689.37957561847},{"$f":"IFERROR(N12*FINANZAS!$G10,0)","v":55751.503660494782},{"$f":"IFERROR(O12*FINANZAS!$G10,0)","v":97565.131405865861},null,{"$f":"S12*FINANZAS!$J10","v":0},{"$f":"T12*FINANZAS!$J10","v":0},{"$f":"U12*FINANZAS!$J10","v":0},{"$f":"V12*FINANZAS!$J10","v":0},{"$f":"W12*FINANZAS!$J10","v":0},{"$f":"X12*FINANZAS!$J10","v":0},{"$f":"Y12*FINANZAS!$J10","v":0},{"$f":"Z12*FINANZAS!$J10","v":0},{"$f":"AA12*FINANZAS!$J10","v":0},{"$f":"AB12*FINANZAS!$J10","v":0},{"$f":"AC12*FINANZAS!$J10","v":0},{"$f":"AD12*FINANZAS!$J10","v":0},null,{"$f":"IFERROR(D12*FINANZAS!$N10,0)","v":1115.0300732098913},{"$f":"IFERROR(E12*FINANZAS!$N10,0)","v":1393.7875915123641},{"$f":"IFERROR(F12*FINANZAS!$N10,0)","v":1115.0300732098913},{"$f":"IFERROR(G12*FINANZAS!$N10,0)","v":1393.7875915123641},{"$f":"IFERROR(H12*FINANZAS!$N10,0)","v":1672.5451098148369},{"$f":"IFERROR(I12*FINANZAS!$N10,0)","v":1951.3026281173097},{"$f":"IFERROR(J12*FINANZAS!$N10,0)","v":1115.0300732098913},{"$f":"IFERROR(K12*FINANZAS!$N10,0)","v":1393.7875915123641},{"$f":"IFERROR(L12*FINANZAS!$N10,0)","v":1393.7875915123641},{"$f":"IFERROR(M12*FINANZAS!$N10,0)","v":1393.7875915123641},{"$f":"IFERROR(N12*FINANZAS!$N10,0)","v":1115.0300732098913},{"$f":"IFERROR(O12*FINANZAS!$N10,0)","v":1951.3026281173097}]
[null,null,{"$f":"IF(FINANZAS!C11=\"\",\"\",FINANZAS!C11)","v":4},300,300,300,300,300,300,300,300,300,300,300,300,92700,null,4,{"$f":"IFERROR(D13*FINANZAS!$K11,0)","v":7725},{"$f":"IFERROR(E13*FINANZAS!$K11,0)","v":7725},{"$f":"IFERROR(F13*FINANZAS!$K11,0)","v":7725},{"$f":"IFERROR(G13*FINANZAS!$K11,0)","v":7725},{"$f":"IFERROR(H13*FINANZAS!$K11,0)","v":7725},{"$f":"IFERROR(I13*FINANZAS!$K11,0)","v":7725},{"$f":"IFERROR(J13*FINANZAS!$K11,0)","v":7725},{"$f":"IFERROR(K13*FINANZAS!$K11,0)","v":7725},{"$f":"IFERROR(L13*FINANZAS!$K11,0)","v":7725},{"$f":"IFERROR(M13*FINANZAS!$K11,0)","v":7725},{"$f":"IFERROR(N13*FINANZAS!$K11,0)","v":7725},{"$f":"IFERROR(O13*FINANZAS!$K11,0)","v":7725},null,{"$f":"IFERROR(D13*FINANZAS!$G11,0)","v":7500},{"$f":"IFERROR(E13*FINANZAS!$G11,0)","v":7500},{"$f":"IFERROR(F13*FINANZAS!$G11,0)","v":7500},{"$f":"IFERROR(G13*FINANZAS!$G11,0)","v":7500},{"$f":"IFERROR(H13*FINANZAS!$G11,0)","v":7500},{"$f":"IFERROR(I13*FINANZAS!$G11,0)","v":7500},{"$f":"IFERROR(J13*FINANZAS!$G11,0)","v":7500},{"$f":"IFERROR(K13*FINANZAS!$G11,0)","v":7500},{"$f":"IFERROR(L13*FINANZAS!$G11,0)","v":7500},{"$f":"IFERROR(M13*FINANZAS!$G11,0)","v":7500},{"$f":"IFERROR(N13*FINANZAS!$G11,0)","v":7500},{"$f":"IFERROR(O13*FINANZAS!$G11,0)","v":7500},null,{"$f":"S13*FINANZAS!$J11","v":0},{"$f":"T13*FINANZAS!$J11","v":0},{"$f":"U13*FINANZAS!$J11","v":0},{"$f":"V13*FINANZAS!$J11","v":0},{"$f":"W13*FINANZAS!$J11","v":0},{"$f":"X13*FINANZAS!$J11","v":0},{"$f":"Y13*FINANZAS!$J11","v":0},{"$f":"Z13*FINANZAS!$J11","v":0},{"$f":"AA13*FINANZAS!$J11","v":0},{"$f":"AB13*FINANZAS!$J11","v":0},{"$f":"AC13*FINANZAS!$J11","v":0},{"$f":"AD13*FINANZAS!$J11","v":0},null,{"$f":"IFERROR(D13*FINANZAS!$N11,0)","v":225},{"$f":"IFERROR(E13*FINANZAS!$N11,0)","v":225},{"$f":"IFERROR(F13*FINANZAS!$N11,0)","v":225},{"$f":"IFERROR(G13*FINANZAS!$N11,0)","v":225},{"$f":"IFERROR(H13*FINANZAS!$N11,0)","v":225},{"$f":"IFERROR(I13*FINANZAS!$N11,0)","v":225},{"$f":"IFERROR(J13*FINANZAS!$N11,0)","v":225},{"$f":"IFERROR(K13*FINANZAS!$N11,0)","v":225},{"$f":"IFERROR(L13*FINANZAS!$N11,0)","v":225},{"$f":"IFERROR(M13*FINANZAS!$N11,0)","v":225},{"$f":"IFERROR(N13*FINANZAS!$N11,0)","v":225},{"$f":"IFERROR(O13*FINANZAS!$N11,0)","v":225}]
[null,null,{"$f":"IF(FINANZAS!C12=\"\",\"\",FINANZAS!C12)","v":5},400,500,400,500,600,700,400,500,500,500,400,700,175374.99999999997,null,5,{"$f":"IFERROR(D14*FINANZAS!$K12,0)","v":11499.999999999998},{"$f":"IFERROR(E14*FINANZAS!$K12,0)","v":14374.999999999998},{"$f":"IFERROR(F14*FINANZAS!$K12,0)","v":11499.999999999998},{"$f":"IFERROR(G14*FINANZAS!$K12,0)","v":14374.999999999998},{"$f":"IFERROR(H14*FINANZAS!$K12,0)","v":17249.999999999996},{"$f":"IFERROR(I14*FINANZAS!$K12,0)","v":20124.999999999996},{"$f":"IFERROR(J14*FINANZAS!$K12,0)","v":11499.999999999998},{"$f":"IFERROR(K14*FINANZAS!$K12,0)","v":14374.999999999998},{"$f":"IFERROR(L14*FINANZAS!$K12,0)","v":14374.999999999998},{"$f":"IFERROR(M14*FINANZAS!$K12,0)","v":14374.999999999998},{"$f":"IFERROR(N14*FINANZAS!$K12,0)","v":11499.999999999998},{"$f":"IFERROR(O14*FINANZAS!$K12,0)","v":20124.999999999996},null,{"$f":"IFERROR(D14*FINANZAS!$G12,0)","v":10000},{"$f":"IFERROR(E14*FINANZAS!$G12,0)","v":12500},{"$f":"IFERROR(F14*FINANZAS!$G12,0)","v":10000},{"$f":"IFERROR(G14*FINANZAS!$G12,0)","v":12500},{"$f":"IFERROR(H14*FINANZAS!$G12,0)","v":15000},{"$f":"IFERROR(I14*FINANZAS!$G12,0)","v":17500},{"$f":"IFERROR(J14*FINANZAS!$G12,0)","v":10000},{"$f":"IFERROR(K14*FINANZAS!$G12,0)","v":12500},{"$f":"IFERROR(L14*FINANZAS!$G12,0)","v":12500},{"$f":"IFERROR(M14*FINANZAS!$G12,0)","v":12500},{"$f":"IFERROR(N14*FINANZAS!$G12,0)","v":10000},{"$f":"IFERROR(O14*FINANZAS!$G12,0)","v":17500},null,{"$f":"S14*FINANZAS!$J12","v":0},{"$f":"T14*FINANZAS!$J12","v":0},{"$f":"U14*FINANZAS!$J12","v":0},{"$f":"V14*FINANZAS!$J12","v":0},{"$f":"W14*FINANZAS!$J12","v":0},{"$f":"X14*FINANZAS!$J12","v":0},{"$f":"Y14*FINANZAS!$J12","v":0},{"$f":"Z14*FINANZAS!$J12","v":0},{"$f":"AA14*FINANZAS!$J12","v":0},{"$f":"AB14*FINANZAS!$J12","v":0},{"$f":"AC14*FINANZAS!$J12","v":0},{"$f":"AD14*FINANZAS!$J12","v":0},null,{"$f":"IFERROR(D14*FINANZAS!$N12,0)","v":1499.9999999999986},{"$f":"IFERROR(E14*FINANZAS!$N12,0)","v":1874.9999999999982},{"$f":"IFERROR(F14*FINANZAS!$N12,0)","v":1499.9999999999986},{"$f":"IFERROR(G14*FINANZAS!$N12,0)","v":1874.9999999999982},{"$f":"IFERROR(H14*FINANZAS!$N12,0)","v":2249.9999999999977},{"$f":"IFERROR(I14*FINANZAS!$N12,0)","v":2624.9999999999977},{"$f":"IFERROR(J14*FINANZAS!$N12,0)","v":1499.9999999999986},{"$f":"IFERROR(K14*FINANZAS!$N12,0)","v":1874.9999999999982},{"$f":"IFERROR(L14*FINANZAS!$N12,0)","v":1874.9999999999982},{"$f":"IFERROR(M14*FINANZAS!$N12,0)","v":1874.9999999999982},{"$f":"IFERROR(N14*FINANZAS!$N12,0)","v":1499.9999999999986},{"$f":"IFERROR(O14*FINANZAS!$N12,0)","v":2624.9999999999977}]
[null,null,{"$f":"IF(FINANZAS!C13=\"\",\"\",FINANZAS!C13)","v":6},null,null,null,null,null,null,null,null,null,null,null,null,0,null,6,{"$f":"IFERROR(D15*FINANZAS!$K13,0)","v":0},{"$f":"IFERROR(E15*FINANZAS!$K13,0)","v":0},{"$f":"IFERROR(F15*FINANZAS!$K13,0)","v":0},{"$f":"IFERROR(G15*FINANZAS!$K13,0)","v":0},{"$f":"IFERROR(H15*FINANZAS!$K13,0)","v":0},{"$f":"IFERROR(I15*FINANZAS!$K13,0)","v":0},{"$f":"IFERROR(J15*FINANZAS!$K13,0)","v":0},{"$f":"IFERROR(K15*FINANZAS!$K13,0)","v":0},{"$f":"IFERROR(L15*FINANZAS!$K13,0)","v":0},{"$f":"IFERROR(M15*FINANZAS!$K13,0)","v":0},{"$f":"IFERROR(N15*FINANZAS!$K13,0)","v":0},{"$f":"IFERROR(O15*FINANZAS!$K13,0)","v":0},null,{"$f":"IFERROR(D15*FINANZAS!$G13,0)","v":0},{"$f":"IFERROR(E15*FINANZAS!$G13,0)","v":0},{"$f":"IFERROR(F15*FINANZAS!$G13,0)","v":0},{"$f":"IFERROR(G15*FINANZAS!$G13,0)","v":0},{"$f":"IFERROR(H15*FINANZAS!$G13,0)","v":0},{"$f":"IFERROR(I15*FINANZAS!$G13,0)","v":0},{"$f":"IFERROR(J15*FINANZAS!$G13,0)","v":0},{"$f":"IFERROR(K15*FINANZAS!$G13,0)","v":0},{"$f":"IFERROR(L15*FINANZAS!$G13,0)","v":0},{"$f":"IFERROR(M15*FINANZAS!$G13,0)","v":0},{"$f":"IFERROR(N15*FINANZAS!$G13,0)","v":0},{"$f":"IFERROR(O15*FINANZAS!$G13,0)","v":0},null,{"$f":"S15*FINANZAS!$J13","v":0},{"$f":"T15*FINANZAS!$J13","v":0},{"$f":"U15*FINANZAS!$J13","v":0},{"$f":"V15*FINANZAS!$J13","v":0},{"$f":"W15*FINANZAS!$J13","v":0},{"$f":"X15*FINANZAS!$J13","v":0},{"$f":"Y15*FINANZAS!$J13","v":0},{"$f":"Z15*FINANZAS!$J13","v":0},{"$f":"AA15*FINANZAS!$J13","v":0},{"$f":"AB15*FINANZAS!$J13","v":0},{"$f":"AC15*FINANZAS!$J13","v":0},{"$f":"AD15*FINANZAS!$J13","v":0},null,{"$f":"IFERROR(D15*FINANZAS!$N13,0)","v":0},{"$f":"IFERROR(E15*FINANZAS!$N13,0)","v":0},{"$f":"IFERROR(F15*FINANZAS!$N13,0)","v":0},{"$f":"IFERROR(G15*FINANZAS!$N13,0)","v":0},{"$f":"IFERROR(H15*FINANZAS!$N13,0)","v":0},{"$f":"IFERROR(I15*FINANZAS!$N13,0)","v":0},{"$f":"IFERROR(J15*FINANZAS!$N13,0)","v":0},{"$f":"IFERROR(K15*FINANZAS!$N13,0)","v":0},{"$f":"IFERROR(L15*FINANZAS!$N13,0)","v":0},{"$f":"IFERROR(M15*FINANZAS!$N13,0)","v":0},{"$f":"IFERROR(N15*FINANZAS!$N13,0)","v":0},{"$f":"IFERROR(O15*FINANZAS!$N13,0)","v":0}]
[null,null,{"$f":"IF(FINANZAS!C14=\"\",\"\",FINANZAS!C14)","v":7},null,null,null,null,null,null,null,null,null,null,null,null,0,null,7,{"$f":"IFERROR(D16*FINANZAS!$K14,0)","v":0},{"$f":"IFERROR(E16*FINANZAS!$K14,0)","v":0},{"$f":"IFERROR(F16*FINANZAS!$K14,0)","v":0},{"$f":"IFERROR(G16*FINANZAS!$K14,0)","v":0},{"$f":"IFERROR(H16*FINANZAS!$K14,0)","v":0},{"$f":"IFERROR(I16*FINANZAS!$K14,0)","v":0},{"$f":"IFERROR(J16*FINANZAS!$K14,0)","v":0},{"$f":"IFERROR(K16*FINANZAS!$K14,0)","v":0},{"$f":"IFERROR(L16*FINANZAS!$K14,0)","v":0},{"$f":"IFERROR(M16*FINANZAS!$K14,0)","v":0},{"$f":"IFERROR(N16*FINANZAS!$K14,0)","v":0},{"$f":"IFERROR(O16*FINANZAS!$K14,0)","v":0},null,{"$f":"IFERROR(D16*FINANZAS!$G14,0)","v":0},{"$f":"IFERROR(E16*FINANZAS!$G14,0)","v":0},{"$f":"IFERROR(F16*FINANZAS!$G14,0)","v":0},{"$f":"IFERROR(G16*FINANZAS!$G14,0)","v":0},{"$f":"IFERROR(H16*FINANZAS!$G14,0)","v":0},{"$f":"IFERROR(I16*FINANZAS!$G14,0)","v":0},{"$f":"IFERROR(J16*FINANZAS!$G14,0)","v":0},{"$f":"IFERROR(K16*FINANZAS!$G14,0)","v":0},{"$f":"IFERROR(L16*FINANZAS!$G14,0)","v":0},{"$f":"IFERROR(M16*FINANZAS!$G14,0)","v":0},{"$f":"IFERROR(N16*FINANZAS!$G14,0)","v":0},{"$f":"IFERROR(O16*FINANZAS!$G14,0)","v":0},null,{"$f":"S16*FINANZAS!$J14","v":0},{"$f":"T16*FINANZAS!$J14","v":0},{"$f":"U16*FINANZAS!$J14","v":0},{"$f":"V16*FINANZAS!$J14","v":0},{"$f":"W16*FINANZAS!$J14","v":0},{"$f":"X16*FINANZAS!$J14","v":0},{"$f":"Y16*FINANZAS!$J14","v":0},{"$f":"Z16*FINANZAS!$J14","v":0},{"$f":"AA16*FINANZAS!$J14","v":0},{"$f":"AB16*FINANZAS!$J14","v":0},{"$f":"AC16*FINANZAS!$J14","v":0},{"$f":"AD16*FINANZAS!$J14","v":0},null,{"$f":"IFERROR(D16*FINANZAS!$N14,0)","v":0},{"$f":"IFERROR(E16*FINANZAS!$N14,0)","v":0},{"$f":"IFERROR(F16*FINANZAS!$N14,0)","v":0},{"$f":"IFERROR(G16*FINANZAS!$N14,0)","v":0},{"$f":"IFERROR(H16*FINANZAS!$N14,0)","v":0},{"$f":"IFERROR(I16*FINANZAS!$N14,0)","v":0},{"$f":"IFERROR(J16*FINANZAS!$N14,0)","v":0},{"$f":"IFERROR(K16*FINANZAS!$N14,0)","v":0},{"$f":"IFERROR(L16*FINANZAS!$N14,0)","v":0},{"$f":"IFERROR(M16*FINANZAS!$N14,0)","v":0},{"$f":"IFERROR(N16*FINANZAS!$N14,0)","v":0},{"$f":"IFERROR(O16*FINANZAS!$N14,0)","v":0}]
[null,null,{"$f":"IF(FINANZAS!C15=\"\",\"\",FINANZAS!C15)","v":8},null,null,null,null,null,null,null,1000,null,null,null,null,{"$f":"SUM(S17:AD17)","v":42000},null,8,{"$f":"IFERROR(D17*FINANZAS!$K15,0)","v":0},{"$f":"IFERROR(E17*FINANZAS!$K15,0)","v":0},{"$f":"IFERROR(F17*FINANZAS!$K15,0)","v":0},{"$f":"IFERROR(G17*FINANZAS!$K15,0)","v":0},{"$f":"IFERROR(H17*FINANZAS!$K15,0)","v":0},{"$f":"IFERROR(I17*FINANZAS!$K15,0)","v":0},{"$f":"IFERROR(J17*FINANZAS!$K15,0)","v":0},{"$f":"IFERROR(K17*FINANZAS!$K15,0)","v":42000},{"$f":"IFERROR(L17*FINANZAS!$K15,0)","v":0},{"$f":"IFERROR(M17*FINANZAS!$K15,0)","v":0},{"$f":"IFERROR(N17*FINANZAS!$K15,0)","v":0},{"$f":"IFERROR(O17*FINANZAS!$K15,0)","v":0},null,{"$f":"IFERROR(D17*FINANZAS!$G15,0)","v":0},{"$f":"IFERROR(E17*FINANZAS!$G15,0)","v":0},{"$f":"IFERROR(F17*FINANZAS!$G15,0)","v":0},{"$f":"IFERROR(G17*FINANZAS!$G15,0)","v":0},{"$f":"IFERROR(H17*FINANZAS!$G15,0)","v":0},{"$f":"IFERROR(I17*FINANZAS!$G15,0)","v":0},{"$f":"IFERROR(J17*FINANZAS!$G15,0)","v":0},{"$f":"IFERROR(K17*FINANZAS!$G15,0)","v":42000},{"$f":"IFERROR(L17*FINANZAS!$G15,0)","v":0},{"$f":"IFERROR(M17*FINANZAS!$G15,0)","v":0},{"$f":"IFERROR(N17*FINANZAS!$G15,0)","v":0},{"$f":"IFERROR(O17*FINANZAS!$G15,0)","v":0},null,{"$f":"S17*FINANZAS!$J15","v":0},{"$f":"T17*FINANZAS!$J15","v":0},{"$f":"U17*FINANZAS!$J15","v":0},{"$f":"V17*FINANZAS!$J15","v":0},{"$f":"W17*FINANZAS!$J15","v":0},{"$f":"X17*FINANZAS!$J15","v":0},{"$f":"Y17*FINANZAS!$J15","v":0},{"$f":"Z17*FINANZAS!$J15","v":0},{"$f":"AA17*FINANZAS!$J15","v":0},{"$f":"AB17*FINANZAS!$J15","v":0},{"$f":"AC17*FINANZAS!$J15","v":0},{"$f":"AD17*FINANZAS!$J15","v":0},null,{"$f":"IFERROR(D17*FINANZAS!$N15,0)","v":0},{"$f":"IFERROR(E17*FINANZAS!$N15,0)","v":0},{"$f":"IFERROR(F17*FINANZAS!$N15,0)","v":0},{"$f":"IFERROR(G17*FINANZAS!$N15,0)","v":0},{"$f":"IFERROR(H17*FINANZAS!$N15,0)","v":0},{"$f":"IFERROR(I17*FINANZAS!$N15,0)","v":0},{"$f":"IFERROR(J17*FINANZAS!$N15,0)","v":0},{"$f":"IFERROR(K17*FINANZAS!$N15,0)","v":0},{"$f":"IFERROR(L17*FINANZAS!$N15,0)","v":0},{"$f":"IFERROR(M17*FINANZAS!$N15,0)","v":0},{"$f":"IFERROR(N17*FINANZAS!$N15,0)","v":0},{"$f":"IFERROR(O17*FINANZAS!$N15,0)","v":0}]
[null,null,{"$f":"IF(FINANZAS!C16=\"\",\"\",FINANZAS!C16)","v":""},null,null,null,null,null,null,null,null,null,null,null,null,0,null,"",{"$f":"IFERROR(D18*FINANZAS!$K16,0)","v":0},{"$f":"IFERROR(E18*FINANZAS!$K16,0)","v":0},{"$f":"IFERROR(F18*FINANZAS!$K16,0)","v":0},{"$f":"IFERROR(G18*FINANZAS!$K16,0)","v":0},{"$f":"IFERROR(H18*FINANZAS!$K16,0)","v":0},{"$f":"IFERROR(I18*FINANZAS!$K16,0)","v":0},{"$f":"IFERROR(J18*FINANZAS!$K16,0)","v":0},{"$f":"IFERROR(K18*FINANZAS!$K16,0)","v":0},{"$f":"IFERROR(L18*FINANZAS!$K16,0)","v":0},{"$f":"IFERROR(M18*FINANZAS!$K16,0)","v":0},{"$f":"IFERROR(N18*FINANZAS!$K16,0)","v":0},{"$f":"IFERROR(O18*FINANZAS!$K16,0)","v":0},null,{"$f":"IFERROR(D18*FINANZAS!$G16,0)","v":0},{"$f":"IFERROR(E18*FINANZAS!$G16,0)","v":0},{"$f":"IFERROR(F18*FINANZAS!$G16,0)","v":0},{"$f":"IFERROR(G18*FINANZAS!$G16,0)","v":0},{"$f":"IFERROR(H18*FINANZAS!$G16,0)","v":0},{"$f":"IFERROR(I18*FINANZAS!$G16,0)","v":0},{"$f":"IFERROR(J18*FINANZAS!$G16,0)","v":0},{"$f":"IFERROR(K18*FINANZAS!$G16,0)","v":0},{"$f":"IFERROR(L18*FINANZAS!$G16,0)","v":0},{"$f":"IFERROR(M18*FINANZAS!$G16,0)","v":0},{"$f":"IFERROR(N18*FINANZAS!$G16,0)","v":0},{"$f":"IFERROR(O18*FINANZAS!$G16,0)","v":0},null,{"$f":"S18*FINANZAS!$J16","v":0},{"$f":"T18*FINANZAS!$J16","v":0},{"$f":"U18*FINANZAS!$J16","v":0},{"$f":"V18*FINANZAS!$J16","v":0},{"$f":"W18*FINANZAS!$J16","v":0},{"$f":"X18*FINANZAS!$J16","v":0},{"$f":"Y18*FINANZAS!$J16","v":0},{"$f":"Z18*FINANZAS!$J16","v":0},{"$f":"AA18*FINANZAS!$J16","v":0},{"$f":"AB18*FINANZAS!$J16","v":0},{"$f":"AC18*FINANZAS!$J16","v":0},{"$f":"AD18*FINANZAS!$J16","v":0},null,{"$f":"IFERROR(D18*FINANZAS!$N16,0)","v":0},{"$f":"IFERROR(E18*FINANZAS!$N16,0)","v":0},{"$f":"IFERROR(F18*FINANZAS!$N16,0)","v":0},{"$f":"IFERROR(G18*FINANZAS!$N16,0)","v":0},{"$f":"IFERROR(H18*FINANZAS!$N16,0)","v":0},{"$f":"IFERROR(I18*FINANZAS!$N16,0)","v":0},{"$f":"IFERROR(J18*FINANZAS!$N16,0)","v":0},{"$f":"IFERROR(K18*FINANZAS!$N16,0)","v":0},{"$f":"IFERROR(L18*FINANZAS!$N16,0)","v":0},{"$f":"IFERROR(M18*FINANZAS!$N16,0)","v":0},{"$f":"IFERROR(N18*FINANZAS!$N16,0)","v":0},{"$f":"IFERROR(O18*FINANZAS!$N16,0)","v":0}]
[null,null,{"$f":"IF(FINANZAS!C17=\"\",\"\",FINANZAS!C17)","v":""},null,null,null,null,null,null,null,null,null,null,null,null,0,null,"",{"$f":"IFERROR(D19*FINANZAS!$K17,0)","v":0},{"$f":"IFERROR(E19*FINANZAS!$K17,0)","v":0},{"$f":"IFERROR(F19*FINANZAS!$K17,0)","v":0},{"$f":"IFERROR(G19*FINANZAS!$K17,0)","v":0},{"$f":"IFERROR(H19*FINANZAS!$K17,0)","v":0},{"$f":"IFERROR(I19*FINANZAS!$K17,0)","v":0},{"$f":"IFERROR(J19*FINANZAS!$K17,0)","v":0},{"$f":"IFERROR(K19*FINANZAS!$K17,0)","v":0},{"$f":"IFERROR(L19*FINANZAS!$K17,0)","v":0},{"$f":"IFERROR(M19*FINANZAS!$K17,0)","v":0},{"$f":"IFERROR(N19*FINANZAS!$K17,0)","v":0},{"$f":"IFERROR(O19*FINANZAS!$K17,0)","v":0},null,{"$f":"IFERROR(D19*FINANZAS!$G17,0)","v":0},{"$f":"IFERROR(E19*FINANZAS!$G17,0)","v":0},{"$f":"IFERROR(F19*FINANZAS!$G17,0)","v":0},{"$f":"IFERROR(G19*FINANZAS!$G17,0)","v":0},{"$f":"IFERROR(H19*FINANZAS!$G17,0)","v":0},{"$f":"IFERROR(I19*FINANZAS!$G17,0)","v":0},{"$f":"IFERROR(J19*FINANZAS!$G17,0)","v":0},{"$f":"IFERROR(K19*FINANZAS!$G17,0)","v":0},{"$f":"IFERROR(L19*FINANZAS!$G17,0)","v":0},{"$f":"IFERROR(M19*FINANZAS!$G17,0)","v":0},{"$f":"IFERROR(N19*FINANZAS!$G17,0)","v":0},{"$f":"IFERROR(O19*FINANZAS!$G17,0)","v":0},null,{"$f":"S19*FINANZAS!$J17","v":0},{"$f":"T19*FINANZAS!$J17","v":0},{"$f":"U19*FINANZAS!$J17","v":0},{"$f":"V19*FINANZAS!$J17","v":0},{"$f":"W19*FINANZAS!$J17","v":0},{"$f":"X19*FINANZAS!$J17","v":0},{"$f":"Y19*FINANZAS!$J17","v":0},{"$f":"Z19*FINANZAS!$J17","v":0},{"$f":"AA19*FINANZAS!$J17","v":0},{"$f":"AB19*FINANZAS!$J17","v":0},{"$f":"AC19*FINANZAS!$J17","v":0},{"$f":"AD19*FINANZAS!$J17","v":0},null,{"$f":"IFERROR(D19*FINANZAS!$N17,0)","v":0},{"$f":"IFERROR(E19*FINANZAS!$N17,0)","v":0},{"$f":"IFERROR(F19*FINANZAS!$N17,0)","v":0},{"$f":"IFERROR(G19*FINANZAS!$N17,0)","v":0},{"$f":"IFERROR(H19*FINANZAS!$N17,0)","v":0},{"$f":"IFERROR(I19*FINANZAS!$N17,0)","v":0},{"$f":"IFERROR(J19*FINANZAS!$N17,0)","v":0},{"$f":"IFERROR(K19*FINANZAS!$N17,0)","v":0},{"$f":"IFERROR(L19*FINANZAS!$N17,0)","v":0},{"$f":"IFERROR(M19*FINANZAS!$N17,0)","v":0},{"$f":"IFERROR(N19*FINANZAS!$N17,0)","v":0},{"$f":"IFERROR(O19*FINANZAS!$N17,0)","v":0}]
[null,null,{"$f":"IF(FINANZAS!C18=\"\",\"\",FINANZAS!C18)","v":""},null,null,null,null,null,null,null,null,null,null,null,null,0,null,"",{"$f":"IFERROR(D20*FINANZAS!$K18,0)","v":0},{"$f":"IFERROR(E20*FINANZAS!$K18,0)","v":0},{"$f":"IFERROR(F20*FINANZAS!$K18,0)","v":0},{"$f":"IFERROR(G20*FINANZAS!$K18,0)","v":0},{"$f":"IFERROR(H20*FINANZAS!$K18,0)","v":0},{"$f":"IFERROR(I20*FINANZAS!$K18,0)","v":0},{"$f":"IFERROR(J20*FINANZAS!$K18,0)","v":0},{"$f":"IFERROR(K20*FINANZAS!$K18,0)","v":0},{"$f":"IFERROR(L20*FINANZAS!$K18,0)","v":0},{"$f":"IFERROR(M20*FINANZAS!$K18,0)","v":0},{"$f":"IFERROR(N20*FINANZAS!$K18,0)","v":0},{"$f":"IFERROR(O20*FINANZAS!$K18,0)","v":0},null,{"$f":"IFERROR(D20*FINANZAS!$G18,0)","v":0},{"$f":"IFERROR(E20*FINANZAS!$G18,0)","v":0},{"$f":"IFERROR(F20*FINANZAS!$G18,0)","v":0},{"$f":"IFERROR(G20*FINANZAS!$G18,0)","v":0},{"$f":"IFERROR(H20*FINANZAS!$G18,0)","v":0},{"$f":"IFERROR(I20*FINANZAS!$G18,0)","v":0},{"$f":"IFERROR(J20*FINANZAS!$G18,0)","v":0},{"$f":"IFERROR(K20*FINANZAS!$G18,0)","v":0},{"$f":"IFERROR(L20*FINANZAS!$G18,0)","v":0},{"$f":"IFERROR(M20*FINANZAS!$G18,0)","v":0},{"$f":"IFERROR(N20*FINANZAS!$G18,0)","v":0},{"$f":"IFERROR(O20*FINANZAS!$G18,0)","v":0},null,{"$f":"S20*FINANZAS!$J18","v":0},{"$f":"T20*FINANZAS!$J18","v":0},{"$f":"U20*FINANZAS!$J18","v":0},{"$f":"V20*FINANZAS!$J18","v":0},{"$f":"W20*FINANZAS!$J18","v":0},{"$f":"X20*FINANZAS!$J18","v":0},{"$f":"Y20*FINANZAS!$J18","v":0},{"$f":"Z20*FINANZAS!$J18","v":0},{"$f":"AA20*FINANZAS!$J18","v":0},{"$f":"AB20*FINANZAS!$J18","v":0},{"$f":"AC20*FINANZAS!$J18","v":0},{"$f":"AD20*FINANZAS!$J18","v":0},null,{"$f":"IFERROR(D20*FINANZAS!$N18,0)","v":0},{"$f":"IFERROR(E20*FINANZAS!$N18,0)","v":0},{"$f":"IFERROR(F20*FINANZAS!$N18,0)","v":0},{"$f":"IFERROR(G20*FINANZAS!$N18,0)","v":0},{"$f":"IFERROR(H20*FINANZAS!$N18,0)","v":0},{"$f":"IFERROR(I20*FINANZAS!$N18,0)","v":0},{"$f":"IFERROR(J20*FINANZAS!$N18,0)","v":0},{"$f":"IFERROR(K20*FINANZAS!$N18,0)","v":0},{"$f":"IFERROR(L20*FINANZAS!$N18,0)","v":0},{"$f":"IFERROR(M20*FINANZAS!$N18,0)","v":0},{"$f":"IFERROR(N20*FINANZAS!$N18,0)","v":0},{"$f":"IFERROR(O20*FINANZAS!$N18,0)","v":0}]
[null,null,{"$f":"IF(FINANZAS!C19=\"\",\"\",FINANZAS!C19)","v":""},null,null,null,null,null,null,null,null,null,null,null,null,0,null,"",{"$f":"IFERROR(D21*FINANZAS!$K19,0)","v":0},{"$f":"IFERROR(E21*FINANZAS!$K19,0)","v":0},{"$f":"IFERROR(F21*FINANZAS!$K19,0)","v":0},{"$f":"IFERROR(G21*FINANZAS!$K19,0)","v":0},{"$f":"IFERROR(H21*FINANZAS!$K19,0)","v":0},{"$f":"IFERROR(I21*FINANZAS!$K19,0)","v":0},{"$f":"IFERROR(J21*FINANZAS!$K19,0)","v":0},{"$f":"IFERROR(K21*FINANZAS!$K19,0)","v":0},{"$f":"IFERROR(L21*FINANZAS!$K19,0)","v":0},{"$f":"IFERROR(M21*FINANZAS!$K19,0)","v":0},{"$f":"IFERROR(N21*FINANZAS!$K19,0)","v":0},{"$f":"IFERROR(O21*FINANZAS!$K19,0)","v":0},null,{"$f":"IFERROR(D21*FINANZAS!$G19,0)","v":0},{"$f":"IFERROR(E21*FINANZAS!$G19,0)","v":0},{"$f":"IFERROR(F21*FINANZAS!$G19,0)","v":0},{"$f":"IFERROR(G21*FINANZAS!$G19,0)","v":0},{"$f":"IFERROR(H21*FINANZAS!$G19,0)","v":0},{"$f":"IFERROR(I21*FINANZAS!$G19,0)","v":0},{"$f":"IFERROR(J21*FINANZAS!$G19,0)","v":0},{"$f":"IFERROR(K21*FINANZAS!$G19,0)","v":0},{"$f":"IFERROR(L21*FINANZAS!$G19,0)","v":0},{"$f":"IFERROR(M21*FINANZAS!$G19,0)","v":0},{"$f":"IFERROR(N21*FINANZAS!$G19,0)","v":0},{"$f":"IFERROR(O21*FINANZAS!$G19,0)","v":0},null,{"$f":"S21*FINANZAS!$J19","v":0},{"$f":"T21*FINANZAS!$J19","v":0},{"$f":"U21*FINANZAS!$J19","v":0},{"$f":"V21*FINANZAS!$J19","v":0},{"$f":"W21*FINANZAS!$J19","v":0},{"$f":"X21*FINANZAS!$J19","v":0},{"$f":"Y21*FINANZAS!$J19","v":0},{"$f":"Z21*FINANZAS!$J19","v":0},{"$f":"AA21*FINANZAS!$J19","v":0},{"$f":"AB21*FINANZAS!$J19","v":0},{"$f":"AC21*FINANZAS!$J19","v":0},{"$f":"AD21*FINANZAS!$J19","v":0},null,{"$f":"IFERROR(D21*FINANZAS!$N19,0)","v":0},{"$f":"IFERROR(E21*FINANZAS!$N19,0)","v":0},{"$f":"IFERROR(F21*FINANZAS!$N19,0)","v":0},{"$f":"IFERROR(G21*FINANZAS!$N19,0)","v":0},{"$f":"IFERROR(H21*FINANZAS!$N19,0)","v":0},{"$f":"IFERROR(I21*FINANZAS!$N19,0)","v":0},{"$f":"IFERROR(J21*FINANZAS!$N19,0)","v":0},{"$f":"IFERROR(K21*FINANZAS!$N19,0)","v":0},{"$f":"IFERROR(L21*FINANZAS!$N19,0)","v":0},{"$f":"IFERROR(M21*FINANZAS!$N19,0)","v":0},{"$f":"IFERROR(N21*FINANZAS!$N19,0)","v":0},{"$f":"IFERROR(O21*FINANZAS!$N19,0)","v":0}]
[null,null,{"$f":"IF(FINANZAS!C20=\"\",\"\",FINANZAS!C20)","v":""},null,null,null,null,null,null,null,null,null,null,null,null,0,null,"",{"$f":"IFERROR(D22*FINANZAS!$K20,0)","v":0},{"$f":"IFERROR(E22*FINANZAS!$K20,0)","v":0},{"$f":"IFERROR(F22*FINANZAS!$K20,0)","v":0},{"$f":"IFERROR(G22*FINANZAS!$K20,0)","v":0},{"$f":"IFERROR(H22*FINANZAS!$K20,0)","v":0},{"$f":"IFERROR(I22*FINANZAS!$K20,0)","v":0},{"$f":"IFERROR(J22*FINANZAS!$K20,0)","v":0},{"$f":"IFERROR(K22*FINANZAS!$K20,0)","v":0},{"$f":"IFERROR(L22*FINANZAS!$K20,0)","v":0},{"$f":"IFERROR(M22*FINANZAS!$K20,0)","v":0},{"$f":"IFERROR(N22*FINANZAS!$K20,0)","v":0},{"$f":"IFERROR(O22*FINANZAS!$K20,0)","v":0},null,{"$f":"IFERROR(D22*FINANZAS!$G20,0)","v":0},{"$f":"IFERROR(E22*FINANZAS!$G20,0)","v":0},{"$f":"IFERROR(F22*FINANZAS!$G20,0)","v":0},{"$f":"IFERROR(G22*FINANZAS!$G20,0)","v":0},{"$f":"IFERROR(H22*FINANZAS!$G20,0)","v":0},{"$f":"IFERROR(I22*FINANZAS!$G20,0)","v":0},{"$f":"IFERROR(J22*FINANZAS!$G20,0)","v":0},{"$f":"IFERROR(K22*FINANZAS!$G20,0)","v":0},{"$f":"IFERROR(L22*FINANZAS!$G20,0)","v":0},{"$f":"IFERROR(M22*FINANZAS!$G20,0)","v":0},{"$f":"IFERROR(N22*FINANZAS!$G20,0)","v":0},{"$f":"IFERROR(O22*FINANZAS!$G20,0)","v":0},null,{"$f":"S22*FINANZAS!$J20","v":0},{"$f":"T22*FINANZAS!$J20","v":0},{"$f":"U22*FINANZAS!$J20","v":0},{"$f":"V22*FINANZAS!$J20","v":0},{"$f":"W22*FINANZAS!$J20","v":0},{"$f":"X22*FINANZAS!$J20","v":0},{"$f":"Y22*FINANZAS!$J20","v":0},{"$f":"Z22*FINANZAS!$J20","v":0},{"$f":"AA22*FINANZAS!$J20","v":0},{"$f":"AB22*FINANZAS!$J20","v":0},{"$f":"AC22*FINANZAS!$J20","v":0},{"$f":"AD22*FINANZAS!$J20","v":0},null,{"$f":"IFERROR(D22*FINANZAS!$N20,0)","v":0},{"$f":"IFERROR(E22*FINANZAS!$N20,0)","v":0},{"$f":"IFERROR(F22*FINANZAS!$N20,0)","v":0},{"$f":"IFERROR(G22*FINANZAS!$N20,0)","v":0},{"$f":"IFERROR(H22*FINANZAS!$N20,0)","v":0},{"$f":"IFERROR(I22*FINANZAS!$N20,0)","v":0},{"$f":"IFERROR(J22*FINANZAS!$N20,0)","v":0},{"$f":"IFERROR(K22*FINANZAS!$N20,0)","v":0},{"$f":"IFERROR(L22*FINANZAS!$N20,0)","v":0},{"$f":"IFERROR(M22*FINANZAS!$N20,0)","v":0},{"$f":"IFERROR(N22*FINANZAS!$N20,0)","v":0},{"$f":"IFERROR(O22*FINANZAS!$N20,0)","v":0}]
[null,null,{"$f":"IF(FINANZAS!C21=\"\",\"\",FINANZAS!C21)","v":""},null,null,null,null,null,null,null,null,null,null,null,null,0,null,"",{"$f":"IFERROR(D23*FINANZAS!$K21,0)","v":0},{"$f":"IFERROR(E23*FINANZAS!$K21,0)","v":0},{"$f":"IFERROR(F23*FINANZAS!$K21,0)","v":0},{"$f":"IFERROR(G23*FINANZAS!$K21,0)","v":0},{"$f":"IFERROR(H23*FINANZAS!$K21,0)","v":0},{"$f":"IFERROR(I23*FINANZAS!$K21,0)","v":0},{"$f":"IFERROR(J23*FINANZAS!$K21,0)","v":0},{"$f":"IFERROR(K23*FINANZAS!$K21,0)","v":0},{"$f":"IFERROR(L23*FINANZAS!$K21,0)","v":0},{"$f":"IFERROR(M23*FINANZAS!$K21,0)","v":0},{"$f":"IFERROR(N23*FINANZAS!$K21,0)","v":0},{"$f":"IFERROR(O23*FINANZAS!$K21,0)","v":0},null,{"$f":"IFERROR(D23*FINANZAS!$G21,0)","v":0},{"$f":"IFERROR(E23*FINANZAS!$G21,0)","v":0},{"$f":"IFERROR(F23*FINANZAS!$G21,0)","v":0},{"$f":"IFERROR(G23*FINANZAS!$G21,0)","v":0},{"$f":"IFERROR(H23*FINANZAS!$G21,0)","v":0},{"$f":"IFERROR(I23*FINANZAS!$G21,0)","v":0},{"$f":"IFERROR(J23*FINANZAS!$G21,0)","v":0},{"$f":"IFERROR(K23*FINANZAS!$G21,0)","v":0},{"$f":"IFERROR(L23*FINANZAS!$G21,0)","v":0},{"$f":"IFERROR(M23*FINANZAS!$G21,0)","v":0},{"$f":"IFERROR(N23*FINANZAS!$G21,0)","v":0},{"$f":"IFERROR(O23*FINANZAS!$G21,0)","v":0},null,{"$f":"S23*FINANZAS!$J21","v":0},{"$f":"T23*FINANZAS!$J21","v":0},{"$f":"U23*FINANZAS!$J21","v":0},{"$f":"V23*FINANZAS!$J21","v":0},{"$f":"W23*FINANZAS!$J21","v":0},{"$f":"X23*FINANZAS!$J21","v":0},{"$f":"Y23*FINANZAS!$J21","v":0},{"$f":"Z23*FINANZAS!$J21","v":0},{"$f":"AA23*FINANZAS!$J21","v":0},{"$f":"AB23*FINANZAS!$J21","v":0},{"$f":"AC23*FINANZAS!$J21","v":0},{"$f":"AD23*FINANZAS!$J21","v":0},null,{"$f":"IFERROR(D23*FINANZAS!$N21,0)","v":0},{"$f":"IFERROR(E23*FINANZAS!$N21,0)","v":0},{"$f":"IFERROR(F23*FINANZAS!$N21,0)","v":0},{"$f":"IFERROR(G23*FINANZAS!$N21,0)","v":0},{"$f":"IFERROR(H23*FINANZAS!$N21,0)","v":0},{"$f":"IFERROR(I23*FINANZAS!$N21,0)","v":0},{"$f":"IFERROR(J23*FINANZAS!$N21,0)","v":0},{"$f":"IFERROR(K23*FINANZAS!$N21,0)","v":0},{"$f":"IFERROR(L23*FINANZAS!$N21,0)","v":0},{"$f":"IFERROR(M23*FINANZAS!$N21,0)","v":0},{"$f":"IFERROR(N23*FINANZAS!$N21,0)","v":0},{"$f":"IFERROR(O23*FINANZAS!$N21,0)","v":0}]
[null,null,{"$f":"IF(FINANZAS!C22=\"\",\"\",FINANZAS!C22)","v":""},null,null,null,null,null,null,null,null,null,null,null,null,0,null,"",{"$f":"IFERROR(D24*FINANZAS!$K22,0)","v":0},{"$f":"IFERROR(E24*FINANZAS!$K22,0)","v":0},{"$f":"IFERROR(F24*FINANZAS!$K22,0)","v":0},{"$f":"IFERROR(G24*FINANZAS!$K22,0)","v":0},{"$f":"IFERROR(H24*FINANZAS!$K22,0)","v":0},{"$f":"IFERROR(I24*FINANZAS!$K22,0)","v":0},{"$f":"IFERROR(J24*FINANZAS!$K22,0)","v":0},{"$f":"IFERROR(K24*FINANZAS!$K22,0)","v":0},{"$f":"IFERROR(L24*FINANZAS!$K22,0)","v":0},{"$f":"IFERROR(M24*FINANZAS!$K22,0)","v":0},{"$f":"IFERROR(N24*FINANZAS!$K22,0)","v":0},{"$f":"IFERROR(O24*FINANZAS!$K22,0)","v":0},null,{"$f":"IFERROR(D24*FINANZAS!$G22,0)","v":0},{"$f":"IFERROR(E24*FINANZAS!$G22,0)","v":0},{"$f":"IFERROR(F24*FINANZAS!$G22,0)","v":0},{"$f":"IFERROR(G24*FINANZAS!$G22,0)","v":0},{"$f":"IFERROR(H24*FINANZAS!$G22,0)","v":0},{"$f":"IFERROR(I24*FINANZAS!$G22,0)","v":0},{"$f":"IFERROR(J24*FINANZAS!$G22,0)","v":0},{"$f":"IFERROR(K24*FINANZAS!$G22,0)","v":0},{"$f":"IFERROR(L24*FINANZAS!$G22,0)","v":0},{"$f":"IFERROR(M24*FINANZAS!$G22,0)","v":0},{"$f":"IFERROR(N24*FINANZAS!$G22,0)","v":0},{"$f":"IFERROR(O24*FINANZAS!$G22,0)","v":0},null,{"$f":"S24*FINANZAS!$J22","v":0},{"$f":"T24*FINANZAS!$J22","v":0},{"$f":"U24*FINANZAS!$J22","v":0},{"$f":"V24*FINANZAS!$J22","v":0},{"$f":"W24*FINANZAS!$J22","v":0},{"$f":"X24*FINANZAS!$J22","v":0},{"$f":"Y24*FINANZAS!$J22","v":0},{"$f":"Z24*FINANZAS!$J22","v":0},{"$f":"AA24*FINANZAS!$J22","v":0},{"$f":"AB24*FINANZAS!$J22","v":0},{"$f":"AC24*FINANZAS!$J22","v":0},{"$f":"AD24*FINANZAS!$J22","v":0},null,{"$f":"IFERROR(D24*FINANZAS!$N22,0)","v":0},{"$f":"IFERROR(E24*FINANZAS!$N22,0)","v":0},{"$f":"IFERROR(F24*FINANZAS!$N22,0)","v":0},{"$f":"IFERROR(G24*FINANZAS!$N22,0)","v":0},{"$f":"IFERROR(H24*FINANZAS!$N22,0)","v":0},{"$f":"IFERROR(I24*FINANZAS!$N22,0)","v":0},{"$f":"IFERROR(J24*FINANZAS!$N22,0)","v":0},{"$f":"IFERROR(K24*FINANZAS!$N22,0)","v":0},{"$f":"IFERROR(L24*FINANZAS!$N22,0)","v":0},{"$f":"IFERROR(M24*FINANZAS!$N22,0)","v":0},{"$f":"IFERROR(N24*FINANZAS!$N22,0)","v":0},{"$f":"IFERROR(O24*FINANZAS!$N22,0)","v":0}]
[null,null,{"$f":"IF(FINANZAS!C23=\"\",\"\",FINANZAS!C23)","v":""},null,null,null,null,null,null,null,null,null,null,null,null,0,null,"",{"$f":"IFERROR(D25*FINANZAS!$K23,0)","v":0},{"$f":"IFERROR(E25*FINANZAS!$K23,0)","v":0},{"$f":"IFERROR(F25*FINANZAS!$K23,0)","v":0},{"$f":"IFERROR(G25*FINANZAS!$K23,0)","v":0},{"$f":"IFERROR(H25*FINANZAS!$K23,0)","v":0},{"$f":"IFERROR(I25*FINANZAS!$K23,0)","v":0},{"$f":"IFERROR(J25*FINANZAS!$K23,0)","v":0},{"$f":"IFERROR(K25*FINANZAS!$K23,0)","v":0},{"$f":"IFERROR(L25*FINANZAS!$K23,0)","v":0},{"$f":"IFERROR(M25*FINANZAS!$K23,0)","v":0},{"$f":"IFERROR(N25*FINANZAS!$K23,0)","v":0},{"$f":"IFERROR(O25*FINANZAS!$K23,0)","v":0},null,{"$f":"IFERROR(D25*FINANZAS!$G23,0)","v":0},{"$f":"IFERROR(E25*FINANZAS!$G23,0)","v":0},{"$f":"IFERROR(F25*FINANZAS!$G23,0)","v":0},{"$f":"IFERROR(G25*FINANZAS!$G23,0)","v":0},{"$f":"IFERROR(H25*FINANZAS!$G23,0)","v":0},{"$f":"IFERROR(I25*FINANZAS!$G23,0)","v":0},{"$f":"IFERROR(J25*FINANZAS!$G23,0)","v":0},{"$f":"IFERROR(K25*FINANZAS!$G23,0)","v":0},{"$f":"IFERROR(L25*FINANZAS!$G23,0)","v":0},{"$f":"IFERROR(M25*FINANZAS!$G23,0)","v":0},{"$f":"IFERROR(N25*FINANZAS!$G23,0)","v":0},{"$f":"IFERROR(O25*FINANZAS!$G23,0)","v":0},null,{"$f":"S25*FINANZAS!$J23","v":0},{"$f":"T25*FINANZAS!$J23","v":0},{"$f":"U25*FINANZAS!$J23","v":0},{"$f":"V25*FINANZAS!$J23","v":0},{"$f":"W25*FINANZAS!$J23","v":0},{"$f":"X25*FINANZAS!$J23","v":0},{"$f":"Y25*FINANZAS!$J23","v":0},{"$f":"Z25*FINANZAS!$J23","v":0},{"$f":"AA25*FINANZAS!$J23","v":0},{"$f":"AB25*FINANZAS!$J23","v":0},{"$f":"AC25*FINANZAS!$J23","v":0},{"$f":"AD25*FINANZAS!$J23","v":0},null,{"$f":"IFERROR(D25*FINANZAS!$N23,0)","v":0},{"$f":"IFERROR(E25*FINANZAS!$N23,0)","v":0},{"$f":"IFERROR(F25*FINANZAS!$N23,0)","v":0},{"$f":"IFERROR(G25*FINANZAS!$N23,0)","v":0},{"$f":"IFERROR(H25*FINANZAS!$N23,0)","v":0},{"$f":"IFERROR(I25*FINANZAS!$N23,0)","v":0},{"$f":"IFERROR(J25*FINANZAS!$N23,0)","v":0},{"$f":"IFERROR(K25*FINANZAS!$N23,0)","v":0},{"$f":"IFERROR(L25*FINANZAS!$N23,0)","v":0},{"$f":"IFERROR(M25*FINANZAS!$N23,0)","v":0},{"$f":"IFERROR(N25*FINANZAS!$N23,0)","v":0},{"$f":"IFERROR(O25*FINANZAS!$N23,0)","v":0}]
[null,null,{"$f":"IF(FINANZAS!C24=\"\",\"\",FINANZAS!C24)","v":""},null,null,null,null,null,null,null,null,null,null,null,null,0,null,"",{"$f":"IFERROR(D26*FINANZAS!$K24,0)","v":0},{"$f":"IFERROR(E26*FINANZAS!$K24,0)","v":0},{"$f":"IFERROR(F26*FINANZAS!$K24,0)","v":0},{"$f":"IFERROR(G26*FINANZAS!$K24,0)","v":0},{"$f":"IFERROR(H26*FINANZAS!$K24,0)","v":0},{"$f":"IFERROR(I26*FINANZAS!$K24,0)","v":0},{"$f":"IFERROR(J26*FINANZAS!$K24,0)","v":0},{"$f":"IFERROR(K26*FINANZAS!$K24,0)","v":0},{"$f":"IFERROR(L26*FINANZAS!$K24,0)","v":0},{"$f":"IFERROR(M26*FINANZAS!$K24,0)","v":0},{"$f":"IFERROR(N26*FINANZAS!$K24,0)","v":0},{"$f":"IFERROR(O26*FINANZAS!$K24,0)","v":0},null,{"$f":"IFERROR(D26*FINANZAS!$G24,0)","v":0},{"$f":"IFERROR(E26*FINANZAS!$G24,0)","v":0},{"$f":"IFERROR(F26*FINANZAS!$G24,0)","v":0},{"$f":"IFERROR(G26*FINANZAS!$G24,0)","v":0},{"$f":"IFERROR(H26*FINANZAS!$G24,0)","v":0},{"$f":"IFERROR(I26*FINANZAS!$G24,0)","v":0},{"$f":"IFERROR(J26*FINANZAS!$G24,0)","v":0},{"$f":"IFERROR(K26*FINANZAS!$G24,0)","v":0},{"$f":"IFERROR(L26*FINANZAS!$G24,0)","v":0},{"$f":"IFERROR(M26*FINANZAS!$G24,0)","v":0},{"$f":"IFERROR(N26*FINANZAS!$G24,0)","v":0},{"$f":"IFERROR(O26*FINANZAS!$G24,0)","v":0},null,{"$f":"S26*FINANZAS!$J24","v":0},{"$f":"T26*FINANZAS!$J24","v":0},{"$f":"U26*FINANZAS!$J24","v":0},{"$f":"V26*FINANZAS!$J24","v":0},{"$f":"W26*FINANZAS!$J24","v":0},{"$f":"X26*FINANZAS!$J24","v":0},{"$f":"Y26*FINANZAS!$J24","v":0},{"$f":"Z26*FINANZAS!$J24","v":0},{"$f":"AA26*FINANZAS!$J24","v":0},{"$f":"AB26*FINANZAS!$J24","v":0},{"$f":"AC26*FINANZAS!$J24","v":0},{"$f":"AD26*FINANZAS!$J24","v":0},null,{"$f":"IFERROR(D26*FINANZAS!$N24,0)","v":0},{"$f":"IFERROR(E26*FINANZAS!$N24,0)","v":0},{"$f":"IFERROR(F26*FINANZAS!$N24,0)","v":0},{"$f":"IFERROR(G26*FINANZAS!$N24,0)","v":0},{"$f":"IFERROR(H26*FINANZAS!$N24,0)","v":0},{"$f":"IFERROR(I26*FINANZAS!$N24,0)","v":0},{"$f":"IFERROR(J26*FINANZAS!$N24,0)","v":0},{"$f":"IFERROR(K26*FINANZAS!$N24,0)","v":0},{"$f":"IFERROR(L26*FINANZAS!$N24,0)","v":0},{"$f":"IFERROR(M26*FINANZAS!$N24,0)","v":0},{"$f":"IFERROR(N26*FINANZAS!$N24,0)","v":0},{"$f":"IFERROR(O26*FINANZAS!$N24,0)","v":0}]
[null,null,{"$f":"IF(FINANZAS!C25=\"\",\"\",FINANZAS!C25)","v":""},null,null,null,null,null,null,null,null,null,null,null,null,0,null,"",{"$f":"IFERROR(D27*FINANZAS!$K25,0)","v":0},{"$f":"IFERROR(E27*FINANZAS!$K25,0)","v":0},{"$f":"IFERROR(F27*FINANZAS!$K25,0)","v":0},{"$f":"IFERROR(G27*FINANZAS!$K25,0)","v":0},{"$f":"IFERROR(H27*FINANZAS!$K25,0)","v":0},{"$f":"IFERROR(I27*FINANZAS!$K25,0)","v":0},{"$f":"IFERROR(J27*FINANZAS!$K25,0)","v":0},{"$f":"IFERROR(K27*FINANZAS!$K25,0)","v":0},{"$f":"IFERROR(L27*FINANZAS!$K25,0)","v":0},{"$f":"IFERROR(M27*FINANZAS!$K25,0)","v":0},{"$f":"IFERROR(N27*FINANZAS!$K25,0)","v":0},{"$f":"IFERROR(O27*FINANZAS!$K25,0)","v":0},null,{"$f":"IFERROR(D27*FINANZAS!$G25,0)","v":0},{"$f":"IFERROR(E27*FINANZAS!$G25,0)","v":0},{"$f":"IFERROR(F27*FINANZAS!$G25,0)","v":0},{"$f":"IFERROR(G27*FINANZAS!$G25,0)","v":0},{"$f":"IFERROR(H27*FINANZAS!$G25,0)","v":0},{"$f":"IFERROR(I27*FINANZAS!$G25,0)","v":0},{"$f":"IFERROR(J27*FINANZAS!$G25,0)","v":0},{"$f":"IFERROR(K27*FINANZAS!$G25,0)","v":0},{"$f":"IFERROR(L27*FINANZAS!$G25,0)","v":0},{"$f":"IFERROR(M27*FINANZAS!$G25,0)","v":0},{"$f":"IFERROR(N27*FINANZAS!$G25,0)","v":0},{"$f":"IFERROR(O27*FINANZAS!$G25,0)","v":0},null,{"$f":"S27*FINANZAS!$J25","v":0},{"$f":"T27*FINANZAS!$J25","v":0},{"$f":"U27*FINANZAS!$J25","v":0},{"$f":"V27*FINANZAS!$J25","v":0},{"$f":"W27*FINANZAS!$J25","v":0},{"$f":"X27*FINANZAS!$J25","v":0},{"$f":"Y27*FINANZAS!$J25","v":0},{"$f":"Z27*FINANZAS!$J25","v":0},{"$f":"AA27*FINANZAS!$J25","v":0},{"$f":"AB27*FINANZAS!$J25","v":0},{"$f":"AC27*FINANZAS!$J25","v":0},{"$f":"AD27*FINANZAS!$J25","v":0},null,{"$f":"IFERROR(D27*FINANZAS!$N25,0)","v":0},{"$f":"IFERROR(E27*FINANZAS!$N25,0)","v":0},{"$f":"IFERROR(F27*FINANZAS!$N25,0)","v":0},{"$f":"IFERROR(G27*FINANZAS!$N25,0)","v":0},{"$f":"IFERROR(H27*FINANZAS!$N25,0)","v":0},{"$f":"IFERROR(I27*FINANZAS!$N25,0)","v":0},{"$f":"IFERROR(J27*FINANZAS!$N25,0)","v":0},{"$f":"IFERROR(K27*FINANZAS!$N25,0)","v":0},{"$f":"IFERROR(L27*FINANZAS!$N25,0)","v":0},{"$f":"IFERROR(M27*FINANZAS!$N25,0)","v":0},{"$f":"IFERROR(N27*FINANZAS!$N25,0)","v":0},{"$f":"IFERROR(O27*FINANZAS!$N25,0)","v":0}]
[null,null,{"$f":"IF(FINANZAS!C26=\"\",\"\",FINANZAS!C26)","v":""},null,null,null,null,null,null,null,null,null,null,null,null,0,null,"",{"$f":"IFERROR(D28*FINANZAS!$K26,0)","v":0},{"$f":"IFERROR(E28*FINANZAS!$K26,0)","v":0},{"$f":"IFERROR(F28*FINANZAS!$K26,0)","v":0},{"$f":"IFERROR(G28*FINANZAS!$K26,0)","v":0},{"$f":"IFERROR(H28*FINANZAS!$K26,0)","v":0},{"$f":"IFERROR(I28*FINANZAS!$K26,0)","v":0},{"$f":"IFERROR(J28*FINANZAS!$K26,0)","v":0},{"$f":"IFERROR(K28*FINANZAS!$K26,0)","v":0},{"$f":"IFERROR(L28*FINANZAS!$K26,0)","v":0},{"$f":"IFERROR(M28*FINANZAS!$K26,0)","v":0},{"$f":"IFERROR(N28*FINANZAS!$K26,0)","v":0},{"$f":"IFERROR(O28*FINANZAS!$K26,0)","v":0},null,{"$f":"IFERROR(D28*FINANZAS!$G26,0)","v":0},{"$f":"IFERROR(E28*FINANZAS!$G26,0)","v":0},{"$f":"IFERROR(F28*FINANZAS!$G26,0)","v":0},{"$f":"IFERROR(G28*FINANZAS!$G26,0)","v":0},{"$f":"IFERROR(H28*FINANZAS!$G26,0)","v":0},{"$f":"IFERROR(I28*FINANZAS!$G26,0)","v":0},{"$f":"IFERROR(J28*FINANZAS!$G26,0)","v":0},{"$f":"IFERROR(K28*FINANZAS!$G26,0)","v":0},{"$f":"IFERROR(L28*FINANZAS!$G26,0)","v":0},{"$f":"IFERROR(M28*FINANZAS!$G26,0)","v":0},{"$f":"IFERROR(N28*FINANZAS!$G26,0)","v":0},{"$f":"IFERROR(O28*FINANZAS!$G26,0)","v":0},null,{"$f":"S28*FINANZAS!$J26","v":0},{"$f":"T28*FINANZAS!$J26","v":0},{"$f":"U28*FINANZAS!$J26","v":0},{"$f":"V28*FINANZAS!$J26","v":0},{"$f":"W28*FINANZAS!$J26","v":0},{"$f":"X28*FINANZAS!$J26","v":0},{"$f":"Y28*FINANZAS!$J26","v":0},{"$f":"Z28*FINANZAS!$J26","v":0},{"$f":"AA28*FINANZAS!$J26","v":0},{"$f":"AB28*FINANZAS!$J26","v":0},{"$f":"AC28*FINANZAS!$J26","v":0},{"$f":"AD28*FINANZAS!$J26","v":0},null,{"$f":"IFERROR(D28*FINANZAS!$N26,0)","v":0},{"$f":"IFERROR(E28*FINANZAS!$N26,0)","v":0},{"$f":"IFERROR(F28*FINANZAS!$N26,0)","v":0},{"$f":"IFERROR(G28*FINANZAS!$N26,0)","v":0},{"$f":"IFERROR(H28*FINANZAS!$N26,0)","v":0},{"$f":"IFERROR(I28*FINANZAS!$N26,0)","v":0},{"$f":"IFERROR(J28*FINANZAS!$N26,0)","v":0},{"$f":"IFERROR(K28*FINANZAS!$N26,0)","v":0},{"$f":"IFERROR(L28*FINANZAS!$N26,0)","v":0},{"$f":"IFERROR(M28*FINANZAS!$N26,0)","v":0},{"$f":"IFERROR(N28*FINANZAS!$N26,0)","v":0},{"$f":"IFERROR(O28*FINANZAS!$N26,0)","v":0}]
[null,null,{"$f":"IF(FINANZAS!C27=\"\",\"\",FINANZAS!C27)","v":""},null,null,null,null,null,null,null,null,null,null,null,null,0,null,"",{"$f":"IFERROR(D29*FINANZAS!$K27,0)","v":0},{"$f":"IFERROR(E29*FINANZAS!$K27,0)","v":0},{"$f":"IFERROR(F29*FINANZAS!$K27,0)","v":0},{"$f":"IFERROR(G29*FINANZAS!$K27,0)","v":0},{"$f":"IFERROR(H29*FINANZAS!$K27,0)","v":0},{"$f":"IFERROR(I29*FINANZAS!$K27,0)","v":0},{"$f":"IFERROR(J29*FINANZAS!$K27,0)","v":0},{"$f":"IFERROR(K29*FINANZAS!$K27,0)","v":0},{"$f":"IFERROR(L29*FINANZAS!$K27,0)","v":0},{"$f":"IFERROR(M29*FINANZAS!$K27,0)","v":0},{"$f":"IFERROR(N29*FINANZAS!$K27,0)","v":0},{"$f":"IFERROR(O29*FINANZAS!$K27,0)","v":0},null,{"$f":"IFERROR(D29*FINANZAS!$G27,0)","v":0},{"$f":"IFERROR(E29*FINANZAS!$G27,0)","v":0},{"$f":"IFERROR(F29*FINANZAS!$G27,0)","v":0},{"$f":"IFERROR(G29*FINANZAS!$G27,0)","v":0},{"$f":"IFERROR(H29*FINANZAS!$G27,0)","v":0},{"$f":"IFERROR(I29*FINANZAS!$G27,0)","v":0},{"$f":"IFERROR(J29*FINANZAS!$G27,0)","v":0},{"$f":"IFERROR(K29*FINANZAS!$G27,0)","v":0},{"$f":"IFERROR(L29*FINANZAS!$G27,0)","v":0},{"$f":"IFERROR(M29*FINANZAS!$G27,0)","v":0},{"$f":"IFERROR(N29*FINANZAS!$G27,0)","v":0},{"$f":"IFERROR(O29*FINANZAS!$G27,0)","v":0},null,{"$f":"S29*FINANZAS!$J27","v":0},{"$f":"T29*FINANZAS!$J27","v":0},{"$f":"U29*FINANZAS!$J27","v":0},{"$f":"V29*FINANZAS!$J27","v":0},{"$f":"W29*FINANZAS!$J27","v":0},{"$f":"X29*FINANZAS!$J27","v":0},{"$f":"Y29*FINANZAS!$J27","v":0},{"$f":"Z29*FINANZAS!$J27","v":0},{"$f":"AA29*FINANZAS!$J27","v":0},{"$f":"AB29*FINANZAS!$J27","v":0},{"$f":"AC29*FINANZAS!$J27","v":0},{"$f":"AD29*FINANZAS!$J27","v":0},null,{"$f":"IFERROR(D29*FINANZAS!$N27,0)","v":0},{"$f":"IFERROR(E29*FINANZAS!$N27,0)","v":0},{"$f":"IFERROR(F29*FINANZAS!$N27,0)","v":0},{"$f":"IFERROR(G29*FINANZAS!$N27,0)","v":0},{"$f":"IFERROR(H29*FINANZAS!$N27,0)","v":0},{"$f":"IFERROR(I29*FINANZAS!$N27,0)","v":0},{"$f":"IFERROR(J29*FINANZAS!$N27,0)","v":0},{"$f":"IFERROR(K29*FINANZAS!$N27,0)","v":0},{"$f":"IFERROR(L29*FINANZAS!$N27,0)","v":0},{"$f":"IFERROR(M29*FINANZAS!$N27,0)","v":0},{"$f":"IFERROR(N29*FINANZAS!$N27,0)","v":0},{"$f":"IFERROR(O29*FINANZAS!$N27,0)","v":0}]
[null,null,{"$f":"IF(FINANZAS!C28=\"\",\"\",FINANZAS!C28)","v":""},null,null,null,null,null,null,null,null,null,null,null,null,0,null,"",{"$f":"IFERROR(D30*FINANZAS!$K28,0)","v":0},{"$f":"IFERROR(E30*FINANZAS!$K28,0)","v":0},{"$f":"IFERROR(F30*FINANZAS!$K28,0)","v":0},{"$f":"IFERROR(G30*FINANZAS!$K28,0)","v":0},{"$f":"IFERROR(H30*FINANZAS!$K28,0)","v":0},{"$f":"IFERROR(I30*FINANZAS!$K28,0)","v":0},{"$f":"IFERROR(J30*FINANZAS!$K28,0)","v":0},{"$f":"IFERROR(K30*FINANZAS!$K28,0)","v":0},{"$f":"IFERROR(L30*FINANZAS!$K28,0)","v":0},{"$f":"IFERROR(M30*FINANZAS!$K28,0)","v":0},{"$f":"IFERROR(N30*FINANZAS!$K28,0)","v":0},{"$f":"IFERROR(O30*FINANZAS!$K28,0)","v":0},null,{"$f":"IFERROR(D30*FINANZAS!$G28,0)","v":0},{"$f":"IFERROR(E30*FINANZAS!$G28,0)","v":0},{"$f":"IFERROR(F30*FINANZAS!$G28,0)","v":0},{"$f":"IFERROR(G30*FINANZAS!$G28,0)","v":0},{"$f":"IFERROR(H30*FINANZAS!$G28,0)","v":0},{"$f":"IFERROR(I30*FINANZAS!$G28,0)","v":0},{"$f":"IFERROR(J30*FINANZAS!$G28,0)","v":0},{"$f":"IFERROR(K30*FINANZAS!$G28,0)","v":0},{"$f":"IFERROR(L30*FINANZAS!$G28,0)","v":0},{"$f":"IFERROR(M30*FINANZAS!$G28,0)","v":0},{"$f":"IFERROR(N30*FINANZAS!$G28,0)","v":0},{"$f":"IFERROR(O30*FINANZAS!$G28,0)","v":0},null,{"$f":"S30*FINANZAS!$J28","v":0},{"$f":"T30*FINANZAS!$J28","v":0},{"$f":"U30*FINANZAS!$J28","v":0},{"$f":"V30*FINANZAS!$J28","v":0},{"$f":"W30*FINANZAS!$J28","v":0},{"$f":"X30*FINANZAS!$J28","v":0},{"$f":"Y30*FINANZAS!$J28","v":0},{"$f":"Z30*FINANZAS!$J28","v":0},{"$f":"AA30*FINANZAS!$J28","v":0},{"$f":"AB30*FINANZAS!$J28","v":0},{"$f":"AC30*FINANZAS!$J28","v":0},{"$f":"AD30*FINANZAS!$J28","v":0},null,{"$f":"IFERROR(D30*FINANZAS!$N28,0)","v":0},{"$f":"IFERROR(E30*FINANZAS!$N28,0)","v":0},{"$f":"IFERROR(F30*FINANZAS!$N28,0)","v":0},{"$f":"IFERROR(G30*FINANZAS!$N28,0)","v":0},{"$f":"IFERROR(H30*FINANZAS!$N28,0)","v":0},{"$f":"IFERROR(I30*FINANZAS!$N28,0)","v":0},{"$f":"IFERROR(J30*FINANZAS!$N28,0)","v":0},{"$f":"IFERROR(K30*FINANZAS!$N28,0)","v":0},{"$f":"IFERROR(L30*FINANZAS!$N28,0)","v":0},{"$f":"IFERROR(M30*FINANZAS!$N28,0)","v":0},{"$f":"IFERROR(N30*FINANZAS!$N28,0)","v":0},{"$f":"IFERROR(O30*FINANZAS!$N28,0)","v":0}]
[null,null,{"$f":"IF(FINANZAS!C29=\"\",\"\",FINANZAS!C29)","v":""},null,null,null,null,null,null,null,null,null,null,null,null,0,null,"",{"$f":"IFERROR(D31*FINANZAS!$K29,0)","v":0},{"$f":"IFERROR(E31*FINANZAS!$K29,0)","v":0},{"$f":"IFERROR(F31*FINANZAS!$K29,0)","v":0},{"$f":"IFERROR(G31*FINANZAS!$K29,0)","v":0},{"$f":"IFERROR(H31*FINANZAS!$K29,0)","v":0},{"$f":"IFERROR(I31*FINANZAS!$K29,0)","v":0},{"$f":"IFERROR(J31*FINANZAS!$K29,0)","v":0},{"$f":"IFERROR(K31*FINANZAS!$K29,0)","v":0},{"$f":"IFERROR(L31*FINANZAS!$K29,0)","v":0},{"$f":"IFERROR(M31*FINANZAS!$K29,0)","v":0},{"$f":"IFERROR(N31*FINANZAS!$K29,0)","v":0},{"$f":"IFERROR(O31*FINANZAS!$K29,0)","v":0},null,{"$f":"IFERROR(D31*FINANZAS!$G29,0)","v":0},{"$f":"IFERROR(E31*FINANZAS!$G29,0)","v":0},{"$f":"IFERROR(F31*FINANZAS!$G29,0)","v":0},{"$f":"IFERROR(G31*FINANZAS!$G29,0)","v":0},{"$f":"IFERROR(H31*FINANZAS!$G29,0)","v":0},{"$f":"IFERROR(I31*FINANZAS!$G29,0)","v":0},{"$f":"IFERROR(J31*FINANZAS!$G29,0)","v":0},{"$f":"IFERROR(K31*FINANZAS!$G29,0)","v":0},{"$f":"IFERROR(L31*FINANZAS!$G29,0)","v":0},{"$f":"IFERROR(M31*FINANZAS!$G29,0)","v":0},{"$f":"IFERROR(N31*FINANZAS!$G29,0)","v":0},{"$f":"IFERROR(O31*FINANZAS!$G29,0)","v":0},null,{"$f":"S31*FINANZAS!$J29","v":0},{"$f":"T31*FINANZAS!$J29","v":0},{"$f":"U31*FINANZAS!$J29","v":0},{"$f":"V31*FINANZAS!$J29","v":0},{"$f":"W31*FINANZAS!$J29","v":0},{"$f":"X31*FINANZAS!$J29","v":0},{"$f":"Y31*FINANZAS!$J29","v":0},{"$f":"Z31*FINANZAS!$J29","v":0},{"$f":"AA31*FINANZAS!$J29","v":0},{"$f":"AB31*FINANZAS!$J29","v":0},{"$f":"AC31*FINANZAS!$J29","v":0},{"$f":"AD31*FINANZAS!$J29","v":0},null,{"$f":"IFERROR(D31*FINANZAS!$N29,0)","v":0},{"$f":"IFERROR(E31*FINANZAS!$N29,0)","v":0},{"$f":"IFERROR(F31*FINANZAS!$N29,0)","v":0},{"$f":"IFERROR(G31*FINANZAS!$N29,0)","v":0},{"$f":"IFERROR(H31*FINANZAS!$N29,0)","v":0},{"$f":"IFERROR(I31*FINANZAS!$N29,0)","v":0},{"$f":"IFERROR(J31*FINANZAS!$N29,0)","v":0},{"$f":"IFERROR(K31*FINANZAS!$N29,0)","v":0},{"$f":"IFERROR(L31*FINANZAS!$N29,0)","v":0},{"$f":"IFERROR(M31*FINANZAS!$N29,0)","v":0},{"$f":"IFERROR(N31*FINANZAS!$N29,0)","v":0},{"$f":"IFERROR(O31*FINANZAS!$N29,0)","v":0}]
[null,null,{"$f":"IF(FINANZAS!C30=\"\",\"\",FINANZAS!C30)","v":""},null,null,null,null,null,null,null,null,null,null,null,null,0,null,"",{"$f":"IFERROR(D32*FINANZAS!$K30,0)","v":0},{"$f":"IFERROR(E32*FINANZAS!$K30,0)","v":0},{"$f":"IFERROR(F32*FINANZAS!$K30,0)","v":0},{"$f":"IFERROR(G32*FINANZAS!$K30,0)","v":0},{"$f":"IFERROR(H32*FINANZAS!$K30,0)","v":0},{"$f":"IFERROR(I32*FINANZAS!$K30,0)","v":0},{"$f":"IFERROR(J32*FINANZAS!$K30,0)","v":0},{"$f":"IFERROR(K32*FINANZAS!$K30,0)","v":0},{"$f":"IFERROR(L32*FINANZAS!$K30,0)","v":0},{"$f":"IFERROR(M32*FINANZAS!$K30,0)","v":0},{"$f":"IFERROR(N32*FINANZAS!$K30,0)","v":0},{"$f":"IFERROR(O32*FINANZAS!$K30,0)","v":0},null,{"$f":"IFERROR(D32*FINANZAS!$G30,0)","v":0},{"$f":"IFERROR(E32*FINANZAS!$G30,0)","v":0},{"$f":"IFERROR(F32*FINANZAS!$G30,0)","v":0},{"$f":"IFERROR(G32*FINANZAS!$G30,0)","v":0},{"$f":"IFERROR(H32*FINANZAS!$G30,0)","v":0},{"$f":"IFERROR(I32*FINANZAS!$G30,0)","v":0},{"$f":"IFERROR(J32*FINANZAS!$G30,0)","v":0},{"$f":"IFERROR(K32*FINANZAS!$G30,0)","v":0},{"$f":"IFERROR(L32*FINANZAS!$G30,0)","v":0},{"$f":"IFERROR(M32*FINANZAS!$G30,0)","v":0},{"$f":"IFERROR(N32*FINANZAS!$G30,0)","v":0},{"$f":"IFERROR(O32*FINANZAS!$G30,0)","v":0},null,{"$f":"S32*FINANZAS!$J30","v":0},{"$f":"T32*FINANZAS!$J30","v":0},{"$f":"U32*FINANZAS!$J30","v":0},{"$f":"V32*FINANZAS!$J30","v":0},{"$f":"W32*FINANZAS!$J30","v":0},{"$f":"X32*FINANZAS!$J30","v":0},{"$f":"Y32*FINANZAS!$J30","v":0},{"$f":"Z32*FINANZAS!$J30","v":0},{"$f":"AA32*FINANZAS!$J30","v":0},{"$f":"AB32*FINANZAS!$J30","v":0},{"$f":"AC32*FINANZAS!$J30","v":0},{"$f":"AD32*FINANZAS!$J30","v":0},null,{"$f":"IFERROR(D32*FINANZAS!$N30,0)","v":0},{"$f":"IFERROR(E32*FINANZAS!$N30,0)","v":0},{"$f":"IFERROR(F32*FINANZAS!$N30,0)","v":0},{"$f":"IFERROR(G32*FINANZAS!$N30,0)","v":0},{"$f":"IFERROR(H32*FINANZAS!$N30,0)","v":0},{"$f":"IFERROR(I32*FINANZAS!$N30,0)","v":0},{"$f":"IFERROR(J32*FINANZAS!$N30,0)","v":0},{"$f":"IFERROR(K32*FINANZAS!$N30,0)","v":0},{"$f":"IFERROR(L32*FINANZAS!$N30,0)","v":0},{"$f":"IFERROR(M32*FINANZAS!$N30,0)","v":0},{"$f":"IFERROR(N32*FINANZAS!$N30,0)","v":0},{"$f":"IFERROR(O32*FINANZAS!$N30,0)","v":0}]
[null,null,{"$f":"IF(FINANZAS!C31=\"\",\"\",FINANZAS!C31)","v":""},null,null,null,null,null,null,null,null,null,null,null,null,0,null,"",{"$f":"IFERROR(D33*FINANZAS!$K31,0)","v":0},{"$f":"IFERROR(E33*FINANZAS!$K31,0)","v":0},{"$f":"IFERROR(F33*FINANZAS!$K31,0)","v":0},{"$f":"IFERROR(G33*FINANZAS!$K31,0)","v":0},{"$f":"IFERROR(H33*FINANZAS!$K31,0)","v":0},{"$f":"IFERROR(I33*FINANZAS!$K31,0)","v":0},{"$f":"IFERROR(J33*FINANZAS!$K31,0)","v":0},{"$f":"IFERROR(K33*FINANZAS!$K31,0)","v":0},{"$f":"IFERROR(L33*FINANZAS!$K31,0)","v":0},{"$f":"IFERROR(M33*FINANZAS!$K31,0)","v":0},{"$f":"IFERROR(N33*FINANZAS!$K31,0)","v":0},{"$f":"IFERROR(O33*FINANZAS!$K31,0)","v":0},null,{"$f":"IFERROR(D33*FINANZAS!$G31,0)","v":0},{"$f":"IFERROR(E33*FINANZAS!$G31,0)","v":0},{"$f":"IFERROR(F33*FINANZAS!$G31,0)","v":0},{"$f":"IFERROR(G33*FINANZAS!$G31,0)","v":0},{"$f":"IFERROR(H33*FINANZAS!$G31,0)","v":0},{"$f":"IFERROR(I33*FINANZAS!$G31,0)","v":0},{"$f":"IFERROR(J33*FINANZAS!$G31,0)","v":0},{"$f":"IFERROR(K33*FINANZAS!$G31,0)","v":0},{"$f":"IFERROR(L33*FINANZAS!$G31,0)","v":0},{"$f":"IFERROR(M33*FINANZAS!$G31,0)","v":0},{"$f":"IFERROR(N33*FINANZAS!$G31,0)","v":0},{"$f":"IFERROR(O33*FINANZAS!$G31,0)","v":0},null,{"$f":"S33*FINANZAS!$J31","v":0},{"$f":"T33*FINANZAS!$J31","v":0},{"$f":"U33*FINANZAS!$J31","v":0},{"$f":"V33*FINANZAS!$J31","v":0},{"$f":"W33*FINANZAS!$J31","v":0},{"$f":"X33*FINANZAS!$J31","v":0},{"$f":"Y33*FINANZAS!$J31","v":0},{"$f":"Z33*FINANZAS!$J31","v":0},{"$f":"AA33*FINANZAS!$J31","v":0},{"$f":"AB33*FINANZAS!$J31","v":0},{"$f":"AC33*FINANZAS!$J31","v":0},{"$f":"AD33*FINANZAS!$J31","v":0},null,{"$f":"IFERROR(D33*FINANZAS!$N31,0)","v":0},{"$f":"IFERROR(E33*FINANZAS!$N31,0)","v":0},{"$f":"IFERROR(F33*FINANZAS!$N31,0)","v":0},{"$f":"IFERROR(G33*FINANZAS!$N31,0)","v":0},{"$f":"IFERROR(H33*FINANZAS!$N31,0)","v":0},{"$f":"IFERROR(I33*FINANZAS!$N31,0)","v":0},{"$f":"IFERROR(J33*FINANZAS!$N31,0)","v":0},{"$f":"IFERROR(K33*FINANZAS!$N31,0)","v":0},{"$f":"IFERROR(L33*FINANZAS!$N31,0)","v":0},{"$f":"IFERROR(M33*FINANZAS!$N31,0)","v":0},{"$f":"IFERROR(N33*FINANZAS!$N31,0)","v":0},{"$f":"IFERROR(O33*FINANZAS!$N31,0)","v":0}]
[null,null,{"$f":"IF(FINANZAS!C32=\"\",\"\",FINANZAS!C32)","v":""},null,null,null,null,null,null,null,null,null,null,null,null,0,null,"",{"$f":"IFERROR(D34*FINANZAS!$K32,0)","v":0},{"$f":"IFERROR(E34*FINANZAS!$K32,0)","v":0},{"$f":"IFERROR(F34*FINANZAS!$K32,0)","v":0},{"$f":"IFERROR(G34*FINANZAS!$K32,0)","v":0},{"$f":"IFERROR(H34*FINANZAS!$K32,0)","v":0},{"$f":"IFERROR(I34*FINANZAS!$K32,0)","v":0},{"$f":"IFERROR(J34*FINANZAS!$K32,0)","v":0},{"$f":"IFERROR(K34*FINANZAS!$K32,0)","v":0},{"$f":"IFERROR(L34*FINANZAS!$K32,0)","v":0},{"$f":"IFERROR(M34*FINANZAS!$K32,0)","v":0},{"$f":"IFERROR(N34*FINANZAS!$K32,0)","v":0},{"$f":"IFERROR(O34*FINANZAS!$K32,0)","v":0},null,{"$f":"IFERROR(D34*FINANZAS!$G32,0)","v":0},{"$f":"IFERROR(E34*FINANZAS!$G32,0)","v":0},{"$f":"IFERROR(F34*FINANZAS!$G32,0)","v":0},{"$f":"IFERROR(G34*FINANZAS!$G32,0)","v":0},{"$f":"IFERROR(H34*FINANZAS!$G32,0)","v":0},{"$f":"IFERROR(I34*FINANZAS!$G32,0)","v":0},{"$f":"IFERROR(J34*FINANZAS!$G32,0)","v":0},{"$f":"IFERROR(K34*FINANZAS!$G32,0)","v":0},{"$f":"IFERROR(L34*FINANZAS!$G32,0)","v":0},{"$f":"IFERROR(M34*FINANZAS!$G32,0)","v":0},{"$f":"IFERROR(N34*FINANZAS!$G32,0)","v":0},{"$f":"IFERROR(O34*FINANZAS!$G32,0)","v":0},null,{"$f":"S34*FINANZAS!$J32","v":0},{"$f":"T34*FINANZAS!$J32","v":0},{"$f":"U34*FINANZAS!$J32","v":0},{"$f":"V34*FINANZAS!$J32","v":0},{"$f":"W34*FINANZAS!$J32","v":0},{"$f":"X34*FINANZAS!$J32","v":0},{"$f":"Y34*FINANZAS!$J32","v":0},{"$f":"Z34*FINANZAS!$J32","v":0},{"$f":"AA34*FINANZAS!$J32","v":0},{"$f":"AB34*FINANZAS!$J32","v":0},{"$f":"AC34*FINANZAS!$J32","v":0},{"$f":"AD34*FINANZAS!$J32","v":0},null,{"$f":"IFERROR(D34*FINANZAS!$N32,0)","v":0},{"$f":"IFERROR(E34*FINANZAS!$N32,0)","v":0},{"$f":"IFERROR(F34*FINANZAS!$N32,0)","v":0},{"$f":"IFERROR(G34*FINANZAS!$N32,0)","v":0},{"$f":"IFERROR(H34*FINANZAS!$N32,0)","v":0},{"$f":"IFERROR(I34*FINANZAS!$N32,0)","v":0},{"$f":"IFERROR(J34*FINANZAS!$N32,0)","v":0},{"$f":"IFERROR(K34*FINANZAS!$N32,0)","v":0},{"$f":"IFERROR(L34*FINANZAS!$N32,0)","v":0},{"$f":"IFERROR(M34*FINANZAS!$N32,0)","v":0},{"$f":"IFERROR(N34*FINANZAS!$N32,0)","v":0},{"$f":"IFERROR(O34*FINANZAS!$N32,0)","v":0}]
[null,null,{"$f":"IF(FINANZAS!C33=\"\",\"\",FINANZAS!C33)","v":""},null,null,null,null,null,null,null,null,null,null,null,null,0,null,"",{"$f":"IFERROR(D35*FINANZAS!$K33,0)","v":0},{"$f":"IFERROR(E35*FINANZAS!$K33,0)","v":0},{"$f":"IFERROR(F35*FINANZAS!$K33,0)","v":0},{"$f":"IFERROR(G35*FINANZAS!$K33,0)","v":0},{"$f":"IFERROR(H35*FINANZAS!$K33,0)","v":0},{"$f":"IFERROR(I35*FINANZAS!$K33,0)","v":0},{"$f":"IFERROR(J35*FINANZAS!$K33,0)","v":0},{"$f":"IFERROR(K35*FINANZAS!$K33,0)","v":0},{"$f":"IFERROR(L35*FINANZAS!$K33,0)","v":0},{"$f":"IFERROR(M35*FINANZAS!$K33,0)","v":0},{"$f":"IFERROR(N35*FINANZAS!$K33,0)","v":0},{"$f":"IFERROR(O35*FINANZAS!$K33,0)","v":0},null,{"$f":"IFERROR(D35*FINANZAS!$G33,0)","v":0},{"$f":"IFERROR(E35*FINANZAS!$G33,0)","v":0},{"$f":"IFERROR(F35*FINANZAS!$G33,0)","v":0},{"$f":"IFERROR(G35*FINANZAS!$G33,0)","v":0},{"$f":"IFERROR(H35*FINANZAS!$G33,0)","v":0},{"$f":"IFERROR(I35*FINANZAS!$G33,0)","v":0},{"$f":"IFERROR(J35*FINANZAS!$G33,0)","v":0},{"$f":"IFERROR(K35*FINANZAS!$G33,0)","v":0},{"$f":"IFERROR(L35*FINANZAS!$G33,0)","v":0},{"$f":"IFERROR(M35*FINANZAS!$G33,0)","v":0},{"$f":"IFERROR(N35*FINANZAS!$G33,0)","v":0},{"$f":"IFERROR(O35*FINANZAS!$G33,0)","v":0},null,{"$f":"S35*FINANZAS!$J33","v":0},{"$f":"T35*FINANZAS!$J33","v":0},{"$f":"U35*FINANZAS!$J33","v":0},{"$f":"V35*FINANZAS!$J33","v":0},{"$f":"W35*FINANZAS!$J33","v":0},{"$f":"X35*FINANZAS!$J33","v":0},{"$f":"Y35*FINANZAS!$J33","v":0},{"$f":"Z35*FINANZAS!$J33","v":0},{"$f":"AA35*FINANZAS!$J33","v":0},{"$f":"AB35*FINANZAS!$J33","v":0},{"$f":"AC35*FINANZAS!$J33","v":0},{"$f":"AD35*FINANZAS!$J33","v":0},null,{"$f":"IFERROR(D35*FINANZAS!$N33,0)","v":0},{"$f":"IFERROR(E35*FINANZAS!$N33,0)","v":0},{"$f":"IFERROR(F35*FINANZAS!$N33,0)","v":0},{"$f":"IFERROR(G35*FINANZAS!$N33,0)","v":0},{"$f":"IFERROR(H35*FINANZAS!$N33,0)","v":0},{"$f":"IFERROR(I35*FINANZAS!$N33,0)","v":0},{"$f":"IFERROR(J35*FINANZAS!$N33,0)","v":0},{"$f":"IFERROR(K35*FINANZAS!$N33,0)","v":0},{"$f":"IFERROR(L35*FINANZAS!$N33,0)","v":0},{"$f":"IFERROR(M35*FINANZAS!$N33,0)","v":0},{"$f":"IFERROR(N35*FINANZAS!$N33,0)","v":0},{"$f":"IFERROR(O35*FINANZAS!$N33,0)","v":0}]
[null,null,{"$f":"IF(FINANZAS!C34=\"\",\"\",FINANZAS!C34)","v":""},null,null,null,null,null,null,null,null,null,null,null,null,0,null,"",{"$f":"IFERROR(D36*FINANZAS!$K34,0)","v":0},{"$f":"IFERROR(E36*FINANZAS!$K34,0)","v":0},{"$f":"IFERROR(F36*FINANZAS!$K34,0)","v":0},{"$f":"IFERROR(G36*FINANZAS!$K34,0)","v":0},{"$f":"IFERROR(H36*FINANZAS!$K34,0)","v":0},{"$f":"IFERROR(I36*FINANZAS!$K34,0)","v":0},{"$f":"IFERROR(J36*FINANZAS!$K34,0)","v":0},{"$f":"IFERROR(K36*FINANZAS!$K34,0)","v":0},{"$f":"IFERROR(L36*FINANZAS!$K34,0)","v":0},{"$f":"IFERROR(M36*FINANZAS!$K34,0)","v":0},{"$f":"IFERROR(N36*FINANZAS!$K34,0)","v":0},{"$f":"IFERROR(O36*FINANZAS!$K34,0)","v":0},null,{"$f":"IFERROR(D36*FINANZAS!$G34,0)","v":0},{"$f":"IFERROR(E36*FINANZAS!$G34,0)","v":0},{"$f":"IFERROR(F36*FINANZAS!$G34,0)","v":0},{"$f":"IFERROR(G36*FINANZAS!$G34,0)","v":0},{"$f":"IFERROR(H36*FINANZAS!$G34,0)","v":0},{"$f":"IFERROR(I36*FINANZAS!$G34,0)","v":0},{"$f":"IFERROR(J36*FINANZAS!$G34,0)","v":0},{"$f":"IFERROR(K36*FINANZAS!$G34,0)","v":0},{"$f":"IFERROR(L36*FINANZAS!$G34,0)","v":0},{"$f":"IFERROR(M36*FINANZAS!$G34,0)","v":0},{"$f":"IFERROR(N36*FINANZAS!$G34,0)","v":0},{"$f":"IFERROR(O36*FINANZAS!$G34,0)","v":0},null,{"$f":"S36*FINANZAS!$J34","v":0},{"$f":"T36*FINANZAS!$J34","v":0},{"$f":"U36*FINANZAS!$J34","v":0},{"$f":"V36*FINANZAS!$J34","v":0},{"$f":"W36*FINANZAS!$J34","v":0},{"$f":"X36*FINANZAS!$J34","v":0},{"$f":"Y36*FINANZAS!$J34","v":0},{"$f":"Z36*FINANZAS!$J34","v":0},{"$f":"AA36*FINANZAS!$J34","v":0},{"$f":"AB36*FINANZAS!$J34","v":0},{"$f":"AC36*FINANZAS!$J34","v":0},{"$f":"AD36*FINANZAS!$J34","v":0},null,{"$f":"IFERROR(D36*FINANZAS!$N34,0)","v":0},{"$f":"IFERROR(E36*FINANZAS!$N34,0)","v":0},{"$f":"IFERROR(F36*FINANZAS!$N34,0)","v":0},{"$f":"IFERROR(G36*FINANZAS!$N34,0)","v":0},{"$f":"IFERROR(H36*FINANZAS!$N34,0)","v":0},{"$f":"IFERROR(I36*FINANZAS!$N34,0)","v":0},{"$f":"IFERROR(J36*FINANZAS!$N34,0)","v":0},{"$f":"IFERROR(K36*FINANZAS!$N34,0)","v":0},{"$f":"IFERROR(L36*FINANZAS!$N34,0)","v":0},{"$f":"IFERROR(M36*FINANZAS!$N34,0)","v":0},{"$f":"IFERROR(N36*FINANZAS!$N34,0)","v":0},{"$f":"IFERROR(O36*FINANZAS!$N34,0)","v":0}]
[null,null,{"$f":"IF(FINANZAS!C35=\"\",\"\",FINANZAS!C35)","v":""},null,null,null,null,null,null,null,null,null,null,null,null,0,null,"",{"$f":"IFERROR(D37*FINANZAS!$K35,0)","v":0},{"$f":"IFERROR(E37*FINANZAS!$K35,0)","v":0},{"$f":"IFERROR(F37*FINANZAS!$K35,0)","v":0},{"$f":"IFERROR(G37*FINANZAS!$K35,0)","v":0},{"$f":"IFERROR(H37*FINANZAS!$K35,0)","v":0},{"$f":"IFERROR(I37*FINANZAS!$K35,0)","v":0},{"$f":"IFERROR(J37*FINANZAS!$K35,0)","v":0},{"$f":"IFERROR(K37*FINANZAS!$K35,0)","v":0},{"$f":"IFERROR(L37*FINANZAS!$K35,0)","v":0},{"$f":"IFERROR(M37*FINANZAS!$K35,0)","v":0},{"$f":"IFERROR(N37*FINANZAS!$K35,0)","v":0},{"$f":"IFERROR(O37*FINANZAS!$K35,0)","v":0},null,{"$f":"IFERROR(D37*FINANZAS!$G35,0)","v":0},{"$f":"IFERROR(E37*FINANZAS!$G35,0)","v":0},{"$f":"IFERROR(F37*FINANZAS!$G35,0)","v":0},{"$f":"IFERROR(G37*FINANZAS!$G35,0)","v":0},{"$f":"IFERROR(H37*FINANZAS!$G35,0)","v":0},{"$f":"IFERROR(I37*FINANZAS!$G35,0)","v":0},{"$f":"IFERROR(J37*FINANZAS!$G35,0)","v":0},{"$f":"IFERROR(K37*FINANZAS!$G35,0)","v":0},{"$f":"IFERROR(L37*FINANZAS!$G35,0)","v":0},{"$f":"IFERROR(M37*FINANZAS!$G35,0)","v":0},{"$f":"IFERROR(N37*FINANZAS!$G35,0)","v":0},{"$f":"IFERROR(O37*FINANZAS!$G35,0)","v":0},null,{"$f":"S37*FINANZAS!$J35","v":0},{"$f":"T37*FINANZAS!$J35","v":0},{"$f":"U37*FINANZAS!$J35","v":0},{"$f":"V37*FINANZAS!$J35","v":0},{"$f":"W37*FINANZAS!$J35","v":0},{"$f":"X37*FINANZAS!$J35","v":0},{"$f":"Y37*FINANZAS!$J35","v":0},{"$f":"Z37*FINANZAS!$J35","v":0},{"$f":"AA37*FINANZAS!$J35","v":0},{"$f":"AB37*FINANZAS!$J35","v":0},{"$f":"AC37*FINANZAS!$J35","v":0},{"$f":"AD37*FINANZAS!$J35","v":0},null,{"$f":"IFERROR(D37*FINANZAS!$N35,0)","v":0},{"$f":"IFERROR(E37*FINANZAS!$N35,0)","v":0},{"$f":"IFERROR(F37*FINANZAS!$N35,0)","v":0},{"$f":"IFERROR(G37*FINANZAS!$N35,0)","v":0},{"$f":"IFERROR(H37*FINANZAS!$N35,0)","v":0},{"$f":"IFERROR(I37*FINANZAS!$N35,0)","v":0},{"$f":"IFERROR(J37*FINANZAS!$N35,0)","v":0},{"$f":"IFERROR(K37*FINANZAS!$N35,0)","v":0},{"$f":"IFERROR(L37*FINANZAS!$N35,0)","v":0},{"$f":"IFERROR(M37*FINANZAS!$N35,0)","v":0},{"$f":"IFERROR(N37*FINANZAS!$N35,0)","v":0},{"$f":"IFERROR(O37*FINANZAS!$N35,0)","v":0}]
[null,null,{"$f":"IF(FINANZAS!C36=\"\",\"\",FINANZAS!C36)","v":""},null,null,null,null,null,null,null,null,null,null,null,null,0,null,"",{"$f":"IFERROR(D38*FINANZAS!$K36,0)","v":0},{"$f":"IFERROR(E38*FINANZAS!$K36,0)","v":0},{"$f":"IFERROR(F38*FINANZAS!$K36,0)","v":0},{"$f":"IFERROR(G38*FINANZAS!$K36,0)","v":0},{"$f":"IFERROR(H38*FINANZAS!$K36,0)","v":0},{"$f":"IFERROR(I38*FINANZAS!$K36,0)","v":0},{"$f":"IFERROR(J38*FINANZAS!$K36,0)","v":0},{"$f":"IFERROR(K38*FINANZAS!$K36,0)","v":0},{"$f":"IFERROR(L38*FINANZAS!$K36,0)","v":0},{"$f":"IFERROR(M38*FINANZAS!$K36,0)","v":0},{"$f":"IFERROR(N38*FINANZAS!$K36,0)","v":0},{"$f":"IFERROR(O38*FINANZAS!$K36,0)","v":0},null,{"$f":"D38*FINANZAS!$E$6","v":0},{"$f":"E38*FINANZAS!$E$6","v":0},{"$f":"F38*FINANZAS!$E$6","v":0},{"$f":"G38*FINANZAS!$E$6","v":0},{"$f":"H38*FINANZAS!$E$6","v":0},{"$f":"I38*FINANZAS!$E$6","v":0},{"$f":"J38*FINANZAS!$E$6","v":0},{"$f":"K38*FINANZAS!$E$6","v":0},{"$f":"L38*FINANZAS!$E$6","v":0},{"$f":"M38*FINANZAS!$E$6","v":0},{"$f":"N38*FINANZAS!$E$6","v":0},{"$f":"O38*FINANZAS!$E$6","v":0},null,{"$f":"S38*FINANZAS!$J36","v":0},{"$f":"T38*FINANZAS!$J36","v":0},{"$f":"U38*FINANZAS!$J36","v":0},{"$f":"V38*FINANZAS!$J36","v":0},{"$f":"W38*FINANZAS!$J36","v":0},{"$f":"X38*FINANZAS!$J36","v":0},{"$f":"Y38*FINANZAS!$J36","v":0},{"$f":"Z38*FINANZAS!$J36","v":0},{"$f":"AA38*FINANZAS!$J36","v":0},{"$f":"AB38*FINANZAS!$J36","v":0},{"$f":"AC38*FINANZAS!$J36","v":0},{"$f":"AD38*FINANZAS!$J36","v":0},null,{"$f":"IFERROR(D38*FINANZAS!$N36,0)","v":0},{"$f":"IFERROR(E38*FINANZAS!$N36,0)","v":0},{"$f":"IFERROR(F38*FINANZAS!$N36,0)","v":0},{"$f":"IFERROR(G38*FINANZAS!$N36,0)","v":0},{"$f":"IFERROR(H38*FINANZAS!$N36,0)","v":0},{"$f":"IFERROR(I38*FINANZAS!$N36,0)","v":0},{"$f":"IFERROR(J38*FINANZAS!$N36,0)","v":0},{"$f":"IFERROR(K38*FINANZAS!$N36,0)","v":0},{"$f":"IFERROR(L38*FINANZAS!$N36,0)","v":0},{"$f":"IFERROR(M38*FINANZAS!$N36,0)","v":0},{"$f":"IFERROR(N38*FINANZAS!$N36,0)","v":0},{"$f":"IFERROR(O38*FINANZAS!$N36,0)","v":0}]

{"sheet":"PROJ5","index":21,"n_rows":38,"n_cols":69,"rows_kept":38,"cut":false,"hidden":false,"merged":[[0,12,0,13],[0,2,0,5],[0,6,0,7],[0,8,0,9],[0,10,0,11]]}
[]
[]
[]
[null,null,"Seleccione el año ->","resumen","1 año","2 años","3 años","4 años","5 años"]
[]
[null,null,"Proyecte una cantidad de ventas realizadas por cada producto o servicio en los meses siguientes",null,null,null,null,null,null,null,null,null,null,null,null,null,null,null,"Proyección de ingresos",null,null,null,null,null,null,null,null,null,null,null,null,"Los costos variables",null,null,null,null,null,null,null,null,null,null,null,null,"impuestos",null,null,null,null,null,null,null,null,null,null,null,null,"Margen de contribución"]
[null,null,"Descripción","Enero","Febrero","Marzo","Abril","Mayo","Junio","Julio","Agosto","Septiembre","Octubre","Noviembre","Diciembre","Total",null,"repetición","enero","febrero","marzo","abril","mayo","junio","julio","agosto","septiembre","octubre","noviembre","diciembre",null,"enero","febrero","marzo","abril","mayo","junio","julio","agosto","septiembre","octubre","noviembre","diciembre",null,"enero","febrero","marzo","abril","mayo","junio","julio","agosto","septiembre","octubre","noviembre","diciembre",null,"enero","febrero","marzo","abril","mayo","junio","julio","agosto","septiembre","octubre","noviembre","diciembre"]
[null,null,{"$f":"IF(FINANZAS!C6=\"\",\"\",FINANZAS!C6)","v":"Café Anibalito "},400,500,400,500,600,700,400,500,500,500,400,700,{"$f":"SUM(S8:AD8)","v":2332894.4748179591},null,{"$f":"C8","v":"Café Anibalito "},{"$f":"IFERROR(D8*FINANZAS!$K6,0)","v":152976.68687330882},{"$f":"IFERROR(E8*FINANZAS!$K6,0)","v":191220.858591636},{"$f":"IFERROR(F8*FINANZAS!$K6,0)","v":152976.68687330882},{"$f":"IFERROR(G8*FINANZAS!$K6,0)","v":191220.858591636},{"$f":"IFERROR(H8*FINANZAS!$K6,0)","v":229465.03030996321},{"$f":"IFERROR(I8*FINANZAS!$K6,0)","v":267709.20202829043},{"$f":"IFERROR(J8*FINANZAS!$K6,0)","v":152976.68687330882},{"$f":"IFERROR(K8*FINANZAS!$K6,0)","v":191220.858591636},{"$f":"IFERROR(L8*FINANZAS!$K6,0)","v":191220.858591636},{"$f":"IFERROR(M8*FINANZAS!$K6,0)","v":191220.858591636},{"$f":"IFERROR(N8*FINANZAS!$K6,0)","v":152976.68687330882},{"$f":"IFERROR(O8*FINANZAS!$K6,0)","v":267709.20202829043},null,{"$f":"IFERROR(D8*FINANZAS!$G6,0)","v":55751.503660494782},{"$f":"IFERROR(E8*FINANZAS!$G6,0)","v":69689.37957561847},{"$f":"IFERROR(F8*FINANZAS!$G6,0)","v":55751.503660494782},{"$f":"IFERROR(G8*FINANZAS!$G6,0)","v":69689.37957561847},{"$f":"IFERROR(H8*FINANZAS!$G6,0)","v":83627.255490742173},{"$f":"IFERROR(I8*FINANZAS!$G6,0)","v":97565.131405865861},{"$f":"IFERROR(J8*FINANZAS!$G6,0)","v":55751.503660494782},{"$f":"IFERROR(K8*FINANZAS!$G6,0)","v":69689.37957561847},{"$f":"IFERROR(L8*FINANZAS!$G6,0)","v":69689.37957561847},{"$f":"IFERROR(M8*FINANZAS!$G6,0)","v":69689.37957561847},{"$f":"IFERROR(N8*FINANZAS!$G6,0)","v":55751.503660494782},{"$f":"IFERROR(O8*FINANZAS!$G6,0)","v":97565.131405865861},null,{"$f":"S8*FINANZAS!$J6","v":27535.803637195586},{"$f":"T8*FINANZAS!$J6","v":34419.754546494478},{"$f":"U8*FINANZAS!$J6","v":27535.803637195586},{"$f":"V8*FINANZAS!$J6","v":34419.754546494478},{"$f":"W8*FINANZAS!$J6","v":41303.705455793381},{"$f":"X8*FINANZAS!$J6","v":48187.656365092276},{"$f":"Y8*FINANZAS!$J6","v":27535.803637195586},{"$f":"Z8*FINANZAS!$J6","v":34419.754546494478},{"$f":"AA8*FINANZAS!$J6","v":34419.754546494478},{"$f":"AB8*FINANZAS!$J6","v":34419.754546494478},{"$f":"AC8*FINANZAS!$J6","v":27535.803637195586},{"$f":"AD8*FINANZAS!$J6","v":48187.656365092276},null,{"$f":"IFERROR(D8*FINANZAS!$N6,0)","v":69689.379575618455},{"$f":"IFERROR(E8*FINANZAS!$N6,0)","v":87111.724469523062},{"$f":"IFERROR(F8*FINANZAS!$N6,0)","v":69689.379575618455},{"$f":"IFERROR(G8*FINANZAS!$N6,0)","v":87111.724469523062},{"$f":"IFERROR(H8*FINANZAS!$N6,0)","v":104534.06936342768},{"$f":"IFERROR(I8*FINANZAS!$N6,0)","v":121956.41425733229},{"$f":"IFERROR(J8*FINANZAS!$N6,0)","v":69689.379575618455},{"$f":"IFERROR(K8*FINANZAS!$N6,0)","v":87111.724469523062},{"$f":"IFERROR(L8*FINANZAS!$N6,0)","v":87111.724469523062},{"$f":"IFERROR(M8*FINANZAS!$N6,0)","v":87111.724469523062},{"$f":"IFERROR(N8*FINANZAS!$N6,0)","v":69689.379575618455},{"$f":"IFERROR(O8*FINANZAS!$N6,0)","v":121956.41425733229}]
[null,null,{"$f":"IF(FINANZAS!C7=\"\",\"\",FINANZAS!C7)","v":"café en sobre"},300,300,300,300,300,300,300,300,300,300,300,300,{"$f":"SUM(S9:AD9)","v":131707.31707317074},null,{"$f":"C9","v":"café en sobre"},{"$f":"IFERROR(D9*FINANZAS!$K7,0)","v":10975.609756097561},{"$f":"IFERROR(E9*FINANZAS!$K7,0)","v":10975.609756097561},{"$f":"IFERROR(F9*FINANZAS!$K7,0)","v":10975.609756097561},{"$f":"IFERROR(G9*FINANZAS!$K7,0)","v":10975.609756097561},{"$f":"IFERROR(H9*FINANZAS!$K7,0)","v":10975.609756097561},{"$f":"IFERROR(I9*FINANZAS!$K7,0)","v":10975.609756097561},{"$f":"IFERROR(J9*FINANZAS!$K7,0)","v":10975.609756097561},{"$f":"IFERROR(K9*FINANZAS!$K7,0)","v":10975.609756097561},{"$f":"IFERROR(L9*FINANZAS!$K7,0)","v":10975.609756097561},{"$f":"IFERROR(M9*FINANZAS!$K7,0)","v":10975.609756097561},{"$f":"IFERROR(N9*FINANZAS!$K7,0)","v":10975.609756097561},{"$f":"IFERROR(O9*FINANZAS!$K7,0)","v":10975.609756097561},null,{"$f":"IFERROR(D9*FINANZAS!$G7,0)","v":7500},{"$f":"IFERROR(E9*FINANZAS!$G7,0)","v":7500},{"$f":"IFERROR(F9*FINANZAS!$G7,0)","v":7500},{"$f":"IFERROR(G9*FINANZAS!$G7,0)","v":7500},{"$f":"IFERROR(H9*FINANZAS!$G7,0)","v":7500},{"$f":"IFERROR(I9*FINANZAS!$G7,0)","v":7500},{"$f":"IFERROR(J9*FINANZAS!$G7,0)","v":7500},{"$f":"IFERROR(K9*FINANZAS!$G7,0)","v":7500},{"$f":"IFERROR(L9*FINANZAS!$G7,0)","v":7500},{"$f":"IFERROR(M9*FINANZAS!$G7,0)","v":7500},{"$f":"IFERROR(N9*FINANZAS!$G7,0)","v":7500},{"$f":"IFERROR(O9*FINANZAS!$G7,0)","v":7500},null,{"$f":"S9*FINANZAS!$J7","v":1975.6097560975609},{"$f":"T9*FINANZAS!$J7","v":1975.6097560975609},{"$f":"U9*FINANZAS!$J7","v":1975.6097560975609},{"$f":"V9*FINANZAS!$J7","v":1975.6097560975609},{"$f":"W9*FINANZAS!$J7","v":1975.6097560975609},{"$f":"X9*FINANZAS!$J7","v":1975.6097560975609},{"$f":"Y9*FINANZAS!$J7","v":1975.6097560975609},{"$f":"Z9*FINANZAS!$J7","v":1975.6097560975609},{"$f":"AA9*FINANZAS!$J7","v":1975.6097560975609},{"$f":"AB9*FINANZAS!$J7","v":1975.6097560975609},{"$f":"AC9*FINANZAS!$J7","v":1975.6097560975609},{"$f":"AD9*FINANZAS!$J7","v":1975.6097560975609},null,{"$f":"IFERROR(D9*FINANZAS!$N7,0)","v":1500.0000000000002},{"$f":"IFERROR(E9*FINANZAS!$N7,0)","v":1500.0000000000002},{"$f":"IFERROR(F9*FINANZAS!$N7,0)","v":1500.0000000000002},{"$f":"IFERROR(G9*FINANZAS!$N7,0)","v":1500.0000000000002},{"$f":"IFERROR(H9*FINANZAS!$N7,0)","v":1500.0000000000002},{"$f":"IFERROR(I9*FINANZAS!$N7,0)","v":1500.0000000000002},{"$f":"IFERROR(J9*FINANZAS!$N7,0)","v":1500.0000000000002},{"$f":"IFERROR(K9*FINANZAS!$N7,0)","v":1500.0000000000002},{"$f":"IFERROR(L9*FINANZAS!$N7,0)","v":1500.0000000000002},{"$f":"IFERROR(M9*FINANZAS!$N7,0)","v":1500.0000000000002},{"$f":"IFERROR(N9*FINANZAS!$N7,0)","v":1500.0000000000002},{"$f":"IFERROR(O9*FINANZAS!$N7,0)","v":1500.0000000000002}]
[null,null,{"$f":"IF(FINANZAS!C8=\"\",\"\",FINANZAS!C8)","v":1},400,500,400,500,600,700,400,500,500,500,400,700,867214.63943899621,null,1,{"$f":"IFERROR(D10*FINANZAS!$K8,0)","v":56866.533733704673},{"$f":"IFERROR(E10*FINANZAS!$K8,0)","v":71083.167167130843},{"$f":"IFERROR(F10*FINANZAS!$K8,0)","v":56866.533733704673},{"$f":"IFERROR(G10*FINANZAS!$K8,0)","v":71083.167167130843},{"$f":"IFERROR(H10*FINANZAS!$K8,0)","v":85299.800600557006},{"$f":"IFERROR(I10*FINANZAS!$K8,0)","v":99516.434033983169},{"$f":"IFERROR(J10*FINANZAS!$K8,0)","v":56866.533733704673},{"$f":"IFERROR(K10*FINANZAS!$K8,0)","v":71083.167167130843},{"$f":"IFERROR(L10*FINANZAS!$K8,0)","v":71083.167167130843},{"$f":"IFERROR(M10*FINANZAS!$K8,0)","v":71083.167167130843},{"$f":"IFERROR(N10*FINANZAS!$K8,0)","v":56866.533733704673},{"$f":"IFERROR(O10*FINANZAS!$K8,0)","v":99516.434033983169},null,{"$f":"IFERROR(D10*FINANZAS!$G8,0)","v":55751.503660494782},{"$f":"IFERROR(E10*FINANZAS!$G8,0)","v":69689.37957561847},{"$f":"IFERROR(F10*FINANZAS!$G8,0)","v":55751.503660494782},{"$f":"IFERROR(G10*FINANZAS!$G8,0)","v":69689.37957561847},{"$f":"IFERROR(H10*FINANZAS!$G8,0)","v":83627.255490742173},{"$f":"IFERROR(I10*FINANZAS!$G8,0)","v":97565.131405865861},{"$f":"IFERROR(J10*FINANZAS!$G8,0)","v":55751.503660494782},{"$f":"IFERROR(K10*FINANZAS!$G8,0)","v":69689.37957561847},{"$f":"IFERROR(L10*FINANZAS!$G8,0)","v":69689.37957561847},{"$f":"IFERROR(M10*FINANZAS!$G8,0)","v":69689.37957561847},{"$f":"IFERROR(N10*FINANZAS!$G8,0)","v":55751.503660494782},{"$f":"IFERROR(O10*FINANZAS!$G8,0)","v":97565.131405865861},null,{"$f":"S10*FINANZAS!$J8","v":0},{"$f":"T10*FINANZAS!$J8","v":0},{"$f":"U10*FINANZAS!$J8","v":0},{"$f":"V10*FINANZAS!$J8","v":0},{"$f":"W10*FINANZAS!$J8","v":0},{"$f":"X10*FINANZAS!$J8","v":0},{"$f":"Y10*FINANZAS!$J8","v":0},{"$f":"Z10*FINANZAS!$J8","v":0},{"$f":"AA10*FINANZAS!$J8","v":0},{"$f":"AB10*FINANZAS!$J8","v":0},{"$f":"AC10*FINANZAS!$J8","v":0},{"$f":"AD10*FINANZAS!$J8","v":0},null,{"$f":"IFERROR(D10*FINANZAS!$N8,0)","v":1115.0300732098913},{"$f":"IFERROR(E10*FINANZAS!$N8,0)","v":1393.7875915123641},{"$f":"IFERROR(F10*FINANZAS!$N8,0)","v":1115.0300732098913},{"$f":"IFERROR(G10*FINANZAS!$N8,0)","v":1393.7875915123641},{"$f":"IFERROR(H10*FINANZAS!$N8,0)","v":1672.5451098148369},{"$f":"IFERROR(I10*FINANZAS!$N8,0)","v":1951.3026281173097},{"$f":"IFERROR(J10*FINANZAS!$N8,0)","v":1115.0300732098913},{"$f":"IFERROR(K10*FINANZAS!$N8,0)","v":1393.7875915123641},{"$f":"IFERROR(L10*FINANZAS!$N8,0)","v":1393.7875915123641},{"$f":"IFERROR(M10*FINANZAS!$N8,0)","v":1393.7875915123641},{"$f":"IFERROR(N10*FINANZAS!$N8,0)","v":1115.0300732098913},{"$f":"IFERROR(O10*FINANZAS!$N8,0)","v":1951.3026281173097}]
[null,null,{"$f":"IF(FINANZAS!C9=\"\",\"\",FINANZAS!C9)","v":2},300,300,300,300,300,300,300,300,300,300,300,300,92700,null,2,{"$f":"IFERROR(D11*FINANZAS!$K9,0)","v":7725},{"$f":"IFERROR(E11*FINANZAS!$K9,0)","v":7725},{"$f":"IFERROR(F11*FINANZAS!$K9,0)","v":7725},{"$f":"IFERROR(G11*FINANZAS!$K9,0)","v":7725},{"$f":"IFERROR(H11*FINANZAS!$K9,0)","v":7725},{"$f":"IFERROR(I11*FINANZAS!$K9,0)","v":7725},{"$f":"IFERROR(J11*FINANZAS!$K9,0)","v":7725},{"$f":"IFERROR(K11*FINANZAS!$K9,0)","v":7725},{"$f":"IFERROR(L11*FINANZAS!$K9,0)","v":7725},{"$f":"IFERROR(M11*FINANZAS!$K9,0)","v":7725},{"$f":"IFERROR(N11*FINANZAS!$K9,0)","v":7725},{"$f":"IFERROR(O11*FINANZAS!$K9,0)","v":7725},null,{"$f":"IFERROR(D11*FINANZAS!$G9,0)","v":7500},{"$f":"IFERROR(E11*FINANZAS!$G9,0)","v":7500},{"$f":"IFERROR(F11*FINANZAS!$G9,0)","v":7500},{"$f":"IFERROR(G11*FINANZAS!$G9,0)","v":7500},{"$f":"IFERROR(H11*FINANZAS!$G9,0)","v":7500},{"$f":"IFERROR(I11*FINANZAS!$G9,0)","v":7500},{"$f":"IFERROR(J11*FINANZAS!$G9,0)","v":7500},{"$f":"IFERROR(K11*FINANZAS!$G9,0)","v":7500},{"$f":"IFERROR(L11*FINANZAS!$G9,0)","v":7500},{"$f":"IFERROR(M11*FINANZAS!$G9,0)","v":7500},{"$f":"IFERROR(N11*FINANZAS!$G9,0)","v":7500},{"$f":"IFERROR(O11*FINANZAS!$G9,0)","v":7500},null,{"$f":"S11*FINANZAS!$J9","v":0},{"$f":"T11*FINANZAS!$J9","v":0},{"$f":"U11*FINANZAS!$J9","v":0},{"$f":"V11*FINANZAS!$J9","v":0},{"$f":"W11*FINANZAS!$J9","v":0},{"$f":"X11*FINANZAS!$J9","v":0},{"$f":"Y11*FINANZAS!$J9","v":0},{"$f":"Z11*FINANZAS!$J9","v":0},{"$f":"AA11*FINANZAS!$J9","v":0},{"$f":"AB11*FINANZAS!$J9","v":0},{"$f":"AC11*FINANZAS!$J9","v":0},{"$f":"AD11*FINANZAS!$J9","v":0},null,{"$f":"IFERROR(D11*FINANZAS!$N9,0)","v":225},{"$f":"IFERROR(E11*FINANZAS!$N9,0)","v":225},{"$f":"IFERROR(F11*FINANZAS!$N9,0)","v":225},{"$f":"IFERROR(G11*FINANZAS!$N9,0)","v":225},{"$f":"IFERROR(H11*FINANZAS!$N9,0)","v":225},{"$f":"IFERROR(I11*FINANZAS!$N9,0)","v":225},{"$f":"IFERROR(J11*FINANZAS!$N9,0)","v":225},{"$f":"IFERROR(K11*FINANZAS!$N9,0)","v":225},{"$f":"IFERROR(L11*FINANZAS!$N9,0)","v":225},{"$f":"IFERROR(M11*FINANZAS!$N9,0)","v":225},{"$f":"IFERROR(N11*FINANZAS!$N9,0)","v":225},{"$f":"IFERROR(O11*FINANZAS!$N9,0)","v":225}]
[null,null,{"$f":"IF(FINANZAS!C10=\"\",\"\",FINANZAS!C10)","v":3},400,500,400,500,600,700,400,500,500,500,400,700,867214.63943899621,null,3,{"$f":"IFERROR(D12*FINANZAS!$K10,0)","v":56866.533733704673},{"$f":"IFERROR(E12*FINANZAS!$K10,0)","v":71083.167167130843},{"$f":"IFERROR(F12*FINANZAS!$K10,0)","v":56866.533733704673},{"$f":"IFERROR(G12*FINANZAS!$K10,0)","v":71083.167167130843},{"$f":"IFERROR(H12*FINANZAS!$K10,0)","v":85299.800600557006},{"$f":"IFERROR(I12*FINANZAS!$K10,0)","v":99516.434033983169},{"$f":"IFERROR(J12*FINANZAS!$K10,0)","v":56866.533733704673},{"$f":"IFERROR(K12*FINANZAS!$K10,0)","v":71083.167167130843},{"$f":"IFERROR(L12*FINANZAS!$K10,0)","v":71083.167167130843},{"$f":"IFERROR(M12*FINANZAS!$K10,0)","v":71083.167167130843},{"$f":"IFERROR(N12*FINANZAS!$K10,0)","v":56866.533733704673},{"$f":"IFERROR(O12*FINANZAS!$K10,0)","v":99516.434033983169},null,{"$f":"IFERROR(D12*FINANZAS!$G10,0)","v":55751.503660494782},{"$f":"IFERROR(E12*FINANZAS!$G10,0)","v":69689.37957561847},{"$f":"IFERROR(F12*FINANZAS!$G10,0)","v":55751.503660494782},{"$f":"IFERROR(G12*FINANZAS!$G10,0)","v":69689.37957561847},{"$f":"IFERROR(H12*FINANZAS!$G10,0)","v":83627.255490742173},{"$f":"IFERROR(I12*FINANZAS!$G10,0)","v":97565.131405865861},{"$f":"IFERROR(J12*FINANZAS!$G10,0)","v":55751.503660494782},{"$f":"IFERROR(K12*FINANZAS!$G10,0)","v":69689.37957561847},{"$f":"IFERROR(L12*FINANZAS!$G10,0)","v":69689.37957561847},{"$f":"IFERROR(M12*FINANZAS!$G10,0)","v":69689.37957561847},{"$f":"IFERROR(N12*FINANZAS!$G10,0)","v":55751.503660494782},{"$f":"IFERROR(O12*FINANZAS!$G10,0)","v":97565.131405865861},null,{"$f":"S12*FINANZAS!$J10","v":0},{"$f":"T12*FINANZAS!$J10","v":0},{"$f":"U12*FINANZAS!$J10","v":0},{"$f":"V12*FINANZAS!$J10","v":0},{"$f":"W12*FINANZAS!$J10","v":0},{"$f":"X12*FINANZAS!$J10","v":0},{"$f":"Y12*FINANZAS!$J10","v":0},{"$f":"Z12*FINANZAS!$J10","v":0},{"$f":"AA12*FINANZAS!$J10","v":0},{"$f":"AB12*FINANZAS!$J10","v":0},{"$f":"AC12*FINANZAS!$J10","v":0},{"$f":"AD12*FINANZAS!$J10","v":0},null,{"$f":"IFERROR(D12*FINANZAS!$N10,0)","v":1115.0300732098913},{"$f":"IFERROR(E12*FINANZAS!$N10,0)","v":1393.7875915123641},{"$f":"IFERROR(F12*FINANZAS!$N10,0)","v":1115.0300732098913},{"$f":"IFERROR(G12*FINANZAS!$N10,0)","v":1393.7875915123641},{"$f":"IFERROR(H12*FINANZAS!$N10,0)","v":1672.5451098148369},{"$f":"IFERROR(I12*FINANZAS!$N10,0)","v":1951.3026281173097},{"$f":"IFERROR(J12*FINANZAS!$N10,0)","v":1115.0300732098913},{"$f":"IFERROR(K12*FINANZAS!$N10,0)","v":1393.7875915123641},{"$f":"IFERROR(L12*FINANZAS!$N10,0)","v":1393.7875915123641},{"$f":"IFERROR(M12*FINANZAS!$N10,0)","v":1393.7875915123641},{"$f":"IFERROR(N12*FINANZAS!$N10,0)","v":1115.0300732098913},{"$f":"IFERROR(O12*FINANZAS!$N10,0)","v":1951.3026281173097}]
[null,null,{"$f":"IF(FINANZAS!C11=\"\",\"\",FINANZAS!C11)","v":4},300,300,300,300,300,300,300,300,300,300,300,300,92700,null,4,{"$f":"IFERROR(D13*FINANZAS!$K11,0)","v":7725},{"$f":"IFERROR(E13*FINANZAS!$K11,0)","v":7725},{"$f":"IFERROR(F13*FINANZAS!$K11,0)","v":7725},{"$f":"IFERROR(G13*FINANZAS!$K11,0)","v":7725},{"$f":"IFERROR(H13*FINANZAS!$K11,0)","v":7725},{"$f":"IFERROR(I13*FINANZAS!$K11,0)","v":7725},{"$f":"IFERROR(J13*FINANZAS!$K11,0)","v":7725},{"$f":"IFERROR(K13*FINANZAS!$K11,0)","v":7725},{"$f":"IFERROR(L13*FINANZAS!$K11,0)","v":7725},{"$f":"IFERROR(M13*FINANZAS!$K11,0)","v":7725},{"$f":"IFERROR(N13*FINANZAS!$K11,0)","v":7725},{"$f":"IFERROR(O13*FINANZAS!$K11,0)","v":7725},null,{"$f":"IFERROR(D13*FINANZAS!$G11,0)","v":7500},{"$f":"IFERROR(E13*FINANZAS!$G11,0)","v":7500},{"$f":"IFERROR(F13*FINANZAS!$G11,0)","v":7500},{"$f":"IFERROR(G13*FINANZAS!$G11,0)","v":7500},{"$f":"IFERROR(H13*FINANZAS!$G11,0)","v":7500},{"$f":"IFERROR(I13*FINANZAS!$G11,0)","v":7500},{"$f":"IFERROR(J13*FINANZAS!$G11,0)","v":7500},{"$f":"IFERROR(K13*FINANZAS!$G11,0)","v":7500},{"$f":"IFERROR(L13*FINANZAS!$G11,0)","v":7500},{"$f":"IFERROR(M13*FINANZAS!$G11,0)","v":7500},{"$f":"IFERROR(N13*FINANZAS!$G11,0)","v":7500},{"$f":"IFERROR(O13*FINANZAS!$G11,0)","v":7500},null,{"$f":"S13*FINANZAS!$J11","v":0},{"$f":"T13*FINANZAS!$J11","v":0},{"$f":"U13*FINANZAS!$J11","v":0},{"$f":"V13*FINANZAS!$J11","v":0},{"$f":"W13*FINANZAS!$J11","v":0},{"$f":"X13*FINANZAS!$J11","v":0},{"$f":"Y13*FINANZAS!$J11","v":0},{"$f":"Z13*FINANZAS!$J11","v":0},{"$f":"AA13*FINANZAS!$J11","v":0},{"$f":"AB13*FINANZAS!$J11","v":0},{"$f":"AC13*FINANZAS!$J11","v":0},{"$f":"AD13*FINANZAS!$J11","v":0},null,{"$f":"IFERROR(D13*FINANZAS!$N11,0)","v":225},{"$f":"IFERROR(E13*FINANZAS!$N11,0)","v":225},{"$f":"IFERROR(F13*FINANZAS!$N11,0)","v":225},{"$f":"IFERROR(G13*FINANZAS!$N11,0)","v":225},{"$f":"IFERROR(H13*FINANZAS!$N11,0)","v":225},{"$f":"IFERROR(I13*FINANZAS!$N11,0)","v":225},{"$f":"IFERROR(J13*FINANZAS!$N11,0)","v":225},{"$f":"IFERROR(K13*FINANZAS!$N11,0)","v":225},{"$f":"IFERROR(L13*FINANZAS!$N11,0)","v":225},{"$f":"IFERROR(M13*FINANZAS!$N11,0)","v":225},{"$f":"IFERROR(N13*FINANZAS!$N11,0)","v":225},{"$f":"IFERROR(O13*FINANZAS!$N11,0)","v":225}]
[null,null,{"$f":"IF(FINANZAS!C12=\"\",\"\",FINANZAS!C12)","v":5},400,500,400,500,600,700,400,500,500,500,400,700,175374.99999999997,null,5,{"$f":"IFERROR(D14*FINANZAS!$K12,0)","v":11499.999999999998},{"$f":"IFERROR(E14*FINANZAS!$K12,0)","v":14374.999999999998},{"$f":"IFERROR(F14*FINANZAS!$K12,0)","v":11499.999999999998},{"$f":"IFERROR(G14*FINANZAS!$K12,0)","v":14374.999999999998},{"$f":"IFERROR(H14*FINANZAS!$K12,0)","v":17249.999999999996},{"$f":"IFERROR(I14*FINANZAS!$K12,0)","v":20124.999999999996},{"$f":"IFERROR(J14*FINANZAS!$K12,0)","v":11499.999999999998},{"$f":"IFERROR(K14*FINANZAS!$K12,0)","v":14374.999999999998},{"$f":"IFERROR(L14*FINANZAS!$K12,0)","v":14374.999999999998},{"$f":"IFERROR(M14*FINANZAS!$K12,0)","v":14374.999999999998},{"$f":"IFERROR(N14*FINANZAS!$K12,0)","v":11499.999999999998},{"$f":"IFERROR(O14*FINANZAS!$K12,0)","v":20124.999999999996},null,{"$f":"IFERROR(D14*FINANZAS!$G12,0)","v":10000},{"$f":"IFERROR(E14*FINANZAS!$G12,0)","v":12500},{"$f":"IFERROR(F14*FINANZAS!$G12,0)","v":10000},{"$f":"IFERROR(G14*FINANZAS!$G12,0)","v":12500},{"$f":"IFERROR(H14*FINANZAS!$G12,0)","v":15000},{"$f":"IFERROR(I14*FINANZAS!$G12,0)","v":17500},{"$f":"IFERROR(J14*FINANZAS!$G12,0)","v":10000},{"$f":"IFERROR(K14*FINANZAS!$G12,0)","v":12500},{"$f":"IFERROR(L14*FINANZAS!$G12,0)","v":12500},{"$f":"IFERROR(M14*FINANZAS!$G12,0)","v":12500},{"$f":"IFERROR(N14*FINANZAS!$G12,0)","v":10000},{"$f":"IFERROR(O14*FINANZAS!$G12,0)","v":17500},null,{"$f":"S14*FINANZAS!$J12","v":0},{"$f":"T14*FINANZAS!$J12","v":0},{"$f":"U14*FINANZAS!$J12","v":0},{"$f":"V14*FINANZAS!$J12","v":0},{"$f":"W14*FINANZAS!$J12","v":0},{"$f":"X14*FINANZAS!$J12","v":0},{"$f":"Y14*FINANZAS!$J12","v":0},{"$f":"Z14*FINANZAS!$J12","v":0},{"$f":"AA14*FINANZAS!$J12","v":0},{"$f":"AB14*FINANZAS!$J12","v":0},{"$f":"AC14*FINANZAS!$J12","v":0},{"$f":"AD14*FINANZAS!$J12","v":0},null,{"$f":"IFERROR(D14*FINANZAS!$N12,0)","v":1499.9999999999986},{"$f":"IFERROR(E14*FINANZAS!$N12,0)","v":1874.9999999999982},{"$f":"IFERROR(F14*FINANZAS!$N12,0)","v":1499.9999999999986},{"$f":"IFERROR(G14*FINANZAS!$N12,0)","v":1874.9999999999982},{"$f":"IFERROR(H14*FINANZAS!$N12,0)","v":2249.9999999999977},{"$f":"IFERROR(I14*FINANZAS!$N12,0)","v":2624.9999999999977},{"$f":"IFERROR(J14*FINANZAS!$N12,0)","v":1499.9999999999986},{"$f":"IFERROR(K14*FINANZAS!$N12,0)","v":1874.9999999999982},{"$f":"IFERROR(L14*FINANZAS!$N12,0)","v":1874.9999999999982},{"$f":"IFERROR(M14*FINANZAS!$N12,0)","v":1874.9999999999982},{"$f":"IFERROR(N14*FINANZAS!$N12,0)","v":1499.9999999999986},{"$f":"IFERROR(O14*FINANZAS!$N12,0)","v":2624.9999999999977}]
[null,null,{"$f":"IF(FINANZAS!C13=\"\",\"\",FINANZAS!C13)","v":6},null,null,null,null,null,null,null,null,null,null,null,null,0,null,6,{"$f":"IFERROR(D15*FINANZAS!$K13,0)","v":0},{"$f":"IFERROR(E15*FINANZAS!$K13,0)","v":0},{"$f":"IFERROR(F15*FINANZAS!$K13,0)","v":0},{"$f":"IFERROR(G15*FINANZAS!$K13,0)","v":0},{"$f":"IFERROR(H15*FINANZAS!$K13,0)","v":0},{"$f":"IFERROR(I15*FINANZAS!$K13,0)","v":0},{"$f":"IFERROR(J15*FINANZAS!$K13,0)","v":0},{"$f":"IFERROR(K15*FINANZAS!$K13,0)","v":0},{"$f":"IFERROR(L15*FINANZAS!$K13,0)","v":0},{"$f":"IFERROR(M15*FINANZAS!$K13,0)","v":0},{"$f":"IFERROR(N15*FINANZAS!$K13,0)","v":0},{"$f":"IFERROR(O15*FINANZAS!$K13,0)","v":0},null,{"$f":"IFERROR(D15*FINANZAS!$G13,0)","v":0},{"$f":"IFERROR(E15*FINANZAS!$G13,0)","v":0},{"$f":"IFERROR(F15*FINANZAS!$G13,0)","v":0},{"$f":"IFERROR(G15*FINANZAS!$G13,0)","v":0},{"$f":"IFERROR(H15*FINANZAS!$G13,0)","v":0},{"$f":"IFERROR(I15*FINANZAS!$G13,0)","v":0},{"$f":"IFERROR(J15*FINANZAS!$G13,0)","v":0},{"$f":"IFERROR(K15*FINANZAS!$G13,0)","v":0},{"$f":"IFERROR(L15*FINANZAS!$G13,0)","v":0},{"$f":"IFERROR(M15*FINANZAS!$G13,0)","v":0},{"$f":"IFERROR(N15*FINANZAS!$G13,0)","v":0},{"$f":"IFERROR(O15*FINANZAS!$G13,0)","v":0},null,{"$f":"S15*FINANZAS!$J13","v":0},{"$f":"T15*FINANZAS!$J13","v":0},{"$f":"U15*FINANZAS!$J13","v":0},{"$f":"V15*FINANZAS!$J13","v":0},{"$f":"W15*FINANZAS!$J13","v":0},{"$f":"X15*FINANZAS!$J13","v":0},{"$f":"Y15*FINANZAS!$J13","v":0},{"$f":"Z15*FINANZAS!$J13","v":0},{"$f":"AA15*FINANZAS!$J13","v":0},{"$f":"AB15*FINANZAS!$J13","v":0},{"$f":"AC15*FINANZAS!$J13","v":0},{"$f":"AD15*FINANZAS!$J13","v":0},null,{"$f":"IFERROR(D15*FINANZAS!$N13,0)","v":0},{"$f":"IFERROR(E15*FINANZAS!$N13,0)","v":0},{"$f":"IFERROR(F15*FINANZAS!$N13,0)","v":0},{"$f":"IFERROR(G15*FINANZAS!$N13,0)","v":0},{"$f":"IFERROR(H15*FINANZAS!$N13,0)","v":0},{"$f":"IFERROR(I15*FINANZAS!$N13,0)","v":0},{"$f":"IFERROR(J15*FINANZAS!$N13,0)","v":0},{"$f":"IFERROR(K15*FINANZAS!$N13,0)","v":0},{"$f":"IFERROR(L15*FINANZAS!$N13,0)","v":0},{"$f":"IFERROR(M15*FINANZAS!$N13,0)","v":0},{"$f":"IFERROR(N15*FINANZAS!$N13,0)","v":0},{"$f":"IFERROR(O15*FINANZAS!$N13,0)","v":0}]
[null,null,{"$f":"IF(FINANZAS!C14=\"\",\"\",FINANZAS!C14)","v":7},null,null,null,null,null,null,null,null,null,null,null,null,0,null,7,{"$f":"IFERROR(D16*FINANZAS!$K14,0)","v":0},{"$f":"IFERROR(E16*FINANZAS!$K14,0)","v":0},{"$f":"IFERROR(F16*FINANZAS!$K14,0)","v":0},{"$f":"IFERROR(G16*FINANZAS!$K14,0)","v":0},{"$f":"IFERROR(H16*FINANZAS!$K14,0)","v":0},{"$f":"IFERROR(I16*FINANZAS!$K14,0)","v":0},{"$f":"IFERROR(J16*FINANZAS!$K14,0)","v":0},{"$f":"IFERROR(K16*FINANZAS!$K14,0)","v":0},{"$f":"IFERROR(L16*FINANZAS!$K14,0)","v":0},{"$f":"IFERROR(M16*FINANZAS!$K14,0)","v":0},{"$f":"IFERROR(N16*FINANZAS!$K14,0)","v":0},{"$f":"IFERROR(O16*FINANZAS!$K14,0)","v":0},null,{"$f":"IFERROR(D16*FINANZAS!$G14,0)","v":0},{"$f":"IFERROR(E16*FINANZAS!$G14,0)","v":0},{"$f":"IFERROR(F16*FINANZAS!$G14,0)","v":0},{"$f":"IFERROR(G16*FINANZAS!$G14,0)","v":0},{"$f":"IFERROR(H16*FINANZAS!$G14,0)","v":0},{"$f":"IFERROR(I16*FINANZAS!$G14,0)","v":0},{"$f":"IFERROR(J16*FINANZAS!$G14,0)","v":0},{"$f":"IFERROR(K16*FINANZAS!$G14,0)","v":0},{"$f":"IFERROR(L16*FINANZAS!$G14,0)","v":0},{"$f":"IFERROR(M16*FINANZAS!$G14,0)","v":0},{"$f":"IFERROR(N16*FINANZAS!$G14,0)","v":0},{"$f":"IFERROR(O16*FINANZAS!$G14,0)","v":0},null,{"$f":"S16*FINANZAS!$J14","v":0},{"$f":"T16*FINANZAS!$J14","v":0},{"$f":"U16*FINANZAS!$J14","v":0},{"$f":"V16*FINANZAS!$J14","v":0},{"$f":"W16*FINANZAS!$J14","v":0},{"$f":"X16*FINANZAS!$J14","v":0},{"$f":"Y16*FINANZAS!$J14","v":0},{"$f":"Z16*FINANZAS!$J14","v":0},{"$f":"AA16*FINANZAS!$J14","v":0},{"$f":"AB16*FINANZAS!$J14","v":0},{"$f":"AC16*FINANZAS!$J14","v":0},{"$f":"AD16*FINANZAS!$J14","v":0},null,{"$f":"IFERROR(D16*FINANZAS!$N14,0)","v":0},{"$f":"IFERROR(E16*FINANZAS!$N14,0)","v":0},{"$f":"IFERROR(F16*FINANZAS!$N14,0)","v":0},{"$f":"IFERROR(G16*FINANZAS!$N14,0)","v":0},{"$f":"IFERROR(H16*FINANZAS!$N14,0)","v":0},{"$f":"IFERROR(I16*FINANZAS!$N14,0)","v":0},{"$f":"IFERROR(J16*FINANZAS!$N14,0)","v":0},{"$f":"IFERROR(K16*FINANZAS!$N14,0)","v":0},{"$f":"IFERROR(L16*FINANZAS!$N14,0)","v":0},{"$f":"IFERROR(M16*FINANZAS!$N14,0)","v":0},{"$f":"IFERROR(N16*FINANZAS!$N14,0)","v":0},{"$f":"IFERROR(O16*FINANZAS!$N14,0)","v":0}]
[null,null,{"$f":"IF(FINANZAS!C15=\"\",\"\",FINANZAS!C15)","v":8},null,null,null,null,null,null,null,null,null,null,null,null,0,null,8,{"$f":"IFERROR(D17*FINANZAS!$K15,0)","v":0},{"$f":"IFERROR(E17*FINANZAS!$K15,0)","v":0},{"$f":"IFERROR(F17*FINANZAS!$K15,0)","v":0},{"$f":"IFERROR(G17*FINANZAS!$K15,0)","v":0},{"$f":"IFERROR(H17*FINANZAS!$K15,0)","v":0},{"$f":"IFERROR(I17*FINANZAS!$K15,0)","v":0},{"$f":"IFERROR(J17*FINANZAS!$K15,0)","v":0},{"$f":"IFERROR(K17*FINANZAS!$K15,0)","v":0},{"$f":"IFERROR(L17*FINANZAS!$K15,0)","v":0},{"$f":"IFERROR(M17*FINANZAS!$K15,0)","v":0},{"$f":"IFERROR(N17*FINANZAS!$K15,0)","v":0},{"$f":"IFERROR(O17*FINANZAS!$K15,0)","v":0},null,{"$f":"IFERROR(D17*FINANZAS!$G15,0)","v":0},{"$f":"IFERROR(E17*FINANZAS!$G15,0)","v":0},{"$f":"IFERROR(F17*FINANZAS!$G15,0)","v":0},{"$f":"IFERROR(G17*FINANZAS!$G15,0)","v":0},{"$f":"IFERROR(H17*FINANZAS!$G15,0)","v":0},{"$f":"IFERROR(I17*FINANZAS!$G15,0)","v":0},{"$f":"IFERROR(J17*FINANZAS!$G15,0)","v":0},{"$f":"IFERROR(K17*FINANZAS!$G15,0)","v":0},{"$f":"IFERROR(L17*FINANZAS!$G15,0)","v":0},{"$f":"IFERROR(M17*FINANZAS!$G15,0)","v":0},{"$f":"IFERROR(N17*FINANZAS!$G15,0)","v":0},{"$f":"IFERROR(O17*FINANZAS!$G15,0)","v":0},null,{"$f":"S17*FINANZAS!$J15","v":0},{"$f":"T17*FINANZAS!$J15","v":0},{"$f":"U17*FINANZAS!$J15","v":0},{"$f":"V17*FINANZAS!$J15","v":0},{"$f":"W17*FINANZAS!$J15","v":0},{"$f":"X17*FINANZAS!$J15","v":0},{"$f":"Y17*FINANZAS!$J15","v":0},{"$f":"Z17*FINANZAS!$J15","v":0},{"$f":"AA17*FINANZAS!$J15","v":0},{"$f":"AB17*FINANZAS!$J15","v":0},{"$f":"AC17*FINANZAS!$J15","v":0},{"$f":"AD17*FINANZAS!$J15","v":0},null,{"$f":"IFERROR(D17*FINANZAS!$N15,0)","v":0},{"$f":"IFERROR(E17*FINANZAS!$N15,0)","v":0},{"$f":"IFERROR(F17*FINANZAS!$N15,0)","v":0},{"$f":"IFERROR(G17*FINANZAS!$N15,0)","v":0},{"$f":"IFERROR(H17*FINANZAS!$N15,0)","v":0},{"$f":"IFERROR(I17*FINANZAS!$N15,0)","v":0},{"$f":"IFERROR(J17*FINANZAS!$N15,0)","v":0},{"$f":"IFERROR(K17*FINANZAS!$N15,0)","v":0},{"$f":"IFERROR(L17*FINANZAS!$N15,0)","v":0},{"$f":"IFERROR(M17*FINANZAS!$N15,0)","v":0},{"$f":"IFERROR(N17*FINANZAS!$N15,0)","v":0},{"$f":"IFERROR(O17*FINANZAS!$N15,0)","v":0}]
[null,null,{"$f":"IF(FINANZAS!C16=\"\",\"\",FINANZAS!C16)","v":""},null,null,null,null,null,null,null,null,null,null,null,null,0,null,"",{"$f":"IFERROR(D18*FINANZAS!$K16,0)","v":0},{"$f":"IFERROR(E18*FINANZAS!$K16,0)","v":0},{"$f":"IFERROR(F18*FINANZAS!$K16,0)","v":0},{"$f":"IFERROR(G18*FINANZAS!$K16,0)","v":0},{"$f":"IFERROR(H18*FINANZAS!$K16,0)","v":0},{"$f":"IFERROR(I18*FINANZAS!$K16,0)","v":0},{"$f":"IFERROR(J18*FINANZAS!$K16,0)","v":0},{"$f":"IFERROR(K18*FINANZAS!$K16,0)","v":0},{"$f":"IFERROR(L18*FINANZAS!$K16,0)","v":0},{"$f":"IFERROR(M18*FINANZAS!$K16,0)","v":0},{"$f":"IFERROR(N18*FINANZAS!$K16,0)","v":0},{"$f":"IFERROR(O18*FINANZAS!$K16,0)","v":0},null,{"$f":"IFERROR(D18*FINANZAS!$G16,0)","v":0},{"$f":"IFERROR(E18*FINANZAS!$G16,0)","v":0},{"$f":"IFERROR(F18*FINANZAS!$G16,0)","v":0},{"$f":"IFERROR(G18*FINANZAS!$G16,0)","v":0},{"$f":"IFERROR(H18*FINANZAS!$G16,0)","v":0},{"$f":"IFERROR(I18*FINANZAS!$G16,0)","v":0},{"$f":"IFERROR(J18*FINANZAS!$G16,0)","v":0},{"$f":"IFERROR(K18*FINANZAS!$G16,0)","v":0},{"$f":"IFERROR(L18*FINANZAS!$G16,0)","v":0},{"$f":"IFERROR(M18*FINANZAS!$G16,0)","v":0},{"$f":"IFERROR(N18*FINANZAS!$G16,0)","v":0},{"$f":"IFERROR(O18*FINANZAS!$G16,0)","v":0},null,{"$f":"S18*FINANZAS!$J16","v":0},{"$f":"T18*FINANZAS!$J16","v":0},{"$f":"U18*FINANZAS!$J16","v":0},{"$f":"V18*FINANZAS!$J16","v":0},{"$f":"W18*FINANZAS!$J16","v":0},{"$f":"X18*FINANZAS!$J16","v":0},{"$f":"Y18*FINANZAS!$J16","v":0},{"$f":"Z18*FINANZAS!$J16","v":0},{"$f":"AA18*FINANZAS!$J16","v":0},{"$f":"AB18*FINANZAS!$J16","v":0},{"$f":"AC18*FINANZAS!$J16","v":0},{"$f":"AD18*FINANZAS!$J16","v":0},null,{"$f":"IFERROR(D18*FINANZAS!$N16,0)","v":0},{"$f":"IFERROR(E18*FINANZAS!$N16,0)","v":0},{"$f":"IFERROR(F18*FINANZAS!$N16,0)","v":0},{"$f":"IFERROR(G18*FINANZAS!$N16,0)","v":0},{"$f":"IFERROR(H18*FINANZAS!$N16,0)","v":0},{"$f":"IFERROR(I18*FINANZAS!$N16,0)","v":0},{"$f":"IFERROR(J18*FINANZAS!$N16,0)","v":0},{"$f":"IFERROR(K18*FINANZAS!$N16,0)","v":0},{"$f":"IFERROR(L18*FINANZAS!$N16,0)","v":0},{"$f":"IFERROR(M18*FINANZAS!$N16,0)","v":0},{"$f":"IFERROR(N18*FINANZAS!$N16,0)","v":0},{"$f":"IFERROR(O18*FINANZAS!$N16,0)","v":0}]
[null,null,{"$f":"IF(FINANZAS!C17=\"\",\"\",FINANZAS!C17)","v":""},null,null,null,null,null,null,null,null,null,null,null,null,0,null,"",{"$f":"IFERROR(D19*FINANZAS!$K17,0)","v":0},{"$f":"IFERROR(E19*FINANZAS!$K17,0)","v":0},{"$f":"IFERROR(F19*FINANZAS!$K17,0)","v":0},{"$f":"IFERROR(G19*FINANZAS!$K17,0)","v":0},{"$f":"IFERROR(H19*FINANZAS!$K17,0)","v":0},{"$f":"IFERROR(I19*FINANZAS!$K17,0)","v":0},{"$f":"IFERROR(J19*FINANZAS!$K17,0)","v":0},{"$f":"IFERROR(K19*FINANZAS!$K17,0)","v":0},{"$f":"IFERROR(L19*FINANZAS!$K17,0)","v":0},{"$f":"IFERROR(M19*FINANZAS!$K17,0)","v":0},{"$f":"IFERROR(N19*FINANZAS!$K17,0)","v":0},{"$f":"IFERROR(O19*FINANZAS!$K17,0)","v":0},null,{"$f":"IFERROR(D19*FINANZAS!$G17,0)","v":0},{"$f":"IFERROR(E19*FINANZAS!$G17,0)","v":0},{"$f":"IFERROR(F19*FINANZAS!$G17,0)","v":0},{"$f":"IFERROR(G19*FINANZAS!$G17,0)","v":0},{"$f":"IFERROR(H19*FINANZAS!$G17,0)","v":0},{"$f":"IFERROR(I19*FINANZAS!$G17,0)","v":0},{"$f":"IFERROR(J19*FINANZAS!$G17,0)","v":0},{"$f":"IFERROR(K19*FINANZAS!$G17,0)","v":0},{"$f":"IFERROR(L19*FINANZAS!$G17,0)","v":0},{"$f":"IFERROR(M19*FINANZAS!$G17,0)","v":0},{"$f":"IFERROR(N19*FINANZAS!$G17,0)","v":0},{"$f":"IFERROR(O19*FINANZAS!$G17,0)","v":0},null,{"$f":"S19*FINANZAS!$J17","v":0},{"$f":"T19*FINANZAS!$J17","v":0},{"$f":"U19*FINANZAS!$J17","v":0},{"$f":"V19*FINANZAS!$J17","v":0},{"$f":"W19*FINANZAS!$J17","v":0},{"$f":"X19*FINANZAS!$J17","v":0},{"$f":"Y19*FINANZAS!$J17","v":0},{"$f":"Z19*FINANZAS!$J17","v":0},{"$f":"AA19*FINANZAS!$J17","v":0},{"$f":"AB19*FINANZAS!$J17","v":0},{"$f":"AC19*FINANZAS!$J17","v":0},{"$f":"AD19*FINANZAS!$J17","v":0},null,{"$f":"IFERROR(D19*FINANZAS!$N17,0)","v":0},{"$f":"IFERROR(E19*FINANZAS!$N17,0)","v":0},{"$f":"IFERROR(F19*FINANZAS!$N17,0)","v":0},{"$f":"IFERROR(G19*FINANZAS!$N17,0)","v":0},{"$f":"IFERROR(H19*FINANZAS!$N17,0)","v":0},{"$f":"IFERROR(I19*FINANZAS!$N17,0)","v":0},{"$f":"IFERROR(J19*FINANZAS!$N17,0)","v":0},{"$f":"IFERROR(K19*FINANZAS!$N17,0)","v":0},{"$f":"IFERROR(L19*FINANZAS!$N17,0)","v":0},{"$f":"IFERROR(M19*FINANZAS!$N17,0)","v":0},{"$f":"IFERROR(N19*FINANZAS!$N17,0)","v":0},{"$f":"IFERROR(O19*FINANZAS!$N17,0)","v":0}]
[null,null,{"$f":"IF(FINANZAS!C18=\"\",\"\",FINANZAS!C18)","v":""},null,null,null,null,null,null,null,null,null,null,null,null,0,null,"",{"$f":"IFERROR(D20*FINANZAS!$K18,0)","v":0},{"$f":"IFERROR(E20*FINANZAS!$K18,0)","v":0},{"$f":"IFERROR(F20*FINANZAS!$K18,0)","v":0},{"$f":"IFERROR(G20*FINANZAS!$K18,0)","v":0},{"$f":"IFERROR(H20*FINANZAS!$K18,0)","v":0},{"$f":"IFERROR(I20*FINANZAS!$K18,0)","v":0},{"$f":"IFERROR(J20*FINANZAS!$K18,0)","v":0},{"$f":"IFERROR(K20*FINANZAS!$K18,0)","v":0},{"$f":"IFERROR(L20*FINANZAS!$K18,0)","v":0},{"$f":"IFERROR(M20*FINANZAS!$K18,0)","v":0},{"$f":"IFERROR(N20*FINANZAS!$K18,0)","v":0},{"$f":"IFERROR(O20*FINANZAS!$K18,0)","v":0},null,{"$f":"IFERROR(D20*FINANZAS!$G18,0)","v":0},{"$f":"IFERROR(E20*FINANZAS!$G18,0)","v":0},{"$f":"IFERROR(F20*FINANZAS!$G18,0)","v":0},{"$f":"IFERROR(G20*FINANZAS!$G18,0)","v":0},{"$f":"IFERROR(H20*FINANZAS!$G18,0)","v":0},{"$f":"IFERROR(I20*FINANZAS!$G18,0)","v":0},{"$f":"IFERROR(J20*FINANZAS!$G18,0)","v":0},{"$f":"IFERROR(K20*FINANZAS!$G18,0)","v":0},{"$f":"IFERROR(L20*FINANZAS!$G18,0)","v":0},{"$f":"IFERROR(M20*FINANZAS!$G18,0)","v":0},{"$f":"IFERROR(N20*FINANZAS!$G18,0)","v":0},{"$f":"IFERROR(O20*FINANZAS!$G18,0)","v":0},null,{"$f":"S20*FINANZAS!$J18","v":0},{"$f":"T20*FINANZAS!$J18","v":0},{"$f":"U20*FINANZAS!$J18","v":0},{"$f":"V20*FINANZAS!$J18","v":0},{"$f":"W20*FINANZAS!$J18","v":0},{"$f":"X20*FINANZAS!$J18","v":0},{"$f":"Y20*FINANZAS!$J18","v":0},{"$f":"Z20*FINANZAS!$J18","v":0},{"$f":"AA20*FINANZAS!$J18","v":0},{"$f":"AB20*FINANZAS!$J18","v":0},{"$f":"AC20*FINANZAS!$J18","v":0},{"$f":"AD20*FINANZAS!$J18","v":0},null,{"$f":"IFERROR(D20*FINANZAS!$N18,0)","v":0},{"$f":"IFERROR(E20*FINANZAS!$N18,0)","v":0},{"$f":"IFERROR(F20*FINANZAS!$N18,0)","v":0},{"$f":"IFERROR(G20*FINANZAS!$N18,0)","v":0},{"$f":"IFERROR(H20*FINANZAS!$N18,0)","v":0},{"$f":"IFERROR(I20*FINANZAS!$N18,0)","v":0},{"$f":"IFERROR(J20*FINANZAS!$N18,0)","v":0},{"$f":"IFERROR(K20*FINANZAS!$N18,0)","v":0},{"$f":"IFERROR(L20*FINANZAS!$N18,0)","v":0},{"$f":"IFERROR(M20*FINANZAS!$N18,0)","v":0},{"$f":"IFERROR(N20*FINANZAS!$N18,0)","v":0},{"$f":"IFERROR(O20*FINANZAS!$N18,0)","v":0}]
[null,null,{"$f":"IF(FINANZAS!C19=\"\",\"\",FINANZAS!C19)","v":""},null,null,null,null,null,null,null,null,null,null,null,null,0,null,"",{"$f":"IFERROR(D21*FINANZAS!$K19,0)","v":0},{"$f":"IFERROR(E21*FINANZAS!$K19,0)","v":0},{"$f":"IFERROR(F21*FINANZAS!$K19,0)","v":0},{"$f":"IFERROR(G21*FINANZAS!$K19,0)","v":0},{"$f":"IFERROR(H21*FINANZAS!$K19,0)","v":0},{"$f":"IFERROR(I21*FINANZAS!$K19,0)","v":0},{"$f":"IFERROR(J21*FINANZAS!$K19,0)","v":0},{"$f":"IFERROR(K21*FINANZAS!$K19,0)","v":0},{"$f":"IFERROR(L21*FINANZAS!$K19,0)","v":0},{"$f":"IFERROR(M21*FINANZAS!$K19,0)","v":0},{"$f":"IFERROR(N21*FINANZAS!$K19,0)","v":0},{"$f":"IFERROR(O21*FINANZAS!$K19,0)","v":0},null,{"$f":"IFERROR(D21*FINANZAS!$G19,0)","v":0},{"$f":"IFERROR(E21*FINANZAS!$G19,0)","v":0},{"$f":"IFERROR(F21*FINANZAS!$G19,0)","v":0},{"$f":"IFERROR(G21*FINANZAS!$G19,0)","v":0},{"$f":"IFERROR(H21*FINANZAS!$G19,0)","v":0},{"$f":"IFERROR(I21*FINANZAS!$G19,0)","v":0},{"$f":"IFERROR(J21*FINANZAS!$G19,0)","v":0},{"$f":"IFERROR(K21*FINANZAS!$G19,0)","v":0},{"$f":"IFERROR(L21*FINANZAS!$G19,0)","v":0},{"$f":"IFERROR(M21*FINANZAS!$G19,0)","v":0},{"$f":"IFERROR(N21*FINANZAS!$G19,0)","v":0},{"$f":"IFERROR(O21*FINANZAS!$G19,0)","v":0},null,{"$f":"S21*FINANZAS!$J19","v":0},{"$f":"T21*FINANZAS!$J19","v":0},{"$f":"U21*FINANZAS!$J19","v":0},{"$f":"V21*FINANZAS!$J19","v":0},{"$f":"W21*FINANZAS!$J19","v":0},{"$f":"X21*FINANZAS!$J19","v":0},{"$f":"Y21*FINANZAS!$J19","v":0},{"$f":"Z21*FINANZAS!$J19","v":0},{"$f":"AA21*FINANZAS!$J19","v":0},{"$f":"AB21*FINANZAS!$J19","v":0},{"$f":"AC21*FINANZAS!$J19","v":0},{"$f":"AD21*FINANZAS!$J19","v":0},null,{"$f":"IFERROR(D21*FINANZAS!$N19,0)","v":0},{"$f":"IFERROR(E21*FINANZAS!$N19,0)","v":0},{"$f":"IFERROR(F21*FINANZAS!$N19,0)","v":0},{"$f":"IFERROR(G21*FINANZAS!$N19,0)","v":0},{"$f":"IFERROR(H21*FINANZAS!$N19,0)","v":0},{"$f":"IFERROR(I21*FINANZAS!$N19,0)","v":0},{"$f":"IFERROR(J21*FINANZAS!$N19,0)","v":0},{"$f":"IFERROR(K21*FINANZAS!$N19,0)","v":0},{"$f":"IFERROR(L21*FINANZAS!$N19,0)","v":0},{"$f":"IFERROR(M21*FINANZAS!$N19,0)","v":0},{"$f":"IFERROR(N21*FINANZAS!$N19,0)","v":0},{"$f":"IFERROR(O21*FINANZAS!$N19,0)","v":0}]
[null,null,{"$f":"IF(FINANZAS!C20=\"\",\"\",FINANZAS!C20)","v":""},null,null,null,null,null,null,null,null,null,null,null,null,0,null,"",{"$f":"IFERROR(D22*FINANZAS!$K20,0)","v":0},{"$f":"IFERROR(E22*FINANZAS!$K20,0)","v":0},{"$f":"IFERROR(F22*FINANZAS!$K20,0)","v":0},{"$f":"IFERROR(G22*FINANZAS!$K20,0)","v":0},{"$f":"IFERROR(H22*FINANZAS!$K20,0)","v":0},{"$f":"IFERROR(I22*FINANZAS!$K20,0)","v":0},{"$f":"IFERROR(J22*FINANZAS!$K20,0)","v":0},{"$f":"IFERROR(K22*FINANZAS!$K20,0)","v":0},{"$f":"IFERROR(L22*FINANZAS!$K20,0)","v":0},{"$f":"IFERROR(M22*FINANZAS!$K20,0)","v":0},{"$f":"IFERROR(N22*FINANZAS!$K20,0)","v":0},{"$f":"IFERROR(O22*FINANZAS!$K20,0)","v":0},null,{"$f":"IFERROR(D22*FINANZAS!$G20,0)","v":0},{"$f":"IFERROR(E22*FINANZAS!$G20,0)","v":0},{"$f":"IFERROR(F22*FINANZAS!$G20,0)","v":0},{"$f":"IFERROR(G22*FINANZAS!$G20,0)","v":0},{"$f":"IFERROR(H22*FINANZAS!$G20,0)","v":0},{"$f":"IFERROR(I22*FINANZAS!$G20,0)","v":0},{"$f":"IFERROR(J22*FINANZAS!$G20,0)","v":0},{"$f":"IFERROR(K22*FINANZAS!$G20,0)","v":0},{"$f":"IFERROR(L22*FINANZAS!$G20,0)","v":0},{"$f":"IFERROR(M22*FINANZAS!$G20,0)","v":0},{"$f":"IFERROR(N22*FINANZAS!$G20,0)","v":0},{"$f":"IFERROR(O22*FINANZAS!$G20,0)","v":0},null,{"$f":"S22*FINANZAS!$J20","v":0},{"$f":"T22*FINANZAS!$J20","v":0},{"$f":"U22*FINANZAS!$J20","v":0},{"$f":"V22*FINANZAS!$J20","v":0},{"$f":"W22*FINANZAS!$J20","v":0},{"$f":"X22*FINANZAS!$J20","v":0},{"$f":"Y22*FINANZAS!$J20","v":0},{"$f":"Z22*FINANZAS!$J20","v":0},{"$f":"AA22*FINANZAS!$J20","v":0},{"$f":"AB22*FINANZAS!$J20","v":0},{"$f":"AC22*FINANZAS!$J20","v":0},{"$f":"AD22*FINANZAS!$J20","v":0},null,{"$f":"IFERROR(D22*FINANZAS!$N20,0)","v":0},{"$f":"IFERROR(E22*FINANZAS!$N20,0)","v":0},{"$f":"IFERROR(F22*FINANZAS!$N20,0)","v":0},{"$f":"IFERROR(G22*FINANZAS!$N20,0)","v":0},{"$f":"IFERROR(H22*FINANZAS!$N20,0)","v":0},{"$f":"IFERROR(I22*FINANZAS!$N20,0)","v":0},{"$f":"IFERROR(J22*FINANZAS!$N20,0)","v":0},{"$f":"IFERROR(K22*FINANZAS!$N20,0)","v":0},{"$f":"IFERROR(L22*FINANZAS!$N20,0)","v":0},{"$f":"IFERROR(M22*FINANZAS!$N20,0)","v":0},{"$f":"IFERROR(N22*FINANZAS!$N20,0)","v":0},{"$f":"IFERROR(O22*FINANZAS!$N20,0)","v":0}]
[null,null,{"$f":"IF(FINANZAS!C21=\"\",\"\",FINANZAS!C21)","v":""},null,null,null,null,null,null,null,null,null,null,null,null,0,null,"",{"$f":"IFERROR(D23*FINANZAS!$K21,0)","v":0},{"$f":"IFERROR(E23*FINANZAS!$K21,0)","v":0},{"$f":"IFERROR(F23*FINANZAS!$K21,0)","v":0},{"$f":"IFERROR(G23*FINANZAS!$K21,0)","v":0},{"$f":"IFERROR(H23*FINANZAS!$K21,0)","v":0},{"$f":"IFERROR(I23*FINANZAS!$K21,0)","v":0},{"$f":"IFERROR(J23*FINANZAS!$K21,0)","v":0},{"$f":"IFERROR(K23*FINANZAS!$K21,0)","v":0},{"$f":"IFERROR(L23*FINANZAS!$K21,0)","v":0},{"$f":"IFERROR(M23*FINANZAS!$K21,0)","v":0},{"$f":"IFERROR(N23*FINANZAS!$K21,0)","v":0},{"$f":"IFERROR(O23*FINANZAS!$K21,0)","v":0},null,{"$f":"IFERROR(D23*FINANZAS!$G21,0)","v":0},{"$f":"IFERROR(E23*FINANZAS!$G21,0)","v":0},{"$f":"IFERROR(F23*FINANZAS!$G21,0)","v":0},{"$f":"IFERROR(G23*FINANZAS!$G21,0)","v":0},{"$f":"IFERROR(H23*FINANZAS!$G21,0)","v":0},{"$f":"IFERROR(I23*FINANZAS!$G21,0)","v":0},{"$f":"IFERROR(J23*FINANZAS!$G21,0)","v":0},{"$f":"IFERROR(K23*FINANZAS!$G21,0)","v":0},{"$f":"IFERROR(L23*FINANZAS!$G21,0)","v":0},{"$f":"IFERROR(M23*FINANZAS!$G21,0)","v":0},{"$f":"IFERROR(N23*FINANZAS!$G21,0)","v":0},{"$f":"IFERROR(O23*FINANZAS!$G21,0)","v":0},null,{"$f":"S23*FINANZAS!$J21","v":0},{"$f":"T23*FINANZAS!$J21","v":0},{"$f":"U23*FINANZAS!$J21","v":0},{"$f":"V23*FINANZAS!$J21","v":0},{"$f":"W23*FINANZAS!$J21","v":0},{"$f":"X23*FINANZAS!$J21","v":0},{"$f":"Y23*FINANZAS!$J21","v":0},{"$f":"Z23*FINANZAS!$J21","v":0},{"$f":"AA23*FINANZAS!$J21","v":0},{"$f":"AB23*FINANZAS!$J21","v":0},{"$f":"AC23*FINANZAS!$J21","v":0},{"$f":"AD23*FINANZAS!$J21","v":0},null,{"$f":"IFERROR(D23*FINANZAS!$N21,0)","v":0},{"$f":"IFERROR(E23*FINANZAS!$N21,0)","v":0},{"$f":"IFERROR(F23*FINANZAS!$N21,0)","v":0},{"$f":"IFERROR(G23*FINANZAS!$N21,0)","v":0},{"$f":"IFERROR(H23*FINANZAS!$N21,0)","v":0},{"$f":"IFERROR(I23*FINANZAS!$N21,0)","v":0},{"$f":"IFERROR(J23*FINANZAS!$N21,0)","v":0},{"$f":"IFERROR(K23*FINANZAS!$N21,0)","v":0},{"$f":"IFERROR(L23*FINANZAS!$N21,0)","v":0},{"$f":"IFERROR(M23*FINANZAS!$N21,0)","v":0},{"$f":"IFERROR(N23*FINANZAS!$N21,0)","v":0},{"$f":"IFERROR(O23*FINANZAS!$N21,0)","v":0}]
[null,null,{"$f":"IF(FINANZAS!C22=\"\",\"\",FINANZAS!C22)","v":""},null,null,null,null,null,null,null,null,null,null,null,null,0,null,"",{"$f":"IFERROR(D24*FINANZAS!$K22,0)","v":0},{"$f":"IFERROR(E24*FINANZAS!$K22,0)","v":0},{"$f":"IFERROR(F24*FINANZAS!$K22,0)","v":0},{"$f":"IFERROR(G24*FINANZAS!$K22,0)","v":0},{"$f":"IFERROR(H24*FINANZAS!$K22,0)","v":0},{"$f":"IFERROR(I24*FINANZAS!$K22,0)","v":0},{"$f":"IFERROR(J24*FINANZAS!$K22,0)","v":0},{"$f":"IFERROR(K24*FINANZAS!$K22,0)","v":0},{"$f":"IFERROR(L24*FINANZAS!$K22,0)","v":0},{"$f":"IFERROR(M24*FINANZAS!$K22,0)","v":0},{"$f":"IFERROR(N24*FINANZAS!$K22,0)","v":0},{"$f":"IFERROR(O24*FINANZAS!$K22,0)","v":0},null,{"$f":"IFERROR(D24*FINANZAS!$G22,0)","v":0},{"$f":"IFERROR(E24*FINANZAS!$G22,0)","v":0},{"$f":"IFERROR(F24*FINANZAS!$G22,0)","v":0},{"$f":"IFERROR(G24*FINANZAS!$G22,0)","v":0},{"$f":"IFERROR(H24*FINANZAS!$G22,0)","v":0},{"$f":"IFERROR(I24*FINANZAS!$G22,0)","v":0},{"$f":"IFERROR(J24*FINANZAS!$G22,0)","v":0},{"$f":"IFERROR(K24*FINANZAS!$G22,0)","v":0},{"$f":"IFERROR(L24*FINANZAS!$G22,0)","v":0},{"$f":"IFERROR(M24*FINANZAS!$G22,0)","v":0},{"$f":"IFERROR(N24*FINANZAS!$G22,0)","v":0},{"$f":"IFERROR(O24*FINANZAS!$G22,0)","v":0},null,{"$f":"S24*FINANZAS!$J22","v":0},{"$f":"T24*FINANZAS!$J22","v":0},{"$f":"U24*FINANZAS!$J22","v":0},{"$f":"V24*FINANZAS!$J22","v":0},{"$f":"W24*FINANZAS!$J22","v":0},{"$f":"X24*FINANZAS!$J22","v":0},{"$f":"Y24*FINANZAS!$J22","v":0},{"$f":"Z24*FINANZAS!$J22","v":0},{"$f":"AA24*FINANZAS!$J22","v":0},{"$f":"AB24*FINANZAS!$J22","v":0},{"$f":"AC24*FINANZAS!$J22","v":0},{"$f":"AD24*FINANZAS!$J22","v":0},null,{"$f":"IFERROR(D24*FINANZAS!$N22,0)","v":0},{"$f":"IFERROR(E24*FINANZAS!$N22,0)","v":0},{"$f":"IFERROR(F24*FINANZAS!$N22,0)","v":0},{"$f":"IFERROR(G24*FINANZAS!$N22,0)","v":0},{"$f":"IFERROR(H24*FINANZAS!$N22,0)","v":0},{"$f":"IFERROR(I24*FINANZAS!$N22,0)","v":0},{"$f":"IFERROR(J24*FINANZAS!$N22,0)","v":0},{"$f":"IFERROR(K24*FINANZAS!$N22,0)","v":0},{"$f":"IFERROR(L24*FINANZAS!$N22,0)","v":0},{"$f":"IFERROR(M24*FINANZAS!$N22,0)","v":0},{"$f":"IFERROR(N24*FINANZAS!$N22,0)","v":0},{"$f":"IFERROR(O24*FINANZAS!$N22,0)","v":0}]
[null,null,{"$f":"IF(FINANZAS!C23=\"\",\"\",FINANZAS!C23)","v":""},null,null,null,null,null,null,null,null,null,null,null,null,0,null,"",{"$f":"IFERROR(D25*FINANZAS!$K23,0)","v":0},{"$f":"IFERROR(E25*FINANZAS!$K23,0)","v":0},{"$f":"IFERROR(F25*FINANZAS!$K23,0)","v":0},{"$f":"IFERROR(G25*FINANZAS!$K23,0)","v":0},{"$f":"IFERROR(H25*FINANZAS!$K23,0)","v":0},{"$f":"IFERROR(I25*FINANZAS!$K23,0)","v":0},{"$f":"IFERROR(J25*FINANZAS!$K23,0)","v":0},{"$f":"IFERROR(K25*FINANZAS!$K23,0)","v":0},{"$f":"IFERROR(L25*FINANZAS!$K23,0)","v":0},{"$f":"IFERROR(M25*FINANZAS!$K23,0)","v":0},{"$f":"IFERROR(N25*FINANZAS!$K23,0)","v":0},{"$f":"IFERROR(O25*FINANZAS!$K23,0)","v":0},null,{"$f":"IFERROR(D25*FINANZAS!$G23,0)","v":0},{"$f":"IFERROR(E25*FINANZAS!$G23,0)","v":0},{"$f":"IFERROR(F25*FINANZAS!$G23,0)","v":0},{"$f":"IFERROR(G25*FINANZAS!$G23,0)","v":0},{"$f":"IFERROR(H25*FINANZAS!$G23,0)","v":0},{"$f":"IFERROR(I25*FINANZAS!$G23,0)","v":0},{"$f":"IFERROR(J25*FINANZAS!$G23,0)","v":0},{"$f":"IFERROR(K25*FINANZAS!$G23,0)","v":0},{"$f":"IFERROR(L25*FINANZAS!$G23,0)","v":0},{"$f":"IFERROR(M25*FINANZAS!$G23,0)","v":0},{"$f":"IFERROR(N25*FINANZAS!$G23,0)","v":0},{"$f":"IFERROR(O25*FINANZAS!$G23,0)","v":0},null,{"$f":"S25*FINANZAS!$J23","v":0},{"$f":"T25*FINANZAS!$J23","v":0},{"$f":"U25*FINANZAS!$J23","v":0},{"$f":"V25*FINANZAS!$J23","v":0},{"$f":"W25*FINANZAS!$J23","v":0},{"$f":"X25*FINANZAS!$J23","v":0},{"$f":"Y25*FINANZAS!$J23","v":0},{"$f":"Z25*FINANZAS!$J23","v":0},{"$f":"AA25*FINANZAS!$J23","v":0},{"$f":"AB25*FINANZAS!$J23","v":0},{"$f":"AC25*FINANZAS!$J23","v":0},{"$f":"AD25*FINANZAS!$J23","v":0},null,{"$f":"IFERROR(D25*FINANZAS!$N23,0)","v":0},{"$f":"IFERROR(E25*FINANZAS!$N23,0)","v":0},{"$f":"IFERROR(F25*FINANZAS!$N23,0)","v":0},{"$f":"IFERROR(G25*FINANZAS!$N23,0)","v":0},{"$f":"IFERROR(H25*FINANZAS!$N23,0)","v":0},{"$f":"IFERROR(I25*FINANZAS!$N23,0)","v":0},{"$f":"IFERROR(J25*FINANZAS!$N23,0)","v":0},{"$f":"IFERROR(K25*FINANZAS!$N23,0)","v":0},{"$f":"IFERROR(L25*FINANZAS!$N23,0)","v":0},{"$f":"IFERROR(M25*FINANZAS!$N23,0)","v":0},{"$f":"IFERROR(N25*FINANZAS!$N23,0)","v":0},{"$f":"IFERROR(O25*FINANZAS!$N23,0)","v":0}]
[null,null,{"$f":"IF(FINANZAS!C24=\"\",\"\",FINANZAS!C24)","v":""},null,null,null,null,null,null,null,null,null,null,null,null,0,null,"",{"$f":"IFERROR(D26*FINANZAS!$K24,0)","v":0},{"$f":"IFERROR(E26*FINANZAS!$K24,0)","v":0},{"$f":"IFERROR(F26*FINANZAS!$K24,0)","v":0},{"$f":"IFERROR(G26*FINANZAS!$K24,0)","v":0},{"$f":"IFERROR(H26*FINANZAS!$K24,0)","v":0},{"$f":"IFERROR(I26*FINANZAS!$K24,0)","v":0},{"$f":"IFERROR(J26*FINANZAS!$K24,0)","v":0},{"$f":"IFERROR(K26*FINANZAS!$K24,0)","v":0},{"$f":"IFERROR(L26*FINANZAS!$K24,0)","v":0},{"$f":"IFERROR(M26*FINANZAS!$K24,0)","v":0},{"$f":"IFERROR(N26*FINANZAS!$K24,0)","v":0},{"$f":"IFERROR(O26*FINANZAS!$K24,0)","v":0},null,{"$f":"IFERROR(D26*FINANZAS!$G24,0)","v":0},{"$f":"IFERROR(E26*FINANZAS!$G24,0)","v":0},{"$f":"IFERROR(F26*FINANZAS!$G24,0)","v":0},{"$f":"IFERROR(G26*FINANZAS!$G24,0)","v":0},{"$f":"IFERROR(H26*FINANZAS!$G24,0)","v":0},{"$f":"IFERROR(I26*FINANZAS!$G24,0)","v":0},{"$f":"IFERROR(J26*FINANZAS!$G24,0)","v":0},{"$f":"IFERROR(K26*FINANZAS!$G24,0)","v":0},{"$f":"IFERROR(L26*FINANZAS!$G24,0)","v":0},{"$f":"IFERROR(M26*FINANZAS!$G24,0)","v":0},{"$f":"IFERROR(N26*FINANZAS!$G24,0)","v":0},{"$f":"IFERROR(O26*FINANZAS!$G24,0)","v":0},null,{"$f":"S26*FINANZAS!$J24","v":0},{"$f":"T26*FINANZAS!$J24","v":0},{"$f":"U26*FINANZAS!$J24","v":0},{"$f":"V26*FINANZAS!$J24","v":0},{"$f":"W26*FINANZAS!$J24","v":0},{"$f":"X26*FINANZAS!$J24","v":0},{"$f":"Y26*FINANZAS!$J24","v":0},{"$f":"Z26*FINANZAS!$J24","v":0},{"$f":"AA26*FINANZAS!$J24","v":0},{"$f":"AB26*FINANZAS!$J24","v":0},{"$f":"AC26*FINANZAS!$J24","v":0},{"$f":"AD26*FINANZAS!$J24","v":0},null,{"$f":"IFERROR(D26*FINANZAS!$N24,0)","v":0},{"$f":"IFERROR(E26*FINANZAS!$N24,0)","v":0},{"$f":"IFERROR(F26*FINANZAS!$N24,0)","v":0},{"$f":"IFERROR(G26*FINANZAS!$N24,0)","v":0},{"$f":"IFERROR(H26*FINANZAS!$N24,0)","v":0},{"$f":"IFERROR(I26*FINANZAS!$N24,0)","v":0},{"$f":"IFERROR(J26*FINANZAS!$N24,0)","v":0},{"$f":"IFERROR(K26*FINANZAS!$N24,0)","v":0},{"$f":"IFERROR(L26*FINANZAS!$N24,0)","v":0},{"$f":"IFERROR(M26*FINANZAS!$N24,0)","v":0},{"$f":"IFERROR(N26*FINANZAS!$N24,0)","v":0},{"$f":"IFERROR(O26*FINANZAS!$N24,0)","v":0}]
[null,null,{"$f":"IF(FINANZAS!C25=\"\",\"\",FINANZAS!C25)","v":""},null,null,null,null,null,null,null,null,null,null,null,null,0,null,"",{"$f":"IFERROR(D27*FINANZAS!$K25,0)","v":0},{"$f":"IFERROR(E27*FINANZAS!$K25,0)","v":0},{"$f":"IFERROR(F27*FINANZAS!$K25,0)","v":0},{"$f":"IFERROR(G27*FINANZAS!$K25,0)","v":0},{"$f":"IFERROR(H27*FINANZAS!$K25,0)","v":0},{"$f":"IFERROR(I27*FINANZAS!$K25,0)","v":0},{"$f":"IFERROR(J27*FINANZAS!$K25,0)","v":0},{"$f":"IFERROR(K27*FINANZAS!$K25,0)","v":0},{"$f":"IFERROR(L27*FINANZAS!$K25,0)","v":0},{"$f":"IFERROR(M27*FINANZAS!$K25,0)","v":0},{"$f":"IFERROR(N27*FINANZAS!$K25,0)","v":0},{"$f":"IFERROR(O27*FINANZAS!$K25,0)","v":0},null,{"$f":"IFERROR(D27*FINANZAS!$G25,0)","v":0},{"$f":"IFERROR(E27*FINANZAS!$G25,0)","v":0},{"$f":"IFERROR(F27*FINANZAS!$G25,0)","v":0},{"$f":"IFERROR(G27*FINANZAS!$G25,0)","v":0},{"$f":"IFERROR(H27*FINANZAS!$G25,0)","v":0},{"$f":"IFERROR(I27*FINANZAS!$G25,0)","v":0},{"$f":"IFERROR(J27*FINANZAS!$G25,0)","v":0},{"$f":"IFERROR(K27*FINANZAS!$G25,0)","v":0},{"$f":"IFERROR(L27*FINANZAS!$G25,0)","v":0},{"$f":"IFERROR(M27*FINANZAS!$G25,0)","v":0},{"$f":"IFERROR(N27*FINANZAS!$G25,0)","v":0},{"$f":"IFERROR(O27*FINANZAS!$G25,0)","v":0},null,{"$f":"S27*FINANZAS!$J25","v":0},{"$f":"T27*FINANZAS!$J25","v":0},{"$f":"U27*FINANZAS!$J25","v":0},{"$f":"V27*FINANZAS!$J25","v":0},{"$f":"W27*FINANZAS!$J25","v":0},{"$f":"X27*FINANZAS!$J25","v":0},{"$f":"Y27*FINANZAS!$J25","v":0},{"$f":"Z27*FINANZAS!$J25","v":0},{"$f":"AA27*FINANZAS!$J25","v":0},{"$f":"AB27*FINANZAS!$J25","v":0},{"$f":"AC27*FINANZAS!$J25","v":0},{"$f":"AD27*FINANZAS!$J25","v":0},null,{"$f":"IFERROR(D27*FINANZAS!$N25,0)","v":0},{"$f":"IFERROR(E27*FINANZAS!$N25,0)","v":0},{"$f":"IFERROR(F27*FINANZAS!$N25,0)","v":0},{"$f":"IFERROR(G27*FINANZAS!$N25,0)","v":0},{"$f":"IFERROR(H27*FINANZAS!$N25,0)","v":0},{"$f":"IFERROR(I27*FINANZAS!$N25,0)","v":0},{"$f":"IFERROR(J27*FINANZAS!$N25,0)","v":0},{"$f":"IFERROR(K27*FINANZAS!$N25,0)","v":0},{"$f":"IFERROR(L27*FINANZAS!$N25,0)","v":0},{"$f":"IFERROR(M27*FINANZAS!$N25,0)","v":0},{"$f":"IFERROR(N27*FINANZAS!$N25,0)","v":0},{"$f":"IFERROR(O27*FINANZAS!$N25,0)","v":0}]
[null,null,{"$f":"IF(FINANZAS!C26=\"\",\"\",FINANZAS!C26)","v":""},null,null,null,null,null,null,null,null,null,null,null,null,0,null,"",{"$f":"IFERROR(D28*FINANZAS!$K26,0)","v":0},{"$f":"IFERROR(E28*FINANZAS!$K26,0)","v":0},{"$f":"IFERROR(F28*FINANZAS!$K26,0)","v":0},{"$f":"IFERROR(G28*FINANZAS!$K26,0)","v":0},{"$f":"IFERROR(H28*FINANZAS!$K26,0)","v":0},{"$f":"IFERROR(I28*FINANZAS!$K26,0)","v":0},{"$f":"IFERROR(J28*FINANZAS!$K26,0)","v":0},{"$f":"IFERROR(K28*FINANZAS!$K26,0)","v":0},{"$f":"IFERROR(L28*FINANZAS!$K26,0)","v":0},{"$f":"IFERROR(M28*FINANZAS!$K26,0)","v":0},{"$f":"IFERROR(N28*FINANZAS!$K26,0)","v":0},{"$f":"IFERROR(O28*FINANZAS!$K26,0)","v":0},null,{"$f":"IFERROR(D28*FINANZAS!$G26,0)","v":0},{"$f":"IFERROR(E28*FINANZAS!$G26,0)","v":0},{"$f":"IFERROR(F28*FINANZAS!$G26,0)","v":0},{"$f":"IFERROR(G28*FINANZAS!$G26,0)","v":0},{"$f":"IFERROR(H28*FINANZAS!$G26,0)","v":0},{"$f":"IFERROR(I28*FINANZAS!$G26,0)","v":0},{"$f":"IFERROR(J28*FINANZAS!$G26,0)","v":0},{"$f":"IFERROR(K28*FINANZAS!$G26,0)","v":0},{"$f":"IFERROR(L28*FINANZAS!$G26,0)","v":0},{"$f":"IFERROR(M28*FINANZAS!$G26,0)","v":0},{"$f":"IFERROR(N28*FINANZAS!$G26,0)","v":0},{"$f":"IFERROR(O28*FINANZAS!$G26,0)","v":0},null,{"$f":"S28*FINANZAS!$J26","v":0},{"$f":"T28*FINANZAS!$J26","v":0},{"$f":"U28*FINANZAS!$J26","v":0},{"$f":"V28*FINANZAS!$J26","v":0},{"$f":"W28*FINANZAS!$J26","v":0},{"$f":"X28*FINANZAS!$J26","v":0},{"$f":"Y28*FINANZAS!$J26","v":0},{"$f":"Z28*FINANZAS!$J26","v":0},{"$f":"AA28*FINANZAS!$J26","v":0},{"$f":"AB28*FINANZAS!$J26","v":0},{"$f":"AC28*FINANZAS!$J26","v":0},{"$f":"AD28*FINANZAS!$J26","v":0},null,{"$f":"IFERROR(D28*FINANZAS!$N26,0)","v":0},{"$f":"IFERROR(E28*FINANZAS!$N26,0)","v":0},{"$f":"IFERROR(F28*FINANZAS!$N26,0)","v":0},{"$f":"IFERROR(G28*FINANZAS!$N26,0)","v":0},{"$f":"IFERROR(H28*FINANZAS!$N26,0)","v":0},{"$f":"IFERROR(I28*FINANZAS!$N26,0)","v":0},{"$f":"IFERROR(J28*FINANZAS!$N26,0)","v":0},{"$f":"IFERROR(K28*FINANZAS!$N26,0)","v":0},{"$f":"IFERROR(L28*FINANZAS!$N26,0)","v":0},{"$f":"IFERROR(M28*FINANZAS!$N26,0)","v":0},{"$f":"IFERROR(N28*FINANZAS!$N26,0)","v":0},{"$f":"IFERROR(O28*FINANZAS!$N26,0)","v":0}]
[null,null,{"$f":"IF(FINANZAS!C27=\"\",\"\",FINANZAS!C27)","v":""},null,null,null,null,null,null,null,null,null,null,null,null,0,null,"",{"$f":"IFERROR(D29*FINANZAS!$K27,0)","v":0},{"$f":"IFERROR(E29*FINANZAS!$K27,0)","v":0},{"$f":"IFERROR(F29*FINANZAS!$K27,0)","v":0},{"$f":"IFERROR(G29*FINANZAS!$K27,0)","v":0},{"$f":"IFERROR(H29*FINANZAS!$K27,0)","v":0},{"$f":"IFERROR(I29*FINANZAS!$K27,0)","v":0},{"$f":"IFERROR(J29*FINANZAS!$K27,0)","v":0},{"$f":"IFERROR(K29*FINANZAS!$K27,0)","v":0},{"$f":"IFERROR(L29*FINANZAS!$K27,0)","v":0},{"$f":"IFERROR(M29*FINANZAS!$K27,0)","v":0},{"$f":"IFERROR(N29*FINANZAS!$K27,0)","v":0},{"$f":"IFERROR(O29*FINANZAS!$K27,0)","v":0},null,{"$f":"IFERROR(D29*FINANZAS!$G27,0)","v":0},{"$f":"IFERROR(E29*FINANZAS!$G27,0)","v":0},{"$f":"IFERROR(F29*FINANZAS!$G27,0)","v":0},{"$f":"IFERROR(G29*FINANZAS!$G27,0)","v":0},{"$f":"IFERROR(H29*FINANZAS!$G27,0)","v":0},{"$f":"IFERROR(I29*FINANZAS!$G27,0)","v":0},{"$f":"IFERROR(J29*FINANZAS!$G27,0)","v":0},{"$f":"IFERROR(K29*FINANZAS!$G27,0)","v":0},{"$f":"IFERROR(L29*FINANZAS!$G27,0)","v":0},{"$f":"IFERROR(M29*FINANZAS!$G27,0)","v":0},{"$f":"IFERROR(N29*FINANZAS!$G27,0)","v":0},{"$f":"IFERROR(O29*FINANZAS!$G27,0)","v":0},null,{"$f":"S29*FINANZAS!$J27","v":0},{"$f":"T29*FINANZAS!$J27","v":0},{"$f":"U29*FINANZAS!$J27","v":0},{"$f":"V29*FINANZAS!$J27","v":0},{"$f":"W29*FINANZAS!$J27","v":0},{"$f":"X29*FINANZAS!$J27","v":0},{"$f":"Y29*FINANZAS!$J27","v":0},{"$f":"Z29*FINANZAS!$J27","v":0},{"$f":"AA29*FINANZAS!$J27","v":0},{"$f":"AB29*FINANZAS!$J27","v":0},{"$f":"AC29*FINANZAS!$J27","v":0},{"$f":"AD29*FINANZAS!$J27","v":0},null,{"$f":"IFERROR(D29*FINANZAS!$N27,0)","v":0},{"$f":"IFERROR(E29*FINANZAS!$N27,0)","v":0},{"$f":"IFERROR(F29*FINANZAS!$N27,0)","v":0},{"$f":"IFERROR(G29*FINANZAS!$N27,0)","v":0},{"$f":"IFERROR(H29*FINANZAS!$N27,0)","v":0},{"$f":"IFERROR(I29*FINANZAS!$N27,0)","v":0},{"$f":"IFERROR(J29*FINANZAS!$N27,0)","v":0},{"$f":"IFERROR(K29*FINANZAS!$N27,0)","v":0},{"$f":"IFERROR(L29*FINANZAS!$N27,0)","v":0},{"$f":"IFERROR(M29*FINANZAS!$N27,0)","v":0},{"$f":"IFERROR(N29*FINANZAS!$N27,0)","v":0},{"$f":"IFERROR(O29*FINANZAS!$N27,0)","v":0}]
[null,null,{"$f":"IF(FINANZAS!C28=\"\",\"\",FINANZAS!C28)","v":""},null,null,null,null,null,null,null,null,null,null,null,null,0,null,"",{"$f":"IFERROR(D30*FINANZAS!$K28,0)","v":0},{"$f":"IFERROR(E30*FINANZAS!$K28,0)","v":0},{"$f":"IFERROR(F30*FINANZAS!$K28,0)","v":0},{"$f":"IFERROR(G30*FINANZAS!$K28,0)","v":0},{"$f":"IFERROR(H30*FINANZAS!$K28,0)","v":0},{"$f":"IFERROR(I30*FINANZAS!$K28,0)","v":0},{"$f":"IFERROR(J30*FINANZAS!$K28,0)","v":0},{"$f":"IFERROR(K30*FINANZAS!$K28,0)","v":0},{"$f":"IFERROR(L30*FINANZAS!$K28,0)","v":0},{"$f":"IFERROR(M30*FINANZAS!$K28,0)","v":0},{"$f":"IFERROR(N30*FINANZAS!$K28,0)","v":0},{"$f":"IFERROR(O30*FINANZAS!$K28,0)","v":0},null,{"$f":"IFERROR(D30*FINANZAS!$G28,0)","v":0},{"$f":"IFERROR(E30*FINANZAS!$G28,0)","v":0},{"$f":"IFERROR(F30*FINANZAS!$G28,0)","v":0},{"$f":"IFERROR(G30*FINANZAS!$G28,0)","v":0},{"$f":"IFERROR(H30*FINANZAS!$G28,0)","v":0},{"$f":"IFERROR(I30*FINANZAS!$G28,0)","v":0},{"$f":"IFERROR(J30*FINANZAS!$G28,0)","v":0},{"$f":"IFERROR(K30*FINANZAS!$G28,0)","v":0},{"$f":"IFERROR(L30*FINANZAS!$G28,0)","v":0},{"$f":"IFERROR(M30*FINANZAS!$G28,0)","v":0},{"$f":"IFERROR(N30*FINANZAS!$G28,0)","v":0},{"$f":"IFERROR(O30*FINANZAS!$G28,0)","v":0},null,{"$f":"S30*FINANZAS!$J28","v":0},{"$f":"T30*FINANZAS!$J28","v":0},{"$f":"U30*FINANZAS!$J28","v":0},{"$f":"V30*FINANZAS!$J28","v":0},{"$f":"W30*FINANZAS!$J28","v":0},{"$f":"X30*FINANZAS!$J28","v":0},{"$f":"Y30*FINANZAS!$J28","v":0},{"$f":"Z30*FINANZAS!$J28","v":0},{"$f":"AA30*FINANZAS!$J28","v":0},{"$f":"AB30*FINANZAS!$J28","v":0},{"$f":"AC30*FINANZAS!$J28","v":0},{"$f":"AD30*FINANZAS!$J28","v":0},null,{"$f":"IFERROR(D30*FINANZAS!$N28,0)","v":0},{"$f":"IFERROR(E30*FINANZAS!$N28,0)","v":0},{"$f":"IFERROR(F30*FINANZAS!$N28,0)","v":0},{"$f":"IFERROR(G30*FINANZAS!$N28,0)","v":0},{"$f":"IFERROR(H30*FINANZAS!$N28,0)","v":0},{"$f":"IFERROR(I30*FINANZAS!$N28,0)","v":0},{"$f":"IFERROR(J30*FINANZAS!$N28,0)","v":0},{"$f":"IFERROR(K30*FINANZAS!$N28,0)","v":0},{"$f":"IFERROR(L30*FINANZAS!$N28,0)","v":0},{"$f":"IFERROR(M30*FINANZAS!$N28,0)","v":0},{"$f":"IFERROR(N30*FINANZAS!$N28,0)","v":0},{"$f":"IFERROR(O30*FINANZAS!$N28,0)","v":0}]
[null,null,{"$f":"IF(FINANZAS!C29=\"\",\"\",FINANZAS!C29)","v":""},null,null,null,null,null,null,null,null,null,null,null,null,0,null,"",{"$f":"IFERROR(D31*FINANZAS!$K29,0)","v":0},{"$f":"IFERROR(E31*FINANZAS!$K29,0)","v":0},{"$f":"IFERROR(F31*FINANZAS!$K29,0)","v":0},{"$f":"IFERROR(G31*FINANZAS!$K29,0)","v":0},{"$f":"IFERROR(H31*FINANZAS!$K29,0)","v":0},{"$f":"IFERROR(I31*FINANZAS!$K29,0)","v":0},{"$f":"IFERROR(J31*FINANZAS!$K29,0)","v":0},{"$f":"IFERROR(K31*FINANZAS!$K29,0)","v":0},{"$f":"IFERROR(L31*FINANZAS!$K29,0)","v":0},{"$f":"IFERROR(M31*FINANZAS!$K29,0)","v":0},{"$f":"IFERROR(N31*FINANZAS!$K29,0)","v":0},{"$f":"IFERROR(O31*FINANZAS!$K29,0)","v":0},null,{"$f":"IFERROR(D31*FINANZAS!$G29,0)","v":0},{"$f":"IFERROR(E31*FINANZAS!$G29,0)","v":0},{"$f":"IFERROR(F31*FINANZAS!$G29,0)","v":0},{"$f":"IFERROR(G31*FINANZAS!$G29,0)","v":0},{"$f":"IFERROR(H31*FINANZAS!$G29,0)","v":0},{"$f":"IFERROR(I31*FINANZAS!$G29,0)","v":0},{"$f":"IFERROR(J31*FINANZAS!$G29,0)","v":0},{"$f":"IFERROR(K31*FINANZAS!$G29,0)","v":0},{"$f":"IFERROR(L31*FINANZAS!$G29,0)","v":0},{"$f":"IFERROR(M31*FINANZAS!$G29,0)","v":0},{"$f":"IFERROR(N31*FINANZAS!$G29,0)","v":0},{"$f":"IFERROR(O31*FINANZAS!$G29,0)","v":0},null,{"$f":"S31*FINANZAS!$J29","v":0},{"$f":"T31*FINANZAS!$J29","v":0},{"$f":"U31*FINANZAS!$J29","v":0},{"$f":"V31*FINANZAS!$J29","v":0},{"$f":"W31*FINANZAS!$J29","v":0},{"$f":"X31*FINANZAS!$J29","v":0},{"$f":"Y31*FINANZAS!$J29","v":0},{"$f":"Z31*FINANZAS!$J29","v":0},{"$f":"AA31*FINANZAS!$J29","v":0},{"$f":"AB31*FINANZAS!$J29","v":0},{"$f":"AC31*FINANZAS!$J29","v":0},{"$f":"AD31*FINANZAS!$J29","v":0},null,{"$f":"IFERROR(D31*FINANZAS!$N29,0)","v":0},{"$f":"IFERROR(E31*FINANZAS!$N29,0)","v":0},{"$f":"IFERROR(F31*FINANZAS!$N29,0)","v":0},{"$f":"IFERROR(G31*FINANZAS!$N29,0)","v":0},{"$f":"IFERROR(H31*FINANZAS!$N29,0)","v":0},{"$f":"IFERROR(I31*FINANZAS!$N29,0)","v":0},{"$f":"IFERROR(J31*FINANZAS!$N29,0)","v":0},{"$f":"IFERROR(K31*FINANZAS!$N29,0)","v":0},{"$f":"IFERROR(L31*FINANZAS!$N29,0)","v":0},{"$f":"IFERROR(M31*FINANZAS!$N29,0)","v":0},{"$f":"IFERROR(N31*FINANZAS!$N29,0)","v":0},{"$f":"IFERROR(O31*FINANZAS!$N29,0)","v":0}]
[null,null,{"$f":"IF(FINANZAS!C30=\"\",\"\",FINANZAS!C30)","v":""},null,null,null,null,null,null,null,null,null,null,null,null,0,null,"",{"$f":"IFERROR(D32*FINANZAS!$K30,0)","v":0},{"$f":"IFERROR(E32*FINANZAS!$K30,0)","v":0},{"$f":"IFERROR(F32*FINANZAS!$K30,0)","v":0},{"$f":"IFERROR(G32*FINANZAS!$K30,0)","v":0},{"$f":"IFERROR(H32*FINANZAS!$K30,0)","v":0},{"$f":"IFERROR(I32*FINANZAS!$K30,0)","v":0},{"$f":"IFERROR(J32*FINANZAS!$K30,0)","v":0},{"$f":"IFERROR(K32*FINANZAS!$K30,0)","v":0},{"$f":"IFERROR(L32*FINANZAS!$K30,0)","v":0},{"$f":"IFERROR(M32*FINANZAS!$K30,0)","v":0},{"$f":"IFERROR(N32*FINANZAS!$K30,0)","v":0},{"$f":"IFERROR(O32*FINANZAS!$K30,0)","v":0},null,{"$f":"IFERROR(D32*FINANZAS!$G30,0)","v":0},{"$f":"IFERROR(E32*FINANZAS!$G30,0)","v":0},{"$f":"IFERROR(F32*FINANZAS!$G30,0)","v":0},{"$f":"IFERROR(G32*FINANZAS!$G30,0)","v":0},{"$f":"IFERROR(H32*FINANZAS!$G30,0)","v":0},{"$f":"IFERROR(I32*FINANZAS!$G30,0)","v":0},{"$f":"IFERROR(J32*FINANZAS!$G30,0)","v":0},{"$f":"IFERROR(K32*FINANZAS!$G30,0)","v":0},{"$f":"IFERROR(L32*FINANZAS!$G30,0)","v":0},{"$f":"IFERROR(M32*FINANZAS!$G30,0)","v":0},{"$f":"IFERROR(N32*FINANZAS!$G30,0)","v":0},{"$f":"IFERROR(O32*FINANZAS!$G30,0)","v":0},null,{"$f":"S32*FINANZAS!$J30","v":0},{"$f":"T32*FINANZAS!$J30","v":0},{"$f":"U32*FINANZAS!$J30","v":0},{"$f":"V32*FINANZAS!$J30","v":0},{"$f":"W32*FINANZAS!$J30","v":0},{"$f":"X32*FINANZAS!$J30","v":0},{"$f":"Y32*FINANZAS!$J30","v":0},{"$f":"Z32*FINANZAS!$J30","v":0},{"$f":"AA32*FINANZAS!$J30","v":0},{"$f":"AB32*FINANZAS!$J30","v":0},{"$f":"AC32*FINANZAS!$J30","v":0},{"$f":"AD32*FINANZAS!$J30","v":0},null,{"$f":"IFERROR(D32*FINANZAS!$N30,0)","v":0},{"$f":"IFERROR(E32*FINANZAS!$N30,0)","v":0},{"$f":"IFERROR(F32*FINANZAS!$N30,0)","v":0},{"$f":"IFERROR(G32*FINANZAS!$N30,0)","v":0},{"$f":"IFERROR(H32*FINANZAS!$N30,0)","v":0},{"$f":"IFERROR(I32*FINANZAS!$N30,0)","v":0},{"$f":"IFERROR(J32*FINANZAS!$N30,0)","v":0},{"$f":"IFERROR(K32*FINANZAS!$N30,0)","v":0},{"$f":"IFERROR(L32*FINANZAS!$N30,0)","v":0},{"$f":"IFERROR(M32*FINANZAS!$N30,0)","v":0},{"$f":"IFERROR(N32*FINANZAS!$N30,0)","v":0},{"$f":"IFERROR(O32*FINANZAS!$N30,0)","v":0}]
[null,null,{"$f":"IF(FINANZAS!C31=\"\",\"\",FINANZAS!C31)","v":""},null,null,null,null,null,null,null,null,null,null,null,null,0,null,"",{"$f":"IFERROR(D33*FINANZAS!$K31,0)","v":0},{"$f":"IFERROR(E33*FINANZAS!$K31,0)","v":0},{"$f":"IFERROR(F33*FINANZAS!$K31,0)","v":0},{"$f":"IFERROR(G33*FINANZAS!$K31,0)","v":0},{"$f":"IFERROR(H33*FINANZAS!$K31,0)","v":0},{"$f":"IFERROR(I33*FINANZAS!$K31,0)","v":0},{"$f":"IFERROR(J33*FINANZAS!$K31,0)","v":0},{"$f":"IFERROR(K33*FINANZAS!$K31,0)","v":0},{"$f":"IFERROR(L33*FINANZAS!$K31,0)","v":0},{"$f":"IFERROR(M33*FINANZAS!$K31,0)","v":0},{"$f":"IFERROR(N33*FINANZAS!$K31,0)","v":0},{"$f":"IFERROR(O33*FINANZAS!$K31,0)","v":0},null,{"$f":"IFERROR(D33*FINANZAS!$G31,0)","v":0},{"$f":"IFERROR(E33*FINANZAS!$G31,0)","v":0},{"$f":"IFERROR(F33*FINANZAS!$G31,0)","v":0},{"$f":"IFERROR(G33*FINANZAS!$G31,0)","v":0},{"$f":"IFERROR(H33*FINANZAS!$G31,0)","v":0},{"$f":"IFERROR(I33*FINANZAS!$G31,0)","v":0},{"$f":"IFERROR(J33*FINANZAS!$G31,0)","v":0},{"$f":"IFERROR(K33*FINANZAS!$G31,0)","v":0},{"$f":"IFERROR(L33*FINANZAS!$G31,0)","v":0},{"$f":"IFERROR(M33*FINANZAS!$G31,0)","v":0},{"$f":"IFERROR(N33*FINANZAS!$G31,0)","v":0},{"$f":"IFERROR(O33*FINANZAS!$G31,0)","v":0},null,{"$f":"S33*FINANZAS!$J31","v":0},{"$f":"T33*FINANZAS!$J31","v":0},{"$f":"U33*FINANZAS!$J31","v":0},{"$f":"V33*FINANZAS!$J31","v":0},{"$f":"W33*FINANZAS!$J31","v":0},{"$f":"X33*FINANZAS!$J31","v":0},{"$f":"Y33*FINANZAS!$J31","v":0},{"$f":"Z33*FINANZAS!$J31","v":0},{"$f":"AA33*FINANZAS!$J31","v":0},{"$f":"AB33*FINANZAS!$J31","v":0},{"$f":"AC33*FINANZAS!$J31","v":0},{"$f":"AD33*FINANZAS!$J31","v":0},null,{"$f":"IFERROR(D33*FINANZAS!$N31,0)","v":0},{"$f":"IFERROR(E33*FINANZAS!$N31,0)","v":0},{"$f":"IFERROR(F33*FINANZAS!$N31,0)","v":0},{"$f":"IFERROR(G33*FINANZAS!$N31,0)","v":0},{"$f":"IFERROR(H33*FINANZAS!$N31,0)","v":0},{"$f":"IFERROR(I33*FINANZAS!$N31,0)","v":0},{"$f":"IFERROR(J33*FINANZAS!$N31,0)","v":0},{"$f":"IFERROR(K33*FINANZAS!$N31,0)","v":0},{"$f":"IFERROR(L33*FINANZAS!$N31,0)","v":0},{"$f":"IFERROR(M33*FINANZAS!$N31,0)","v":0},{"$f":"IFERROR(N33*FINANZAS!$N31,0)","v":0},{"$f":"IFERROR(O33*FINANZAS!$N31,0)","v":0}]
[null,null,{"$f":"IF(FINANZAS!C32=\"\",\"\",FINANZAS!C32)","v":""},null,null,null,null,null,null,null,null,null,null,null,null,0,null,"",{"$f":"IFERROR(D34*FINANZAS!$K32,0)","v":0},{"$f":"IFERROR(E34*FINANZAS!$K32,0)","v":0},{"$f":"IFERROR(F34*FINANZAS!$K32,0)","v":0},{"$f":"IFERROR(G34*FINANZAS!$K32,0)","v":0},{"$f":"IFERROR(H34*FINANZAS!$K32,0)","v":0},{"$f":"IFERROR(I34*FINANZAS!$K32,0)","v":0},{"$f":"IFERROR(J34*FINANZAS!$K32,0)","v":0},{"$f":"IFERROR(K34*FINANZAS!$K32,0)","v":0},{"$f":"IFERROR(L34*FINANZAS!$K32,0)","v":0},{"$f":"IFERROR(M34*FINANZAS!$K32,0)","v":0},{"$f":"IFERROR(N34*FINANZAS!$K32,0)","v":0},{"$f":"IFERROR(O34*FINANZAS!$K32,0)","v":0},null,{"$f":"IFERROR(D34*FINANZAS!$G32,0)","v":0},{"$f":"IFERROR(E34*FINANZAS!$G32,0)","v":0},{"$f":"IFERROR(F34*FINANZAS!$G32,0)","v":0},{"$f":"IFERROR(G34*FINANZAS!$G32,0)","v":0},{"$f":"IFERROR(H34*FINANZAS!$G32,0)","v":0},{"$f":"IFERROR(I34*FINANZAS!$G32,0)","v":0},{"$f":"IFERROR(J34*FINANZAS!$G32,0)","v":0},{"$f":"IFERROR(K34*FINANZAS!$G32,0)","v":0},{"$f":"IFERROR(L34*FINANZAS!$G32,0)","v":0},{"$f":"IFERROR(M34*FINANZAS!$G32,0)","v":0},{"$f":"IFERROR(N34*FINANZAS!$G32,0)","v":0},{"$f":"IFERROR(O34*FINANZAS!$G32,0)","v":0},null,{"$f":"S34*FINANZAS!$J32","v":0},{"$f":"T34*FINANZAS!$J32","v":0},{"$f":"U34*FINANZAS!$J32","v":0},{"$f":"V34*FINANZAS!$J32","v":0},{"$f":"W34*FINANZAS!$J32","v":0},{"$f":"X34*FINANZAS!$J32","v":0},{"$f":"Y34*FINANZAS!$J32","v":0},{"$f":"Z34*FINANZAS!$J32","v":0},{"$f":"AA34*FINANZAS!$J32","v":0},{"$f":"AB34*FINANZAS!$J32","v":0},{"$f":"AC34*FINANZAS!$J32","v":0},{"$f":"AD34*FINANZAS!$J32","v":0},null,{"$f":"IFERROR(D34*FINANZAS!$N32,0)","v":0},{"$f":"IFERROR(E34*FINANZAS!$N32,0)","v":0},{"$f":"IFERROR(F34*FINANZAS!$N32,0)","v":0},{"$f":"IFERROR(G34*FINANZAS!$N32,0)","v":0},{"$f":"IFERROR(H34*FINANZAS!$N32,0)","v":0},{"$f":"IFERROR(I34*FINANZAS!$N32,0)","v":0},{"$f":"IFERROR(J34*FINANZAS!$N32,0)","v":0},{"$f":"IFERROR(K34*FINANZAS!$N32,0)","v":0},{"$f":"IFERROR(L34*FINANZAS!$N32,0)","v":0},{"$f":"IFERROR(M34*FINANZAS!$N32,0)","v":0},{"$f":"IFERROR(N34*FINANZAS!$N32,0)","v":0},{"$f":"IFERROR(O34*FINANZAS!$N32,0)","v":0}]
[null,null,{"$f":"IF(FINANZAS!C33=\"\",\"\",FINANZAS!C33)","v":""},null,null,null,null,null,null,null,null,null,null,null,null,0,null,"",{"$f":"IFERROR(D35*FINANZAS!$K33,0)","v":0},{"$f":"IFERROR(E35*FINANZAS!$K33,0)","v":0},{"$f":"IFERROR(F35*FINANZAS!$K33,0)","v":0},{"$f":"IFERROR(G35*FINANZAS!$K33,0)","v":0},{"$f":"IFERROR(H35*FINANZAS!$K33,0)","v":0},{"$f":"IFERROR(I35*FINANZAS!$K33,0)","v":0},{"$f":"IFERROR(J35*FINANZAS!$K33,0)","v":0},{"$f":"IFERROR(K35*FINANZAS!$K33,0)","v":0},{"$f":"IFERROR(L35*FINANZAS!$K33,0)","v":0},{"$f":"IFERROR(M35*FINANZAS!$K33,0)","v":0},{"$f":"IFERROR(N35*FINANZAS!$K33,0)","v":0},{"$f":"IFERROR(O35*FINANZAS!$K33,0)","v":0},null,{"$f":"IFERROR(D35*FINANZAS!$G33,0)","v":0},{"$f":"IFERROR(E35*FINANZAS!$G33,0)","v":0},{"$f":"IFERROR(F35*FINANZAS!$G33,0)","v":0},{"$f":"IFERROR(G35*FINANZAS!$G33,0)","v":0},{"$f":"IFERROR(H35*FINANZAS!$G33,0)","v":0},{"$f":"IFERROR(I35*FINANZAS!$G33,0)","v":0},{"$f":"IFERROR(J35*FINANZAS!$G33,0)","v":0},{"$f":"IFERROR(K35*FINANZAS!$G33,0)","v":0},{"$f":"IFERROR(L35*FINANZAS!$G33,0)","v":0},{"$f":"IFERROR(M35*FINANZAS!$G33,0)","v":0},{"$f":"IFERROR(N35*FINANZAS!$G33,0)","v":0},{"$f":"IFERROR(O35*FINANZAS!$G33,0)","v":0},null,{"$f":"S35*FINANZAS!$J33","v":0},{"$f":"T35*FINANZAS!$J33","v":0},{"$f":"U35*FINANZAS!$J33","v":0},{"$f":"V35*FINANZAS!$J33","v":0},{"$f":"W35*FINANZAS!$J33","v":0},{"$f":"X35*FINANZAS!$J33","v":0},{"$f":"Y35*FINANZAS!$J33","v":0},{"$f":"Z35*FINANZAS!$J33","v":0},{"$f":"AA35*FINANZAS!$J33","v":0},{"$f":"AB35*FINANZAS!$J33","v":0},{"$f":"AC35*FINANZAS!$J33","v":0},{"$f":"AD35*FINANZAS!$J33","v":0},null,{"$f":"IFERROR(D35*FINANZAS!$N33,0)","v":0},{"$f":"IFERROR(E35*FINANZAS!$N33,0)","v":0},{"$f":"IFERROR(F35*FINANZAS!$N33,0)","v":0},{"$f":"IFERROR(G35*FINANZAS!$N33,0)","v":0},{"$f":"IFERROR(H35*FINANZAS!$N33,0)","v":0},{"$f":"IFERROR(I35*FINANZAS!$N33,0)","v":0},{"$f":"IFERROR(J35*FINANZAS!$N33,0)","v":0},{"$f":"IFERROR(K35*FINANZAS!$N33,0)","v":0},{"$f":"IFERROR(L35*FINANZAS!$N33,0)","v":0},{"$f":"IFERROR(M35*FINANZAS!$N33,0)","v":0},{"$f":"IFERROR(N35*FINANZAS!$N33,0)","v":0},{"$f":"IFERROR(O35*FINANZAS!$N33,0)","v":0}]
[null,null,{"$f":"IF(FINANZAS!C34=\"\",\"\",FINANZAS!C34)","v":""},null,null,null,null,null,null,null,null,null,null,null,null,0,null,"",{"$f":"IFERROR(D36*FINANZAS!$K34,0)","v":0},{"$f":"IFERROR(E36*FINANZAS!$K34,0)","v":0},{"$f":"IFERROR(F36*FINANZAS!$K34,0)","v":0},{"$f":"IFERROR(G36*FINANZAS!$K34,0)","v":0},{"$f":"IFERROR(H36*FINANZAS!$K34,0)","v":0},{"$f":"IFERROR(I36*FINANZAS!$K34,0)","v":0},{"$f":"IFERROR(J36*FINANZAS!$K34,0)","v":0},{"$f":"IFERROR(K36*FINANZAS!$K34,0)","v":0},{"$f":"IFERROR(L36*FINANZAS!$K34,0)","v":0},{"$f":"IFERROR(M36*FINANZAS!$K34,0)","v":0},{"$f":"IFERROR(N36*FINANZAS!$K34,0)","v":0},{"$f":"IFERROR(O36*FINANZAS!$K34,0)","v":0},null,{"$f":"IFERROR(D36*FINANZAS!$G34,0)","v":0},{"$f":"IFERROR(E36*FINANZAS!$G34,0)","v":0},{"$f":"IFERROR(F36*FINANZAS!$G34,0)","v":0},{"$f":"IFERROR(G36*FINANZAS!$G34,0)","v":0},{"$f":"IFERROR(H36*FINANZAS!$G34,0)","v":0},{"$f":"IFERROR(I36*FINANZAS!$G34,0)","v":0},{"$f":"IFERROR(J36*FINANZAS!$G34,0)","v":0},{"$f":"IFERROR(K36*FINANZAS!$G34,0)","v":0},{"$f":"IFERROR(L36*FINANZAS!$G34,0)","v":0},{"$f":"IFERROR(M36*FINANZAS!$G34,0)","v":0},{"$f":"IFERROR(N36*FINANZAS!$G34,0)","v":0},{"$f":"IFERROR(O36*FINANZAS!$G34,0)","v":0},null,{"$f":"S36*FINANZAS!$J34","v":0},{"$f":"T36*FINANZAS!$J34","v":0},{"$f":"U36*FINANZAS!$J34","v":0},{"$f":"V36*FINANZAS!$J34","v":0},{"$f":"W36*FINANZAS!$J34","v":0},{"$f":"X36*FINANZAS!$J34","v":0},{"$f":"Y36*FINANZAS!$J34","v":0},{"$f":"Z36*FINANZAS!$J34","v":0},{"$f":"AA36*FINANZAS!$J34","v":0},{"$f":"AB36*FINANZAS!$J34","v":0},{"$f":"AC36*FINANZAS!$J34","v":0},{"$f":"AD36*FINANZAS!$J34","v":0},null,{"$f":"IFERROR(D36*FINANZAS!$N34,0)","v":0},{"$f":"IFERROR(E36*FINANZAS!$N34,0)","v":0},{"$f":"IFERROR(F36*FINANZAS!$N34,0)","v":0},{"$f":"IFERROR(G36*FINANZAS!$N34,0)","v":0},{"$f":"IFERROR(H36*FINANZAS!$N34,0)","v":0},{"$f":"IFERROR(I36*FINANZAS!$N34,0)","v":0},{"$f":"IFERROR(J36*FINANZAS!$N34,0)","v":0},{"$f":"IFERROR(K36*FINANZAS!$N34,0)","v":0},{"$f":"IFERROR(L36*FINANZAS!$N34,0)","v":0},{"$f":"IFERROR(M36*FINANZAS!$N34,0)","v":0},{"$f":"IFERROR(N36*FINANZAS!$N34,0)","v":0},{"$f":"IFERROR(O36*FINANZAS!$N34,0)","v":0}]
[null,null,{"$f":"IF(FINANZAS!C35=\"\",\"\",FINANZAS!C35)","v":""},null,null,null,null,null,null,null,null,null,null,null,null,0,null,"",{"$f":"IFERROR(D37*FINANZAS!$K35,0)","v":0},{"$f":"IFERROR(E37*FINANZAS!$K35,0)","v":0},{"$f":"IFERROR(F37*FINANZAS!$K35,0)","v":0},{"$f":"IFERROR(G37*FINANZAS!$K35,0)","v":0},{"$f":"IFERROR(H37*FINANZAS!$K35,0)","v":0},{"$f":"IFERROR(I37*FINANZAS!$K35,0)","v":0},{"$f":"IFERROR(J37*FINANZAS!$K35,0)","v":0},{"$f":"IFERROR(K37*FINANZAS!$K35,0)","v":0},{"$f":"IFERROR(L37*FINANZAS!$K35,0)","v":0},{"$f":"IFERROR(M37*FINANZAS!$K35,0)","v":0},{"$f":"IFERROR(N37*FINANZAS!$K35,0)","v":0},{"$f":"IFERROR(O37*FINANZAS!$K35,0)","v":0},null,{"$f":"IFERROR(D37*FINANZAS!$G35,0)","v":0},{"$f":"IFERROR(E37*FINANZAS!$G35,0)","v":0},{"$f":"IFERROR(F37*FINANZAS!$G35,0)","v":0},{"$f":"IFERROR(G37*FINANZAS!$G35,0)","v":0},{"$f":"IFERROR(H37*FINANZAS!$G35,0)","v":0},{"$f":"IFERROR(I37*FINANZAS!$G35,0)","v":0},{"$f":"IFERROR(J37*FINANZAS!$G35,0)","v":0},{"$f":"IFERROR(K37*FINANZAS!$G35,0)","v":0},{"$f":"IFERROR(L37*FINANZAS!$G35,0)","v":0},{"$f":"IFERROR(M37*FINANZAS!$G35,0)","v":0},{"$f":"IFERROR(N37*FINANZAS!$G35,0)","v":0},{"$f":"IFERROR(O37*FINANZAS!$G35,0)","v":0},null,{"$f":"S37*FINANZAS!$J35","v":0},{"$f":"T37*FINANZAS!$J35","v":0},{"$f":"U37*FINANZAS!$J35","v":0},{"$f":"V37*FINANZAS!$J35","v":0},{"$f":"W37*FINANZAS!$J35","v":0},{"$f":"X37*FINANZAS!$J35","v":0},{"$f":"Y37*FINANZAS!$J35","v":0},{"$f":"Z37*FINANZAS!$J35","v":0},{"$f":"AA37*FINANZAS!$J35","v":0},{"$f":"AB37*FINANZAS!$J35","v":0},{"$f":"AC37*FINANZAS!$J35","v":0},{"$f":"AD37*FINANZAS!$J35","v":0},null,{"$f":"IFERROR(D37*FINANZAS!$N35,0)","v":0},{"$f":"IFERROR(E37*FINANZAS!$N35,0)","v":0},{"$f":"IFERROR(F37*FINANZAS!$N35,0)","v":0},{"$f":"IFERROR(G37*FINANZAS!$N35,0)","v":0},{"$f":"IFERROR(H37*FINANZAS!$N35,0)","v":0},{"$f":"IFERROR(I37*FINANZAS!$N35,0)","v":0},{"$f":"IFERROR(J37*FINANZAS!$N35,0)","v":0},{"$f":"IFERROR(K37*FINANZAS!$N35,0)","v":0},{"$f":"IFERROR(L37*FINANZAS!$N35,0)","v":0},{"$f":"IFERROR(M37*FINANZAS!$N35,0)","v":0},{"$f":"IFERROR(N37*FINANZAS!$N35,0)","v":0},{"$f":"IFERROR(O37*FINANZAS!$N35,0)","v":0}]
[null,null,{"$f":"IF(FINANZAS!C36=\"\",\"\",FINANZAS!C36)","v":""},null,null,null,null,null,null,null,null,null,null,null,null,0,null,"",{"$f":"IFERROR(D38*FINANZAS!$K36,0)","v":0},{"$f":"IFERROR(E38*FINANZAS!$K36,0)","v":0},{"$f":"IFERROR(F38*FINANZAS!$K36,0)","v":0},{"$f":"IFERROR(G38*FINANZAS!$K36,0)","v":0},{"$f":"IFERROR(H38*FINANZAS!$K36,0)","v":0},{"$f":"IFERROR(I38*FINANZAS!$K36,0)","v":0},{"$f":"IFERROR(J38*FINANZAS!$K36,0)","v":0},{"$f":"IFERROR(K38*FINANZAS!$K36,0)","v":0},{"$f":"IFERROR(L38*FINANZAS!$K36,0)","v":0},{"$f":"IFERROR(M38*FINANZAS!$K36,0)","v":0},{"$f":"IFERROR(N38*FINANZAS!$K36,0)","v":0},{"$f":"IFERROR(O38*FINANZAS!$K36,0)","v":0},null,{"$f":"D38*FINANZAS!$E$6","v":0},{"$f":"E38*FINANZAS!$E$6","v":0},{"$f":"F38*FINANZAS!$E$6","v":0},{"$f":"G38*FINANZAS!$E$6","v":0},{"$f":"H38*FINANZAS!$E$6","v":0},{"$f":"I38*FINANZAS!$E$6","v":0},{"$f":"J38*FINANZAS!$E$6","v":0},{"$f":"K38*FINANZAS!$E$6","v":0},{"$f":"L38*FINANZAS!$E$6","v":0},{"$f":"M38*FINANZAS!$E$6","v":0},{"$f":"N38*FINANZAS!$E$6","v":0},{"$f":"O38*FINANZAS!$E$6","v":0},null,{"$f":"S38*FINANZAS!$J36","v":0},{"$f":"T38*FINANZAS!$J36","v":0},{"$f":"U38*FINANZAS!$J36","v":0},{"$f":"V38*FINANZAS!$J36","v":0},{"$f":"W38*FINANZAS!$J36","v":0},{"$f":"X38*FINANZAS!$J36","v":0},{"$f":"Y38*FINANZAS!$J36","v":0},{"$f":"Z38*FINANZAS!$J36","v":0},{"$f":"AA38*FINANZAS!$J36","v":0},{"$f":"AB38*FINANZAS!$J36","v":0},{"$f":"AC38*FINANZAS!$J36","v":0},{"$f":"AD38*FINANZAS!$J36","v":0},null,{"$f":"IFERROR(D38*FINANZAS!$N36,0)","v":0},{"$f":"IFERROR(E38*FINANZAS!$N36,0)","v":0},{"$f":"IFERROR(F38*FINANZAS!$N36,0)","v":0},{"$f":"IFERROR(G38*FINANZAS!$N36,0)","v":0},{"$f":"IFERROR(H38*FINANZAS!$N36,0)","v":0},{"$f":"IFERROR(I38*FINANZAS!$N36,0)","v":0},{"$f":"IFERROR(J38*FINANZAS!$N36,0)","v":0},{"$f":"IFERROR(K38*FINANZAS!$N36,0)","v":0},{"$f":"IFERROR(L38*FINANZAS!$N36,0)","v":0},{"$f":"IFERROR(M38*FINANZAS!$N36,0)","v":0},{"$f":"IFERROR(N38*FINANZAS!$N36,0)","v":0},{"$f":"IFERROR(O38*FINANZAS!$N36,0)","v":0}]

{"sheet":"FINANZAS_II","index":22,"n_rows":36,"n_cols":9,"rows_kept":36,"cut":false,"hidden":false,"merged":[[5,6,6,6],[0,2,0,3]]}
[]
[]
[]
[null,null,"Inversión Inicial"]
[null,null,"Artículo ","Valor ","Depreciación Anual",null,"Total de la Inversión"]
[null,null,"Ex.: Tierra",50000,1.4999999999999999E-2,null,{"$f":"SUM(D7:D36)","v":55000},null,"depreciación"]
[null,null,"Molino Pequeño",20000,0.08,null,null,null,{"$f":"E7*D7","v":1600}]
[null,null,"2 quintales de café ",20000,0.08,null,null,null,{"$f":"E8*D8","v":1600}]
[null,null,"Embalaje ",15000,0.08,null,null,null,1200]
[null,null,null,null,null,null,null,null,0]
[null,null,null,null,null,null,null,null,0]
[null,null,null,null,null,null,null,null,0]
[null,null,null,null,null,null,null,null,0]
[null,null,null,null,null,null,null,null,0]
[null,null,null,null,null,null,null,null,0]
[null,null,null,null,null,null,null,null,0]
[null,null,null,null,null,null,null,null,0]
[null,null,null,null,null,null,null,null,0]
[null,null,null,null,null,null,null,null,0]
[null,null,null,null,null,null,null,null,0]
[null,null,null,null,null,null,null,null,0]
[null,null,null,null,null,null,null,null,0]
[null,null,null,null,null,null,null,null,0]
[null,null,null,null,null,null,null,null,0]
[null,null,null,null,null,null,null,null,0]
[null,null,null,null,null,null,null,null,0]
[null,null,null,null,null,null,null,null,0]
[null,null,null,null,null,null,null,null,0]
[null,null,null,null,null,null,null,null,0]
[null,null,null,null,null,null,null,null,0]
[null,null,null,null,null,null,null,null,0]
[null,null,null,null,null,null,null,null,0]
[null,null,null,null,null,null,null,null,0]
[null,null,null,null,null,null,null,null,0]
[null,null,null,null,null,null,null,null,0]
[null,null,null,null,null,null,null,null,0]

{"sheet":"FINANZAS_OI","index":23,"n_rows":27,"n_cols":77,"rows_kept":27,"cut":false,"hidden":false,"merged":[[0,4,0,5],[0,6,0,7],[0,8,0,9]]}
[]
[]
[]
[null,null,"Otras Inversiones"]
[null,null,"Descripción","Depreciación Anual","Inversión año 1","Inversión año 2","Inversión año 3","Inversión año 4","Inversión año 5","Inversión Total",null,"depreciación"]
[null,null,"Ex.: Tierra",0.1,0,0,50000,0,0,{"$f":"SUM(E6:I6)","v":50000},null,"1 año","2 años","3 años","4 años","5 años",null,"enero","febrero","marzo","abril","mayo","junio","julio","agosto","septiembre","octubre","noviembre","diciembre","enero","febrero","marzo","abril","mayo","junio","julio","agosto","septiembre","octubre","noviembre","diciembre","enero","febrero","marzo","abril","mayo","junio","julio","agosto","septiembre","octubre","noviembre","diciembre","enero","febrero","marzo","abril","mayo","junio","julio","agosto","septiembre","octubre","noviembre","diciembre","enero","febrero","marzo","abril","mayo","junio","julio","agosto","septiembre","octubre","noviembre","diciembre"]
[null,null,"Coffe Shop ",1.4999999999999999E-2,900000,20000,null,null,null,{"$f":"SUM(E7:I7)","v":920000},null,0,{"$f":"(E7*$D$7)+(F7*$D7)","v":13800},{"$f":"(E7*$D$7)+(F7*$D7)+(G7*$D7)","v":13800},{"$f":"(E7*$D$7)+(F7*$D7)+(G7*$D7)+(H7*$D7)","v":13800},{"$f":"(E7*$D$7)+(F7*$D7)+(G7*$D7)+(H7*$D7)+(I7*$D7)","v":13800}]
[null,null,null,null,null,null,null,null,null,{"$f":"SUM(E8:I8)","v":0},null,0,{"$f":"(E8*$D$7)+(F8*$D8)","v":0},{"$f":"(E8*$D$7)+(F8*$D8)+(G8*$D8)","v":0},{"$f":"(E8*$D$7)+(F8*$D8)+(G8*$D8)+(H8*$D8)","v":0},{"$f":"(E8*$D$7)+(F8*$D8)+(G8*$D8)+(H8*$D8)+(I8*$D8)","v":0}]
[null,null,null,null,null,null,null,null,null,0,null,0,0,0,0,0]
[null,null,null,null,null,null,null,null,null,0,null,0,0,0,0,0]
[null,null,null,null,null,null,null,null,null,0,null,0,0,0,0,0]
[null,null,null,null,null,null,null,null,null,0,null,0,0,0,0,0]
[null,null,null,null,null,null,null,null,null,0,null,0,0,0,0,0]
[null,null,null,null,null,null,null,null,null,0,null,0,0,0,0,0]
[null,null,null,null,null,null,null,null,null,0,null,0,0,0,0,0]
[null,null,null,null,null,null,null,null,null,0,null,0,0,0,0,0]
[null,null,null,null,null,null,null,null,null,0,null,0,0,0,0,0]
[null,null,null,null,null,null,null,null,null,0,null,0,0,0,0,0]
[null,null,null,null,null,null,null,null,null,0,null,0,0,0,0,0]
[null,null,null,null,null,null,null,null,null,0,null,0,0,0,0,0]
[null,null,null,null,null,null,null,null,null,0,null,0,0,0,0,0]
[null,null,null,null,null,null,null,null,null,0,null,0,0,0,0,0]
[null,null,null,null,null,null,null,null,null,0,null,0,0,0,0,0]
[null,null,null,null,null,null,null,null,null,0,null,0,0,0,0,0]
[null,null,null,null,null,null,null,null,null,0,null,0,0,0,0,0]
[null,null,null,null,null,null,null,null,null,0,null,{"$f":"E26*$D26","v":0},0,0,0,0]
[null,null,"descripción",null,{"$f":"SUM(E7:E26)","v":900000},{"$f":"SUM(F7:F26)","v":20000},0,0,0,{"$f":"SUM(E27:I27)","v":920000}]

{"sheet":"FINANZAS_CF","index":24,"n_rows":169,"n_cols":139,"rows_kept":169,"cut":false,"hidden":false,"merged":[[6,6,6,7],[6,8,6,9],[0,2,0,3],[0,4,0,5],[0,6,0,7],[0,8,0,9],[3,8,3,9],[4,8,4,9]]}
[]
[null,null,null,null,null,null,null,null,null,null,null,null,null,null,null,null,{"$f":"L9","v":2024},{"$f":"Q2","v":2024},{"$f":"R2","v":2024},2024,2024,2024,2024,2024,2024,2024,2024,2024,{"$f":"L10","v":2025},{"$f":"AC2","v":2025},{"$f":"AD2","v":2025},2025,2025,2025,2025,2025,2025,2025,2025,2025,{"$f":"L11","v":2026},{"$f":"AO2","v":2026},{"$f":"AP2","v":2026},2026,2026,2026,2026,2026,2026,2026,2026,2026,{"$f":"L12","v":2027},{"$f":"BA2","v":2027},{"$f":"BB2","v":2027},2027,2027,2027,2027,2027,2027,2027,2027,2027,{"$f":"L13","v":2028},{"$f":"BM2","v":2028},2028,2028,2028,2028,2028,2028,2028,2028,2028,2028]
[]
[null,null,"Total de gastos con sueldos ","Año 1","Año 2","Año 3","Año 4","Año 5","Total"]
[null,null,"Valor",{"$f":"IG_EQ!CR6","v":252000},{"$f":"IG_EQ!CS6","v":504000},{"$f":"IG_EQ!CT6","v":504000},{"$f":"IG_EQ!CU6","v":504000},{"$f":"IG_EQ!CV6","v":294000},{"$f":"SUM(D5:H5)","v":2058000}]
[null,null,null,null,null,null,null,null,null,null,null,null,null,null,null,null,"Ene","Feb","Mar","Abr","May","Jun","Jul","Aug","Sep","Oct","Nov","Dic","Ene","Feb","Mar","Abr","May","Jun","Jul","Aug","Sep","Oct","Nov","Dic","Ene","Feb","Mar","Abr","May","Jun","Jul","Aug","Sep","Oct","Nov","Dic","Ene","Feb","Mar","Abr","May","Jun","Jul","Aug","Sep","Oct","Nov","Dic","Ene","Feb","Mar","Abr","May","Jun","Jul","Aug","Sep","Oct","Nov","Dic"]
[null,null,"Costos fijos",null,null,null,"Inicio del Costo",null,"Fin del Costo",null,null,null,null,null,null,null,{"$f":"Q6&Q2","v":"Ene2024"},"Feb2024","Mar2024","Abr2024","May2024","Jun2024","Jul2024","Aug2024","Sep2024","Oct2024","Nov2024","Dic2024","Ene2025","Feb2025","Mar2025","Abr2025","May2025","Jun2025","Jul2025","Aug2025","Sep2025","Oct2025","Nov2025","Dic2025","Ene2026","Feb2026","Mar2026","Abr2026","May2026","Jun2026","Jul2026","Aug2026",{"$f":"AW6&AW2","v":"Sep2026"},"Oct2026","Nov2026","Dic2026","Ene2027","Feb2027","Mar2027","Abr2027","May2027","Jun2027","Jul2027","Aug2027","Sep2027","Oct2027","Nov2027","Dic2027",{"$f":"BM6&BM2","v":"Ene2028"},"Feb2028","Mar2028","Abr2028","May2028","Jun2028","Jul2028","Aug2028","Sep2028","Oct2028","Nov2028","Dic2028"]
[null,null,"Descripción","Valor","Índice del Reajuste","Período","Mes","Año","Mes","Año",null,"Año de inicio","Columna comenzando Corresp","columna final Corresp",null,"No es necesario ajustar",1,2,3,4,5,6,7,8,9,10,11,12,13,14,15,16,17,18,19,20,21,22,23,24,25,26,27,28,29,30,31,32,33,34,35,36,37,38,39,40,41,42,43,44,45,46,47,48,49,50,51,52,53,54,55,56,57,58,59,60]
[null,null,"Alquiler",19000,null,"Mensual","Jul",2024,"Jul",2028,null,{"$f":"ESTRATÉGIA!D6","v":2024},{"$f":"IF(ISERROR(HLOOKUP(G9&H9,$Q$7:$BX$8,2,FALSE)),\"\",HLOOKUP(G9&H9,$Q$7:$BX$8,2,FALSE))","v":7},{"$f":"IF(ISERROR(HLOOKUP(I9&J9,$Q$7:$BX$8,2,FALSE)),\"\",HLOOKUP(I9&J9,$Q$7:$BX$8,2,FALSE))","v":55},null,1,{"$f":"IF(AND(Q$8>=$M9,Q$8<=$N9),IF($F9=\"Sin ajuste\",$D9,\"No\"),\"No\")","v":"No"},{"$f":"IF(AND(R$8>=$M9,R$8<=$N9),IF($F9=\"Sin ajuste\",$D9,\"No\"),\"No\")","v":"No"},"No","No","No","No","No","No","No","No","No","No","No","No","No","No","No","No","No","No","No","No","No","No","No","No","No","No","No","No","No","No","No","No","No","No","No","No","No","No","No","No","No","No","No","No","No","No","No","No","No","No","No","No","No","No","No","No","No",{"$f":"IF(AND(BX$8>=$M9,BX$8<=$N9),IF($F9=\"Sin ajuste\",$D9,\"No\"),\"No\")","v":"No"}]
[null,null,"Nomina ",0,null,"Mensual","Jul",2024,"Jul",2028,null,{"$f":"L9+1","v":2025},{"$f":"IF(ISERROR(HLOOKUP(G10&H10,$Q$7:$BX$8,2,FALSE)),\"\",HLOOKUP(G10&H10,$Q$7:$BX$8,2,FALSE))","v":7},{"$f":"IF(ISERROR(HLOOKUP(I10&J10,$Q$7:$BX$8,2,FALSE)),\"\",HLOOKUP(I10&J10,$Q$7:$BX$8,2,FALSE))","v":55},null,2,{"$f":"IF(AND(Q$8>=$M10,Q$8<=$N10),IF($F10=\"Sin ajuste\",$D10,\"No\"),\"No\")","v":"No"},"No","No","No","No","No","No","No","No","No","No","No","No","No","No","No","No","No","No","No","No","No","No","No","No","No","No","No","No","No","No","No","No","No","No","No","No","No","No","No","No","No","No","No","No","No","No","No","No","No","No","No","No","No","No","No","No","No","No","No"]
[null,null,"Luz",3000,null,"Mensual","Jul",2024,"Jul",2028,null,{"$f":"L10+1","v":2026},7,55,null,3,"No","No","No","No","No","No","No","No","No","No","No","No","No","No","No","No","No","No","No","No","No","No","No","No","No","No","No","No","No","No","No","No","No","No","No","No","No","No","No","No","No","No","No","No","No","No","No","No","No","No","No","No","No","No","No","No","No","No","No","No"]
[null,null,"Telefono",2500,null,"Mensual","Jul",2024,"Jul",2028,null,2027,7,55,null,4,"No","No","No","No","No","No","No","No","No","No","No","No","No","No","No","No","No","No","No","No","No","No","No","No","No","No","No","No","No","No","No","No","No","No","No","No","No","No","No","No","No","No","No","No","No","No","No","No","No","No","No","No","No","No","No","No","No","No","No","No"]
[null,null,null,null,null,null,null,null,null,null,null,2028,"","",null,5,"No","No","No","No","No","No","No","No","No","No","No","No","No","No","No","No","No","No","No","No","No","No","No","No","No","No","No","No","No","No","No","No","No","No","No","No","No","No","No",{"$f":"IF(AND(BD$8>=$M13,BD$8<=$N13),IF($F13=\"Sin ajuste\",$D13,\"No\"),\"No\")","v":"No"},"No","No","No","No","No","No","No","No","No","No","No","No","No","No","No","No","No","No","No","No"]
[null,null,null,null,null,null,null,null,null,null,null,null,"","",null,6,"No","No","No","No","No","No","No","No","No","No","No","No","No","No","No","No","No","No","No","No","No","No","No","No","No","No","No","No","No","No","No","No","No","No","No","No","No","No","No","No","No","No","No","No","No","No","No","No","No","No","No","No","No","No","No","No","No","No","No","No"]
[null,null,null,null,null,null,null,null,null,null,null,null,"","",null,7,"No","No","No","No","No","No","No","No","No","No","No","No","No","No","No","No","No","No","No","No","No","No","No","No","No","No","No","No","No","No","No","No","No","No","No","No","No","No","No","No","No","No","No","No","No","No","No","No","No","No","No","No","No","No","No","No","No","No","No","No"]
[null,null,null,null,null,null,null,null,null,null,null,null,"","",null,8,"No","No","No","No","No","No","No","No","No","No","No","No","No","No","No","No","No","No","No","No","No","No","No","No","No","No","No","No","No","No","No","No","No","No","No","No","No","No","No","No","No","No","No","No","No","No","No","No","No","No","No","No","No","No","No","No","No","No","No","No"]
[null,null,null,null,null,null,null,null,null,null,null,null,"","",null,9,"No","No","No","No","No","No","No","No","No","No","No","No","No","No","No","No","No","No","No","No","No","No","No","No","No","No","No","No","No","No","No","No","No","No","No","No","No","No","No","No","No","No","No","No","No","No","No","No","No","No","No","No","No","No","No","No","No","No","No","No"]
[null,null,null,null,null,null,null,null,null,null,null,null,"","",null,10,"No","No","No","No",{"$f":"IF(AND(U$8>=$M18,U$8<=$N18),IF($F18=\"Sin ajuste\",$D18,\"No\"),\"No\")","v":"No"},"No","No","No","No","No","No","No","No","No","No","No","No","No","No","No","No","No","No","No","No","No","No","No","No","No","No","No","No","No","No","No","No","No","No","No","No","No","No","No","No","No","No","No","No","No","No","No","No","No","No","No","No","No","No","No"]
[null,null,null,null,null,null,null,null,null,null,null,null,"","",null,11,"No","No","No","No","No","No","No","No","No","No","No","No","No","No","No","No","No","No","No","No","No","No","No","No","No","No","No","No","No","No","No","No","No","No","No","No","No","No","No","No","No","No","No","No","No","No","No","No","No","No","No","No","No","No","No","No","No","No","No","No"]
[null,null,null,null,null,null,null,null,null,null,null,null,"","",null,12,"No","No","No","No","No","No","No","No","No","No","No","No","No","No","No","No","No","No","No","No","No","No","No","No","No","No","No","No","No","No","No","No","No","No","No","No","No","No","No","No","No","No","No","No","No","No","No","No","No","No","No","No","No","No","No","No","No","No","No","No"]
[null,null,null,null,null,null,null,null,null,null,null,null,"","",null,13,"No","No","No","No","No","No","No","No","No","No","No","No","No","No","No","No","No","No","No","No","No","No","No","No","No","No","No","No","No","No","No","No","No","No","No","No","No","No","No","No","No","No","No","No","No","No","No","No","No","No","No","No","No","No","No","No","No","No","No","No"]
[null,null,null,null,null,null,null,null,null,null,null,null,"","",null,14,"No","No","No","No","No","No","No","No","No","No","No","No","No","No","No","No","No","No","No","No","No","No","No","No","No","No","No",{"$f":"IF(AND(AR$8>=$M22,AR$8<=$N22),IF($F22=\"Sin ajuste\",$D22,\"No\"),\"No\")","v":"No"},"No","No","No","No","No","No","No","No","No","No","No","No","No","No","No","No","No","No","No","No","No","No","No","No","No","No","No","No","No","No","No","No"]
[null,null,null,null,null,null,null,null,null,null,null,null,"","",null,15,"No","No","No","No","No","No","No","No","No","No","No","No","No","No","No","No","No","No","No","No","No","No","No","No","No","No","No","No","No","No","No","No","No","No","No","No","No","No","No","No","No","No","No","No","No","No","No","No","No","No","No","No","No","No","No","No","No","No","No","No"]
[null,null,null,null,null,null,null,null,null,null,null,null,"","",null,16,"No","No","No","No","No","No","No","No","No","No","No","No","No","No","No","No","No","No","No","No","No","No","No","No","No","No","No","No","No","No","No","No","No","No","No","No","No","No","No","No","No","No","No","No","No","No","No","No","No","No","No","No","No","No","No","No","No","No","No","No"]
[null,null,null,null,null,null,null,null,null,null,null,null,"","",null,17,"No","No","No","No","No","No","No","No","No","No","No","No","No","No","No","No","No","No","No","No","No","No","No","No","No","No","No","No","No","No","No","No","No","No","No","No","No","No","No","No","No","No","No","No","No","No","No","No","No","No","No","No","No","No","No","No","No","No","No","No"]
[null,null,null,null,null,null,null,null,null,null,null,null,"","",null,18,"No","No","No","No","No","No","No","No","No","No","No","No","No","No","No","No","No","No","No","No","No","No","No","No","No","No","No","No","No","No","No","No","No","No","No","No","No","No","No","No","No","No","No","No","No","No","No","No","No","No",{"$f":"IF(AND(BO$8>=$M26,BO$8<=$N26),IF($F26=\"Sin ajuste\",$D26,\"No\"),\"No\")","v":"No"},"No","No","No","No","No","No","No","No","No"]
[null,null,null,null,null,null,null,null,null,null,null,null,"","",null,19,"No","No","No","No","No","No","No","No","No","No","No","No","No","No","No","No","No","No","No","No","No","No","No","No","No","No","No","No","No","No","No","No","No","No","No","No","No","No","No","No","No","No","No","No","No","No","No","No","No","No","No","No","No","No","No","No","No","No","No","No"]
[null,null,null,null,null,null,null,null,null,null,null,null,"","",null,20,"No","No","No","No","No","No","No","No","No","No","No","No","No","No","No","No","No","No","No","No","No","No","No","No","No","No","No","No","No","No","No","No","No","No","No","No","No","No","No","No","No","No","No","No","No","No","No","No","No","No","No","No","No","No","No","No","No","No","No","No"]
[null,null,null,null,null,null,null,null,null,null,null,null,"","",null,21,"No","No","No","No","No","No","No","No","No","No","No","No","No","No","No","No","No","No","No","No","No","No","No","No","No","No","No","No","No","No","No","No","No","No","No","No","No","No","No","No","No","No","No","No","No","No","No","No","No","No","No","No","No","No","No","No","No","No","No","No"]
[null,null,null,null,null,null,null,null,null,null,null,null,"","",null,22,"No","No","No","No","No","No","No","No","No","No","No","No","No","No","No","No","No","No","No","No","No","No","No","No","No","No","No","No","No","No","No","No","No","No","No","No","No","No","No","No","No","No","No","No","No","No","No","No","No","No","No","No","No","No","No","No","No","No","No","No"]
[null,null,null,null,null,null,null,null,null,null,null,null,"","",null,23,"No","No","No","No","No","No","No","No","No","No","No","No","No","No","No",{"$f":"IF(AND(AF$8>=$M31,AF$8<=$N31),IF($F31=\"Sin ajuste\",$D31,\"No\"),\"No\")","v":"No"},"No","No","No","No","No","No","No","No","No","No","No","No","No","No","No","No","No","No","No","No","No","No","No","No","No","No","No","No","No","No","No","No","No","No","No","No","No","No","No","No","No","No","No","No"]
[null,null,null,null,null,null,null,null,null,null,null,null,"","",null,24,"No","No","No","No","No","No","No","No","No","No","No","No","No","No","No","No","No","No","No","No","No","No","No","No","No","No","No","No","No","No","No","No","No","No","No","No","No","No","No","No","No","No","No","No","No","No","No","No","No","No","No","No","No","No","No","No","No","No","No","No"]
[null,null,null,null,null,null,null,null,null,null,null,null,"","",null,25,"No","No","No","No","No","No","No","No","No","No","No","No","No","No","No","No","No","No","No","No","No","No","No","No","No","No","No","No","No","No","No","No","No","No","No","No","No","No","No","No","No","No","No","No","No","No","No","No","No","No","No","No","No","No","No","No","No","No","No","No"]
[null,null,null,null,null,null,null,null,null,null,null,null,"","",null,26,"No","No","No","No","No","No","No","No","No","No","No","No","No","No","No","No","No","No","No","No","No","No","No","No","No","No","No","No","No","No","No","No","No","No","No","No","No","No","No","No","No","No","No","No","No","No","No","No","No","No","No","No","No","No","No","No","No","No","No","No"]
[null,null,null,null,null,null,null,null,null,null,null,null,"","",null,27,"No","No","No","No","No","No","No","No","No","No","No","No","No","No","No","No","No","No","No","No","No","No","No","No","No","No","No","No","No","No","No","No","No","No","No","No","No","No",{"$f":"IF(AND(BC$8>=$M35,BC$8<=$N35),IF($F35=\"Sin ajuste\",$D35,\"No\"),\"No\")","v":"No"},"No","No","No","No","No","No","No","No","No","No","No","No","No","No","No","No","No","No","No","No","No"]
[null,null,null,null,null,null,null,null,null,null,null,null,"","",null,28,"No","No","No","No","No","No","No","No","No","No","No","No","No","No","No","No","No","No","No","No","No","No","No","No","No","No","No","No","No","No","No","No","No","No","No","No","No","No","No","No","No","No","No","No","No","No","No","No","No","No","No","No","No","No","No","No","No","No","No","No"]
[null,null,null,null,null,null,null,null,null,null,null,null,"","",null,29,"No","No","No","No","No","No","No","No","No","No","No","No","No","No","No","No","No","No","No","No","No","No","No","No","No","No","No","No","No","No","No","No","No","No","No","No","No","No","No","No","No","No","No","No","No","No","No","No","No","No","No","No","No","No","No","No","No","No","No","No"]
[null,null,null,null,null,null,null,null,null,null,null,null,"","",null,30,"No","No","No","No","No","No","No","No","No","No","No","No","No","No","No","No","No","No","No","No","No","No","No","No","No","No","No","No","No","No","No","No","No","No","No","No","No","No","No","No","No","No","No","No","No","No","No","No","No","No","No","No","No","No","No","No","No","No","No","No"]
[null,null,null,null,null,null,null,null,null,null,null,null,null,null,null,null,"la","la","la","la","la","la","la","la","la","la","la","la","la","la","la","la","la","la","la","la","la","la","la","la","la","la","la","la","la","la","la","la","la","la","la","la","la","la","la","la","la","la","la","la","la","la","la","la","la","la","la","la","la","la","la","la","la","la","la","la",null,null,null,"JAN2017","FEV2017","MAR2017","ABR2017","MAI2017","JUN2017","JUL2017","AGO2017","SET2017","OUT2017","NOV2017","DEZ2017","JAN2018","FEV2018","MAR2018","ABR2018","MAI2018","JUN2018","JUL2018","AGO2018","SET2018","OUT2018","NOV2018","DEZ2018","JAN2019","FEV2019","MAR2019","ABR2019","MAI2019","JUN2019","JUL2019","AGO2019","SET2019","OUT2019","NOV2019","DEZ2019","JAN2020","FEV2020","MAR2020","ABR2020","MAI2020","JUN2020","JUL2020","AGO2020","SET2020","OUT2020","NOV2020","DEZ2020","JAN2021","FEV2021","MAR2021","ABR2021","MAI2021","JUN2021","JUL2021","AGO2021","SET2021","OUT2021","NOV2021","DEZ2021"]
[null,null,null,null,null,null,null,null,null,null,null,null,null,null,null,"mensual",1,2,3,4,5,6,7,8,9,10,11,12,13,14,15,16,17,18,19,20,21,22,23,24,25,26,27,28,29,30,31,32,33,34,35,36,37,38,39,40,41,42,43,44,45,46,47,48,49,50,51,52,53,54,55,56,57,58,59,60,null,"reajuste","mensual",1,2,3,4,5,6,7,8,9,10,11,12,13,14,15,16,17,18,19,20,21,22,23,24,25,26,27,28,29,30,31,32,33,34,35,36,37,38,39,40,41,42,43,44,45,46,47,48,49,50,51,52,53,54,55,56,57,58,59,60]
[null,null,null,null,null,null,null,null,null,null,null,null,null,null,null,1,{"$f":"IF(AND(Q$8>=$M9,Q$8<=$N9),IF($F9=\"Mensual\",$D9,\"No\"),\"No\")","v":"No"},{"$f":"IF(AND(R$8>=$M9,R$8<=$N9),IF($F9=\"Mensual\",$D9,\"No\"),\"No\")","v":"No"},"No","No","No","No",19000,19000,19000,19000,19000,19000,19000,19000,19000,19000,19000,19000,19000,19000,19000,19000,19000,19000,19000,19000,19000,19000,19000,19000,19000,19000,19000,19000,19000,19000,19000,19000,19000,19000,19000,19000,19000,19000,19000,19000,19000,19000,19000,19000,19000,19000,19000,19000,19000,"No","No","No","No","No",null,null,1,{"$f":"Q41","v":"No"},{"$f":"IF(R41=\"Não\",R41,IF(AND(CB41=\"Não\",R41<>\"Não\"),R41,CB41*(1+$E9)))","v":{"$error":"#VALUE!"}},{"$error":"#VALUE!"},{"$error":"#VALUE!"},{"$f":"IF(U41=\"Não\",U41,IF(AND(CE41=\"Não\",U41<>\"Não\"),U41,CE41*(1+$E9)))","v":{"$error":"#VALUE!"}},{"$f":"IF(V41=\"Não\",V41,IF(AND(CF41=\"Não\",V41<>\"Não\"),V41,CF41*(1+$E9)))","v":{"$error":"#VALUE!"}},{"$f":"IF(W41=\"Não\",W41,IF(AND(CG41=\"Não\",W41<>\"Não\"),W41,CG41*(1+$E9)))","v":{"$error":"#VALUE!"}},{"$f":"IF(X41=\"Não\",X41,IF(AND(CH41=\"Não\",X41<>\"Não\"),X41,CH41*(1+$E9)))","v":{"$error":"#VALUE!"}},{"$f":"IF(Y41=\"Não\",Y41,IF(AND(CI41=\"Não\",Y41<>\"Não\"),Y41,CI41*(1+$E9)))","v":{"$error":"#VALUE!"}},{"$f":"IF(Z41=\"Não\",Z41,IF(AND(CJ41=\"Não\",Z41<>\"Não\"),Z41,CJ41*(1+$E9)))","v":{"$error":"#VALUE!"}},{"$f":"IF(AA41=\"Não\",AA41,IF(AND(CK41=\"Não\",AA41<>\"Não\"),AA41,CK41*(1+$E9)))","v":{"$error":"#VALUE!"}},{"$f":"IF(AB41=\"Não\",AB41,IF(AND(CL41=\"Não\",AB41<>\"Não\"),AB41,CL41*(1+$E9)))","v":{"$error":"#VALUE!"}},{"$f":"IF(AC41=\"Não\",AC41,IF(AND(CM41=\"Não\",AC41<>\"Não\"),AC41,CM41*(1+$E9)))","v":{"$error":"#VALUE!"}},{"$f":"IF(AD41=\"Não\",AD41,IF(AND(CN41=\"Não\",AD41<>\"Não\"),AD41,CN41*(1+$E9)))","v":{"$error":"#VALUE!"}},{"$f":"IF(AE41=\"Não\",AE41,IF(AND(CO41=\"Não\",AE41<>\"Não\"),AE41,CO41*(1+$E9)))","v":{"$error":"#VALUE!"}},{"$f":"IF(AF41=\"Não\",AF41,IF(AND(CP41=\"Não\",AF41<>\"Não\"),AF41,CP41*(1+$E9)))","v":{"$error":"#VALUE!"}},{"$f":"IF(AG41=\"Não\",AG41,IF(AND(CQ41=\"Não\",AG41<>\"Não\"),AG41,CQ41*(1+$E9)))","v":{"$error":"#VALUE!"}},{"$f":"IF(AH41=\"Não\",AH41,IF(AND(CR41=\"Não\",AH41<>\"Não\"),AH41,CR41*(1+$E9)))","v":{"$error":"#VALUE!"}},{"$f":"IF(AI41=\"Não\",AI41,IF(AND(CS41=\"Não\",AI41<>\"Não\"),AI41,CS41*(1+$E9)))","v":{"$error":"#VALUE!"}},{"$f":"IF(AJ41=\"Não\",AJ41,IF(AND(CT41=\"Não\",AJ41<>\"Não\"),AJ41,CT41*(1+$E9)))","v":{"$error":"#VALUE!"}},{"$f":"IF(AK41=\"Não\",AK41,IF(AND(CU41=\"Não\",AK41<>\"Não\"),AK41,CU41*(1+$E9)))","v":{"$error":"#VALUE!"}},{"$f":"IF(AL41=\"Não\",AL41,IF(AND(CV41=\"Não\",AL41<>\"Não\"),AL41,CV41*(1+$E9)))","v":{"$error":"#VALUE!"}},{"$f":"IF(AM41=\"Não\",AM41,IF(AND(CW41=\"Não\",AM41<>\"Não\"),AM41,CW41*(1+$E9)))","v":{"$error":"#VALUE!"}},{"$f":"IF(AN41=\"Não\",AN41,IF(AND(CX41=\"Não\",AN41<>\"Não\"),AN41,CX41*(1+$E9)))","v":{"$error":"#VALUE!"}},{"$f":"IF(AO41=\"Não\",AO41,IF(AND(CY41=\"Não\",AO41<>\"Não\"),AO41,CY41*(1+$E9)))","v":{"$error":"#VALUE!"}},{"$f":"IF(AP41=\"Não\",AP41,IF(AND(CZ41=\"Não\",AP41<>\"Não\"),AP41,CZ41*(1+$E9)))","v":{"$error":"#VALUE!"}},{"$f":"IF(AQ41=\"Não\",AQ41,IF(AND(DA41=\"Não\",AQ41<>\"Não\"),AQ41,DA41*(1+$E9)))","v":{"$error":"#VALUE!"}},{"$f":"IF(AR41=\"Não\",AR41,IF(AND(DB41=\"Não\",AR41<>\"Não\"),AR41,DB41*(1+$E9)))","v":{"$error":"#VALUE!"}},{"$f":"IF(AS41=\"Não\",AS41,IF(AND(DC41=\"Não\",AS41<>\"Não\"),AS41,DC41*(1+$E9)))","v":{"$error":"#VALUE!"}},{"$f":"IF(AT41=\"Não\",AT41,IF(AND(DD41=\"Não\",AT41<>\"Não\"),AT41,DD41*(1+$E9)))","v":{"$error":"#VALUE!"}},{"$f":"IF(AU41=\"Não\",AU41,IF(AND(DE41=\"Não\",AU41<>\"Não\"),AU41,DE41*(1+$E9)))","v":{"$error":"#VALUE!"}},{"$f":"IF(AV41=\"Não\",AV41,IF(AND(DF41=\"Não\",AV41<>\"Não\"),AV41,DF41*(1+$E9)))","v":{"$error":"#VALUE!"}},{"$f":"IF(AW41=\"Não\",AW41,IF(AND(DG41=\"Não\",AW41<>\"Não\"),AW41,DG41*(1+$E9)))","v":{"$error":"#VALUE!"}},{"$f":"IF(AX41=\"Não\",AX41,IF(AND(DH41=\"Não\",AX41<>\"Não\"),AX41,DH41*(1+$E9)))","v":{"$error":"#VALUE!"}},{"$f":"IF(AY41=\"Não\",AY41,IF(AND(DI41=\"Não\",AY41<>\"Não\"),AY41,DI41*(1+$E9)))","v":{"$error":"#VALUE!"}},{"$f":"IF(AZ41=\"Não\",AZ41,IF(AND(DJ41=\"Não\",AZ41<>\"Não\"),AZ41,DJ41*(1+$E9)))","v":{"$error":"#VALUE!"}},{"$f":"IF(BA41=\"Não\",BA41,IF(AND(DK41=\"Não\",BA41<>\"Não\"),BA41,DK41*(1+$E9)))","v":{"$error":"#VALUE!"}},{"$f":"IF(BB41=\"Não\",BB41,IF(AND(DL41=\"Não\",BB41<>\"Não\"),BB41,DL41*(1+$E9)))","v":{"$error":"#VALUE!"}},{"$f":"IF(BC41=\"Não\",BC41,IF(AND(DM41=\"Não\",BC41<>\"Não\"),BC41,DM41*(1+$E9)))","v":{"$error":"#VALUE!"}},{"$f":"IF(BD41=\"Não\",BD41,IF(AND(DN41=\"Não\",BD41<>\"Não\"),BD41,DN41*(1+$E9)))","v":{"$error":"#VALUE!"}},{"$f":"IF(BE41=\"Não\",BE41,IF(AND(DO41=\"Não\",BE41<>\"Não\"),BE41,DO41*(1+$E9)))","v":{"$error":"#VALUE!"}},{"$f":"IF(BF41=\"Não\",BF41,IF(AND(DP41=\"Não\",BF41<>\"Não\"),BF41,DP41*(1+$E9)))","v":{"$error":"#VALUE!"}},{"$f":"IF(BG41=\"Não\",BG41,IF(AND(DQ41=\"Não\",BG41<>\"Não\"),BG41,DQ41*(1+$E9)))","v":{"$error":"#VALUE!"}},{"$f":"IF(BH41=\"Não\",BH41,IF(AND(DR41=\"Não\",BH41<>\"Não\"),BH41,DR41*(1+$E9)))","v":{"$error":"#VALUE!"}},{"$f":"IF(BI41=\"Não\",BI41,IF(AND(DS41=\"Não\",BI41<>\"Não\"),BI41,DS41*(1+$E9)))","v":{"$error":"#VALUE!"}},{"$f":"IF(BJ41=\"Não\",BJ41,IF(AND(DT41=\"Não\",BJ41<>\"Não\"),BJ41,DT41*(1+$E9)))","v":{"$error":"#VALUE!"}},{"$f":"IF(BK41=\"Não\",BK41,IF(AND(DU41=\"Não\",BK41<>\"Não\"),BK41,DU41*(1+$E9)))","v":{"$error":"#VALUE!"}},{"$f":"IF(BL41=\"Não\",BL41,IF(AND(DV41=\"Não\",BL41<>\"Não\"),BL41,DV41*(1+$E9)))","v":{"$error":"#VALUE!"}},{"$f":"IF(BM41=\"Não\",BM41,IF(AND(DW41=\"Não\",BM41<>\"Não\"),BM41,DW41*(1+$E9)))","v":{"$error":"#VALUE!"}},{"$f":"IF(BN41=\"Não\",BN41,IF(AND(DX41=\"Não\",BN41<>\"Não\"),BN41,DX41*(1+$E9)))","v":{"$error":"#VALUE!"}},{"$f":"IF(BO41=\"Não\",BO41,IF(AND(DY41=\"Não\",BO41<>\"Não\"),BO41,DY41*(1+$E9)))","v":{"$error":"#VALUE!"}},{"$f":"IF(BP41=\"Não\",BP41,IF(AND(DZ41=\"Não\",BP41<>\"Não\"),BP41,DZ41*(1+$E9)))","v":{"$error":"#VALUE!"}},{"$f":"IF(BQ41=\"Não\",BQ41,IF(AND(EA41=\"Não\",BQ41<>\"Não\"),BQ41,EA41*(1+$E9)))","v":{"$error":"#VALUE!"}},{"$f":"IF(BR41=\"Não\",BR41,IF(AND(EB41=\"Não\",BR41<>\"Não\"),BR41,EB41*(1+$E9)))","v":{"$error":"#VALUE!"}},{"$f":"IF(BS41=\"Não\",BS41,IF(AND(EC41=\"Não\",BS41<>\"Não\"),BS41,EC41*(1+$E9)))","v":{"$error":"#VALUE!"}},{"$f":"IF(BT41=\"Não\",BT41,IF(AND(ED41=\"Não\",BT41<>\"Não\"),BT41,ED41*(1+$E9)))","v":{"$error":"#VALUE!"}},{"$f":"IF(BU41=\"Não\",BU41,IF(AND(EE41=\"Não\",BU41<>\"Não\"),BU41,EE41*(1+$E9)))","v":{"$error":"#VALUE!"}},{"$f":"IF(BV41=\"Não\",BV41,IF(AND(EF41=\"Não\",BV41<>\"Não\"),BV41,EF41*(1+$E9)))","v":{"$error":"#VALUE!"}},{"$f":"IF(BW41=\"Não\",BW41,IF(AND(EG41=\"Não\",BW41<>\"Não\"),BW41,EG41*(1+$E9)))","v":{"$error":"#VALUE!"}},{"$f":"IF(BX41=\"Não\",BX41,IF(AND(EH41=\"Não\",BX41<>\"Não\"),BX41,EH41*(1+$E9)))","v":{"$error":"#VALUE!"}}]
[null,null,null,null,null,null,null,null,null,null,null,null,null,null,null,2,{"$f":"IF(AND(Q$8>=$M10,Q$8<=$N10),IF($F10=\"Mensual\",$D10,\"No\"),\"No\")","v":"No"},"No","No","No","No","No",0,0,0,0,0,0,0,0,0,0,0,0,0,0,0,0,0,0,0,0,0,0,0,0,0,0,0,0,0,0,0,0,0,0,0,0,0,0,0,0,0,0,0,0,0,0,0,0,0,"No","No","No","No","No",null,null,2,"No",{"$error":"#VALUE!"},{"$error":"#VALUE!"},{"$error":"#VALUE!"},{"$f":"IF(U42=\"Não\",U42,IF(AND(CE42=\"Não\",U42<>\"Não\"),U42,CE42*(1+$E10)))","v":{"$error":"#VALUE!"}},{"$error":"#VALUE!"},{"$error":"#VALUE!"},{"$error":"#VALUE!"},{"$error":"#VALUE!"},{"$error":"#VALUE!"},{"$error":"#VALUE!"},{"$error":"#VALUE!"},{"$error":"#VALUE!"},{"$error":"#VALUE!"},{"$error":"#VALUE!"},{"$error":"#VALUE!"},{"$error":"#VALUE!"},{"$error":"#VALUE!"},{"$error":"#VALUE!"},{"$error":"#VALUE!"},{"$error":"#VALUE!"},{"$error":"#VALUE!"},{"$error":"#VALUE!"},{"$error":"#VALUE!"},{"$error":"#VALUE!"},{"$error":"#VALUE!"},{"$error":"#VALUE!"},{"$error":"#VALUE!"},{"$error":"#VALUE!"},{"$error":"#VALUE!"},{"$error":"#VALUE!"},{"$error":"#VALUE!"},{"$error":"#VALUE!"},{"$error":"#VALUE!"},{"$error":"#VALUE!"},{"$error":"#VALUE!"},{"$error":"#VALUE!"},{"$error":"#VALUE!"},{"$error":"#VALUE!"},{"$error":"#VALUE!"},{"$error":"#VALUE!"},{"$error":"#VALUE!"},{"$error":"#VALUE!"},{"$error":"#VALUE!"},{"$error":"#VALUE!"},{"$error":"#VALUE!"},{"$error":"#VALUE!"},{"$error":"#VALUE!"},{"$error":"#VALUE!"},{"$error":"#VALUE!"},{"$error":"#VALUE!"},{"$error":"#VALUE!"},{"$error":"#VALUE!"},{"$error":"#VALUE!"},{"$error":"#VALUE!"},{"$error":"#VALUE!"},{"$error":"#VALUE!"},{"$error":"#VALUE!"},{"$error":"#VALUE!"},{"$error":"#VALUE!"}]
[null,null,null,null,null,null,null,null,null,null,null,null,null,null,null,3,"No","No","No","No","No","No",3000,3000,3000,3000,3000,3000,3000,3000,3000,3000,3000,3000,3000,3000,3000,3000,3000,3000,3000,3000,3000,3000,3000,3000,3000,3000,3000,3000,3000,3000,3000,3000,3000,3000,3000,3000,3000,3000,3000,3000,3000,3000,3000,3000,3000,3000,3000,3000,3000,"No","No","No","No","No",null,null,3,"No",{"$f":"IF(R43=\"Não\",R43,IF(AND(CB43=\"Não\",R43<>\"Não\"),R43,CB43*(1+$E11)))","v":{"$error":"#VALUE!"}},{"$error":"#VALUE!"},{"$error":"#VALUE!"},{"$f":"IF(U43=\"Não\",U43,IF(AND(CE43=\"Não\",U43<>\"Não\"),U43,CE43*(1+$E11)))","v":{"$error":"#VALUE!"}},{"$f":"IF(V43=\"Não\",V43,IF(AND(CF43=\"Não\",V43<>\"Não\"),V43,CF43*(1+$E11)))","v":{"$error":"#VALUE!"}},{"$f":"IF(W43=\"Não\",W43,IF(AND(CG43=\"Não\",W43<>\"Não\"),W43,CG43*(1+$E11)))","v":{"$error":"#VALUE!"}},{"$f":"IF(X43=\"Não\",X43,IF(AND(CH43=\"Não\",X43<>\"Não\"),X43,CH43*(1+$E11)))","v":{"$error":"#VALUE!"}},{"$f":"IF(Y43=\"Não\",Y43,IF(AND(CI43=\"Não\",Y43<>\"Não\"),Y43,CI43*(1+$E11)))","v":{"$error":"#VALUE!"}},{"$f":"IF(Z43=\"Não\",Z43,IF(AND(CJ43=\"Não\",Z43<>\"Não\"),Z43,CJ43*(1+$E11)))","v":{"$error":"#VALUE!"}},{"$f":"IF(AA43=\"Não\",AA43,IF(AND(CK43=\"Não\",AA43<>\"Não\"),AA43,CK43*(1+$E11)))","v":{"$error":"#VALUE!"}},{"$f":"IF(AB43=\"Não\",AB43,IF(AND(CL43=\"Não\",AB43<>\"Não\"),AB43,CL43*(1+$E11)))","v":{"$error":"#VALUE!"}},{"$f":"IF(AC43=\"Não\",AC43,IF(AND(CM43=\"Não\",AC43<>\"Não\"),AC43,CM43*(1+$E11)))","v":{"$error":"#VALUE!"}},{"$f":"IF(AD43=\"Não\",AD43,IF(AND(CN43=\"Não\",AD43<>\"Não\"),AD43,CN43*(1+$E11)))","v":{"$error":"#VALUE!"}},{"$f":"IF(AE43=\"Não\",AE43,IF(AND(CO43=\"Não\",AE43<>\"Não\"),AE43,CO43*(1+$E11)))","v":{"$error":"#VALUE!"}},{"$f":"IF(AF43=\"Não\",AF43,IF(AND(CP43=\"Não\",AF43<>\"Não\"),AF43,CP43*(1+$E11)))","v":{"$error":"#VALUE!"}},{"$f":"IF(AG43=\"Não\",AG43,IF(AND(CQ43=\"Não\",AG43<>\"Não\"),AG43,CQ43*(1+$E11)))","v":{"$error":"#VALUE!"}},{"$f":"IF(AH43=\"Não\",AH43,IF(AND(CR43=\"Não\",AH43<>\"Não\"),AH43,CR43*(1+$E11)))","v":{"$error":"#VALUE!"}},{"$f":"IF(AI43=\"Não\",AI43,IF(AND(CS43=\"Não\",AI43<>\"Não\"),AI43,CS43*(1+$E11)))","v":{"$error":"#VALUE!"}},{"$f":"IF(AJ43=\"Não\",AJ43,IF(AND(CT43=\"Não\",AJ43<>\"Não\"),AJ43,CT43*(1+$E11)))","v":{"$error":"#VALUE!"}},{"$f":"IF(AK43=\"Não\",AK43,IF(AND(CU43=\"Não\",AK43<>\"Não\"),AK43,CU43*(1+$E11)))","v":{"$error":"#VALUE!"}},{"$f":"IF(AL43=\"Não\",AL43,IF(AND(CV43=\"Não\",AL43<>\"Não\"),AL43,CV43*(1+$E11)))","v":{"$error":"#VALUE!"}},{"$f":"IF(AM43=\"Não\",AM43,IF(AND(CW43=\"Não\",AM43<>\"Não\"),AM43,CW43*(1+$E11)))","v":{"$error":"#VALUE!"}},{"$f":"IF(AN43=\"Não\",AN43,IF(AND(CX43=\"Não\",AN43<>\"Não\"),AN43,CX43*(1+$E11)))","v":{"$error":"#VALUE!"}},{"$f":"IF(AO43=\"Não\",AO43,IF(AND(CY43=\"Não\",AO43<>\"Não\"),AO43,CY43*(1+$E11)))","v":{"$error":"#VALUE!"}},{"$f":"IF(AP43=\"Não\",AP43,IF(AND(CZ43=\"Não\",AP43<>\"Não\"),AP43,CZ43*(1+$E11)))","v":{"$error":"#VALUE!"}},{"$f":"IF(AQ43=\"Não\",AQ43,IF(AND(DA43=\"Não\",AQ43<>\"Não\"),AQ43,DA43*(1+$E11)))","v":{"$error":"#VALUE!"}},{"$f":"IF(AR43=\"Não\",AR43,IF(AND(DB43=\"Não\",AR43<>\"Não\"),AR43,DB43*(1+$E11)))","v":{"$error":"#VALUE!"}},{"$f":"IF(AS43=\"Não\",AS43,IF(AND(DC43=\"Não\",AS43<>\"Não\"),AS43,DC43*(1+$E11)))","v":{"$error":"#VALUE!"}},{"$f":"IF(AT43=\"Não\",AT43,IF(AND(DD43=\"Não\",AT43<>\"Não\"),AT43,DD43*(1+$E11)))","v":{"$error":"#VALUE!"}},{"$f":"IF(AU43=\"Não\",AU43,IF(AND(DE43=\"Não\",AU43<>\"Não\"),AU43,DE43*(1+$E11)))","v":{"$error":"#VALUE!"}},{"$f":"IF(AV43=\"Não\",AV43,IF(AND(DF43=\"Não\",AV43<>\"Não\"),AV43,DF43*(1+$E11)))","v":{"$error":"#VALUE!"}},{"$f":"IF(AW43=\"Não\",AW43,IF(AND(DG43=\"Não\",AW43<>\"Não\"),AW43,DG43*(1+$E11)))","v":{"$error":"#VALUE!"}},{"$f":"IF(AX43=\"Não\",AX43,IF(AND(DH43=\"Não\",AX43<>\"Não\"),AX43,DH43*(1+$E11)))","v":{"$error":"#VALUE!"}},{"$f":"IF(AY43=\"Não\",AY43,IF(AND(DI43=\"Não\",AY43<>\"Não\"),AY43,DI43*(1+$E11)))","v":{"$error":"#VALUE!"}},{"$f":"IF(AZ43=\"Não\",AZ43,IF(AND(DJ43=\"Não\",AZ43<>\"Não\"),AZ43,DJ43*(1+$E11)))","v":{"$error":"#VALUE!"}},{"$f":"IF(BA43=\"Não\",BA43,IF(AND(DK43=\"Não\",BA43<>\"Não\"),BA43,DK43*(1+$E11)))","v":{"$error":"#VALUE!"}},{"$f":"IF(BB43=\"Não\",BB43,IF(AND(DL43=\"Não\",BB43<>\"Não\"),BB43,DL43*(1+$E11)))","v":{"$error":"#VALUE!"}},{"$f":"IF(BC43=\"Não\",BC43,IF(AND(DM43=\"Não\",BC43<>\"Não\"),BC43,DM43*(1+$E11)))","v":{"$error":"#VALUE!"}},{"$f":"IF(BD43=\"Não\",BD43,IF(AND(DN43=\"Não\",BD43<>\"Não\"),BD43,DN43*(1+$E11)))","v":{"$error":"#VALUE!"}},{"$f":"IF(BE43=\"Não\",BE43,IF(AND(DO43=\"Não\",BE43<>\"Não\"),BE43,DO43*(1+$E11)))","v":{"$error":"#VALUE!"}},{"$f":"IF(BF43=\"Não\",BF43,IF(AND(DP43=\"Não\",BF43<>\"Não\"),BF43,DP43*(1+$E11)))","v":{"$error":"#VALUE!"}},{"$f":"IF(BG43=\"Não\",BG43,IF(AND(DQ43=\"Não\",BG43<>\"Não\"),BG43,DQ43*(1+$E11)))","v":{"$error":"#VALUE!"}},{"$f":"IF(BH43=\"Não\",BH43,IF(AND(DR43=\"Não\",BH43<>\"Não\"),BH43,DR43*(1+$E11)))","v":{"$error":"#VALUE!"}},{"$f":"IF(BI43=\"Não\",BI43,IF(AND(DS43=\"Não\",BI43<>\"Não\"),BI43,DS43*(1+$E11)))","v":{"$error":"#VALUE!"}},{"$f":"IF(BJ43=\"Não\",BJ43,IF(AND(DT43=\"Não\",BJ43<>\"Não\"),BJ43,DT43*(1+$E11)))","v":{"$error":"#VALUE!"}},{"$f":"IF(BK43=\"Não\",BK43,IF(AND(DU43=\"Não\",BK43<>\"Não\"),BK43,DU43*(1+$E11)))","v":{"$error":"#VALUE!"}},{"$f":"IF(BL43=\"Não\",BL43,IF(AND(DV43=\"Não\",BL43<>\"Não\"),BL43,DV43*(1+$E11)))","v":{"$error":"#VALUE!"}},{"$f":"IF(BM43=\"Não\",BM43,IF(AND(DW43=\"Não\",BM43<>\"Não\"),BM43,DW43*(1+$E11)))","v":{"$error":"#VALUE!"}},{"$f":"IF(BN43=\"Não\",BN43,IF(AND(DX43=\"Não\",BN43<>\"Não\"),BN43,DX43*(1+$E11)))","v":{"$error":"#VALUE!"}},{"$f":"IF(BO43=\"Não\",BO43,IF(AND(DY43=\"Não\",BO43<>\"Não\"),BO43,DY43*(1+$E11)))","v":{"$error":"#VALUE!"}},{"$f":"IF(BP43=\"Não\",BP43,IF(AND(DZ43=\"Não\",BP43<>\"Não\"),BP43,DZ43*(1+$E11)))","v":{"$error":"#VALUE!"}},{"$f":"IF(BQ43=\"Não\",BQ43,IF(AND(EA43=\"Não\",BQ43<>\"Não\"),BQ43,EA43*(1+$E11)))","v":{"$error":"#VALUE!"}},{"$f":"IF(BR43=\"Não\",BR43,IF(AND(EB43=\"Não\",BR43<>\"Não\"),BR43,EB43*(1+$E11)))","v":{"$error":"#VALUE!"}},{"$f":"IF(BS43=\"Não\",BS43,IF(AND(EC43=\"Não\",BS43<>\"Não\"),BS43,EC43*(1+$E11)))","v":{"$error":"#VALUE!"}},{"$f":"IF(BT43=\"Não\",BT43,IF(AND(ED43=\"Não\",BT43<>\"Não\"),BT43,ED43*(1+$E11)))","v":{"$error":"#VALUE!"}},{"$f":"IF(BU43=\"Não\",BU43,IF(AND(EE43=\"Não\",BU43<>\"Não\"),BU43,EE43*(1+$E11)))","v":{"$error":"#VALUE!"}},{"$f":"IF(BV43=\"Não\",BV43,IF(AND(EF43=\"Não\",BV43<>\"Não\"),BV43,EF43*(1+$E11)))","v":{"$error":"#VALUE!"}},{"$f":"IF(BW43=\"Não\",BW43,IF(AND(EG43=\"Não\",BW43<>\"Não\"),BW43,EG43*(1+$E11)))","v":{"$error":"#VALUE!"}},{"$f":"IF(BX43=\"Não\",BX43,IF(AND(EH43=\"Não\",BX43<>\"Não\"),BX43,EH43*(1+$E11)))","v":{"$error":"#VALUE!"}}]
[null,null,null,null,null,null,null,null,null,null,null,null,null,null,null,4,"No","No","No","No","No","No",2500,2500,2500,2500,2500,2500,2500,2500,2500,2500,2500,2500,2500,2500,2500,2500,2500,2500,2500,2500,2500,2500,2500,2500,2500,2500,2500,2500,2500,2500,2500,2500,2500,2500,2500,2500,2500,2500,2500,2500,2500,2500,2500,2500,2500,2500,2500,2500,2500,"No","No","No","No","No",null,null,4,"No",{"$f":"IF(R44=\"Não\",R44,IF(AND(CB44=\"Não\",R44<>\"Não\"),R44,CB44*(1+$E12)))","v":{"$error":"#VALUE!"}},{"$error":"#VALUE!"},{"$error":"#VALUE!"},{"$error":"#VALUE!"},{"$error":"#VALUE!"},{"$error":"#VALUE!"},{"$error":"#VALUE!"},{"$error":"#VALUE!"},{"$error":"#VALUE!"},{"$error":"#VALUE!"},{"$error":"#VALUE!"},{"$error":"#VALUE!"},{"$error":"#VALUE!"},{"$error":"#VALUE!"},{"$error":"#VALUE!"},{"$error":"#VALUE!"},{"$error":"#VALUE!"},{"$error":"#VALUE!"},{"$error":"#VALUE!"},{"$error":"#VALUE!"},{"$error":"#VALUE!"},{"$error":"#VALUE!"},{"$error":"#VALUE!"},{"$error":"#VALUE!"},{"$error":"#VALUE!"},{"$error":"#VALUE!"},{"$error":"#VALUE!"},{"$error":"#VALUE!"},{"$error":"#VALUE!"},{"$error":"#VALUE!"},{"$error":"#VALUE!"},{"$error":"#VALUE!"},{"$error":"#VALUE!"},{"$error":"#VALUE!"},{"$error":"#VALUE!"},{"$error":"#VALUE!"},{"$error":"#VALUE!"},{"$error":"#VALUE!"},{"$error":"#VALUE!"},{"$error":"#VALUE!"},{"$error":"#VALUE!"},{"$error":"#VALUE!"},{"$error":"#VALUE!"},{"$error":"#VALUE!"},{"$error":"#VALUE!"},{"$error":"#VALUE!"},{"$error":"#VALUE!"},{"$error":"#VALUE!"},{"$error":"#VALUE!"},{"$error":"#VALUE!"},{"$error":"#VALUE!"},{"$error":"#VALUE!"},{"$error":"#VALUE!"},{"$error":"#VALUE!"},{"$error":"#VALUE!"},{"$error":"#VALUE!"},{"$error":"#VALUE!"},{"$error":"#VALUE!"},{"$error":"#VALUE!"}]
[null,null,null,null,null,null,null,null,null,null,null,null,null,null,null,5,"No","No","No","No","No","No","No","No","No","No","No","No","No","No","No","No","No","No","No","No","No","No","No","No","No","No","No","No","No","No","No","No","No","No","No",{"$f":"IF(AND(AZ$8>=$M13,AZ$8<=$N13),IF($F13=\"Mensual\",$D13,\"No\"),\"No\")","v":"No"},"No","No","No","No","No","No","No","No","No","No","No","No","No","No","No","No","No","No","No","No","No","No","No","No",null,null,5,"No",{"$f":"IF(R45=\"Não\",R45,IF(AND(CB45=\"Não\",R45<>\"Não\"),R45,CB45*(1+$E13)))","v":{"$error":"#VALUE!"}},{"$error":"#VALUE!"},{"$error":"#VALUE!"},{"$error":"#VALUE!"},{"$error":"#VALUE!"},{"$error":"#VALUE!"},{"$error":"#VALUE!"},{"$error":"#VALUE!"},{"$error":"#VALUE!"},{"$error":"#VALUE!"},{"$error":"#VALUE!"},{"$error":"#VALUE!"},{"$error":"#VALUE!"},{"$error":"#VALUE!"},{"$error":"#VALUE!"},{"$error":"#VALUE!"},{"$error":"#VALUE!"},{"$error":"#VALUE!"},{"$error":"#VALUE!"},{"$error":"#VALUE!"},{"$error":"#VALUE!"},{"$error":"#VALUE!"},{"$error":"#VALUE!"},{"$error":"#VALUE!"},{"$error":"#VALUE!"},{"$error":"#VALUE!"},{"$error":"#VALUE!"},{"$error":"#VALUE!"},{"$error":"#VALUE!"},{"$error":"#VALUE!"},{"$error":"#VALUE!"},{"$error":"#VALUE!"},{"$error":"#VALUE!"},{"$error":"#VALUE!"},{"$error":"#VALUE!"},{"$error":"#VALUE!"},{"$error":"#VALUE!"},{"$error":"#VALUE!"},{"$error":"#VALUE!"},{"$error":"#VALUE!"},{"$error":"#VALUE!"},{"$error":"#VALUE!"},{"$error":"#VALUE!"},{"$error":"#VALUE!"},{"$error":"#VALUE!"},{"$error":"#VALUE!"},{"$error":"#VALUE!"},{"$error":"#VALUE!"},{"$error":"#VALUE!"},{"$error":"#VALUE!"},{"$error":"#VALUE!"},{"$error":"#VALUE!"},{"$error":"#VALUE!"},{"$error":"#VALUE!"},{"$error":"#VALUE!"},{"$error":"#VALUE!"},{"$error":"#VALUE!"},{"$error":"#VALUE!"},{"$error":"#VALUE!"}]
[null,null,null,null,null,null,null,null,null,null,null,null,null,null,null,6,"No","No","No","No","No","No","No","No","No","No","No","No","No","No","No","No","No","No","No","No","No","No","No","No","No","No","No","No","No","No","No","No","No","No","No","No","No","No","No","No","No","No","No","No","No","No","No","No","No","No","No","No","No","No","No","No","No","No","No","No",null,null,6,"No",{"$f":"IF(R46=\"Não\",R46,IF(AND(CB46=\"Não\",R46<>\"Não\"),R46,CB46*(1+$E14)))","v":{"$error":"#VALUE!"}},{"$error":"#VALUE!"},{"$error":"#VALUE!"},{"$error":"#VALUE!"},{"$error":"#VALUE!"},{"$error":"#VALUE!"},{"$error":"#VALUE!"},{"$error":"#VALUE!"},{"$error":"#VALUE!"},{"$error":"#VALUE!"},{"$error":"#VALUE!"},{"$error":"#VALUE!"},{"$error":"#VALUE!"},{"$error":"#VALUE!"},{"$error":"#VALUE!"},{"$error":"#VALUE!"},{"$error":"#VALUE!"},{"$error":"#VALUE!"},{"$error":"#VALUE!"},{"$error":"#VALUE!"},{"$error":"#VALUE!"},{"$error":"#VALUE!"},{"$error":"#VALUE!"},{"$error":"#VALUE!"},{"$error":"#VALUE!"},{"$error":"#VALUE!"},{"$error":"#VALUE!"},{"$error":"#VALUE!"},{"$error":"#VALUE!"},{"$error":"#VALUE!"},{"$error":"#VALUE!"},{"$error":"#VALUE!"},{"$error":"#VALUE!"},{"$error":"#VALUE!"},{"$error":"#VALUE!"},{"$error":"#VALUE!"},{"$error":"#VALUE!"},{"$error":"#VALUE!"},{"$error":"#VALUE!"},{"$error":"#VALUE!"},{"$error":"#VALUE!"},{"$error":"#VALUE!"},{"$error":"#VALUE!"},{"$error":"#VALUE!"},{"$error":"#VALUE!"},{"$error":"#VALUE!"},{"$error":"#VALUE!"},{"$error":"#VALUE!"},{"$error":"#VALUE!"},{"$error":"#VALUE!"},{"$error":"#VALUE!"},{"$error":"#VALUE!"},{"$error":"#VALUE!"},{"$error":"#VALUE!"},{"$error":"#VALUE!"},{"$error":"#VALUE!"},{"$error":"#VALUE!"},{"$error":"#VALUE!"},{"$error":"#VALUE!"}]
[null,null,null,null,null,null,null,null,null,null,null,null,null,null,null,7,"No","No","No","No","No","No","No","No","No","No","No","No","No","No","No","No","No","No","No","No","No","No","No","No","No","No","No","No","No","No","No","No","No","No","No","No","No","No","No","No","No","No","No","No","No","No","No","No","No","No","No","No","No","No","No","No","No","No","No","No",null,null,7,"No",{"$f":"IF(R47=\"Não\",R47,IF(AND(CB47=\"Não\",R47<>\"Não\"),R47,CB47*(1+$E15)))","v":{"$error":"#VALUE!"}},{"$error":"#VALUE!"},{"$error":"#VALUE!"},{"$error":"#VALUE!"},{"$error":"#VALUE!"},{"$error":"#VALUE!"},{"$error":"#VALUE!"},{"$error":"#VALUE!"},{"$error":"#VALUE!"},{"$error":"#VALUE!"},{"$error":"#VALUE!"},{"$error":"#VALUE!"},{"$error":"#VALUE!"},{"$error":"#VALUE!"},{"$error":"#VALUE!"},{"$error":"#VALUE!"},{"$error":"#VALUE!"},{"$error":"#VALUE!"},{"$error":"#VALUE!"},{"$error":"#VALUE!"},{"$error":"#VALUE!"},{"$error":"#VALUE!"},{"$error":"#VALUE!"},{"$error":"#VALUE!"},{"$error":"#VALUE!"},{"$error":"#VALUE!"},{"$error":"#VALUE!"},{"$error":"#VALUE!"},{"$error":"#VALUE!"},{"$error":"#VALUE!"},{"$error":"#VALUE!"},{"$error":"#VALUE!"},{"$error":"#VALUE!"},{"$error":"#VALUE!"},{"$error":"#VALUE!"},{"$error":"#VALUE!"},{"$error":"#VALUE!"},{"$error":"#VALUE!"},{"$error":"#VALUE!"},{"$error":"#VALUE!"},{"$error":"#VALUE!"},{"$error":"#VALUE!"},{"$error":"#VALUE!"},{"$error":"#VALUE!"},{"$error":"#VALUE!"},{"$error":"#VALUE!"},{"$error":"#VALUE!"},{"$error":"#VALUE!"},{"$error":"#VALUE!"},{"$error":"#VALUE!"},{"$error":"#VALUE!"},{"$error":"#VALUE!"},{"$error":"#VALUE!"},{"$error":"#VALUE!"},{"$error":"#VALUE!"},{"$error":"#VALUE!"},{"$error":"#VALUE!"},{"$error":"#VALUE!"},{"$error":"#VALUE!"}]
[null,null,null,null,null,null,null,null,null,null,null,null,null,null,null,8,"No","No","No","No","No","No","No","No","No","No","No","No","No","No","No","No","No","No","No","No","No","No","No","No","No","No","No","No","No","No","No","No","No","No","No","No","No","No","No","No","No","No","No","No","No","No","No","No","No","No","No","No","No","No","No","No","No","No","No","No",null,null,8,"No",{"$f":"IF(R48=\"Não\",R48,IF(AND(CB48=\"Não\",R48<>\"Não\"),R48,CB48*(1+$E16)))","v":{"$error":"#VALUE!"}},{"$error":"#VALUE!"},{"$error":"#VALUE!"},{"$error":"#VALUE!"},{"$error":"#VALUE!"},{"$error":"#VALUE!"},{"$error":"#VALUE!"},{"$error":"#VALUE!"},{"$error":"#VALUE!"},{"$error":"#VALUE!"},{"$error":"#VALUE!"},{"$error":"#VALUE!"},{"$error":"#VALUE!"},{"$error":"#VALUE!"},{"$error":"#VALUE!"},{"$error":"#VALUE!"},{"$error":"#VALUE!"},{"$error":"#VALUE!"},{"$error":"#VALUE!"},{"$error":"#VALUE!"},{"$error":"#VALUE!"},{"$error":"#VALUE!"},{"$error":"#VALUE!"},{"$error":"#VALUE!"},{"$error":"#VALUE!"},{"$error":"#VALUE!"},{"$error":"#VALUE!"},{"$error":"#VALUE!"},{"$error":"#VALUE!"},{"$error":"#VALUE!"},{"$error":"#VALUE!"},{"$error":"#VALUE!"},{"$error":"#VALUE!"},{"$error":"#VALUE!"},{"$error":"#VALUE!"},{"$error":"#VALUE!"},{"$error":"#VALUE!"},{"$error":"#VALUE!"},{"$error":"#VALUE!"},{"$error":"#VALUE!"},{"$error":"#VALUE!"},{"$error":"#VALUE!"},{"$error":"#VALUE!"},{"$error":"#VALUE!"},{"$error":"#VALUE!"},{"$error":"#VALUE!"},{"$error":"#VALUE!"},{"$error":"#VALUE!"},{"$error":"#VALUE!"},{"$error":"#VALUE!"},{"$error":"#VALUE!"},{"$error":"#VALUE!"},{"$error":"#VALUE!"},{"$error":"#VALUE!"},{"$error":"#VALUE!"},{"$error":"#VALUE!"},{"$error":"#VALUE!"},{"$error":"#VALUE!"},{"$error":"#VALUE!"}]
[null,null,null,null,null,null,null,null,null,null,null,null,null,null,null,9,"No","No","No","No","No","No","No","No","No","No","No","No","No","No","No","No","No","No","No","No","No","No","No","No","No","No","No","No","No","No","No","No","No","No","No","No","No","No","No","No","No","No","No","No","No","No","No","No","No","No","No","No","No","No",{"$f":"IF(AND(BS$8>=$M17,BS$8<=$N17),IF($F17=\"Mensual\",$D17,\"No\"),\"No\")","v":"No"},"No","No","No","No","No",null,null,9,"No",{"$f":"IF(R49=\"Não\",R49,IF(AND(CB49=\"Não\",R49<>\"Não\"),R49,CB49*(1+$E17)))","v":{"$error":"#VALUE!"}},{"$error":"#VALUE!"},{"$error":"#VALUE!"},{"$error":"#VALUE!"},{"$error":"#VALUE!"},{"$error":"#VALUE!"},{"$error":"#VALUE!"},{"$error":"#VALUE!"},{"$error":"#VALUE!"},{"$error":"#VALUE!"},{"$error":"#VALUE!"},{"$error":"#VALUE!"},{"$error":"#VALUE!"},{"$error":"#VALUE!"},{"$error":"#VALUE!"},{"$error":"#VALUE!"},{"$error":"#VALUE!"},{"$error":"#VALUE!"},{"$error":"#VALUE!"},{"$error":"#VALUE!"},{"$error":"#VALUE!"},{"$error":"#VALUE!"},{"$error":"#VALUE!"},{"$error":"#VALUE!"},{"$error":"#VALUE!"},{"$error":"#VALUE!"},{"$error":"#VALUE!"},{"$error":"#VALUE!"},{"$error":"#VALUE!"},{"$error":"#VALUE!"},{"$error":"#VALUE!"},{"$error":"#VALUE!"},{"$error":"#VALUE!"},{"$error":"#VALUE!"},{"$error":"#VALUE!"},{"$error":"#VALUE!"},{"$error":"#VALUE!"},{"$error":"#VALUE!"},{"$error":"#VALUE!"},{"$error":"#VALUE!"},{"$error":"#VALUE!"},{"$error":"#VALUE!"},{"$error":"#VALUE!"},{"$error":"#VALUE!"},{"$error":"#VALUE!"},{"$error":"#VALUE!"},{"$error":"#VALUE!"},{"$error":"#VALUE!"},{"$error":"#VALUE!"},{"$error":"#VALUE!"},{"$error":"#VALUE!"},{"$error":"#VALUE!"},{"$error":"#VALUE!"},{"$error":"#VALUE!"},{"$error":"#VALUE!"},{"$error":"#VALUE!"},{"$error":"#VALUE!"},{"$error":"#VALUE!"},{"$error":"#VALUE!"}]
[null,null,null,null,null,null,null,null,null,null,null,null,null,null,null,10,"No","No","No","No","No","No","No","No","No","No","No","No","No","No","No","No","No","No","No","No","No","No","No","No","No","No","No","No","No","No","No","No","No","No","No","No","No","No","No","No","No","No","No","No","No","No","No","No","No","No","No","No","No","No","No","No","No","No","No","No",null,null,10,"No",{"$f":"IF(R50=\"Não\",R50,IF(AND(CB50=\"Não\",R50<>\"Não\"),R50,CB50*(1+$E18)))","v":{"$error":"#VALUE!"}},{"$error":"#VALUE!"},{"$error":"#VALUE!"},{"$error":"#VALUE!"},{"$error":"#VALUE!"},{"$error":"#VALUE!"},{"$error":"#VALUE!"},{"$error":"#VALUE!"},{"$error":"#VALUE!"},{"$error":"#VALUE!"},{"$error":"#VALUE!"},{"$error":"#VALUE!"},{"$error":"#VALUE!"},{"$error":"#VALUE!"},{"$error":"#VALUE!"},{"$error":"#VALUE!"},{"$error":"#VALUE!"},{"$error":"#VALUE!"},{"$error":"#VALUE!"},{"$error":"#VALUE!"},{"$error":"#VALUE!"},{"$error":"#VALUE!"},{"$error":"#VALUE!"},{"$error":"#VALUE!"},{"$error":"#VALUE!"},{"$error":"#VALUE!"},{"$error":"#VALUE!"},{"$error":"#VALUE!"},{"$error":"#VALUE!"},{"$error":"#VALUE!"},{"$error":"#VALUE!"},{"$error":"#VALUE!"},{"$error":"#VALUE!"},{"$error":"#VALUE!"},{"$error":"#VALUE!"},{"$error":"#VALUE!"},{"$error":"#VALUE!"},{"$error":"#VALUE!"},{"$error":"#VALUE!"},{"$error":"#VALUE!"},{"$error":"#VALUE!"},{"$error":"#VALUE!"},{"$error":"#VALUE!"},{"$error":"#VALUE!"},{"$error":"#VALUE!"},{"$error":"#VALUE!"},{"$error":"#VALUE!"},{"$error":"#VALUE!"},{"$error":"#VALUE!"},{"$error":"#VALUE!"},{"$error":"#VALUE!"},{"$error":"#VALUE!"},{"$error":"#VALUE!"},{"$error":"#VALUE!"},{"$error":"#VALUE!"},{"$error":"#VALUE!"},{"$error":"#VALUE!"},{"$error":"#VALUE!"},{"$error":"#VALUE!"}]
[null,null,null,null,null,null,null,null,null,null,null,null,null,null,null,11,"No","No","No","No","No","No","No","No","No","No","No","No","No","No","No","No","No","No","No","No","No","No","No","No","No","No","No","No","No","No","No","No","No","No","No","No","No","No","No","No","No","No","No","No","No","No","No","No","No","No","No","No","No","No","No","No","No","No","No","No",null,null,11,"No",{"$f":"IF(R51=\"Não\",R51,IF(AND(CB51=\"Não\",R51<>\"Não\"),R51,CB51*(1+$E19)))","v":{"$error":"#VALUE!"}},{"$error":"#VALUE!"},{"$error":"#VALUE!"},{"$error":"#VALUE!"},{"$error":"#VALUE!"},{"$error":"#VALUE!"},{"$error":"#VALUE!"},{"$error":"#VALUE!"},{"$error":"#VALUE!"},{"$error":"#VALUE!"},{"$error":"#VALUE!"},{"$error":"#VALUE!"},{"$error":"#VALUE!"},{"$error":"#VALUE!"},{"$error":"#VALUE!"},{"$error":"#VALUE!"},{"$error":"#VALUE!"},{"$error":"#VALUE!"},{"$error":"#VALUE!"},{"$error":"#VALUE!"},{"$error":"#VALUE!"},{"$error":"#VALUE!"},{"$error":"#VALUE!"},{"$error":"#VALUE!"},{"$error":"#VALUE!"},{"$error":"#VALUE!"},{"$error":"#VALUE!"},{"$error":"#VALUE!"},{"$error":"#VALUE!"},{"$error":"#VALUE!"},{"$error":"#VALUE!"},{"$error":"#VALUE!"},{"$error":"#VALUE!"},{"$error":"#VALUE!"},{"$error":"#VALUE!"},{"$error":"#VALUE!"},{"$error":"#VALUE!"},{"$error":"#VALUE!"},{"$error":"#VALUE!"},{"$error":"#VALUE!"},{"$error":"#VALUE!"},{"$error":"#VALUE!"},{"$error":"#VALUE!"},{"$error":"#VALUE!"},{"$error":"#VALUE!"},{"$error":"#VALUE!"},{"$error":"#VALUE!"},{"$error":"#VALUE!"},{"$error":"#VALUE!"},{"$error":"#VALUE!"},{"$error":"#VALUE!"},{"$error":"#VALUE!"},{"$error":"#VALUE!"},{"$error":"#VALUE!"},{"$error":"#VALUE!"},{"$error":"#VALUE!"},{"$error":"#VALUE!"},{"$error":"#VALUE!"},{"$error":"#VALUE!"}]
[null,null,null,null,null,null,null,null,null,null,null,null,null,null,null,12,"No","No","No","No","No","No","No","No","No","No","No","No","No","No","No","No","No","No","No","No","No","No","No","No","No","No","No","No","No","No","No","No","No","No","No","No","No","No","No","No","No","No","No","No","No","No","No","No","No","No","No","No","No","No","No","No","No","No","No","No",null,null,12,"No",{"$f":"IF(R52=\"Não\",R52,IF(AND(CB52=\"Não\",R52<>\"Não\"),R52,CB52*(1+$E20)))","v":{"$error":"#VALUE!"}},{"$error":"#VALUE!"},{"$error":"#VALUE!"},{"$error":"#VALUE!"},{"$error":"#VALUE!"},{"$error":"#VALUE!"},{"$error":"#VALUE!"},{"$error":"#VALUE!"},{"$error":"#VALUE!"},{"$error":"#VALUE!"},{"$error":"#VALUE!"},{"$error":"#VALUE!"},{"$error":"#VALUE!"},{"$error":"#VALUE!"},{"$error":"#VALUE!"},{"$error":"#VALUE!"},{"$error":"#VALUE!"},{"$error":"#VALUE!"},{"$error":"#VALUE!"},{"$error":"#VALUE!"},{"$error":"#VALUE!"},{"$error":"#VALUE!"},{"$error":"#VALUE!"},{"$error":"#VALUE!"},{"$error":"#VALUE!"},{"$error":"#VALUE!"},{"$error":"#VALUE!"},{"$error":"#VALUE!"},{"$error":"#VALUE!"},{"$error":"#VALUE!"},{"$error":"#VALUE!"},{"$error":"#VALUE!"},{"$error":"#VALUE!"},{"$error":"#VALUE!"},{"$error":"#VALUE!"},{"$error":"#VALUE!"},{"$error":"#VALUE!"},{"$error":"#VALUE!"},{"$error":"#VALUE!"},{"$error":"#VALUE!"},{"$error":"#VALUE!"},{"$error":"#VALUE!"},{"$error":"#VALUE!"},{"$error":"#VALUE!"},{"$error":"#VALUE!"},{"$error":"#VALUE!"},{"$error":"#VALUE!"},{"$error":"#VALUE!"},{"$error":"#VALUE!"},{"$error":"#VALUE!"},{"$error":"#VALUE!"},{"$error":"#VALUE!"},{"$error":"#VALUE!"},{"$error":"#VALUE!"},{"$error":"#VALUE!"},{"$error":"#VALUE!"},{"$error":"#VALUE!"},{"$error":"#VALUE!"},{"$error":"#VALUE!"}]
[null,null,null,null,null,null,null,null,null,null,null,null,null,null,null,13,"No","No","No","No","No","No","No","No","No","No","No","No","No","No","No","No","No","No","No","No","No","No","No","No","No","No","No","No","No","No","No","No","No","No","No","No","No","No","No","No","No","No","No","No","No","No","No","No","No","No","No","No","No","No","No","No","No","No","No","No",null,null,13,"No",{"$f":"IF(R53=\"Não\",R53,IF(AND(CB53=\"Não\",R53<>\"Não\"),R53,CB53*(1+$E21)))","v":{"$error":"#VALUE!"}},{"$error":"#VALUE!"},{"$error":"#VALUE!"},{"$error":"#VALUE!"},{"$error":"#VALUE!"},{"$error":"#VALUE!"},{"$error":"#VALUE!"},{"$error":"#VALUE!"},{"$error":"#VALUE!"},{"$error":"#VALUE!"},{"$error":"#VALUE!"},{"$error":"#VALUE!"},{"$error":"#VALUE!"},{"$error":"#VALUE!"},{"$error":"#VALUE!"},{"$error":"#VALUE!"},{"$error":"#VALUE!"},{"$error":"#VALUE!"},{"$error":"#VALUE!"},{"$error":"#VALUE!"},{"$error":"#VALUE!"},{"$error":"#VALUE!"},{"$error":"#VALUE!"},{"$error":"#VALUE!"},{"$error":"#VALUE!"},{"$error":"#VALUE!"},{"$error":"#VALUE!"},{"$error":"#VALUE!"},{"$error":"#VALUE!"},{"$error":"#VALUE!"},{"$error":"#VALUE!"},{"$error":"#VALUE!"},{"$error":"#VALUE!"},{"$error":"#VALUE!"},{"$error":"#VALUE!"},{"$error":"#VALUE!"},{"$error":"#VALUE!"},{"$error":"#VALUE!"},{"$error":"#VALUE!"},{"$error":"#VALUE!"},{"$error":"#VALUE!"},{"$error":"#VALUE!"},{"$error":"#VALUE!"},{"$error":"#VALUE!"},{"$error":"#VALUE!"},{"$error":"#VALUE!"},{"$error":"#VALUE!"},{"$error":"#VALUE!"},{"$error":"#VALUE!"},{"$error":"#VALUE!"},{"$error":"#VALUE!"},{"$error":"#VALUE!"},{"$error":"#VALUE!"},{"$error":"#VALUE!"},{"$error":"#VALUE!"},{"$error":"#VALUE!"},{"$error":"#VALUE!"},{"$error":"#VALUE!"},{"$error":"#VALUE!"}]
[null,null,null,null,null,null,null,null,null,null,null,null,null,null,null,14,"No","No","No","No","No","No","No","No","No","No","No","No","No","No",{"$f":"IF(AND(AE$8>=$M22,AE$8<=$N22),IF($F22=\"Mensual\",$D22,\"No\"),\"No\")","v":"No"},"No","No","No","No","No","No","No","No","No","No","No","No","No","No","No","No","No","No","No","No","No","No","No","No","No","No","No","No","No","No","No","No","No","No","No","No","No","No","No","No","No","No","No","No","No",null,null,14,"No",{"$f":"IF(R54=\"Não\",R54,IF(AND(CB54=\"Não\",R54<>\"Não\"),R54,CB54*(1+$E22)))","v":{"$error":"#VALUE!"}},{"$error":"#VALUE!"},{"$error":"#VALUE!"},{"$error":"#VALUE!"},{"$error":"#VALUE!"},{"$error":"#VALUE!"},{"$error":"#VALUE!"},{"$error":"#VALUE!"},{"$error":"#VALUE!"},{"$error":"#VALUE!"},{"$error":"#VALUE!"},{"$error":"#VALUE!"},{"$error":"#VALUE!"},{"$error":"#VALUE!"},{"$error":"#VALUE!"},{"$error":"#VALUE!"},{"$error":"#VALUE!"},{"$error":"#VALUE!"},{"$error":"#VALUE!"},{"$error":"#VALUE!"},{"$error":"#VALUE!"},{"$error":"#VALUE!"},{"$error":"#VALUE!"},{"$error":"#VALUE!"},{"$error":"#VALUE!"},{"$error":"#VALUE!"},{"$error":"#VALUE!"},{"$error":"#VALUE!"},{"$error":"#VALUE!"},{"$error":"#VALUE!"},{"$error":"#VALUE!"},{"$error":"#VALUE!"},{"$error":"#VALUE!"},{"$error":"#VALUE!"},{"$error":"#VALUE!"},{"$error":"#VALUE!"},{"$error":"#VALUE!"},{"$error":"#VALUE!"},{"$error":"#VALUE!"},{"$error":"#VALUE!"},{"$error":"#VALUE!"},{"$error":"#VALUE!"},{"$error":"#VALUE!"},{"$error":"#VALUE!"},{"$error":"#VALUE!"},{"$error":"#VALUE!"},{"$error":"#VALUE!"},{"$error":"#VALUE!"},{"$error":"#VALUE!"},{"$error":"#VALUE!"},{"$error":"#VALUE!"},{"$error":"#VALUE!"},{"$error":"#VALUE!"},{"$error":"#VALUE!"},{"$error":"#VALUE!"},{"$error":"#VALUE!"},{"$error":"#VALUE!"},{"$error":"#VALUE!"},{"$error":"#VALUE!"}]
[null,null,null,null,null,null,null,null,null,null,null,null,null,null,null,15,"No","No","No","No","No","No","No","No","No","No","No","No","No","No","No","No","No","No","No","No","No","No","No","No","No","No","No","No","No","No","No","No","No","No","No","No","No","No","No","No","No","No","No","No","No","No","No","No","No","No","No","No","No","No","No","No","No","No","No","No",null,null,15,"No",{"$f":"IF(R55=\"Não\",R55,IF(AND(CB55=\"Não\",R55<>\"Não\"),R55,CB55*(1+$E23)))","v":{"$error":"#VALUE!"}},{"$error":"#VALUE!"},{"$error":"#VALUE!"},{"$error":"#VALUE!"},{"$error":"#VALUE!"},{"$error":"#VALUE!"},{"$error":"#VALUE!"},{"$error":"#VALUE!"},{"$error":"#VALUE!"},{"$error":"#VALUE!"},{"$error":"#VALUE!"},{"$error":"#VALUE!"},{"$error":"#VALUE!"},{"$error":"#VALUE!"},{"$error":"#VALUE!"},{"$error":"#VALUE!"},{"$error":"#VALUE!"},{"$error":"#VALUE!"},{"$error":"#VALUE!"},{"$error":"#VALUE!"},{"$error":"#VALUE!"},{"$error":"#VALUE!"},{"$error":"#VALUE!"},{"$error":"#VALUE!"},{"$error":"#VALUE!"},{"$error":"#VALUE!"},{"$error":"#VALUE!"},{"$error":"#VALUE!"},{"$error":"#VALUE!"},{"$error":"#VALUE!"},{"$error":"#VALUE!"},{"$error":"#VALUE!"},{"$error":"#VALUE!"},{"$error":"#VALUE!"},{"$error":"#VALUE!"},{"$error":"#VALUE!"},{"$error":"#VALUE!"},{"$error":"#VALUE!"},{"$error":"#VALUE!"},{"$error":"#VALUE!"},{"$error":"#VALUE!"},{"$error":"#VALUE!"},{"$error":"#VALUE!"},{"$error":"#VALUE!"},{"$error":"#VALUE!"},{"$error":"#VALUE!"},{"$error":"#VALUE!"},{"$error":"#VALUE!"},{"$error":"#VALUE!"},{"$error":"#VALUE!"},{"$error":"#VALUE!"},{"$error":"#VALUE!"},{"$error":"#VALUE!"},{"$error":"#VALUE!"},{"$error":"#VALUE!"},{"$error":"#VALUE!"},{"$error":"#VALUE!"},{"$error":"#VALUE!"},{"$error":"#VALUE!"}]
[null,null,null,null,null,null,null,null,null,null,null,null,null,null,null,16,"No","No","No","No","No","No","No","No","No","No","No","No","No","No","No","No","No","No","No","No","No","No","No","No","No","No","No","No","No","No","No","No","No","No","No","No","No","No","No","No","No","No","No","No","No","No","No","No","No","No","No","No","No","No","No","No","No","No","No","No",null,null,16,"No",{"$f":"IF(R56=\"Não\",R56,IF(AND(CB56=\"Não\",R56<>\"Não\"),R56,CB56*(1+$E24)))","v":{"$error":"#VALUE!"}},{"$error":"#VALUE!"},{"$error":"#VALUE!"},{"$error":"#VALUE!"},{"$error":"#VALUE!"},{"$error":"#VALUE!"},{"$error":"#VALUE!"},{"$error":"#VALUE!"},{"$error":"#VALUE!"},{"$error":"#VALUE!"},{"$error":"#VALUE!"},{"$error":"#VALUE!"},{"$error":"#VALUE!"},{"$error":"#VALUE!"},{"$error":"#VALUE!"},{"$error":"#VALUE!"},{"$error":"#VALUE!"},{"$error":"#VALUE!"},{"$error":"#VALUE!"},{"$error":"#VALUE!"},{"$error":"#VALUE!"},{"$error":"#VALUE!"},{"$error":"#VALUE!"},{"$error":"#VALUE!"},{"$error":"#VALUE!"},{"$error":"#VALUE!"},{"$error":"#VALUE!"},{"$error":"#VALUE!"},{"$error":"#VALUE!"},{"$error":"#VALUE!"},{"$error":"#VALUE!"},{"$error":"#VALUE!"},{"$error":"#VALUE!"},{"$error":"#VALUE!"},{"$error":"#VALUE!"},{"$error":"#VALUE!"},{"$error":"#VALUE!"},{"$error":"#VALUE!"},{"$error":"#VALUE!"},{"$error":"#VALUE!"},{"$error":"#VALUE!"},{"$error":"#VALUE!"},{"$error":"#VALUE!"},{"$error":"#VALUE!"},{"$error":"#VALUE!"},{"$error":"#VALUE!"},{"$error":"#VALUE!"},{"$error":"#VALUE!"},{"$error":"#VALUE!"},{"$error":"#VALUE!"},{"$error":"#VALUE!"},{"$error":"#VALUE!"},{"$error":"#VALUE!"},{"$error":"#VALUE!"},{"$error":"#VALUE!"},{"$error":"#VALUE!"},{"$error":"#VALUE!"},{"$error":"#VALUE!"},{"$error":"#VALUE!"}]
[null,null,null,null,null,null,null,null,null,null,null,null,null,null,null,17,"No","No","No","No","No","No","No","No","No","No","No","No","No","No","No","No","No","No","No","No","No","No","No","No","No","No","No","No","No","No","No","No","No","No","No","No","No","No","No","No","No","No","No","No","No","No","No","No","No","No","No","No","No","No","No","No","No","No","No","No",null,null,17,"No",{"$f":"IF(R57=\"Não\",R57,IF(AND(CB57=\"Não\",R57<>\"Não\"),R57,CB57*(1+$E25)))","v":{"$error":"#VALUE!"}},{"$error":"#VALUE!"},{"$error":"#VALUE!"},{"$error":"#VALUE!"},{"$error":"#VALUE!"},{"$error":"#VALUE!"},{"$error":"#VALUE!"},{"$error":"#VALUE!"},{"$error":"#VALUE!"},{"$error":"#VALUE!"},{"$error":"#VALUE!"},{"$error":"#VALUE!"},{"$error":"#VALUE!"},{"$error":"#VALUE!"},{"$error":"#VALUE!"},{"$error":"#VALUE!"},{"$error":"#VALUE!"},{"$error":"#VALUE!"},{"$error":"#VALUE!"},{"$error":"#VALUE!"},{"$error":"#VALUE!"},{"$error":"#VALUE!"},{"$error":"#VALUE!"},{"$error":"#VALUE!"},{"$error":"#VALUE!"},{"$error":"#VALUE!"},{"$error":"#VALUE!"},{"$error":"#VALUE!"},{"$error":"#VALUE!"},{"$error":"#VALUE!"},{"$error":"#VALUE!"},{"$error":"#VALUE!"},{"$error":"#VALUE!"},{"$error":"#VALUE!"},{"$error":"#VALUE!"},{"$error":"#VALUE!"},{"$error":"#VALUE!"},{"$error":"#VALUE!"},{"$error":"#VALUE!"},{"$error":"#VALUE!"},{"$error":"#VALUE!"},{"$error":"#VALUE!"},{"$error":"#VALUE!"},{"$error":"#VALUE!"},{"$error":"#VALUE!"},{"$error":"#VALUE!"},{"$error":"#VALUE!"},{"$error":"#VALUE!"},{"$error":"#VALUE!"},{"$error":"#VALUE!"},{"$error":"#VALUE!"},{"$error":"#VALUE!"},{"$error":"#VALUE!"},{"$error":"#VALUE!"},{"$error":"#VALUE!"},{"$error":"#VALUE!"},{"$error":"#VALUE!"},{"$error":"#VALUE!"},{"$error":"#VALUE!"}]
[null,null,null,null,null,null,null,null,null,null,null,null,null,null,null,18,"No","No","No","No","No","No","No","No","No","No","No","No","No","No","No","No","No","No","No","No","No","No","No","No","No","No","No","No","No","No","No","No","No",{"$f":"IF(AND(AX$8>=$M26,AX$8<=$N26),IF($F26=\"Mensual\",$D26,\"No\"),\"No\")","v":"No"},"No","No","No","No","No","No","No","No","No","No","No","No","No","No","No","No","No","No","No","No","No","No","No","No","No","No",null,null,18,"No",{"$f":"IF(R58=\"Não\",R58,IF(AND(CB58=\"Não\",R58<>\"Não\"),R58,CB58*(1+$E26)))","v":{"$error":"#VALUE!"}},{"$error":"#VALUE!"},{"$error":"#VALUE!"},{"$error":"#VALUE!"},{"$error":"#VALUE!"},{"$error":"#VALUE!"},{"$error":"#VALUE!"},{"$error":"#VALUE!"},{"$error":"#VALUE!"},{"$error":"#VALUE!"},{"$error":"#VALUE!"},{"$error":"#VALUE!"},{"$error":"#VALUE!"},{"$error":"#VALUE!"},{"$error":"#VALUE!"},{"$error":"#VALUE!"},{"$error":"#VALUE!"},{"$error":"#VALUE!"},{"$error":"#VALUE!"},{"$error":"#VALUE!"},{"$error":"#VALUE!"},{"$error":"#VALUE!"},{"$error":"#VALUE!"},{"$error":"#VALUE!"},{"$error":"#VALUE!"},{"$error":"#VALUE!"},{"$error":"#VALUE!"},{"$error":"#VALUE!"},{"$error":"#VALUE!"},{"$error":"#VALUE!"},{"$error":"#VALUE!"},{"$error":"#VALUE!"},{"$error":"#VALUE!"},{"$error":"#VALUE!"},{"$error":"#VALUE!"},{"$error":"#VALUE!"},{"$error":"#VALUE!"},{"$error":"#VALUE!"},{"$error":"#VALUE!"},{"$error":"#VALUE!"},{"$error":"#VALUE!"},{"$error":"#VALUE!"},{"$error":"#VALUE!"},{"$error":"#VALUE!"},{"$error":"#VALUE!"},{"$error":"#VALUE!"},{"$error":"#VALUE!"},{"$error":"#VALUE!"},{"$error":"#VALUE!"},{"$error":"#VALUE!"},{"$error":"#VALUE!"},{"$error":"#VALUE!"},{"$error":"#VALUE!"},{"$error":"#VALUE!"},{"$error":"#VALUE!"},{"$error":"#VALUE!"},{"$error":"#VALUE!"},{"$error":"#VALUE!"},{"$error":"#VALUE!"}]
[null,null,null,null,null,null,null,null,null,null,null,null,null,null,null,19,"No","No","No","No","No","No","No","No","No","No","No","No","No","No","No","No","No","No","No","No","No","No","No","No","No","No","No","No","No","No","No","No","No","No","No","No","No","No","No","No","No","No","No","No","No","No","No","No","No","No","No","No","No","No","No","No","No","No","No","No",null,null,19,"No",{"$f":"IF(R59=\"Não\",R59,IF(AND(CB59=\"Não\",R59<>\"Não\"),R59,CB59*(1+$E27)))","v":{"$error":"#VALUE!"}},{"$error":"#VALUE!"},{"$error":"#VALUE!"},{"$error":"#VALUE!"},{"$error":"#VALUE!"},{"$error":"#VALUE!"},{"$error":"#VALUE!"},{"$error":"#VALUE!"},{"$error":"#VALUE!"},{"$error":"#VALUE!"},{"$error":"#VALUE!"},{"$error":"#VALUE!"},{"$error":"#VALUE!"},{"$error":"#VALUE!"},{"$error":"#VALUE!"},{"$error":"#VALUE!"},{"$error":"#VALUE!"},{"$error":"#VALUE!"},{"$error":"#VALUE!"},{"$error":"#VALUE!"},{"$error":"#VALUE!"},{"$error":"#VALUE!"},{"$error":"#VALUE!"},{"$error":"#VALUE!"},{"$error":"#VALUE!"},{"$error":"#VALUE!"},{"$error":"#VALUE!"},{"$error":"#VALUE!"},{"$error":"#VALUE!"},{"$error":"#VALUE!"},{"$error":"#VALUE!"},{"$error":"#VALUE!"},{"$error":"#VALUE!"},{"$error":"#VALUE!"},{"$error":"#VALUE!"},{"$error":"#VALUE!"},{"$error":"#VALUE!"},{"$error":"#VALUE!"},{"$error":"#VALUE!"},{"$error":"#VALUE!"},{"$error":"#VALUE!"},{"$error":"#VALUE!"},{"$error":"#VALUE!"},{"$error":"#VALUE!"},{"$error":"#VALUE!"},{"$error":"#VALUE!"},{"$error":"#VALUE!"},{"$error":"#VALUE!"},{"$error":"#VALUE!"},{"$error":"#VALUE!"},{"$error":"#VALUE!"},{"$error":"#VALUE!"},{"$error":"#VALUE!"},{"$error":"#VALUE!"},{"$error":"#VALUE!"},{"$error":"#VALUE!"},{"$error":"#VALUE!"},{"$error":"#VALUE!"},{"$error":"#VALUE!"}]
[null,null,null,null,null,null,null,null,null,null,null,null,null,null,null,20,"No","No","No","No","No","No","No","No","No","No","No","No","No","No","No","No","No","No","No","No","No","No","No","No","No","No","No","No","No","No","No","No","No","No","No","No","No","No","No","No","No","No","No","No","No","No","No","No","No","No","No","No","No","No","No","No","No","No","No","No",null,null,20,"No",{"$f":"IF(R60=\"Não\",R60,IF(AND(CB60=\"Não\",R60<>\"Não\"),R60,CB60*(1+$E28)))","v":{"$error":"#VALUE!"}},{"$error":"#VALUE!"},{"$error":"#VALUE!"},{"$error":"#VALUE!"},{"$error":"#VALUE!"},{"$error":"#VALUE!"},{"$error":"#VALUE!"},{"$error":"#VALUE!"},{"$error":"#VALUE!"},{"$error":"#VALUE!"},{"$error":"#VALUE!"},{"$error":"#VALUE!"},{"$error":"#VALUE!"},{"$error":"#VALUE!"},{"$error":"#VALUE!"},{"$error":"#VALUE!"},{"$error":"#VALUE!"},{"$error":"#VALUE!"},{"$error":"#VALUE!"},{"$error":"#VALUE!"},{"$error":"#VALUE!"},{"$error":"#VALUE!"},{"$error":"#VALUE!"},{"$error":"#VALUE!"},{"$error":"#VALUE!"},{"$error":"#VALUE!"},{"$error":"#VALUE!"},{"$error":"#VALUE!"},{"$error":"#VALUE!"},{"$error":"#VALUE!"},{"$error":"#VALUE!"},{"$error":"#VALUE!"},{"$error":"#VALUE!"},{"$error":"#VALUE!"},{"$error":"#VALUE!"},{"$error":"#VALUE!"},{"$error":"#VALUE!"},{"$error":"#VALUE!"},{"$error":"#VALUE!"},{"$error":"#VALUE!"},{"$error":"#VALUE!"},{"$error":"#VALUE!"},{"$error":"#VALUE!"},{"$error":"#VALUE!"},{"$error":"#VALUE!"},{"$error":"#VALUE!"},{"$error":"#VALUE!"},{"$error":"#VALUE!"},{"$error":"#VALUE!"},{"$error":"#VALUE!"},{"$error":"#VALUE!"},{"$error":"#VALUE!"},{"$error":"#VALUE!"},{"$error":"#VALUE!"},{"$error":"#VALUE!"},{"$error":"#VALUE!"},{"$error":"#VALUE!"},{"$error":"#VALUE!"},{"$error":"#VALUE!"}]
[null,null,null,null,null,null,null,null,null,null,null,null,null,null,null,21,"No","No","No","No","No","No","No","No","No","No","No","No","No","No","No","No","No","No","No","No","No","No","No","No","No","No","No","No","No","No","No","No","No","No","No","No","No","No","No","No","No","No","No","No","No","No","No","No","No","No","No","No","No","No","No","No","No","No","No","No",null,null,21,"No",{"$f":"IF(R61=\"Não\",R61,IF(AND(CB61=\"Não\",R61<>\"Não\"),R61,CB61*(1+$E29)))","v":{"$error":"#VALUE!"}},{"$error":"#VALUE!"},{"$error":"#VALUE!"},{"$error":"#VALUE!"},{"$error":"#VALUE!"},{"$error":"#VALUE!"},{"$error":"#VALUE!"},{"$error":"#VALUE!"},{"$error":"#VALUE!"},{"$error":"#VALUE!"},{"$error":"#VALUE!"},{"$error":"#VALUE!"},{"$error":"#VALUE!"},{"$error":"#VALUE!"},{"$error":"#VALUE!"},{"$error":"#VALUE!"},{"$error":"#VALUE!"},{"$error":"#VALUE!"},{"$error":"#VALUE!"},{"$error":"#VALUE!"},{"$error":"#VALUE!"},{"$error":"#VALUE!"},{"$error":"#VALUE!"},{"$error":"#VALUE!"},{"$error":"#VALUE!"},{"$error":"#VALUE!"},{"$error":"#VALUE!"},{"$error":"#VALUE!"},{"$error":"#VALUE!"},{"$error":"#VALUE!"},{"$error":"#VALUE!"},{"$error":"#VALUE!"},{"$error":"#VALUE!"},{"$error":"#VALUE!"},{"$error":"#VALUE!"},{"$error":"#VALUE!"},{"$error":"#VALUE!"},{"$error":"#VALUE!"},{"$error":"#VALUE!"},{"$error":"#VALUE!"},{"$error":"#VALUE!"},{"$error":"#VALUE!"},{"$error":"#VALUE!"},{"$error":"#VALUE!"},{"$error":"#VALUE!"},{"$error":"#VALUE!"},{"$error":"#VALUE!"},{"$error":"#VALUE!"},{"$error":"#VALUE!"},{"$error":"#VALUE!"},{"$error":"#VALUE!"},{"$error":"#VALUE!"},{"$error":"#VALUE!"},{"$error":"#VALUE!"},{"$error":"#VALUE!"},{"$error":"#VALUE!"},{"$error":"#VALUE!"},{"$error":"#VALUE!"},{"$error":"#VALUE!"}]
[null,null,null,null,null,null,null,null,null,null,null,null,null,null,null,22,"No","No","No","No","No","No","No","No","No","No","No","No","No","No","No","No","No","No","No","No","No","No","No","No","No","No","No","No","No","No","No","No","No","No","No","No","No","No","No","No","No","No","No","No","No","No","No","No","No","No","No","No",{"$f":"IF(AND(BQ$8>=$M30,BQ$8<=$N30),IF($F30=\"Mensual\",$D30,\"No\"),\"No\")","v":"No"},"No","No","No","No","No","No","No",null,null,22,"No",{"$f":"IF(R62=\"Não\",R62,IF(AND(CB62=\"Não\",R62<>\"Não\"),R62,CB62*(1+$E30)))","v":{"$error":"#VALUE!"}},{"$error":"#VALUE!"},{"$error":"#VALUE!"},{"$error":"#VALUE!"},{"$error":"#VALUE!"},{"$error":"#VALUE!"},{"$error":"#VALUE!"},{"$error":"#VALUE!"},{"$error":"#VALUE!"},{"$error":"#VALUE!"},{"$error":"#VALUE!"},{"$error":"#VALUE!"},{"$error":"#VALUE!"},{"$error":"#VALUE!"},{"$error":"#VALUE!"},{"$error":"#VALUE!"},{"$error":"#VALUE!"},{"$error":"#VALUE!"},{"$error":"#VALUE!"},{"$error":"#VALUE!"},{"$error":"#VALUE!"},{"$error":"#VALUE!"},{"$error":"#VALUE!"},{"$error":"#VALUE!"},{"$error":"#VALUE!"},{"$error":"#VALUE!"},{"$error":"#VALUE!"},{"$error":"#VALUE!"},{"$error":"#VALUE!"},{"$error":"#VALUE!"},{"$error":"#VALUE!"},{"$error":"#VALUE!"},{"$error":"#VALUE!"},{"$error":"#VALUE!"},{"$error":"#VALUE!"},{"$error":"#VALUE!"},{"$error":"#VALUE!"},{"$error":"#VALUE!"},{"$error":"#VALUE!"},{"$error":"#VALUE!"},{"$error":"#VALUE!"},{"$error":"#VALUE!"},{"$error":"#VALUE!"},{"$error":"#VALUE!"},{"$error":"#VALUE!"},{"$error":"#VALUE!"},{"$error":"#VALUE!"},{"$error":"#VALUE!"},{"$error":"#VALUE!"},{"$error":"#VALUE!"},{"$error":"#VALUE!"},{"$error":"#VALUE!"},{"$error":"#VALUE!"},{"$error":"#VALUE!"},{"$error":"#VALUE!"},{"$error":"#VALUE!"},{"$error":"#VALUE!"},{"$error":"#VALUE!"},{"$error":"#VALUE!"}]
[null,null,null,null,null,null,null,null,null,null,null,null,null,null,null,23,"No","No","No","No","No","No","No","No","No","No","No","No","No","No","No","No","No","No","No","No","No","No","No","No","No","No","No","No","No","No","No","No","No","No","No","No","No","No","No","No","No","No","No","No","No","No","No","No","No","No","No","No","No","No","No","No","No","No","No","No",null,null,23,"No",{"$f":"IF(R63=\"Não\",R63,IF(AND(CB63=\"Não\",R63<>\"Não\"),R63,CB63*(1+$E31)))","v":{"$error":"#VALUE!"}},{"$error":"#VALUE!"},{"$error":"#VALUE!"},{"$error":"#VALUE!"},{"$error":"#VALUE!"},{"$error":"#VALUE!"},{"$error":"#VALUE!"},{"$error":"#VALUE!"},{"$error":"#VALUE!"},{"$error":"#VALUE!"},{"$error":"#VALUE!"},{"$error":"#VALUE!"},{"$error":"#VALUE!"},{"$error":"#VALUE!"},{"$error":"#VALUE!"},{"$error":"#VALUE!"},{"$error":"#VALUE!"},{"$error":"#VALUE!"},{"$error":"#VALUE!"},{"$error":"#VALUE!"},{"$error":"#VALUE!"},{"$error":"#VALUE!"},{"$error":"#VALUE!"},{"$error":"#VALUE!"},{"$error":"#VALUE!"},{"$error":"#VALUE!"},{"$error":"#VALUE!"},{"$error":"#VALUE!"},{"$error":"#VALUE!"},{"$error":"#VALUE!"},{"$error":"#VALUE!"},{"$error":"#VALUE!"},{"$error":"#VALUE!"},{"$error":"#VALUE!"},{"$error":"#VALUE!"},{"$error":"#VALUE!"},{"$error":"#VALUE!"},{"$error":"#VALUE!"},{"$error":"#VALUE!"},{"$error":"#VALUE!"},{"$error":"#VALUE!"},{"$error":"#VALUE!"},{"$error":"#VALUE!"},{"$error":"#VALUE!"},{"$error":"#VALUE!"},{"$error":"#VALUE!"},{"$error":"#VALUE!"},{"$error":"#VALUE!"},{"$error":"#VALUE!"},{"$error":"#VALUE!"},{"$error":"#VALUE!"},{"$error":"#VALUE!"},{"$error":"#VALUE!"},{"$error":"#VALUE!"},{"$error":"#VALUE!"},{"$error":"#VALUE!"},{"$error":"#VALUE!"},{"$error":"#VALUE!"},{"$error":"#VALUE!"}]
[null,null,null,null,null,null,null,null,null,null,null,null,null,null,null,24,"No","No","No","No","No","No","No","No","No","No","No","No","No","No","No","No","No","No","No","No","No","No","No","No","No","No","No","No","No","No","No","No","No","No","No","No","No","No","No","No","No","No","No","No","No","No","No","No","No","No","No","No","No","No","No","No","No","No","No","No",null,null,24,"No",{"$f":"IF(R64=\"Não\",R64,IF(AND(CB64=\"Não\",R64<>\"Não\"),R64,CB64*(1+$E32)))","v":{"$error":"#VALUE!"}},{"$error":"#VALUE!"},{"$error":"#VALUE!"},{"$error":"#VALUE!"},{"$error":"#VALUE!"},{"$error":"#VALUE!"},{"$error":"#VALUE!"},{"$error":"#VALUE!"},{"$error":"#VALUE!"},{"$error":"#VALUE!"},{"$error":"#VALUE!"},{"$error":"#VALUE!"},{"$error":"#VALUE!"},{"$error":"#VALUE!"},{"$error":"#VALUE!"},{"$error":"#VALUE!"},{"$error":"#VALUE!"},{"$error":"#VALUE!"},{"$error":"#VALUE!"},{"$error":"#VALUE!"},{"$error":"#VALUE!"},{"$error":"#VALUE!"},{"$error":"#VALUE!"},{"$error":"#VALUE!"},{"$error":"#VALUE!"},{"$error":"#VALUE!"},{"$error":"#VALUE!"},{"$error":"#VALUE!"},{"$error":"#VALUE!"},{"$error":"#VALUE!"},{"$error":"#VALUE!"},{"$error":"#VALUE!"},{"$error":"#VALUE!"},{"$error":"#VALUE!"},{"$error":"#VALUE!"},{"$error":"#VALUE!"},{"$error":"#VALUE!"},{"$error":"#VALUE!"},{"$error":"#VALUE!"},{"$error":"#VALUE!"},{"$error":"#VALUE!"},{"$error":"#VALUE!"},{"$error":"#VALUE!"},{"$error":"#VALUE!"},{"$error":"#VALUE!"},{"$error":"#VALUE!"},{"$error":"#VALUE!"},{"$error":"#VALUE!"},{"$error":"#VALUE!"},{"$error":"#VALUE!"},{"$error":"#VALUE!"},{"$error":"#VALUE!"},{"$error":"#VALUE!"},{"$error":"#VALUE!"},{"$error":"#VALUE!"},{"$error":"#VALUE!"},{"$error":"#VALUE!"},{"$error":"#VALUE!"},{"$error":"#VALUE!"}]
[null,null,null,null,null,null,null,null,null,null,null,null,null,null,null,25,"No","No","No","No","No","No","No","No","No","No","No","No","No","No","No","No","No","No","No","No","No","No","No","No","No","No","No","No","No","No","No","No","No","No","No","No","No","No","No","No","No","No","No","No","No","No","No","No","No","No","No","No","No","No","No","No","No","No","No","No",null,null,25,"No",{"$f":"IF(R65=\"Não\",R65,IF(AND(CB65=\"Não\",R65<>\"Não\"),R65,CB65*(1+$E33)))","v":{"$error":"#VALUE!"}},{"$error":"#VALUE!"},{"$error":"#VALUE!"},{"$error":"#VALUE!"},{"$error":"#VALUE!"},{"$error":"#VALUE!"},{"$error":"#VALUE!"},{"$error":"#VALUE!"},{"$error":"#VALUE!"},{"$error":"#VALUE!"},{"$error":"#VALUE!"},{"$error":"#VALUE!"},{"$error":"#VALUE!"},{"$error":"#VALUE!"},{"$error":"#VALUE!"},{"$error":"#VALUE!"},{"$error":"#VALUE!"},{"$error":"#VALUE!"},{"$error":"#VALUE!"},{"$error":"#VALUE!"},{"$error":"#VALUE!"},{"$error":"#VALUE!"},{"$error":"#VALUE!"},{"$error":"#VALUE!"},{"$error":"#VALUE!"},{"$error":"#VALUE!"},{"$error":"#VALUE!"},{"$error":"#VALUE!"},{"$error":"#VALUE!"},{"$error":"#VALUE!"},{"$error":"#VALUE!"},{"$error":"#VALUE!"},{"$error":"#VALUE!"},{"$error":"#VALUE!"},{"$error":"#VALUE!"},{"$error":"#VALUE!"},{"$error":"#VALUE!"},{"$error":"#VALUE!"},{"$error":"#VALUE!"},{"$error":"#VALUE!"},{"$error":"#VALUE!"},{"$error":"#VALUE!"},{"$error":"#VALUE!"},{"$error":"#VALUE!"},{"$error":"#VALUE!"},{"$error":"#VALUE!"},{"$error":"#VALUE!"},{"$error":"#VALUE!"},{"$error":"#VALUE!"},{"$error":"#VALUE!"},{"$error":"#VALUE!"},{"$error":"#VALUE!"},{"$error":"#VALUE!"},{"$error":"#VALUE!"},{"$error":"#VALUE!"},{"$error":"#VALUE!"},{"$error":"#VALUE!"},{"$error":"#VALUE!"},{"$error":"#VALUE!"}]
[null,null,null,null,null,null,null,null,null,null,null,null,null,null,null,26,"No","No","No","No","No","No","No","No","No","No","No","No","No","No","No","No","No","No","No","No","No","No","No","No","No","No","No","No","No","No","No","No","No","No","No","No","No","No","No","No","No","No","No","No","No","No","No","No","No","No","No","No","No","No","No","No","No","No","No","No",null,null,26,"No",{"$f":"IF(R66=\"Não\",R66,IF(AND(CB66=\"Não\",R66<>\"Não\"),R66,CB66*(1+$E34)))","v":{"$error":"#VALUE!"}},{"$error":"#VALUE!"},{"$error":"#VALUE!"},{"$error":"#VALUE!"},{"$error":"#VALUE!"},{"$error":"#VALUE!"},{"$error":"#VALUE!"},{"$error":"#VALUE!"},{"$error":"#VALUE!"},{"$error":"#VALUE!"},{"$error":"#VALUE!"},{"$error":"#VALUE!"},{"$error":"#VALUE!"},{"$error":"#VALUE!"},{"$error":"#VALUE!"},{"$error":"#VALUE!"},{"$error":"#VALUE!"},{"$error":"#VALUE!"},{"$error":"#VALUE!"},{"$error":"#VALUE!"},{"$error":"#VALUE!"},{"$error":"#VALUE!"},{"$error":"#VALUE!"},{"$error":"#VALUE!"},{"$error":"#VALUE!"},{"$error":"#VALUE!"},{"$error":"#VALUE!"},{"$error":"#VALUE!"},{"$error":"#VALUE!"},{"$error":"#VALUE!"},{"$error":"#VALUE!"},{"$error":"#VALUE!"},{"$error":"#VALUE!"},{"$error":"#VALUE!"},{"$error":"#VALUE!"},{"$error":"#VALUE!"},{"$error":"#VALUE!"},{"$error":"#VALUE!"},{"$error":"#VALUE!"},{"$error":"#VALUE!"},{"$error":"#VALUE!"},{"$error":"#VALUE!"},{"$error":"#VALUE!"},{"$error":"#VALUE!"},{"$error":"#VALUE!"},{"$error":"#VALUE!"},{"$error":"#VALUE!"},{"$error":"#VALUE!"},{"$error":"#VALUE!"},{"$error":"#VALUE!"},{"$error":"#VALUE!"},{"$error":"#VALUE!"},{"$error":"#VALUE!"},{"$error":"#VALUE!"},{"$error":"#VALUE!"},{"$error":"#VALUE!"},{"$error":"#VALUE!"},{"$error":"#VALUE!"},{"$error":"#VALUE!"}]
[null,null,null,null,null,null,null,null,null,null,null,null,null,null,null,27,"No","No","No","No","No","No","No","No","No","No","No","No",{"$f":"IF(AND(AC$8>=$M35,AC$8<=$N35),IF($F35=\"Mensual\",$D35,\"No\"),\"No\")","v":"No"},"No","No","No","No","No","No","No","No","No","No","No","No","No","No","No","No","No","No","No","No","No","No","No","No","No","No","No","No","No","No","No","No","No","No","No","No","No","No","No","No","No","No","No","No","No","No","No",null,null,27,"No",{"$f":"IF(R67=\"Não\",R67,IF(AND(CB67=\"Não\",R67<>\"Não\"),R67,CB67*(1+$E35)))","v":{"$error":"#VALUE!"}},{"$error":"#VALUE!"},{"$error":"#VALUE!"},{"$error":"#VALUE!"},{"$error":"#VALUE!"},{"$error":"#VALUE!"},{"$error":"#VALUE!"},{"$error":"#VALUE!"},{"$error":"#VALUE!"},{"$error":"#VALUE!"},{"$error":"#VALUE!"},{"$error":"#VALUE!"},{"$error":"#VALUE!"},{"$error":"#VALUE!"},{"$error":"#VALUE!"},{"$error":"#VALUE!"},{"$error":"#VALUE!"},{"$error":"#VALUE!"},{"$error":"#VALUE!"},{"$error":"#VALUE!"},{"$error":"#VALUE!"},{"$error":"#VALUE!"},{"$error":"#VALUE!"},{"$error":"#VALUE!"},{"$error":"#VALUE!"},{"$error":"#VALUE!"},{"$error":"#VALUE!"},{"$error":"#VALUE!"},{"$error":"#VALUE!"},{"$error":"#VALUE!"},{"$error":"#VALUE!"},{"$error":"#VALUE!"},{"$error":"#VALUE!"},{"$error":"#VALUE!"},{"$error":"#VALUE!"},{"$error":"#VALUE!"},{"$error":"#VALUE!"},{"$error":"#VALUE!"},{"$error":"#VALUE!"},{"$error":"#VALUE!"},{"$error":"#VALUE!"},{"$error":"#VALUE!"},{"$error":"#VALUE!"},{"$error":"#VALUE!"},{"$error":"#VALUE!"},{"$error":"#VALUE!"},{"$error":"#VALUE!"},{"$error":"#VALUE!"},{"$error":"#VALUE!"},{"$error":"#VALUE!"},{"$error":"#VALUE!"},{"$error":"#VALUE!"},{"$error":"#VALUE!"},{"$error":"#VALUE!"},{"$error":"#VALUE!"},{"$error":"#VALUE!"},{"$error":"#VALUE!"},{"$error":"#VALUE!"},{"$error":"#VALUE!"}]
[null,null,null,null,null,null,null,null,null,null,null,null,null,null,null,28,"No","No","No","No","No","No","No","No","No","No","No","No","No","No","No","No","No","No","No","No","No","No","No","No","No","No","No","No","No","No","No","No","No","No","No","No","No","No","No","No","No","No","No","No","No","No","No","No","No","No","No","No","No","No","No","No","No","No","No","No",null,null,28,"No",{"$f":"IF(R68=\"Não\",R68,IF(AND(CB68=\"Não\",R68<>\"Não\"),R68,CB68*(1+$E36)))","v":{"$error":"#VALUE!"}},{"$error":"#VALUE!"},{"$error":"#VALUE!"},{"$error":"#VALUE!"},{"$error":"#VALUE!"},{"$error":"#VALUE!"},{"$error":"#VALUE!"},{"$error":"#VALUE!"},{"$error":"#VALUE!"},{"$error":"#VALUE!"},{"$error":"#VALUE!"},{"$error":"#VALUE!"},{"$error":"#VALUE!"},{"$error":"#VALUE!"},{"$error":"#VALUE!"},{"$error":"#VALUE!"},{"$error":"#VALUE!"},{"$error":"#VALUE!"},{"$error":"#VALUE!"},{"$error":"#VALUE!"},{"$error":"#VALUE!"},{"$error":"#VALUE!"},{"$error":"#VALUE!"},{"$error":"#VALUE!"},{"$error":"#VALUE!"},{"$error":"#VALUE!"},{"$error":"#VALUE!"},{"$error":"#VALUE!"},{"$error":"#VALUE!"},{"$error":"#VALUE!"},{"$error":"#VALUE!"},{"$error":"#VALUE!"},{"$error":"#VALUE!"},{"$error":"#VALUE!"},{"$error":"#VALUE!"},{"$error":"#VALUE!"},{"$error":"#VALUE!"},{"$error":"#VALUE!"},{"$error":"#VALUE!"},{"$error":"#VALUE!"},{"$error":"#VALUE!"},{"$error":"#VALUE!"},{"$error":"#VALUE!"},{"$error":"#VALUE!"},{"$error":"#VALUE!"},{"$error":"#VALUE!"},{"$error":"#VALUE!"},{"$error":"#VALUE!"},{"$error":"#VALUE!"},{"$error":"#VALUE!"},{"$error":"#VALUE!"},{"$error":"#VALUE!"},{"$error":"#VALUE!"},{"$error":"#VALUE!"},{"$error":"#VALUE!"},{"$error":"#VALUE!"},{"$error":"#VALUE!"},{"$error":"#VALUE!"},{"$error":"#VALUE!"}]
[null,null,null,null,null,null,null,null,null,null,null,null,null,null,null,29,"No","No","No","No","No","No","No","No","No","No","No","No","No","No","No","No","No","No","No","No","No","No","No","No","No","No","No","No","No","No","No","No","No","No","No","No","No","No","No","No","No","No","No","No","No","No","No","No","No","No","No","No","No","No","No","No","No","No","No","No",null,null,29,"No",{"$f":"IF(R69=\"Não\",R69,IF(AND(CB69=\"Não\",R69<>\"Não\"),R69,CB69*(1+$E37)))","v":{"$error":"#VALUE!"}},{"$error":"#VALUE!"},{"$error":"#VALUE!"},{"$error":"#VALUE!"},{"$error":"#VALUE!"},{"$error":"#VALUE!"},{"$error":"#VALUE!"},{"$error":"#VALUE!"},{"$error":"#VALUE!"},{"$error":"#VALUE!"},{"$error":"#VALUE!"},{"$error":"#VALUE!"},{"$error":"#VALUE!"},{"$error":"#VALUE!"},{"$error":"#VALUE!"},{"$error":"#VALUE!"},{"$error":"#VALUE!"},{"$error":"#VALUE!"},{"$error":"#VALUE!"},{"$error":"#VALUE!"},{"$error":"#VALUE!"},{"$error":"#VALUE!"},{"$error":"#VALUE!"},{"$error":"#VALUE!"},{"$error":"#VALUE!"},{"$error":"#VALUE!"},{"$error":"#VALUE!"},{"$error":"#VALUE!"},{"$error":"#VALUE!"},{"$error":"#VALUE!"},{"$error":"#VALUE!"},{"$error":"#VALUE!"},{"$error":"#VALUE!"},{"$error":"#VALUE!"},{"$error":"#VALUE!"},{"$error":"#VALUE!"},{"$error":"#VALUE!"},{"$error":"#VALUE!"},{"$error":"#VALUE!"},{"$error":"#VALUE!"},{"$error":"#VALUE!"},{"$error":"#VALUE!"},{"$error":"#VALUE!"},{"$error":"#VALUE!"},{"$error":"#VALUE!"},{"$error":"#VALUE!"},{"$error":"#VALUE!"},{"$error":"#VALUE!"},{"$error":"#VALUE!"},{"$error":"#VALUE!"},{"$error":"#VALUE!"},{"$error":"#VALUE!"},{"$error":"#VALUE!"},{"$error":"#VALUE!"},{"$error":"#VALUE!"},{"$error":"#VALUE!"},{"$error":"#VALUE!"},{"$error":"#VALUE!"},{"$error":"#VALUE!"}]
[null,null,null,null,null,null,null,null,null,null,null,null,null,null,null,30,"No","No","No","No","No","No","No","No","No","No","No","No","No","No","No","No","No","No","No","No","No","No","No","No","No","No","No","No","No","No","No","No","No","No","No","No","No","No","No","No","No","No","No","No","No","No","No","No","No","No","No","No","No","No","No","No","No","No","No","No",null,null,30,"No",{"$f":"IF(R70=\"Não\",R70,IF(AND(CB70=\"Não\",R70<>\"Não\"),R70,CB70*(1+$E38)))","v":{"$error":"#VALUE!"}},{"$error":"#VALUE!"},{"$error":"#VALUE!"},{"$error":"#VALUE!"},{"$error":"#VALUE!"},{"$error":"#VALUE!"},{"$error":"#VALUE!"},{"$error":"#VALUE!"},{"$error":"#VALUE!"},{"$error":"#VALUE!"},{"$error":"#VALUE!"},{"$error":"#VALUE!"},{"$error":"#VALUE!"},{"$error":"#VALUE!"},{"$error":"#VALUE!"},{"$error":"#VALUE!"},{"$error":"#VALUE!"},{"$error":"#VALUE!"},{"$error":"#VALUE!"},{"$error":"#VALUE!"},{"$error":"#VALUE!"},{"$error":"#VALUE!"},{"$error":"#VALUE!"},{"$error":"#VALUE!"},{"$error":"#VALUE!"},{"$error":"#VALUE!"},{"$error":"#VALUE!"},{"$error":"#VALUE!"},{"$error":"#VALUE!"},{"$error":"#VALUE!"},{"$error":"#VALUE!"},{"$error":"#VALUE!"},{"$error":"#VALUE!"},{"$error":"#VALUE!"},{"$error":"#VALUE!"},{"$error":"#VALUE!"},{"$error":"#VALUE!"},{"$error":"#VALUE!"},{"$error":"#VALUE!"},{"$error":"#VALUE!"},{"$error":"#VALUE!"},{"$error":"#VALUE!"},{"$error":"#VALUE!"},{"$error":"#VALUE!"},{"$error":"#VALUE!"},{"$error":"#VALUE!"},{"$error":"#VALUE!"},{"$error":"#VALUE!"},{"$error":"#VALUE!"},{"$error":"#VALUE!"},{"$error":"#VALUE!"},{"$error":"#VALUE!"},{"$error":"#VALUE!"},{"$error":"#VALUE!"},{"$error":"#VALUE!"},{"$error":"#VALUE!"},{"$error":"#VALUE!"},{"$error":"#VALUE!"},{"$error":"#VALUE!"}]
[null,null,null,null,null,null,null,null,null,null,null,null,null,null,null,null,"la","la","la","la","la","la","la","la","la","la","la","la","la","la","la","la","la","la","la","la","la","la","la","la","la","la","la","la","la","la","la","la","la","la","la","la","la","la","la","la","la","la","la","la","la","la","la","la","la","la","la","la","la","la","la","la","la","la","la","la"]
[null,null,null,null,null,null,null,null,null,null,null,null,null,null,null,"trimestral",1,2,3,4,5,6,7,8,9,10,11,12,13,14,15,16,17,18,19,20,21,22,23,24,25,26,27,28,29,30,31,32,33,34,35,36,37,38,39,40,41,42,43,44,45,46,47,48,49,50,51,52,53,54,55,56,57,58,59,60,null,"reajuste","trimestral",1,2,3,4,5,6,7,8,9,10,11,12,13,14,15,16,17,18,19,20,21,22,23,24,25,26,27,28,29,30,31,32,33,34,35,36,37,38,39,40,41,42,43,44,45,46,47,48,49,50,51,52,53,54,55,56,57,58,59,60]
[null,null,null,null,null,null,null,null,null,null,null,null,null,null,null,1,{"$f":"IF(AND(Q$8>=$M9,Q$8<=$N9),IF($F9=\"TRIMESTRAL\",$D9,\"NÃO\"),\"NÃO\")","v":"NÃO"},{"$f":"IF(AND(R$8>=$M9,R$8<=$N9),IF($F9=\"Trimestral\",IF(Q73=\"NÃO\",$D9,IF(MOD(COUNT($Q73:Q73)+1,3)=0,(Q73*$E9)+Q73,Q73)),\"NÃO\"),\"NÃO\")","v":"NÃO"},{"$f":"IF(AND(S$8>=$M9,S$8<=$N9),IF($F9=\"Trimestral\",IF(R73=\"NÃO\",$D9,IF(MOD(COUNT($Q73:R73)+1,3)=0,(R73*$E9)+R73,R73)),\"NÃO\"),\"NÃO\")","v":"NÃO"},{"$f":"IF(AND(T$8>=$M9,T$8<=$N9),IF($F9=\"Trimestral\",IF(S73=\"NÃO\",$D9,IF(MOD(COUNT($Q73:S73)+1,3)=0,(S73*$E9)+S73,S73)),\"NÃO\"),\"NÃO\")","v":"NÃO"},{"$f":"IF(AND(U$8>=$M9,U$8<=$N9),IF($F9=\"Trimestral\",IF(T73=\"NÃO\",$D9,IF(MOD(COUNT($Q73:T73)+1,3)=0,(T73*$E9)+T73,T73)),\"NÃO\"),\"NÃO\")","v":"NÃO"},{"$f":"IF(AND(V$8>=$M9,V$8<=$N9),IF($F9=\"Trimestral\",IF(U73=\"NÃO\",$D9,IF(MOD(COUNT($Q73:U73)+1,3)=0,(U73*$E9)+U73,U73)),\"NÃO\"),\"NÃO\")","v":"NÃO"},{"$f":"IF(AND(W$8>=$M9,W$8<=$N9),IF($F9=\"Trimestral\",IF(V73=\"NÃO\",$D9,IF(MOD(COUNT($Q73:V73)+1,3)=0,(V73*$E9)+V73,V73)),\"NÃO\"),\"NÃO\")","v":"NÃO"},{"$f":"IF(AND(X$8>=$M9,X$8<=$N9),IF($F9=\"Trimestral\",IF(W73=\"NÃO\",$D9,IF(MOD(COUNT($Q73:W73)+1,3)=0,(W73*$E9)+W73,W73)),\"NÃO\"),\"NÃO\")","v":"NÃO"},{"$f":"IF(AND(Y$8>=$M9,Y$8<=$N9),IF($F9=\"Trimestral\",IF(X73=\"NÃO\",$D9,IF(MOD(COUNT($Q73:X73)+1,3)=0,(X73*$E9)+X73,X73)),\"NÃO\"),\"NÃO\")","v":"NÃO"},{"$f":"IF(AND(Z$8>=$M9,Z$8<=$N9),IF($F9=\"Trimestral\",IF(Y73=\"NÃO\",$D9,IF(MOD(COUNT($Q73:Y73)+1,3)=0,(Y73*$E9)+Y73,Y73)),\"NÃO\"),\"NÃO\")","v":"NÃO"},{"$f":"IF(AND(AA$8>=$M9,AA$8<=$N9),IF($F9=\"Trimestral\",IF(Z73=\"NÃO\",$D9,IF(MOD(COUNT($Q73:Z73)+1,3)=0,(Z73*$E9)+Z73,Z73)),\"NÃO\"),\"NÃO\")","v":"NÃO"},{"$f":"IF(AND(AB$8>=$M9,AB$8<=$N9),IF($F9=\"Trimestral\",IF(AA73=\"NÃO\",$D9,IF(MOD(COUNT($Q73:AA73)+1,3)=0,(AA73*$E9)+AA73,AA73)),\"NÃO\"),\"NÃO\")","v":"NÃO"},{"$f":"IF(AND(AC$8>=$M9,AC$8<=$N9),IF($F9=\"Trimestral\",IF(AB73=\"NÃO\",$D9,IF(MOD(COUNT($Q73:AB73)+1,3)=0,(AB73*$E9)+AB73,AB73)),\"NÃO\"),\"NÃO\")","v":"NÃO"},{"$f":"IF(AND(AD$8>=$M9,AD$8<=$N9),IF($F9=\"Trimestral\",IF(AC73=\"NÃO\",$D9,IF(MOD(COUNT($Q73:AC73)+1,3)=0,(AC73*$E9)+AC73,AC73)),\"NÃO\"),\"NÃO\")","v":"NÃO"},{"$f":"IF(AND(AE$8>=$M9,AE$8<=$N9),IF($F9=\"Trimestral\",IF(AD73=\"NÃO\",$D9,IF(MOD(COUNT($Q73:AD73)+1,3)=0,(AD73*$E9)+AD73,AD73)),\"NÃO\"),\"NÃO\")","v":"NÃO"},{"$f":"IF(AND(AF$8>=$M9,AF$8<=$N9),IF($F9=\"Trimestral\",IF(AE73=\"NÃO\",$D9,IF(MOD(COUNT($Q73:AE73)+1,3)=0,(AE73*$E9)+AE73,AE73)),\"NÃO\"),\"NÃO\")","v":"NÃO"},{"$f":"IF(AND(AG$8>=$M9,AG$8<=$N9),IF($F9=\"Trimestral\",IF(AF73=\"NÃO\",$D9,IF(MOD(COUNT($Q73:AF73)+1,3)=0,(AF73*$E9)+AF73,AF73)),\"NÃO\"),\"NÃO\")","v":"NÃO"},{"$f":"IF(AND(AH$8>=$M9,AH$8<=$N9),IF($F9=\"Trimestral\",IF(AG73=\"NÃO\",$D9,IF(MOD(COUNT($Q73:AG73)+1,3)=0,(AG73*$E9)+AG73,AG73)),\"NÃO\"),\"NÃO\")","v":"NÃO"},{"$f":"IF(AND(AI$8>=$M9,AI$8<=$N9),IF($F9=\"Trimestral\",IF(AH73=\"NÃO\",$D9,IF(MOD(COUNT($Q73:AH73)+1,3)=0,(AH73*$E9)+AH73,AH73)),\"NÃO\"),\"NÃO\")","v":"NÃO"},{"$f":"IF(AND(AJ$8>=$M9,AJ$8<=$N9),IF($F9=\"Trimestral\",IF(AI73=\"NÃO\",$D9,IF(MOD(COUNT($Q73:AI73)+1,3)=0,(AI73*$E9)+AI73,AI73)),\"NÃO\"),\"NÃO\")","v":"NÃO"},{"$f":"IF(AND(AK$8>=$M9,AK$8<=$N9),IF($F9=\"Trimestral\",IF(AJ73=\"NÃO\",$D9,IF(MOD(COUNT($Q73:AJ73)+1,3)=0,(AJ73*$E9)+AJ73,AJ73)),\"NÃO\"),\"NÃO\")","v":"NÃO"},{"$f":"IF(AND(AL$8>=$M9,AL$8<=$N9),IF($F9=\"Trimestral\",IF(AK73=\"NÃO\",$D9,IF(MOD(COUNT($Q73:AK73)+1,3)=0,(AK73*$E9)+AK73,AK73)),\"NÃO\"),\"NÃO\")","v":"NÃO"},{"$f":"IF(AND(AM$8>=$M9,AM$8<=$N9),IF($F9=\"Trimestral\",IF(AL73=\"NÃO\",$D9,IF(MOD(COUNT($Q73:AL73)+1,3)=0,(AL73*$E9)+AL73,AL73)),\"NÃO\"),\"NÃO\")","v":"NÃO"},{"$f":"IF(AND(AN$8>=$M9,AN$8<=$N9),IF($F9=\"Trimestral\",IF(AM73=\"NÃO\",$D9,IF(MOD(COUNT($Q73:AM73)+1,3)=0,(AM73*$E9)+AM73,AM73)),\"NÃO\"),\"NÃO\")","v":"NÃO"},{"$f":"IF(AND(AO$8>=$M9,AO$8<=$N9),IF($F9=\"Trimestral\",IF(AN73=\"NÃO\",$D9,IF(MOD(COUNT($Q73:AN73)+1,3)=0,(AN73*$E9)+AN73,AN73)),\"NÃO\"),\"NÃO\")","v":"NÃO"},{"$f":"IF(AND(AP$8>=$M9,AP$8<=$N9),IF($F9=\"Trimestral\",IF(AO73=\"NÃO\",$D9,IF(MOD(COUNT($Q73:AO73)+1,3)=0,(AO73*$E9)+AO73,AO73)),\"NÃO\"),\"NÃO\")","v":"NÃO"},{"$f":"IF(AND(AQ$8>=$M9,AQ$8<=$N9),IF($F9=\"Trimestral\",IF(AP73=\"NÃO\",$D9,IF(MOD(COUNT($Q73:AP73)+1,3)=0,(AP73*$E9)+AP73,AP73)),\"NÃO\"),\"NÃO\")","v":"NÃO"},{"$f":"IF(AND(AR$8>=$M9,AR$8<=$N9),IF($F9=\"Trimestral\",IF(AQ73=\"NÃO\",$D9,IF(MOD(COUNT($Q73:AQ73)+1,3)=0,(AQ73*$E9)+AQ73,AQ73)),\"NÃO\"),\"NÃO\")","v":"NÃO"},{"$f":"IF(AND(AS$8>=$M9,AS$8<=$N9),IF($F9=\"Trimestral\",IF(AR73=\"NÃO\",$D9,IF(MOD(COUNT($Q73:AR73)+1,3)=0,(AR73*$E9)+AR73,AR73)),\"NÃO\"),\"NÃO\")","v":"NÃO"},{"$f":"IF(AND(AT$8>=$M9,AT$8<=$N9),IF($F9=\"Trimestral\",IF(AS73=\"NÃO\",$D9,IF(MOD(COUNT($Q73:AS73)+1,3)=0,(AS73*$E9)+AS73,AS73)),\"NÃO\"),\"NÃO\")","v":"NÃO"},{"$f":"IF(AND(AU$8>=$M9,AU$8<=$N9),IF($F9=\"Trimestral\",IF(AT73=\"NÃO\",$D9,IF(MOD(COUNT($Q73:AT73)+1,3)=0,(AT73*$E9)+AT73,AT73)),\"NÃO\"),\"NÃO\")","v":"NÃO"},{"$f":"IF(AND(AV$8>=$M9,AV$8<=$N9),IF($F9=\"Trimestral\",IF(AU73=\"NÃO\",$D9,IF(MOD(COUNT($Q73:AU73)+1,3)=0,(AU73*$E9)+AU73,AU73)),\"NÃO\"),\"NÃO\")","v":"NÃO"},{"$f":"IF(AND(AW$8>=$M9,AW$8<=$N9),IF($F9=\"Trimestral\",IF(AV73=\"NÃO\",$D9,IF(MOD(COUNT($Q73:AV73)+1,3)=0,(AV73*$E9)+AV73,AV73)),\"NÃO\"),\"NÃO\")","v":"NÃO"},{"$f":"IF(AND(AX$8>=$M9,AX$8<=$N9),IF($F9=\"Trimestral\",IF(AW73=\"NÃO\",$D9,IF(MOD(COUNT($Q73:AW73)+1,3)=0,(AW73*$E9)+AW73,AW73)),\"NÃO\"),\"NÃO\")","v":"NÃO"},{"$f":"IF(AND(AY$8>=$M9,AY$8<=$N9),IF($F9=\"Trimestral\",IF(AX73=\"NÃO\",$D9,IF(MOD(COUNT($Q73:AX73)+1,3)=0,(AX73*$E9)+AX73,AX73)),\"NÃO\"),\"NÃO\")","v":"NÃO"},{"$f":"IF(AND(AZ$8>=$M9,AZ$8<=$N9),IF($F9=\"Trimestral\",IF(AY73=\"NÃO\",$D9,IF(MOD(COUNT($Q73:AY73)+1,3)=0,(AY73*$E9)+AY73,AY73)),\"NÃO\"),\"NÃO\")","v":"NÃO"},{"$f":"IF(AND(BA$8>=$M9,BA$8<=$N9),IF($F9=\"Trimestral\",IF(AZ73=\"NÃO\",$D9,IF(MOD(COUNT($Q73:AZ73)+1,3)=0,(AZ73*$E9)+AZ73,AZ73)),\"NÃO\"),\"NÃO\")","v":"NÃO"},{"$f":"IF(AND(BB$8>=$M9,BB$8<=$N9),IF($F9=\"Trimestral\",IF(BA73=\"NÃO\",$D9,IF(MOD(COUNT($Q73:BA73)+1,3)=0,(BA73*$E9)+BA73,BA73)),\"NÃO\"),\"NÃO\")","v":"NÃO"},{"$f":"IF(AND(BC$8>=$M9,BC$8<=$N9),IF($F9=\"Trimestral\",IF(BB73=\"NÃO\",$D9,IF(MOD(COUNT($Q73:BB73)+1,3)=0,(BB73*$E9)+BB73,BB73)),\"NÃO\"),\"NÃO\")","v":"NÃO"},{"$f":"IF(AND(BD$8>=$M9,BD$8<=$N9),IF($F9=\"Trimestral\",IF(BC73=\"NÃO\",$D9,IF(MOD(COUNT($Q73:BC73)+1,3)=0,(BC73*$E9)+BC73,BC73)),\"NÃO\"),\"NÃO\")","v":"NÃO"},{"$f":"IF(AND(BE$8>=$M9,BE$8<=$N9),IF($F9=\"Trimestral\",IF(BD73=\"NÃO\",$D9,IF(MOD(COUNT($Q73:BD73)+1,3)=0,(BD73*$E9)+BD73,BD73)),\"NÃO\"),\"NÃO\")","v":"NÃO"},{"$f":"IF(AND(BF$8>=$M9,BF$8<=$N9),IF($F9=\"Trimestral\",IF(BE73=\"NÃO\",$D9,IF(MOD(COUNT($Q73:BE73)+1,3)=0,(BE73*$E9)+BE73,BE73)),\"NÃO\"),\"NÃO\")","v":"NÃO"},{"$f":"IF(AND(BG$8>=$M9,BG$8<=$N9),IF($F9=\"Trimestral\",IF(BF73=\"NÃO\",$D9,IF(MOD(COUNT($Q73:BF73)+1,3)=0,(BF73*$E9)+BF73,BF73)),\"NÃO\"),\"NÃO\")","v":"NÃO"},{"$f":"IF(AND(BH$8>=$M9,BH$8<=$N9),IF($F9=\"Trimestral\",IF(BG73=\"NÃO\",$D9,IF(MOD(COUNT($Q73:BG73)+1,3)=0,(BG73*$E9)+BG73,BG73)),\"NÃO\"),\"NÃO\")","v":"NÃO"},{"$f":"IF(AND(BI$8>=$M9,BI$8<=$N9),IF($F9=\"Trimestral\",IF(BH73=\"NÃO\",$D9,IF(MOD(COUNT($Q73:BH73)+1,3)=0,(BH73*$E9)+BH73,BH73)),\"NÃO\"),\"NÃO\")","v":"NÃO"},{"$f":"IF(AND(BJ$8>=$M9,BJ$8<=$N9),IF($F9=\"Trimestral\",IF(BI73=\"NÃO\",$D9,IF(MOD(COUNT($Q73:BI73)+1,3)=0,(BI73*$E9)+BI73,BI73)),\"NÃO\"),\"NÃO\")","v":"NÃO"},{"$f":"IF(AND(BK$8>=$M9,BK$8<=$N9),IF($F9=\"Trimestral\",IF(BJ73=\"NÃO\",$D9,IF(MOD(COUNT($Q73:BJ73)+1,3)=0,(BJ73*$E9)+BJ73,BJ73)),\"NÃO\"),\"NÃO\")","v":"NÃO"},{"$f":"IF(AND(BL$8>=$M9,BL$8<=$N9),IF($F9=\"Trimestral\",IF(BK73=\"NÃO\",$D9,IF(MOD(COUNT($Q73:BK73)+1,3)=0,(BK73*$E9)+BK73,BK73)),\"NÃO\"),\"NÃO\")","v":"NÃO"},{"$f":"IF(AND(BM$8>=$M9,BM$8<=$N9),IF($F9=\"Trimestral\",IF(BL73=\"NÃO\",$D9,IF(MOD(COUNT($Q73:BL73)+1,3)=0,(BL73*$E9)+BL73,BL73)),\"NÃO\"),\"NÃO\")","v":"NÃO"},{"$f":"IF(AND(BN$8>=$M9,BN$8<=$N9),IF($F9=\"Trimestral\",IF(BM73=\"NÃO\",$D9,IF(MOD(COUNT($Q73:BM73)+1,3)=0,(BM73*$E9)+BM73,BM73)),\"NÃO\"),\"NÃO\")","v":"NÃO"},{"$f":"IF(AND(BO$8>=$M9,BO$8<=$N9),IF($F9=\"Trimestral\",IF(BN73=\"NÃO\",$D9,IF(MOD(COUNT($Q73:BN73)+1,3)=0,(BN73*$E9)+BN73,BN73)),\"NÃO\"),\"NÃO\")","v":"NÃO"},{"$f":"IF(AND(BP$8>=$M9,BP$8<=$N9),IF($F9=\"Trimestral\",IF(BO73=\"NÃO\",$D9,IF(MOD(COUNT($Q73:BO73)+1,3)=0,(BO73*$E9)+BO73,BO73)),\"NÃO\"),\"NÃO\")","v":"NÃO"},{"$f":"IF(AND(BQ$8>=$M9,BQ$8<=$N9),IF($F9=\"Trimestral\",IF(BP73=\"NÃO\",$D9,IF(MOD(COUNT($Q73:BP73)+1,3)=0,(BP73*$E9)+BP73,BP73)),\"NÃO\"),\"NÃO\")","v":"NÃO"},{"$f":"IF(AND(BR$8>=$M9,BR$8<=$N9),IF($F9=\"Trimestral\",IF(BQ73=\"NÃO\",$D9,IF(MOD(COUNT($Q73:BQ73)+1,3)=0,(BQ73*$E9)+BQ73,BQ73)),\"NÃO\"),\"NÃO\")","v":"NÃO"},{"$f":"IF(AND(BS$8>=$M9,BS$8<=$N9),IF($F9=\"Trimestral\",IF(BR73=\"NÃO\",$D9,IF(MOD(COUNT($Q73:BR73)+1,3)=0,(BR73*$E9)+BR73,BR73)),\"NÃO\"),\"NÃO\")","v":"NÃO"},{"$f":"IF(AND(BT$8>=$M9,BT$8<=$N9),IF($F9=\"Trimestral\",IF(BS73=\"NÃO\",$D9,IF(MOD(COUNT($Q73:BS73)+1,3)=0,(BS73*$E9)+BS73,BS73)),\"NÃO\"),\"NÃO\")","v":"NÃO"},{"$f":"IF(AND(BU$8>=$M9,BU$8<=$N9),IF($F9=\"Trimestral\",IF(BT73=\"NÃO\",$D9,IF(MOD(COUNT($Q73:BT73)+1,3)=0,(BT73*$E9)+BT73,BT73)),\"NÃO\"),\"NÃO\")","v":"NÃO"},{"$f":"IF(AND(BV$8>=$M9,BV$8<=$N9),IF($F9=\"Trimestral\",IF(BU73=\"NÃO\",$D9,IF(MOD(COUNT($Q73:BU73)+1,3)=0,(BU73*$E9)+BU73,BU73)),\"NÃO\"),\"NÃO\")","v":"NÃO"},{"$f":"IF(AND(BW$8>=$M9,BW$8<=$N9),IF($F9=\"Trimestral\",IF(BV73=\"NÃO\",$D9,IF(MOD(COUNT($Q73:BV73)+1,3)=0,(BV73*$E9)+BV73,BV73)),\"NÃO\"),\"NÃO\")","v":"NÃO"},{"$f":"IF(AND(BX$8>=$M9,BX$8<=$N9),IF($F9=\"Trimestral\",IF(BW73=\"NÃO\",$D9,IF(MOD(COUNT($Q73:BW73)+1,3)=0,(BW73*$E9)+BW73,BW73)),\"NÃO\"),\"NÃO\")","v":"NÃO"},null,null,1]
[null,null,null,null,null,null,null,null,null,null,null,null,null,null,null,2,{"$f":"IF(AND(Q$8>=$M10,Q$8<=$N10),IF($F10=\"TRIMESTRAL\",$D10,\"NÃO\"),\"NÃO\")","v":"NÃO"},{"$f":"IF(AND(R$8>=$M10,R$8<=$N10),IF($F10=\"Trimestral\",IF(Q74=\"NÃO\",$D10,IF(MOD(COUNT($Q74:Q74)+1,3)=0,(Q74*$E10)+Q74,Q74)),\"NÃO\"),\"NÃO\")","v":"NÃO"},{"$f":"IF(AND(S$8>=$M10,S$8<=$N10),IF($F10=\"Trimestral\",IF(R74=\"NÃO\",$D10,IF(MOD(COUNT($Q74:R74)+1,3)=0,(R74*$E10)+R74,R74)),\"NÃO\"),\"NÃO\")","v":"NÃO"},{"$f":"IF(AND(T$8>=$M10,T$8<=$N10),IF($F10=\"Trimestral\",IF(S74=\"NÃO\",$D10,IF(MOD(COUNT($Q74:S74)+1,3)=0,(S74*$E10)+S74,S74)),\"NÃO\"),\"NÃO\")","v":"NÃO"},{"$f":"IF(AND(U$8>=$M10,U$8<=$N10),IF($F10=\"Trimestral\",IF(T74=\"NÃO\",$D10,IF(MOD(COUNT($Q74:T74)+1,3)=0,(T74*$E10)+T74,T74)),\"NÃO\"),\"NÃO\")","v":"NÃO"},{"$f":"IF(AND(V$8>=$M10,V$8<=$N10),IF($F10=\"Trimestral\",IF(U74=\"NÃO\",$D10,IF(MOD(COUNT($Q74:U74)+1,3)=0,(U74*$E10)+U74,U74)),\"NÃO\"),\"NÃO\")","v":"NÃO"},{"$f":"IF(AND(W$8>=$M10,W$8<=$N10),IF($F10=\"Trimestral\",IF(V74=\"NÃO\",$D10,IF(MOD(COUNT($Q74:V74)+1,3)=0,(V74*$E10)+V74,V74)),\"NÃO\"),\"NÃO\")","v":"NÃO"},{"$f":"IF(AND(X$8>=$M10,X$8<=$N10),IF($F10=\"Trimestral\",IF(W74=\"NÃO\",$D10,IF(MOD(COUNT($Q74:W74)+1,3)=0,(W74*$E10)+W74,W74)),\"NÃO\"),\"NÃO\")","v":"NÃO"},{"$f":"IF(AND(Y$8>=$M10,Y$8<=$N10),IF($F10=\"Trimestral\",IF(X74=\"NÃO\",$D10,IF(MOD(COUNT($Q74:X74)+1,3)=0,(X74*$E10)+X74,X74)),\"NÃO\"),\"NÃO\")","v":"NÃO"},{"$f":"IF(AND(Z$8>=$M10,Z$8<=$N10),IF($F10=\"Trimestral\",IF(Y74=\"NÃO\",$D10,IF(MOD(COUNT($Q74:Y74)+1,3)=0,(Y74*$E10)+Y74,Y74)),\"NÃO\"),\"NÃO\")","v":"NÃO"},{"$f":"IF(AND(AA$8>=$M10,AA$8<=$N10),IF($F10=\"Trimestral\",IF(Z74=\"NÃO\",$D10,IF(MOD(COUNT($Q74:Z74)+1,3)=0,(Z74*$E10)+Z74,Z74)),\"NÃO\"),\"NÃO\")","v":"NÃO"},{"$f":"IF(AND(AB$8>=$M10,AB$8<=$N10),IF($F10=\"Trimestral\",IF(AA74=\"NÃO\",$D10,IF(MOD(COUNT($Q74:AA74)+1,3)=0,(AA74*$E10)+AA74,AA74)),\"NÃO\"),\"NÃO\")","v":"NÃO"},{"$f":"IF(AND(AC$8>=$M10,AC$8<=$N10),IF($F10=\"Trimestral\",IF(AB74=\"NÃO\",$D10,IF(MOD(COUNT($Q74:AB74)+1,3)=0,(AB74*$E10)+AB74,AB74)),\"NÃO\"),\"NÃO\")","v":"NÃO"},{"$f":"IF(AND(AD$8>=$M10,AD$8<=$N10),IF($F10=\"Trimestral\",IF(AC74=\"NÃO\",$D10,IF(MOD(COUNT($Q74:AC74)+1,3)=0,(AC74*$E10)+AC74,AC74)),\"NÃO\"),\"NÃO\")","v":"NÃO"},{"$f":"IF(AND(AE$8>=$M10,AE$8<=$N10),IF($F10=\"Trimestral\",IF(AD74=\"NÃO\",$D10,IF(MOD(COUNT($Q74:AD74)+1,3)=0,(AD74*$E10)+AD74,AD74)),\"NÃO\"),\"NÃO\")","v":"NÃO"},{"$f":"IF(AND(AF$8>=$M10,AF$8<=$N10),IF($F10=\"Trimestral\",IF(AE74=\"NÃO\",$D10,IF(MOD(COUNT($Q74:AE74)+1,3)=0,(AE74*$E10)+AE74,AE74)),\"NÃO\"),\"NÃO\")","v":"NÃO"},{"$f":"IF(AND(AG$8>=$M10,AG$8<=$N10),IF($F10=\"Trimestral\",IF(AF74=\"NÃO\",$D10,IF(MOD(COUNT($Q74:AF74)+1,3)=0,(AF74*$E10)+AF74,AF74)),\"NÃO\"),\"NÃO\")","v":"NÃO"},{"$f":"IF(AND(AH$8>=$M10,AH$8<=$N10),IF($F10=\"Trimestral\",IF(AG74=\"NÃO\",$D10,IF(MOD(COUNT($Q74:AG74)+1,3)=0,(AG74*$E10)+AG74,AG74)),\"NÃO\"),\"NÃO\")","v":"NÃO"},{"$f":"IF(AND(AI$8>=$M10,AI$8<=$N10),IF($F10=\"Trimestral\",IF(AH74=\"NÃO\",$D10,IF(MOD(COUNT($Q74:AH74)+1,3)=0,(AH74*$E10)+AH74,AH74)),\"NÃO\"),\"NÃO\")","v":"NÃO"},{"$f":"IF(AND(AJ$8>=$M10,AJ$8<=$N10),IF($F10=\"Trimestral\",IF(AI74=\"NÃO\",$D10,IF(MOD(COUNT($Q74:AI74)+1,3)=0,(AI74*$E10)+AI74,AI74)),\"NÃO\"),\"NÃO\")","v":"NÃO"},{"$f":"IF(AND(AK$8>=$M10,AK$8<=$N10),IF($F10=\"Trimestral\",IF(AJ74=\"NÃO\",$D10,IF(MOD(COUNT($Q74:AJ74)+1,3)=0,(AJ74*$E10)+AJ74,AJ74)),\"NÃO\"),\"NÃO\")","v":"NÃO"},{"$f":"IF(AND(AL$8>=$M10,AL$8<=$N10),IF($F10=\"Trimestral\",IF(AK74=\"NÃO\",$D10,IF(MOD(COUNT($Q74:AK74)+1,3)=0,(AK74*$E10)+AK74,AK74)),\"NÃO\"),\"NÃO\")","v":"NÃO"},{"$f":"IF(AND(AM$8>=$M10,AM$8<=$N10),IF($F10=\"Trimestral\",IF(AL74=\"NÃO\",$D10,IF(MOD(COUNT($Q74:AL74)+1,3)=0,(AL74*$E10)+AL74,AL74)),\"NÃO\"),\"NÃO\")","v":"NÃO"},{"$f":"IF(AND(AN$8>=$M10,AN$8<=$N10),IF($F10=\"Trimestral\",IF(AM74=\"NÃO\",$D10,IF(MOD(COUNT($Q74:AM74)+1,3)=0,(AM74*$E10)+AM74,AM74)),\"NÃO\"),\"NÃO\")","v":"NÃO"},{"$f":"IF(AND(AO$8>=$M10,AO$8<=$N10),IF($F10=\"Trimestral\",IF(AN74=\"NÃO\",$D10,IF(MOD(COUNT($Q74:AN74)+1,3)=0,(AN74*$E10)+AN74,AN74)),\"NÃO\"),\"NÃO\")","v":"NÃO"},{"$f":"IF(AND(AP$8>=$M10,AP$8<=$N10),IF($F10=\"Trimestral\",IF(AO74=\"NÃO\",$D10,IF(MOD(COUNT($Q74:AO74)+1,3)=0,(AO74*$E10)+AO74,AO74)),\"NÃO\"),\"NÃO\")","v":"NÃO"},{"$f":"IF(AND(AQ$8>=$M10,AQ$8<=$N10),IF($F10=\"Trimestral\",IF(AP74=\"NÃO\",$D10,IF(MOD(COUNT($Q74:AP74)+1,3)=0,(AP74*$E10)+AP74,AP74)),\"NÃO\"),\"NÃO\")","v":"NÃO"},{"$f":"IF(AND(AR$8>=$M10,AR$8<=$N10),IF($F10=\"Trimestral\",IF(AQ74=\"NÃO\",$D10,IF(MOD(COUNT($Q74:AQ74)+1,3)=0,(AQ74*$E10)+AQ74,AQ74)),\"NÃO\"),\"NÃO\")","v":"NÃO"},{"$f":"IF(AND(AS$8>=$M10,AS$8<=$N10),IF($F10=\"Trimestral\",IF(AR74=\"NÃO\",$D10,IF(MOD(COUNT($Q74:AR74)+1,3)=0,(AR74*$E10)+AR74,AR74)),\"NÃO\"),\"NÃO\")","v":"NÃO"},{"$f":"IF(AND(AT$8>=$M10,AT$8<=$N10),IF($F10=\"Trimestral\",IF(AS74=\"NÃO\",$D10,IF(MOD(COUNT($Q74:AS74)+1,3)=0,(AS74*$E10)+AS74,AS74)),\"NÃO\"),\"NÃO\")","v":"NÃO"},{"$f":"IF(AND(AU$8>=$M10,AU$8<=$N10),IF($F10=\"Trimestral\",IF(AT74=\"NÃO\",$D10,IF(MOD(COUNT($Q74:AT74)+1,3)=0,(AT74*$E10)+AT74,AT74)),\"NÃO\"),\"NÃO\")","v":"NÃO"},{"$f":"IF(AND(AV$8>=$M10,AV$8<=$N10),IF($F10=\"Trimestral\",IF(AU74=\"NÃO\",$D10,IF(MOD(COUNT($Q74:AU74)+1,3)=0,(AU74*$E10)+AU74,AU74)),\"NÃO\"),\"NÃO\")","v":"NÃO"},{"$f":"IF(AND(AW$8>=$M10,AW$8<=$N10),IF($F10=\"Trimestral\",IF(AV74=\"NÃO\",$D10,IF(MOD(COUNT($Q74:AV74)+1,3)=0,(AV74*$E10)+AV74,AV74)),\"NÃO\"),\"NÃO\")","v":"NÃO"},{"$f":"IF(AND(AX$8>=$M10,AX$8<=$N10),IF($F10=\"Trimestral\",IF(AW74=\"NÃO\",$D10,IF(MOD(COUNT($Q74:AW74)+1,3)=0,(AW74*$E10)+AW74,AW74)),\"NÃO\"),\"NÃO\")","v":"NÃO"},{"$f":"IF(AND(AY$8>=$M10,AY$8<=$N10),IF($F10=\"Trimestral\",IF(AX74=\"NÃO\",$D10,IF(MOD(COUNT($Q74:AX74)+1,3)=0,(AX74*$E10)+AX74,AX74)),\"NÃO\"),\"NÃO\")","v":"NÃO"},{"$f":"IF(AND(AZ$8>=$M10,AZ$8<=$N10),IF($F10=\"Trimestral\",IF(AY74=\"NÃO\",$D10,IF(MOD(COUNT($Q74:AY74)+1,3)=0,(AY74*$E10)+AY74,AY74)),\"NÃO\"),\"NÃO\")","v":"NÃO"},{"$f":"IF(AND(BA$8>=$M10,BA$8<=$N10),IF($F10=\"Trimestral\",IF(AZ74=\"NÃO\",$D10,IF(MOD(COUNT($Q74:AZ74)+1,3)=0,(AZ74*$E10)+AZ74,AZ74)),\"NÃO\"),\"NÃO\")","v":"NÃO"},{"$f":"IF(AND(BB$8>=$M10,BB$8<=$N10),IF($F10=\"Trimestral\",IF(BA74=\"NÃO\",$D10,IF(MOD(COUNT($Q74:BA74)+1,3)=0,(BA74*$E10)+BA74,BA74)),\"NÃO\"),\"NÃO\")","v":"NÃO"},{"$f":"IF(AND(BC$8>=$M10,BC$8<=$N10),IF($F10=\"Trimestral\",IF(BB74=\"NÃO\",$D10,IF(MOD(COUNT($Q74:BB74)+1,3)=0,(BB74*$E10)+BB74,BB74)),\"NÃO\"),\"NÃO\")","v":"NÃO"},{"$f":"IF(AND(BD$8>=$M10,BD$8<=$N10),IF($F10=\"Trimestral\",IF(BC74=\"NÃO\",$D10,IF(MOD(COUNT($Q74:BC74)+1,3)=0,(BC74*$E10)+BC74,BC74)),\"NÃO\"),\"NÃO\")","v":"NÃO"},{"$f":"IF(AND(BE$8>=$M10,BE$8<=$N10),IF($F10=\"Trimestral\",IF(BD74=\"NÃO\",$D10,IF(MOD(COUNT($Q74:BD74)+1,3)=0,(BD74*$E10)+BD74,BD74)),\"NÃO\"),\"NÃO\")","v":"NÃO"},{"$f":"IF(AND(BF$8>=$M10,BF$8<=$N10),IF($F10=\"Trimestral\",IF(BE74=\"NÃO\",$D10,IF(MOD(COUNT($Q74:BE74)+1,3)=0,(BE74*$E10)+BE74,BE74)),\"NÃO\"),\"NÃO\")","v":"NÃO"},{"$f":"IF(AND(BG$8>=$M10,BG$8<=$N10),IF($F10=\"Trimestral\",IF(BF74=\"NÃO\",$D10,IF(MOD(COUNT($Q74:BF74)+1,3)=0,(BF74*$E10)+BF74,BF74)),\"NÃO\"),\"NÃO\")","v":"NÃO"},{"$f":"IF(AND(BH$8>=$M10,BH$8<=$N10),IF($F10=\"Trimestral\",IF(BG74=\"NÃO\",$D10,IF(MOD(COUNT($Q74:BG74)+1,3)=0,(BG74*$E10)+BG74,BG74)),\"NÃO\"),\"NÃO\")","v":"NÃO"},{"$f":"IF(AND(BI$8>=$M10,BI$8<=$N10),IF($F10=\"Trimestral\",IF(BH74=\"NÃO\",$D10,IF(MOD(COUNT($Q74:BH74)+1,3)=0,(BH74*$E10)+BH74,BH74)),\"NÃO\"),\"NÃO\")","v":"NÃO"},{"$f":"IF(AND(BJ$8>=$M10,BJ$8<=$N10),IF($F10=\"Trimestral\",IF(BI74=\"NÃO\",$D10,IF(MOD(COUNT($Q74:BI74)+1,3)=0,(BI74*$E10)+BI74,BI74)),\"NÃO\"),\"NÃO\")","v":"NÃO"},{"$f":"IF(AND(BK$8>=$M10,BK$8<=$N10),IF($F10=\"Trimestral\",IF(BJ74=\"NÃO\",$D10,IF(MOD(COUNT($Q74:BJ74)+1,3)=0,(BJ74*$E10)+BJ74,BJ74)),\"NÃO\"),\"NÃO\")","v":"NÃO"},{"$f":"IF(AND(BL$8>=$M10,BL$8<=$N10),IF($F10=\"Trimestral\",IF(BK74=\"NÃO\",$D10,IF(MOD(COUNT($Q74:BK74)+1,3)=0,(BK74*$E10)+BK74,BK74)),\"NÃO\"),\"NÃO\")","v":"NÃO"},{"$f":"IF(AND(BM$8>=$M10,BM$8<=$N10),IF($F10=\"Trimestral\",IF(BL74=\"NÃO\",$D10,IF(MOD(COUNT($Q74:BL74)+1,3)=0,(BL74*$E10)+BL74,BL74)),\"NÃO\"),\"NÃO\")","v":"NÃO"},{"$f":"IF(AND(BN$8>=$M10,BN$8<=$N10),IF($F10=\"Trimestral\",IF(BM74=\"NÃO\",$D10,IF(MOD(COUNT($Q74:BM74)+1,3)=0,(BM74*$E10)+BM74,BM74)),\"NÃO\"),\"NÃO\")","v":"NÃO"},{"$f":"IF(AND(BO$8>=$M10,BO$8<=$N10),IF($F10=\"Trimestral\",IF(BN74=\"NÃO\",$D10,IF(MOD(COUNT($Q74:BN74)+1,3)=0,(BN74*$E10)+BN74,BN74)),\"NÃO\"),\"NÃO\")","v":"NÃO"},{"$f":"IF(AND(BP$8>=$M10,BP$8<=$N10),IF($F10=\"Trimestral\",IF(BO74=\"NÃO\",$D10,IF(MOD(COUNT($Q74:BO74)+1,3)=0,(BO74*$E10)+BO74,BO74)),\"NÃO\"),\"NÃO\")","v":"NÃO"},{"$f":"IF(AND(BQ$8>=$M10,BQ$8<=$N10),IF($F10=\"Trimestral\",IF(BP74=\"NÃO\",$D10,IF(MOD(COUNT($Q74:BP74)+1,3)=0,(BP74*$E10)+BP74,BP74)),\"NÃO\"),\"NÃO\")","v":"NÃO"},{"$f":"IF(AND(BR$8>=$M10,BR$8<=$N10),IF($F10=\"Trimestral\",IF(BQ74=\"NÃO\",$D10,IF(MOD(COUNT($Q74:BQ74)+1,3)=0,(BQ74*$E10)+BQ74,BQ74)),\"NÃO\"),\"NÃO\")","v":"NÃO"},{"$f":"IF(AND(BS$8>=$M10,BS$8<=$N10),IF($F10=\"Trimestral\",IF(BR74=\"NÃO\",$D10,IF(MOD(COUNT($Q74:BR74)+1,3)=0,(BR74*$E10)+BR74,BR74)),\"NÃO\"),\"NÃO\")","v":"NÃO"},{"$f":"IF(AND(BT$8>=$M10,BT$8<=$N10),IF($F10=\"Trimestral\",IF(BS74=\"NÃO\",$D10,IF(MOD(COUNT($Q74:BS74)+1,3)=0,(BS74*$E10)+BS74,BS74)),\"NÃO\"),\"NÃO\")","v":"NÃO"},{"$f":"IF(AND(BU$8>=$M10,BU$8<=$N10),IF($F10=\"Trimestral\",IF(BT74=\"NÃO\",$D10,IF(MOD(COUNT($Q74:BT74)+1,3)=0,(BT74*$E10)+BT74,BT74)),\"NÃO\"),\"NÃO\")","v":"NÃO"},{"$f":"IF(AND(BV$8>=$M10,BV$8<=$N10),IF($F10=\"Trimestral\",IF(BU74=\"NÃO\",$D10,IF(MOD(COUNT($Q74:BU74)+1,3)=0,(BU74*$E10)+BU74,BU74)),\"NÃO\"),\"NÃO\")","v":"NÃO"},{"$f":"IF(AND(BW$8>=$M10,BW$8<=$N10),IF($F10=\"Trimestral\",IF(BV74=\"NÃO\",$D10,IF(MOD(COUNT($Q74:BV74)+1,3)=0,(BV74*$E10)+BV74,BV74)),\"NÃO\"),\"NÃO\")","v":"NÃO"},{"$f":"IF(AND(BX$8>=$M10,BX$8<=$N10),IF($F10=\"Trimestral\",IF(BW74=\"NÃO\",$D10,IF(MOD(COUNT($Q74:BW74)+1,3)=0,(BW74*$E10)+BW74,BW74)),\"NÃO\"),\"NÃO\")","v":"NÃO"},null,null,2]
[null,null,null,null,null,null,null,null,null,null,null,null,null,null,null,3,"NÃO",{"$f":"IF(AND(R$8>=$M11,R$8<=$N11),IF($F11=\"Trimestral\",IF(Q75=\"NÃO\",$D11,IF(MOD(COUNT($Q75:Q75)+1,3)=0,(Q75*$E11)+Q75,Q75)),\"NÃO\"),\"NÃO\")","v":"NÃO"},{"$f":"IF(AND(S$8>=$M11,S$8<=$N11),IF($F11=\"Trimestral\",IF(R75=\"NÃO\",$D11,IF(MOD(COUNT($Q75:R75)+1,3)=0,(R75*$E11)+R75,R75)),\"NÃO\"),\"NÃO\")","v":"NÃO"},{"$f":"IF(AND(T$8>=$M11,T$8<=$N11),IF($F11=\"Trimestral\",IF(S75=\"NÃO\",$D11,IF(MOD(COUNT($Q75:S75)+1,3)=0,(S75*$E11)+S75,S75)),\"NÃO\"),\"NÃO\")","v":"NÃO"},{"$f":"IF(AND(U$8>=$M11,U$8<=$N11),IF($F11=\"Trimestral\",IF(T75=\"NÃO\",$D11,IF(MOD(COUNT($Q75:T75)+1,3)=0,(T75*$E11)+T75,T75)),\"NÃO\"),\"NÃO\")","v":"NÃO"},{"$f":"IF(AND(V$8>=$M11,V$8<=$N11),IF($F11=\"Trimestral\",IF(U75=\"NÃO\",$D11,IF(MOD(COUNT($Q75:U75)+1,3)=0,(U75*$E11)+U75,U75)),\"NÃO\"),\"NÃO\")","v":"NÃO"},{"$f":"IF(AND(W$8>=$M11,W$8<=$N11),IF($F11=\"Trimestral\",IF(V75=\"NÃO\",$D11,IF(MOD(COUNT($Q75:V75)+1,3)=0,(V75*$E11)+V75,V75)),\"NÃO\"),\"NÃO\")","v":"NÃO"},{"$f":"IF(AND(X$8>=$M11,X$8<=$N11),IF($F11=\"Trimestral\",IF(W75=\"NÃO\",$D11,IF(MOD(COUNT($Q75:W75)+1,3)=0,(W75*$E11)+W75,W75)),\"NÃO\"),\"NÃO\")","v":"NÃO"},{"$f":"IF(AND(Y$8>=$M11,Y$8<=$N11),IF($F11=\"Trimestral\",IF(X75=\"NÃO\",$D11,IF(MOD(COUNT($Q75:X75)+1,3)=0,(X75*$E11)+X75,X75)),\"NÃO\"),\"NÃO\")","v":"NÃO"},{"$f":"IF(AND(Z$8>=$M11,Z$8<=$N11),IF($F11=\"Trimestral\",IF(Y75=\"NÃO\",$D11,IF(MOD(COUNT($Q75:Y75)+1,3)=0,(Y75*$E11)+Y75,Y75)),\"NÃO\"),\"NÃO\")","v":"NÃO"},{"$f":"IF(AND(AA$8>=$M11,AA$8<=$N11),IF($F11=\"Trimestral\",IF(Z75=\"NÃO\",$D11,IF(MOD(COUNT($Q75:Z75)+1,3)=0,(Z75*$E11)+Z75,Z75)),\"NÃO\"),\"NÃO\")","v":"NÃO"},{"$f":"IF(AND(AB$8>=$M11,AB$8<=$N11),IF($F11=\"Trimestral\",IF(AA75=\"NÃO\",$D11,IF(MOD(COUNT($Q75:AA75)+1,3)=0,(AA75*$E11)+AA75,AA75)),\"NÃO\"),\"NÃO\")","v":"NÃO"},{"$f":"IF(AND(AC$8>=$M11,AC$8<=$N11),IF($F11=\"Trimestral\",IF(AB75=\"NÃO\",$D11,IF(MOD(COUNT($Q75:AB75)+1,3)=0,(AB75*$E11)+AB75,AB75)),\"NÃO\"),\"NÃO\")","v":"NÃO"},{"$f":"IF(AND(AD$8>=$M11,AD$8<=$N11),IF($F11=\"Trimestral\",IF(AC75=\"NÃO\",$D11,IF(MOD(COUNT($Q75:AC75)+1,3)=0,(AC75*$E11)+AC75,AC75)),\"NÃO\"),\"NÃO\")","v":"NÃO"},{"$f":"IF(AND(AE$8>=$M11,AE$8<=$N11),IF($F11=\"Trimestral\",IF(AD75=\"NÃO\",$D11,IF(MOD(COUNT($Q75:AD75)+1,3)=0,(AD75*$E11)+AD75,AD75)),\"NÃO\"),\"NÃO\")","v":"NÃO"},{"$f":"IF(AND(AF$8>=$M11,AF$8<=$N11),IF($F11=\"Trimestral\",IF(AE75=\"NÃO\",$D11,IF(MOD(COUNT($Q75:AE75)+1,3)=0,(AE75*$E11)+AE75,AE75)),\"NÃO\"),\"NÃO\")","v":"NÃO"},{"$f":"IF(AND(AG$8>=$M11,AG$8<=$N11),IF($F11=\"Trimestral\",IF(AF75=\"NÃO\",$D11,IF(MOD(COUNT($Q75:AF75)+1,3)=0,(AF75*$E11)+AF75,AF75)),\"NÃO\"),\"NÃO\")","v":"NÃO"},{"$f":"IF(AND(AH$8>=$M11,AH$8<=$N11),IF($F11=\"Trimestral\",IF(AG75=\"NÃO\",$D11,IF(MOD(COUNT($Q75:AG75)+1,3)=0,(AG75*$E11)+AG75,AG75)),\"NÃO\"),\"NÃO\")","v":"NÃO"},{"$f":"IF(AND(AI$8>=$M11,AI$8<=$N11),IF($F11=\"Trimestral\",IF(AH75=\"NÃO\",$D11,IF(MOD(COUNT($Q75:AH75)+1,3)=0,(AH75*$E11)+AH75,AH75)),\"NÃO\"),\"NÃO\")","v":"NÃO"},{"$f":"IF(AND(AJ$8>=$M11,AJ$8<=$N11),IF($F11=\"Trimestral\",IF(AI75=\"NÃO\",$D11,IF(MOD(COUNT($Q75:AI75)+1,3)=0,(AI75*$E11)+AI75,AI75)),\"NÃO\"),\"NÃO\")","v":"NÃO"},{"$f":"IF(AND(AK$8>=$M11,AK$8<=$N11),IF($F11=\"Trimestral\",IF(AJ75=\"NÃO\",$D11,IF(MOD(COUNT($Q75:AJ75)+1,3)=0,(AJ75*$E11)+AJ75,AJ75)),\"NÃO\"),\"NÃO\")","v":"NÃO"},{"$f":"IF(AND(AL$8>=$M11,AL$8<=$N11),IF($F11=\"Trimestral\",IF(AK75=\"NÃO\",$D11,IF(MOD(COUNT($Q75:AK75)+1,3)=0,(AK75*$E11)+AK75,AK75)),\"NÃO\"),\"NÃO\")","v":"NÃO"},{"$f":"IF(AND(AM$8>=$M11,AM$8<=$N11),IF($F11=\"Trimestral\",IF(AL75=\"NÃO\",$D11,IF(MOD(COUNT($Q75:AL75)+1,3)=0,(AL75*$E11)+AL75,AL75)),\"NÃO\"),\"NÃO\")","v":"NÃO"},{"$f":"IF(AND(AN$8>=$M11,AN$8<=$N11),IF($F11=\"Trimestral\",IF(AM75=\"NÃO\",$D11,IF(MOD(COUNT($Q75:AM75)+1,3)=0,(AM75*$E11)+AM75,AM75)),\"NÃO\"),\"NÃO\")","v":"NÃO"},{"$f":"IF(AND(AO$8>=$M11,AO$8<=$N11),IF($F11=\"Trimestral\",IF(AN75=\"NÃO\",$D11,IF(MOD(COUNT($Q75:AN75)+1,3)=0,(AN75*$E11)+AN75,AN75)),\"NÃO\"),\"NÃO\")","v":"NÃO"},{"$f":"IF(AND(AP$8>=$M11,AP$8<=$N11),IF($F11=\"Trimestral\",IF(AO75=\"NÃO\",$D11,IF(MOD(COUNT($Q75:AO75)+1,3)=0,(AO75*$E11)+AO75,AO75)),\"NÃO\"),\"NÃO\")","v":"NÃO"},{"$f":"IF(AND(AQ$8>=$M11,AQ$8<=$N11),IF($F11=\"Trimestral\",IF(AP75=\"NÃO\",$D11,IF(MOD(COUNT($Q75:AP75)+1,3)=0,(AP75*$E11)+AP75,AP75)),\"NÃO\"),\"NÃO\")","v":"NÃO"},{"$f":"IF(AND(AR$8>=$M11,AR$8<=$N11),IF($F11=\"Trimestral\",IF(AQ75=\"NÃO\",$D11,IF(MOD(COUNT($Q75:AQ75)+1,3)=0,(AQ75*$E11)+AQ75,AQ75)),\"NÃO\"),\"NÃO\")","v":"NÃO"},{"$f":"IF(AND(AS$8>=$M11,AS$8<=$N11),IF($F11=\"Trimestral\",IF(AR75=\"NÃO\",$D11,IF(MOD(COUNT($Q75:AR75)+1,3)=0,(AR75*$E11)+AR75,AR75)),\"NÃO\"),\"NÃO\")","v":"NÃO"},{"$f":"IF(AND(AT$8>=$M11,AT$8<=$N11),IF($F11=\"Trimestral\",IF(AS75=\"NÃO\",$D11,IF(MOD(COUNT($Q75:AS75)+1,3)=0,(AS75*$E11)+AS75,AS75)),\"NÃO\"),\"NÃO\")","v":"NÃO"},{"$f":"IF(AND(AU$8>=$M11,AU$8<=$N11),IF($F11=\"Trimestral\",IF(AT75=\"NÃO\",$D11,IF(MOD(COUNT($Q75:AT75)+1,3)=0,(AT75*$E11)+AT75,AT75)),\"NÃO\"),\"NÃO\")","v":"NÃO"},{"$f":"IF(AND(AV$8>=$M11,AV$8<=$N11),IF($F11=\"Trimestral\",IF(AU75=\"NÃO\",$D11,IF(MOD(COUNT($Q75:AU75)+1,3)=0,(AU75*$E11)+AU75,AU75)),\"NÃO\"),\"NÃO\")","v":"NÃO"},{"$f":"IF(AND(AW$8>=$M11,AW$8<=$N11),IF($F11=\"Trimestral\",IF(AV75=\"NÃO\",$D11,IF(MOD(COUNT($Q75:AV75)+1,3)=0,(AV75*$E11)+AV75,AV75)),\"NÃO\"),\"NÃO\")","v":"NÃO"},{"$f":"IF(AND(AX$8>=$M11,AX$8<=$N11),IF($F11=\"Trimestral\",IF(AW75=\"NÃO\",$D11,IF(MOD(COUNT($Q75:AW75)+1,3)=0,(AW75*$E11)+AW75,AW75)),\"NÃO\"),\"NÃO\")","v":"NÃO"},{"$f":"IF(AND(AY$8>=$M11,AY$8<=$N11),IF($F11=\"Trimestral\",IF(AX75=\"NÃO\",$D11,IF(MOD(COUNT($Q75:AX75)+1,3)=0,(AX75*$E11)+AX75,AX75)),\"NÃO\"),\"NÃO\")","v":"NÃO"},{"$f":"IF(AND(AZ$8>=$M11,AZ$8<=$N11),IF($F11=\"Trimestral\",IF(AY75=\"NÃO\",$D11,IF(MOD(COUNT($Q75:AY75)+1,3)=0,(AY75*$E11)+AY75,AY75)),\"NÃO\"),\"NÃO\")","v":"NÃO"},{"$f":"IF(AND(BA$8>=$M11,BA$8<=$N11),IF($F11=\"Trimestral\",IF(AZ75=\"NÃO\",$D11,IF(MOD(COUNT($Q75:AZ75)+1,3)=0,(AZ75*$E11)+AZ75,AZ75)),\"NÃO\"),\"NÃO\")","v":"NÃO"},{"$f":"IF(AND(BB$8>=$M11,BB$8<=$N11),IF($F11=\"Trimestral\",IF(BA75=\"NÃO\",$D11,IF(MOD(COUNT($Q75:BA75)+1,3)=0,(BA75*$E11)+BA75,BA75)),\"NÃO\"),\"NÃO\")","v":"NÃO"},{"$f":"IF(AND(BC$8>=$M11,BC$8<=$N11),IF($F11=\"Trimestral\",IF(BB75=\"NÃO\",$D11,IF(MOD(COUNT($Q75:BB75)+1,3)=0,(BB75*$E11)+BB75,BB75)),\"NÃO\"),\"NÃO\")","v":"NÃO"},{"$f":"IF(AND(BD$8>=$M11,BD$8<=$N11),IF($F11=\"Trimestral\",IF(BC75=\"NÃO\",$D11,IF(MOD(COUNT($Q75:BC75)+1,3)=0,(BC75*$E11)+BC75,BC75)),\"NÃO\"),\"NÃO\")","v":"NÃO"},{"$f":"IF(AND(BE$8>=$M11,BE$8<=$N11),IF($F11=\"Trimestral\",IF(BD75=\"NÃO\",$D11,IF(MOD(COUNT($Q75:BD75)+1,3)=0,(BD75*$E11)+BD75,BD75)),\"NÃO\"),\"NÃO\")","v":"NÃO"},{"$f":"IF(AND(BF$8>=$M11,BF$8<=$N11),IF($F11=\"Trimestral\",IF(BE75=\"NÃO\",$D11,IF(MOD(COUNT($Q75:BE75)+1,3)=0,(BE75*$E11)+BE75,BE75)),\"NÃO\"),\"NÃO\")","v":"NÃO"},{"$f":"IF(AND(BG$8>=$M11,BG$8<=$N11),IF($F11=\"Trimestral\",IF(BF75=\"NÃO\",$D11,IF(MOD(COUNT($Q75:BF75)+1,3)=0,(BF75*$E11)+BF75,BF75)),\"NÃO\"),\"NÃO\")","v":"NÃO"},{"$f":"IF(AND(BH$8>=$M11,BH$8<=$N11),IF($F11=\"Trimestral\",IF(BG75=\"NÃO\",$D11,IF(MOD(COUNT($Q75:BG75)+1,3)=0,(BG75*$E11)+BG75,BG75)),\"NÃO\"),\"NÃO\")","v":"NÃO"},{"$f":"IF(AND(BI$8>=$M11,BI$8<=$N11),IF($F11=\"Trimestral\",IF(BH75=\"NÃO\",$D11,IF(MOD(COUNT($Q75:BH75)+1,3)=0,(BH75*$E11)+BH75,BH75)),\"NÃO\"),\"NÃO\")","v":"NÃO"},{"$f":"IF(AND(BJ$8>=$M11,BJ$8<=$N11),IF($F11=\"Trimestral\",IF(BI75=\"NÃO\",$D11,IF(MOD(COUNT($Q75:BI75)+1,3)=0,(BI75*$E11)+BI75,BI75)),\"NÃO\"),\"NÃO\")","v":"NÃO"},{"$f":"IF(AND(BK$8>=$M11,BK$8<=$N11),IF($F11=\"Trimestral\",IF(BJ75=\"NÃO\",$D11,IF(MOD(COUNT($Q75:BJ75)+1,3)=0,(BJ75*$E11)+BJ75,BJ75)),\"NÃO\"),\"NÃO\")","v":"NÃO"},{"$f":"IF(AND(BL$8>=$M11,BL$8<=$N11),IF($F11=\"Trimestral\",IF(BK75=\"NÃO\",$D11,IF(MOD(COUNT($Q75:BK75)+1,3)=0,(BK75*$E11)+BK75,BK75)),\"NÃO\"),\"NÃO\")","v":"NÃO"},{"$f":"IF(AND(BM$8>=$M11,BM$8<=$N11),IF($F11=\"Trimestral\",IF(BL75=\"NÃO\",$D11,IF(MOD(COUNT($Q75:BL75)+1,3)=0,(BL75*$E11)+BL75,BL75)),\"NÃO\"),\"NÃO\")","v":"NÃO"},{"$f":"IF(AND(BN$8>=$M11,BN$8<=$N11),IF($F11=\"Trimestral\",IF(BM75=\"NÃO\",$D11,IF(MOD(COUNT($Q75:BM75)+1,3)=0,(BM75*$E11)+BM75,BM75)),\"NÃO\"),\"NÃO\")","v":"NÃO"},{"$f":"IF(AND(BO$8>=$M11,BO$8<=$N11),IF($F11=\"Trimestral\",IF(BN75=\"NÃO\",$D11,IF(MOD(COUNT($Q75:BN75)+1,3)=0,(BN75*$E11)+BN75,BN75)),\"NÃO\"),\"NÃO\")","v":"NÃO"},{"$f":"IF(AND(BP$8>=$M11,BP$8<=$N11),IF($F11=\"Trimestral\",IF(BO75=\"NÃO\",$D11,IF(MOD(COUNT($Q75:BO75)+1,3)=0,(BO75*$E11)+BO75,BO75)),\"NÃO\"),\"NÃO\")","v":"NÃO"},{"$f":"IF(AND(BQ$8>=$M11,BQ$8<=$N11),IF($F11=\"Trimestral\",IF(BP75=\"NÃO\",$D11,IF(MOD(COUNT($Q75:BP75)+1,3)=0,(BP75*$E11)+BP75,BP75)),\"NÃO\"),\"NÃO\")","v":"NÃO"},{"$f":"IF(AND(BR$8>=$M11,BR$8<=$N11),IF($F11=\"Trimestral\",IF(BQ75=\"NÃO\",$D11,IF(MOD(COUNT($Q75:BQ75)+1,3)=0,(BQ75*$E11)+BQ75,BQ75)),\"NÃO\"),\"NÃO\")","v":"NÃO"},{"$f":"IF(AND(BS$8>=$M11,BS$8<=$N11),IF($F11=\"Trimestral\",IF(BR75=\"NÃO\",$D11,IF(MOD(COUNT($Q75:BR75)+1,3)=0,(BR75*$E11)+BR75,BR75)),\"NÃO\"),\"NÃO\")","v":"NÃO"},{"$f":"IF(AND(BT$8>=$M11,BT$8<=$N11),IF($F11=\"Trimestral\",IF(BS75=\"NÃO\",$D11,IF(MOD(COUNT($Q75:BS75)+1,3)=0,(BS75*$E11)+BS75,BS75)),\"NÃO\"),\"NÃO\")","v":"NÃO"},{"$f":"IF(AND(BU$8>=$M11,BU$8<=$N11),IF($F11=\"Trimestral\",IF(BT75=\"NÃO\",$D11,IF(MOD(COUNT($Q75:BT75)+1,3)=0,(BT75*$E11)+BT75,BT75)),\"NÃO\"),\"NÃO\")","v":"NÃO"},{"$f":"IF(AND(BV$8>=$M11,BV$8<=$N11),IF($F11=\"Trimestral\",IF(BU75=\"NÃO\",$D11,IF(MOD(COUNT($Q75:BU75)+1,3)=0,(BU75*$E11)+BU75,BU75)),\"NÃO\"),\"NÃO\")","v":"NÃO"},{"$f":"IF(AND(BW$8>=$M11,BW$8<=$N11),IF($F11=\"Trimestral\",IF(BV75=\"NÃO\",$D11,IF(MOD(COUNT($Q75:BV75)+1,3)=0,(BV75*$E11)+BV75,BV75)),\"NÃO\"),\"NÃO\")","v":"NÃO"},{"$f":"IF(AND(BX$8>=$M11,BX$8<=$N11),IF($F11=\"Trimestral\",IF(BW75=\"NÃO\",$D11,IF(MOD(COUNT($Q75:BW75)+1,3)=0,(BW75*$E11)+BW75,BW75)),\"NÃO\"),\"NÃO\")","v":"NÃO"},null,null,3]
[null,null,null,null,null,null,null,null,null,null,null,null,null,null,null,4,"NÃO",{"$f":"IF(AND(R$8>=$M12,R$8<=$N12),IF($F12=\"Trimestral\",IF(Q76=\"NÃO\",$D12,IF(MOD(COUNT($Q76:Q76)+1,3)=0,(Q76*$E12)+Q76,Q76)),\"NÃO\"),\"NÃO\")","v":"NÃO"},{"$f":"IF(AND(S$8>=$M12,S$8<=$N12),IF($F12=\"Trimestral\",IF(R76=\"NÃO\",$D12,IF(MOD(COUNT($Q76:R76)+1,3)=0,(R76*$E12)+R76,R76)),\"NÃO\"),\"NÃO\")","v":"NÃO"},{"$f":"IF(AND(T$8>=$M12,T$8<=$N12),IF($F12=\"Trimestral\",IF(S76=\"NÃO\",$D12,IF(MOD(COUNT($Q76:S76)+1,3)=0,(S76*$E12)+S76,S76)),\"NÃO\"),\"NÃO\")","v":"NÃO"},{"$f":"IF(AND(U$8>=$M12,U$8<=$N12),IF($F12=\"Trimestral\",IF(T76=\"NÃO\",$D12,IF(MOD(COUNT($Q76:T76)+1,3)=0,(T76*$E12)+T76,T76)),\"NÃO\"),\"NÃO\")","v":"NÃO"},{"$f":"IF(AND(V$8>=$M12,V$8<=$N12),IF($F12=\"Trimestral\",IF(U76=\"NÃO\",$D12,IF(MOD(COUNT($Q76:U76)+1,3)=0,(U76*$E12)+U76,U76)),\"NÃO\"),\"NÃO\")","v":"NÃO"},{"$f":"IF(AND(W$8>=$M12,W$8<=$N12),IF($F12=\"Trimestral\",IF(V76=\"NÃO\",$D12,IF(MOD(COUNT($Q76:V76)+1,3)=0,(V76*$E12)+V76,V76)),\"NÃO\"),\"NÃO\")","v":"NÃO"},{"$f":"IF(AND(X$8>=$M12,X$8<=$N12),IF($F12=\"Trimestral\",IF(W76=\"NÃO\",$D12,IF(MOD(COUNT($Q76:W76)+1,3)=0,(W76*$E12)+W76,W76)),\"NÃO\"),\"NÃO\")","v":"NÃO"},{"$f":"IF(AND(Y$8>=$M12,Y$8<=$N12),IF($F12=\"Trimestral\",IF(X76=\"NÃO\",$D12,IF(MOD(COUNT($Q76:X76)+1,3)=0,(X76*$E12)+X76,X76)),\"NÃO\"),\"NÃO\")","v":"NÃO"},{"$f":"IF(AND(Z$8>=$M12,Z$8<=$N12),IF($F12=\"Trimestral\",IF(Y76=\"NÃO\",$D12,IF(MOD(COUNT($Q76:Y76)+1,3)=0,(Y76*$E12)+Y76,Y76)),\"NÃO\"),\"NÃO\")","v":"NÃO"},{"$f":"IF(AND(AA$8>=$M12,AA$8<=$N12),IF($F12=\"Trimestral\",IF(Z76=\"NÃO\",$D12,IF(MOD(COUNT($Q76:Z76)+1,3)=0,(Z76*$E12)+Z76,Z76)),\"NÃO\"),\"NÃO\")","v":"NÃO"},{"$f":"IF(AND(AB$8>=$M12,AB$8<=$N12),IF($F12=\"Trimestral\",IF(AA76=\"NÃO\",$D12,IF(MOD(COUNT($Q76:AA76)+1,3)=0,(AA76*$E12)+AA76,AA76)),\"NÃO\"),\"NÃO\")","v":"NÃO"},{"$f":"IF(AND(AC$8>=$M12,AC$8<=$N12),IF($F12=\"Trimestral\",IF(AB76=\"NÃO\",$D12,IF(MOD(COUNT($Q76:AB76)+1,3)=0,(AB76*$E12)+AB76,AB76)),\"NÃO\"),\"NÃO\")","v":"NÃO"},{"$f":"IF(AND(AD$8>=$M12,AD$8<=$N12),IF($F12=\"Trimestral\",IF(AC76=\"NÃO\",$D12,IF(MOD(COUNT($Q76:AC76)+1,3)=0,(AC76*$E12)+AC76,AC76)),\"NÃO\"),\"NÃO\")","v":"NÃO"},{"$f":"IF(AND(AE$8>=$M12,AE$8<=$N12),IF($F12=\"Trimestral\",IF(AD76=\"NÃO\",$D12,IF(MOD(COUNT($Q76:AD76)+1,3)=0,(AD76*$E12)+AD76,AD76)),\"NÃO\"),\"NÃO\")","v":"NÃO"},{"$f":"IF(AND(AF$8>=$M12,AF$8<=$N12),IF($F12=\"Trimestral\",IF(AE76=\"NÃO\",$D12,IF(MOD(COUNT($Q76:AE76)+1,3)=0,(AE76*$E12)+AE76,AE76)),\"NÃO\"),\"NÃO\")","v":"NÃO"},{"$f":"IF(AND(AG$8>=$M12,AG$8<=$N12),IF($F12=\"Trimestral\",IF(AF76=\"NÃO\",$D12,IF(MOD(COUNT($Q76:AF76)+1,3)=0,(AF76*$E12)+AF76,AF76)),\"NÃO\"),\"NÃO\")","v":"NÃO"},{"$f":"IF(AND(AH$8>=$M12,AH$8<=$N12),IF($F12=\"Trimestral\",IF(AG76=\"NÃO\",$D12,IF(MOD(COUNT($Q76:AG76)+1,3)=0,(AG76*$E12)+AG76,AG76)),\"NÃO\"),\"NÃO\")","v":"NÃO"},{"$f":"IF(AND(AI$8>=$M12,AI$8<=$N12),IF($F12=\"Trimestral\",IF(AH76=\"NÃO\",$D12,IF(MOD(COUNT($Q76:AH76)+1,3)=0,(AH76*$E12)+AH76,AH76)),\"NÃO\"),\"NÃO\")","v":"NÃO"},{"$f":"IF(AND(AJ$8>=$M12,AJ$8<=$N12),IF($F12=\"Trimestral\",IF(AI76=\"NÃO\",$D12,IF(MOD(COUNT($Q76:AI76)+1,3)=0,(AI76*$E12)+AI76,AI76)),\"NÃO\"),\"NÃO\")","v":"NÃO"},{"$f":"IF(AND(AK$8>=$M12,AK$8<=$N12),IF($F12=\"Trimestral\",IF(AJ76=\"NÃO\",$D12,IF(MOD(COUNT($Q76:AJ76)+1,3)=0,(AJ76*$E12)+AJ76,AJ76)),\"NÃO\"),\"NÃO\")","v":"NÃO"},{"$f":"IF(AND(AL$8>=$M12,AL$8<=$N12),IF($F12=\"Trimestral\",IF(AK76=\"NÃO\",$D12,IF(MOD(COUNT($Q76:AK76)+1,3)=0,(AK76*$E12)+AK76,AK76)),\"NÃO\"),\"NÃO\")","v":"NÃO"},{"$f":"IF(AND(AM$8>=$M12,AM$8<=$N12),IF($F12=\"Trimestral\",IF(AL76=\"NÃO\",$D12,IF(MOD(COUNT($Q76:AL76)+1,3)=0,(AL76*$E12)+AL76,AL76)),\"NÃO\"),\"NÃO\")","v":"NÃO"},{"$f":"IF(AND(AN$8>=$M12,AN$8<=$N12),IF($F12=\"Trimestral\",IF(AM76=\"NÃO\",$D12,IF(MOD(COUNT($Q76:AM76)+1,3)=0,(AM76*$E12)+AM76,AM76)),\"NÃO\"),\"NÃO\")","v":"NÃO"},{"$f":"IF(AND(AO$8>=$M12,AO$8<=$N12),IF($F12=\"Trimestral\",IF(AN76=\"NÃO\",$D12,IF(MOD(COUNT($Q76:AN76)+1,3)=0,(AN76*$E12)+AN76,AN76)),\"NÃO\"),\"NÃO\")","v":"NÃO"},{"$f":"IF(AND(AP$8>=$M12,AP$8<=$N12),IF($F12=\"Trimestral\",IF(AO76=\"NÃO\",$D12,IF(MOD(COUNT($Q76:AO76)+1,3)=0,(AO76*$E12)+AO76,AO76)),\"NÃO\"),\"NÃO\")","v":"NÃO"},{"$f":"IF(AND(AQ$8>=$M12,AQ$8<=$N12),IF($F12=\"Trimestral\",IF(AP76=\"NÃO\",$D12,IF(MOD(COUNT($Q76:AP76)+1,3)=0,(AP76*$E12)+AP76,AP76)),\"NÃO\"),\"NÃO\")","v":"NÃO"},{"$f":"IF(AND(AR$8>=$M12,AR$8<=$N12),IF($F12=\"Trimestral\",IF(AQ76=\"NÃO\",$D12,IF(MOD(COUNT($Q76:AQ76)+1,3)=0,(AQ76*$E12)+AQ76,AQ76)),\"NÃO\"),\"NÃO\")","v":"NÃO"},{"$f":"IF(AND(AS$8>=$M12,AS$8<=$N12),IF($F12=\"Trimestral\",IF(AR76=\"NÃO\",$D12,IF(MOD(COUNT($Q76:AR76)+1,3)=0,(AR76*$E12)+AR76,AR76)),\"NÃO\"),\"NÃO\")","v":"NÃO"},{"$f":"IF(AND(AT$8>=$M12,AT$8<=$N12),IF($F12=\"Trimestral\",IF(AS76=\"NÃO\",$D12,IF(MOD(COUNT($Q76:AS76)+1,3)=0,(AS76*$E12)+AS76,AS76)),\"NÃO\"),\"NÃO\")","v":"NÃO"},{"$f":"IF(AND(AU$8>=$M12,AU$8<=$N12),IF($F12=\"Trimestral\",IF(AT76=\"NÃO\",$D12,IF(MOD(COUNT($Q76:AT76)+1,3)=0,(AT76*$E12)+AT76,AT76)),\"NÃO\"),\"NÃO\")","v":"NÃO"},{"$f":"IF(AND(AV$8>=$M12,AV$8<=$N12),IF($F12=\"Trimestral\",IF(AU76=\"NÃO\",$D12,IF(MOD(COUNT($Q76:AU76)+1,3)=0,(AU76*$E12)+AU76,AU76)),\"NÃO\"),\"NÃO\")","v":"NÃO"},{"$f":"IF(AND(AW$8>=$M12,AW$8<=$N12),IF($F12=\"Trimestral\",IF(AV76=\"NÃO\",$D12,IF(MOD(COUNT($Q76:AV76)+1,3)=0,(AV76*$E12)+AV76,AV76)),\"NÃO\"),\"NÃO\")","v":"NÃO"},{"$f":"IF(AND(AX$8>=$M12,AX$8<=$N12),IF($F12=\"Trimestral\",IF(AW76=\"NÃO\",$D12,IF(MOD(COUNT($Q76:AW76)+1,3)=0,(AW76*$E12)+AW76,AW76)),\"NÃO\"),\"NÃO\")","v":"NÃO"},{"$f":"IF(AND(AY$8>=$M12,AY$8<=$N12),IF($F12=\"Trimestral\",IF(AX76=\"NÃO\",$D12,IF(MOD(COUNT($Q76:AX76)+1,3)=0,(AX76*$E12)+AX76,AX76)),\"NÃO\"),\"NÃO\")","v":"NÃO"},{"$f":"IF(AND(AZ$8>=$M12,AZ$8<=$N12),IF($F12=\"Trimestral\",IF(AY76=\"NÃO\",$D12,IF(MOD(COUNT($Q76:AY76)+1,3)=0,(AY76*$E12)+AY76,AY76)),\"NÃO\"),\"NÃO\")","v":"NÃO"},{"$f":"IF(AND(BA$8>=$M12,BA$8<=$N12),IF($F12=\"Trimestral\",IF(AZ76=\"NÃO\",$D12,IF(MOD(COUNT($Q76:AZ76)+1,3)=0,(AZ76*$E12)+AZ76,AZ76)),\"NÃO\"),\"NÃO\")","v":"NÃO"},{"$f":"IF(AND(BB$8>=$M12,BB$8<=$N12),IF($F12=\"Trimestral\",IF(BA76=\"NÃO\",$D12,IF(MOD(COUNT($Q76:BA76)+1,3)=0,(BA76*$E12)+BA76,BA76)),\"NÃO\"),\"NÃO\")","v":"NÃO"},{"$f":"IF(AND(BC$8>=$M12,BC$8<=$N12),IF($F12=\"Trimestral\",IF(BB76=\"NÃO\",$D12,IF(MOD(COUNT($Q76:BB76)+1,3)=0,(BB76*$E12)+BB76,BB76)),\"NÃO\"),\"NÃO\")","v":"NÃO"},{"$f":"IF(AND(BD$8>=$M12,BD$8<=$N12),IF($F12=\"Trimestral\",IF(BC76=\"NÃO\",$D12,IF(MOD(COUNT($Q76:BC76)+1,3)=0,(BC76*$E12)+BC76,BC76)),\"NÃO\"),\"NÃO\")","v":"NÃO"},{"$f":"IF(AND(BE$8>=$M12,BE$8<=$N12),IF($F12=\"Trimestral\",IF(BD76=\"NÃO\",$D12,IF(MOD(COUNT($Q76:BD76)+1,3)=0,(BD76*$E12)+BD76,BD76)),\"NÃO\"),\"NÃO\")","v":"NÃO"},{"$f":"IF(AND(BF$8>=$M12,BF$8<=$N12),IF($F12=\"Trimestral\",IF(BE76=\"NÃO\",$D12,IF(MOD(COUNT($Q76:BE76)+1,3)=0,(BE76*$E12)+BE76,BE76)),\"NÃO\"),\"NÃO\")","v":"NÃO"},{"$f":"IF(AND(BG$8>=$M12,BG$8<=$N12),IF($F12=\"Trimestral\",IF(BF76=\"NÃO\",$D12,IF(MOD(COUNT($Q76:BF76)+1,3)=0,(BF76*$E12)+BF76,BF76)),\"NÃO\"),\"NÃO\")","v":"NÃO"},{"$f":"IF(AND(BH$8>=$M12,BH$8<=$N12),IF($F12=\"Trimestral\",IF(BG76=\"NÃO\",$D12,IF(MOD(COUNT($Q76:BG76)+1,3)=0,(BG76*$E12)+BG76,BG76)),\"NÃO\"),\"NÃO\")","v":"NÃO"},{"$f":"IF(AND(BI$8>=$M12,BI$8<=$N12),IF($F12=\"Trimestral\",IF(BH76=\"NÃO\",$D12,IF(MOD(COUNT($Q76:BH76)+1,3)=0,(BH76*$E12)+BH76,BH76)),\"NÃO\"),\"NÃO\")","v":"NÃO"},{"$f":"IF(AND(BJ$8>=$M12,BJ$8<=$N12),IF($F12=\"Trimestral\",IF(BI76=\"NÃO\",$D12,IF(MOD(COUNT($Q76:BI76)+1,3)=0,(BI76*$E12)+BI76,BI76)),\"NÃO\"),\"NÃO\")","v":"NÃO"},{"$f":"IF(AND(BK$8>=$M12,BK$8<=$N12),IF($F12=\"Trimestral\",IF(BJ76=\"NÃO\",$D12,IF(MOD(COUNT($Q76:BJ76)+1,3)=0,(BJ76*$E12)+BJ76,BJ76)),\"NÃO\"),\"NÃO\")","v":"NÃO"},{"$f":"IF(AND(BL$8>=$M12,BL$8<=$N12),IF($F12=\"Trimestral\",IF(BK76=\"NÃO\",$D12,IF(MOD(COUNT($Q76:BK76)+1,3)=0,(BK76*$E12)+BK76,BK76)),\"NÃO\"),\"NÃO\")","v":"NÃO"},{"$f":"IF(AND(BM$8>=$M12,BM$8<=$N12),IF($F12=\"Trimestral\",IF(BL76=\"NÃO\",$D12,IF(MOD(COUNT($Q76:BL76)+1,3)=0,(BL76*$E12)+BL76,BL76)),\"NÃO\"),\"NÃO\")","v":"NÃO"},{"$f":"IF(AND(BN$8>=$M12,BN$8<=$N12),IF($F12=\"Trimestral\",IF(BM76=\"NÃO\",$D12,IF(MOD(COUNT($Q76:BM76)+1,3)=0,(BM76*$E12)+BM76,BM76)),\"NÃO\"),\"NÃO\")","v":"NÃO"},{"$f":"IF(AND(BO$8>=$M12,BO$8<=$N12),IF($F12=\"Trimestral\",IF(BN76=\"NÃO\",$D12,IF(MOD(COUNT($Q76:BN76)+1,3)=0,(BN76*$E12)+BN76,BN76)),\"NÃO\"),\"NÃO\")","v":"NÃO"},{"$f":"IF(AND(BP$8>=$M12,BP$8<=$N12),IF($F12=\"Trimestral\",IF(BO76=\"NÃO\",$D12,IF(MOD(COUNT($Q76:BO76)+1,3)=0,(BO76*$E12)+BO76,BO76)),\"NÃO\"),\"NÃO\")","v":"NÃO"},{"$f":"IF(AND(BQ$8>=$M12,BQ$8<=$N12),IF($F12=\"Trimestral\",IF(BP76=\"NÃO\",$D12,IF(MOD(COUNT($Q76:BP76)+1,3)=0,(BP76*$E12)+BP76,BP76)),\"NÃO\"),\"NÃO\")","v":"NÃO"},{"$f":"IF(AND(BR$8>=$M12,BR$8<=$N12),IF($F12=\"Trimestral\",IF(BQ76=\"NÃO\",$D12,IF(MOD(COUNT($Q76:BQ76)+1,3)=0,(BQ76*$E12)+BQ76,BQ76)),\"NÃO\"),\"NÃO\")","v":"NÃO"},{"$f":"IF(AND(BS$8>=$M12,BS$8<=$N12),IF($F12=\"Trimestral\",IF(BR76=\"NÃO\",$D12,IF(MOD(COUNT($Q76:BR76)+1,3)=0,(BR76*$E12)+BR76,BR76)),\"NÃO\"),\"NÃO\")","v":"NÃO"},{"$f":"IF(AND(BT$8>=$M12,BT$8<=$N12),IF($F12=\"Trimestral\",IF(BS76=\"NÃO\",$D12,IF(MOD(COUNT($Q76:BS76)+1,3)=0,(BS76*$E12)+BS76,BS76)),\"NÃO\"),\"NÃO\")","v":"NÃO"},{"$f":"IF(AND(BU$8>=$M12,BU$8<=$N12),IF($F12=\"Trimestral\",IF(BT76=\"NÃO\",$D12,IF(MOD(COUNT($Q76:BT76)+1,3)=0,(BT76*$E12)+BT76,BT76)),\"NÃO\"),\"NÃO\")","v":"NÃO"},{"$f":"IF(AND(BV$8>=$M12,BV$8<=$N12),IF($F12=\"Trimestral\",IF(BU76=\"NÃO\",$D12,IF(MOD(COUNT($Q76:BU76)+1,3)=0,(BU76*$E12)+BU76,BU76)),\"NÃO\"),\"NÃO\")","v":"NÃO"},{"$f":"IF(AND(BW$8>=$M12,BW$8<=$N12),IF($F12=\"Trimestral\",IF(BV76=\"NÃO\",$D12,IF(MOD(COUNT($Q76:BV76)+1,3)=0,(BV76*$E12)+BV76,BV76)),\"NÃO\"),\"NÃO\")","v":"NÃO"},{"$f":"IF(AND(BX$8>=$M12,BX$8<=$N12),IF($F12=\"Trimestral\",IF(BW76=\"NÃO\",$D12,IF(MOD(COUNT($Q76:BW76)+1,3)=0,(BW76*$E12)+BW76,BW76)),\"NÃO\"),\"NÃO\")","v":"NÃO"},null,null,4]
[null,null,null,null,null,null,null,null,null,null,null,null,null,null,null,5,"NÃO",{"$f":"IF(AND(R$8>=$M13,R$8<=$N13),IF($F13=\"Trimestral\",IF(Q77=\"NÃO\",$D13,IF(MOD(COUNT($Q77:Q77)+1,3)=0,(Q77*$E13)+Q77,Q77)),\"NÃO\"),\"NÃO\")","v":"NÃO"},{"$f":"IF(AND(S$8>=$M13,S$8<=$N13),IF($F13=\"Trimestral\",IF(R77=\"NÃO\",$D13,IF(MOD(COUNT($Q77:R77)+1,3)=0,(R77*$E13)+R77,R77)),\"NÃO\"),\"NÃO\")","v":"NÃO"},{"$f":"IF(AND(T$8>=$M13,T$8<=$N13),IF($F13=\"Trimestral\",IF(S77=\"NÃO\",$D13,IF(MOD(COUNT($Q77:S77)+1,3)=0,(S77*$E13)+S77,S77)),\"NÃO\"),\"NÃO\")","v":"NÃO"},{"$f":"IF(AND(U$8>=$M13,U$8<=$N13),IF($F13=\"Trimestral\",IF(T77=\"NÃO\",$D13,IF(MOD(COUNT($Q77:T77)+1,3)=0,(T77*$E13)+T77,T77)),\"NÃO\"),\"NÃO\")","v":"NÃO"},{"$f":"IF(AND(V$8>=$M13,V$8<=$N13),IF($F13=\"Trimestral\",IF(U77=\"NÃO\",$D13,IF(MOD(COUNT($Q77:U77)+1,3)=0,(U77*$E13)+U77,U77)),\"NÃO\"),\"NÃO\")","v":"NÃO"},{"$f":"IF(AND(W$8>=$M13,W$8<=$N13),IF($F13=\"Trimestral\",IF(V77=\"NÃO\",$D13,IF(MOD(COUNT($Q77:V77)+1,3)=0,(V77*$E13)+V77,V77)),\"NÃO\"),\"NÃO\")","v":"NÃO"},{"$f":"IF(AND(X$8>=$M13,X$8<=$N13),IF($F13=\"Trimestral\",IF(W77=\"NÃO\",$D13,IF(MOD(COUNT($Q77:W77)+1,3)=0,(W77*$E13)+W77,W77)),\"NÃO\"),\"NÃO\")","v":"NÃO"},{"$f":"IF(AND(Y$8>=$M13,Y$8<=$N13),IF($F13=\"Trimestral\",IF(X77=\"NÃO\",$D13,IF(MOD(COUNT($Q77:X77)+1,3)=0,(X77*$E13)+X77,X77)),\"NÃO\"),\"NÃO\")","v":"NÃO"},{"$f":"IF(AND(Z$8>=$M13,Z$8<=$N13),IF($F13=\"Trimestral\",IF(Y77=\"NÃO\",$D13,IF(MOD(COUNT($Q77:Y77)+1,3)=0,(Y77*$E13)+Y77,Y77)),\"NÃO\"),\"NÃO\")","v":"NÃO"},{"$f":"IF(AND(AA$8>=$M13,AA$8<=$N13),IF($F13=\"Trimestral\",IF(Z77=\"NÃO\",$D13,IF(MOD(COUNT($Q77:Z77)+1,3)=0,(Z77*$E13)+Z77,Z77)),\"NÃO\"),\"NÃO\")","v":"NÃO"},{"$f":"IF(AND(AB$8>=$M13,AB$8<=$N13),IF($F13=\"Trimestral\",IF(AA77=\"NÃO\",$D13,IF(MOD(COUNT($Q77:AA77)+1,3)=0,(AA77*$E13)+AA77,AA77)),\"NÃO\"),\"NÃO\")","v":"NÃO"},{"$f":"IF(AND(AC$8>=$M13,AC$8<=$N13),IF($F13=\"Trimestral\",IF(AB77=\"NÃO\",$D13,IF(MOD(COUNT($Q77:AB77)+1,3)=0,(AB77*$E13)+AB77,AB77)),\"NÃO\"),\"NÃO\")","v":"NÃO"},{"$f":"IF(AND(AD$8>=$M13,AD$8<=$N13),IF($F13=\"Trimestral\",IF(AC77=\"NÃO\",$D13,IF(MOD(COUNT($Q77:AC77)+1,3)=0,(AC77*$E13)+AC77,AC77)),\"NÃO\"),\"NÃO\")","v":"NÃO"},{"$f":"IF(AND(AE$8>=$M13,AE$8<=$N13),IF($F13=\"Trimestral\",IF(AD77=\"NÃO\",$D13,IF(MOD(COUNT($Q77:AD77)+1,3)=0,(AD77*$E13)+AD77,AD77)),\"NÃO\"),\"NÃO\")","v":"NÃO"},{"$f":"IF(AND(AF$8>=$M13,AF$8<=$N13),IF($F13=\"Trimestral\",IF(AE77=\"NÃO\",$D13,IF(MOD(COUNT($Q77:AE77)+1,3)=0,(AE77*$E13)+AE77,AE77)),\"NÃO\"),\"NÃO\")","v":"NÃO"},{"$f":"IF(AND(AG$8>=$M13,AG$8<=$N13),IF($F13=\"Trimestral\",IF(AF77=\"NÃO\",$D13,IF(MOD(COUNT($Q77:AF77)+1,3)=0,(AF77*$E13)+AF77,AF77)),\"NÃO\"),\"NÃO\")","v":"NÃO"},{"$f":"IF(AND(AH$8>=$M13,AH$8<=$N13),IF($F13=\"Trimestral\",IF(AG77=\"NÃO\",$D13,IF(MOD(COUNT($Q77:AG77)+1,3)=0,(AG77*$E13)+AG77,AG77)),\"NÃO\"),\"NÃO\")","v":"NÃO"},{"$f":"IF(AND(AI$8>=$M13,AI$8<=$N13),IF($F13=\"Trimestral\",IF(AH77=\"NÃO\",$D13,IF(MOD(COUNT($Q77:AH77)+1,3)=0,(AH77*$E13)+AH77,AH77)),\"NÃO\"),\"NÃO\")","v":"NÃO"},{"$f":"IF(AND(AJ$8>=$M13,AJ$8<=$N13),IF($F13=\"Trimestral\",IF(AI77=\"NÃO\",$D13,IF(MOD(COUNT($Q77:AI77)+1,3)=0,(AI77*$E13)+AI77,AI77)),\"NÃO\"),\"NÃO\")","v":"NÃO"},{"$f":"IF(AND(AK$8>=$M13,AK$8<=$N13),IF($F13=\"Trimestral\",IF(AJ77=\"NÃO\",$D13,IF(MOD(COUNT($Q77:AJ77)+1,3)=0,(AJ77*$E13)+AJ77,AJ77)),\"NÃO\"),\"NÃO\")","v":"NÃO"},{"$f":"IF(AND(AL$8>=$M13,AL$8<=$N13),IF($F13=\"Trimestral\",IF(AK77=\"NÃO\",$D13,IF(MOD(COUNT($Q77:AK77)+1,3)=0,(AK77*$E13)+AK77,AK77)),\"NÃO\"),\"NÃO\")","v":"NÃO"},{"$f":"IF(AND(AM$8>=$M13,AM$8<=$N13),IF($F13=\"Trimestral\",IF(AL77=\"NÃO\",$D13,IF(MOD(COUNT($Q77:AL77)+1,3)=0,(AL77*$E13)+AL77,AL77)),\"NÃO\"),\"NÃO\")","v":"NÃO"},{"$f":"IF(AND(AN$8>=$M13,AN$8<=$N13),IF($F13=\"Trimestral\",IF(AM77=\"NÃO\",$D13,IF(MOD(COUNT($Q77:AM77)+1,3)=0,(AM77*$E13)+AM77,AM77)),\"NÃO\"),\"NÃO\")","v":"NÃO"},{"$f":"IF(AND(AO$8>=$M13,AO$8<=$N13),IF($F13=\"Trimestral\",IF(AN77=\"NÃO\",$D13,IF(MOD(COUNT($Q77:AN77)+1,3)=0,(AN77*$E13)+AN77,AN77)),\"NÃO\"),\"NÃO\")","v":"NÃO"},{"$f":"IF(AND(AP$8>=$M13,AP$8<=$N13),IF($F13=\"Trimestral\",IF(AO77=\"NÃO\",$D13,IF(MOD(COUNT($Q77:AO77)+1,3)=0,(AO77*$E13)+AO77,AO77)),\"NÃO\"),\"NÃO\")","v":"NÃO"},{"$f":"IF(AND(AQ$8>=$M13,AQ$8<=$N13),IF($F13=\"Trimestral\",IF(AP77=\"NÃO\",$D13,IF(MOD(COUNT($Q77:AP77)+1,3)=0,(AP77*$E13)+AP77,AP77)),\"NÃO\"),\"NÃO\")","v":"NÃO"},{"$f":"IF(AND(AR$8>=$M13,AR$8<=$N13),IF($F13=\"Trimestral\",IF(AQ77=\"NÃO\",$D13,IF(MOD(COUNT($Q77:AQ77)+1,3)=0,(AQ77*$E13)+AQ77,AQ77)),\"NÃO\"),\"NÃO\")","v":"NÃO"},{"$f":"IF(AND(AS$8>=$M13,AS$8<=$N13),IF($F13=\"Trimestral\",IF(AR77=\"NÃO\",$D13,IF(MOD(COUNT($Q77:AR77)+1,3)=0,(AR77*$E13)+AR77,AR77)),\"NÃO\"),\"NÃO\")","v":"NÃO"},{"$f":"IF(AND(AT$8>=$M13,AT$8<=$N13),IF($F13=\"Trimestral\",IF(AS77=\"NÃO\",$D13,IF(MOD(COUNT($Q77:AS77)+1,3)=0,(AS77*$E13)+AS77,AS77)),\"NÃO\"),\"NÃO\")","v":"NÃO"},{"$f":"IF(AND(AU$8>=$M13,AU$8<=$N13),IF($F13=\"Trimestral\",IF(AT77=\"NÃO\",$D13,IF(MOD(COUNT($Q77:AT77)+1,3)=0,(AT77*$E13)+AT77,AT77)),\"NÃO\"),\"NÃO\")","v":"NÃO"},{"$f":"IF(AND(AV$8>=$M13,AV$8<=$N13),IF($F13=\"Trimestral\",IF(AU77=\"NÃO\",$D13,IF(MOD(COUNT($Q77:AU77)+1,3)=0,(AU77*$E13)+AU77,AU77)),\"NÃO\"),\"NÃO\")","v":"NÃO"},{"$f":"IF(AND(AW$8>=$M13,AW$8<=$N13),IF($F13=\"Trimestral\",IF(AV77=\"NÃO\",$D13,IF(MOD(COUNT($Q77:AV77)+1,3)=0,(AV77*$E13)+AV77,AV77)),\"NÃO\"),\"NÃO\")","v":"NÃO"},{"$f":"IF(AND(AX$8>=$M13,AX$8<=$N13),IF($F13=\"Trimestral\",IF(AW77=\"NÃO\",$D13,IF(MOD(COUNT($Q77:AW77)+1,3)=0,(AW77*$E13)+AW77,AW77)),\"NÃO\"),\"NÃO\")","v":"NÃO"},{"$f":"IF(AND(AY$8>=$M13,AY$8<=$N13),IF($F13=\"Trimestral\",IF(AX77=\"NÃO\",$D13,IF(MOD(COUNT($Q77:AX77)+1,3)=0,(AX77*$E13)+AX77,AX77)),\"NÃO\"),\"NÃO\")","v":"NÃO"},{"$f":"IF(AND(AZ$8>=$M13,AZ$8<=$N13),IF($F13=\"Trimestral\",IF(AY77=\"NÃO\",$D13,IF(MOD(COUNT($Q77:AY77)+1,3)=0,(AY77*$E13)+AY77,AY77)),\"NÃO\"),\"NÃO\")","v":"NÃO"},{"$f":"IF(AND(BA$8>=$M13,BA$8<=$N13),IF($F13=\"Trimestral\",IF(AZ77=\"NÃO\",$D13,IF(MOD(COUNT($Q77:AZ77)+1,3)=0,(AZ77*$E13)+AZ77,AZ77)),\"NÃO\"),\"NÃO\")","v":"NÃO"},{"$f":"IF(AND(BB$8>=$M13,BB$8<=$N13),IF($F13=\"Trimestral\",IF(BA77=\"NÃO\",$D13,IF(MOD(COUNT($Q77:BA77)+1,3)=0,(BA77*$E13)+BA77,BA77)),\"NÃO\"),\"NÃO\")","v":"NÃO"},{"$f":"IF(AND(BC$8>=$M13,BC$8<=$N13),IF($F13=\"Trimestral\",IF(BB77=\"NÃO\",$D13,IF(MOD(COUNT($Q77:BB77)+1,3)=0,(BB77*$E13)+BB77,BB77)),\"NÃO\"),\"NÃO\")","v":"NÃO"},{"$f":"IF(AND(BD$8>=$M13,BD$8<=$N13),IF($F13=\"Trimestral\",IF(BC77=\"NÃO\",$D13,IF(MOD(COUNT($Q77:BC77)+1,3)=0,(BC77*$E13)+BC77,BC77)),\"NÃO\"),\"NÃO\")","v":"NÃO"},{"$f":"IF(AND(BE$8>=$M13,BE$8<=$N13),IF($F13=\"Trimestral\",IF(BD77=\"NÃO\",$D13,IF(MOD(COUNT($Q77:BD77)+1,3)=0,(BD77*$E13)+BD77,BD77)),\"NÃO\"),\"NÃO\")","v":"NÃO"},{"$f":"IF(AND(BF$8>=$M13,BF$8<=$N13),IF($F13=\"Trimestral\",IF(BE77=\"NÃO\",$D13,IF(MOD(COUNT($Q77:BE77)+1,3)=0,(BE77*$E13)+BE77,BE77)),\"NÃO\"),\"NÃO\")","v":"NÃO"},{"$f":"IF(AND(BG$8>=$M13,BG$8<=$N13),IF($F13=\"Trimestral\",IF(BF77=\"NÃO\",$D13,IF(MOD(COUNT($Q77:BF77)+1,3)=0,(BF77*$E13)+BF77,BF77)),\"NÃO\"),\"NÃO\")","v":"NÃO"},{"$f":"IF(AND(BH$8>=$M13,BH$8<=$N13),IF($F13=\"Trimestral\",IF(BG77=\"NÃO\",$D13,IF(MOD(COUNT($Q77:BG77)+1,3)=0,(BG77*$E13)+BG77,BG77)),\"NÃO\"),\"NÃO\")","v":"NÃO"},{"$f":"IF(AND(BI$8>=$M13,BI$8<=$N13),IF($F13=\"Trimestral\",IF(BH77=\"NÃO\",$D13,IF(MOD(COUNT($Q77:BH77)+1,3)=0,(BH77*$E13)+BH77,BH77)),\"NÃO\"),\"NÃO\")","v":"NÃO"},{"$f":"IF(AND(BJ$8>=$M13,BJ$8<=$N13),IF($F13=\"Trimestral\",IF(BI77=\"NÃO\",$D13,IF(MOD(COUNT($Q77:BI77)+1,3)=0,(BI77*$E13)+BI77,BI77)),\"NÃO\"),\"NÃO\")","v":"NÃO"},{"$f":"IF(AND(BK$8>=$M13,BK$8<=$N13),IF($F13=\"Trimestral\",IF(BJ77=\"NÃO\",$D13,IF(MOD(COUNT($Q77:BJ77)+1,3)=0,(BJ77*$E13)+BJ77,BJ77)),\"NÃO\"),\"NÃO\")","v":"NÃO"},{"$f":"IF(AND(BL$8>=$M13,BL$8<=$N13),IF($F13=\"Trimestral\",IF(BK77=\"NÃO\",$D13,IF(MOD(COUNT($Q77:BK77)+1,3)=0,(BK77*$E13)+BK77,BK77)),\"NÃO\"),\"NÃO\")","v":"NÃO"},{"$f":"IF(AND(BM$8>=$M13,BM$8<=$N13),IF($F13=\"Trimestral\",IF(BL77=\"NÃO\",$D13,IF(MOD(COUNT($Q77:BL77)+1,3)=0,(BL77*$E13)+BL77,BL77)),\"NÃO\"),\"NÃO\")","v":"NÃO"},{"$f":"IF(AND(BN$8>=$M13,BN$8<=$N13),IF($F13=\"Trimestral\",IF(BM77=\"NÃO\",$D13,IF(MOD(COUNT($Q77:BM77)+1,3)=0,(BM77*$E13)+BM77,BM77)),\"NÃO\"),\"NÃO\")","v":"NÃO"},{"$f":"IF(AND(BO$8>=$M13,BO$8<=$N13),IF($F13=\"Trimestral\",IF(BN77=\"NÃO\",$D13,IF(MOD(COUNT($Q77:BN77)+1,3)=0,(BN77*$E13)+BN77,BN77)),\"NÃO\"),\"NÃO\")","v":"NÃO"},{"$f":"IF(AND(BP$8>=$M13,BP$8<=$N13),IF($F13=\"Trimestral\",IF(BO77=\"NÃO\",$D13,IF(MOD(COUNT($Q77:BO77)+1,3)=0,(BO77*$E13)+BO77,BO77)),\"NÃO\"),\"NÃO\")","v":"NÃO"},{"$f":"IF(AND(BQ$8>=$M13,BQ$8<=$N13),IF($F13=\"Trimestral\",IF(BP77=\"NÃO\",$D13,IF(MOD(COUNT($Q77:BP77)+1,3)=0,(BP77*$E13)+BP77,BP77)),\"NÃO\"),\"NÃO\")","v":"NÃO"},{"$f":"IF(AND(BR$8>=$M13,BR$8<=$N13),IF($F13=\"Trimestral\",IF(BQ77=\"NÃO\",$D13,IF(MOD(COUNT($Q77:BQ77)+1,3)=0,(BQ77*$E13)+BQ77,BQ77)),\"NÃO\"),\"NÃO\")","v":"NÃO"},{"$f":"IF(AND(BS$8>=$M13,BS$8<=$N13),IF($F13=\"Trimestral\",IF(BR77=\"NÃO\",$D13,IF(MOD(COUNT($Q77:BR77)+1,3)=0,(BR77*$E13)+BR77,BR77)),\"NÃO\"),\"NÃO\")","v":"NÃO"},{"$f":"IF(AND(BT$8>=$M13,BT$8<=$N13),IF($F13=\"Trimestral\",IF(BS77=\"NÃO\",$D13,IF(MOD(COUNT($Q77:BS77)+1,3)=0,(BS77*$E13)+BS77,BS77)),\"NÃO\"),\"NÃO\")","v":"NÃO"},{"$f":"IF(AND(BU$8>=$M13,BU$8<=$N13),IF($F13=\"Trimestral\",IF(BT77=\"NÃO\",$D13,IF(MOD(COUNT($Q77:BT77)+1,3)=0,(BT77*$E13)+BT77,BT77)),\"NÃO\"),\"NÃO\")","v":"NÃO"},{"$f":"IF(AND(BV$8>=$M13,BV$8<=$N13),IF($F13=\"Trimestral\",IF(BU77=\"NÃO\",$D13,IF(MOD(COUNT($Q77:BU77)+1,3)=0,(BU77*$E13)+BU77,BU77)),\"NÃO\"),\"NÃO\")","v":"NÃO"},{"$f":"IF(AND(BW$8>=$M13,BW$8<=$N13),IF($F13=\"Trimestral\",IF(BV77=\"NÃO\",$D13,IF(MOD(COUNT($Q77:BV77)+1,3)=0,(BV77*$E13)+BV77,BV77)),\"NÃO\"),\"NÃO\")","v":"NÃO"},{"$f":"IF(AND(BX$8>=$M13,BX$8<=$N13),IF($F13=\"Trimestral\",IF(BW77=\"NÃO\",$D13,IF(MOD(COUNT($Q77:BW77)+1,3)=0,(BW77*$E13)+BW77,BW77)),\"NÃO\"),\"NÃO\")","v":"NÃO"},null,null,5]
[null,null,null,null,null,null,null,null,null,null,null,null,null,null,null,6,"NÃO",{"$f":"IF(AND(R$8>=$M14,R$8<=$N14),IF($F14=\"Trimestral\",IF(Q78=\"NÃO\",$D14,IF(MOD(COUNT($Q78:Q78)+1,3)=0,(Q78*$E14)+Q78,Q78)),\"NÃO\"),\"NÃO\")","v":"NÃO"},{"$f":"IF(AND(S$8>=$M14,S$8<=$N14),IF($F14=\"Trimestral\",IF(R78=\"NÃO\",$D14,IF(MOD(COUNT($Q78:R78)+1,3)=0,(R78*$E14)+R78,R78)),\"NÃO\"),\"NÃO\")","v":"NÃO"},{"$f":"IF(AND(T$8>=$M14,T$8<=$N14),IF($F14=\"Trimestral\",IF(S78=\"NÃO\",$D14,IF(MOD(COUNT($Q78:S78)+1,3)=0,(S78*$E14)+S78,S78)),\"NÃO\"),\"NÃO\")","v":"NÃO"},{"$f":"IF(AND(U$8>=$M14,U$8<=$N14),IF($F14=\"Trimestral\",IF(T78=\"NÃO\",$D14,IF(MOD(COUNT($Q78:T78)+1,3)=0,(T78*$E14)+T78,T78)),\"NÃO\"),\"NÃO\")","v":"NÃO"},{"$f":"IF(AND(V$8>=$M14,V$8<=$N14),IF($F14=\"Trimestral\",IF(U78=\"NÃO\",$D14,IF(MOD(COUNT($Q78:U78)+1,3)=0,(U78*$E14)+U78,U78)),\"NÃO\"),\"NÃO\")","v":"NÃO"},{"$f":"IF(AND(W$8>=$M14,W$8<=$N14),IF($F14=\"Trimestral\",IF(V78=\"NÃO\",$D14,IF(MOD(COUNT($Q78:V78)+1,3)=0,(V78*$E14)+V78,V78)),\"NÃO\"),\"NÃO\")","v":"NÃO"},{"$f":"IF(AND(X$8>=$M14,X$8<=$N14),IF($F14=\"Trimestral\",IF(W78=\"NÃO\",$D14,IF(MOD(COUNT($Q78:W78)+1,3)=0,(W78*$E14)+W78,W78)),\"NÃO\"),\"NÃO\")","v":"NÃO"},{"$f":"IF(AND(Y$8>=$M14,Y$8<=$N14),IF($F14=\"Trimestral\",IF(X78=\"NÃO\",$D14,IF(MOD(COUNT($Q78:X78)+1,3)=0,(X78*$E14)+X78,X78)),\"NÃO\"),\"NÃO\")","v":"NÃO"},{"$f":"IF(AND(Z$8>=$M14,Z$8<=$N14),IF($F14=\"Trimestral\",IF(Y78=\"NÃO\",$D14,IF(MOD(COUNT($Q78:Y78)+1,3)=0,(Y78*$E14)+Y78,Y78)),\"NÃO\"),\"NÃO\")","v":"NÃO"},{"$f":"IF(AND(AA$8>=$M14,AA$8<=$N14),IF($F14=\"Trimestral\",IF(Z78=\"NÃO\",$D14,IF(MOD(COUNT($Q78:Z78)+1,3)=0,(Z78*$E14)+Z78,Z78)),\"NÃO\"),\"NÃO\")","v":"NÃO"},{"$f":"IF(AND(AB$8>=$M14,AB$8<=$N14),IF($F14=\"Trimestral\",IF(AA78=\"NÃO\",$D14,IF(MOD(COUNT($Q78:AA78)+1,3)=0,(AA78*$E14)+AA78,AA78)),\"NÃO\"),\"NÃO\")","v":"NÃO"},{"$f":"IF(AND(AC$8>=$M14,AC$8<=$N14),IF($F14=\"Trimestral\",IF(AB78=\"NÃO\",$D14,IF(MOD(COUNT($Q78:AB78)+1,3)=0,(AB78*$E14)+AB78,AB78)),\"NÃO\"),\"NÃO\")","v":"NÃO"},{"$f":"IF(AND(AD$8>=$M14,AD$8<=$N14),IF($F14=\"Trimestral\",IF(AC78=\"NÃO\",$D14,IF(MOD(COUNT($Q78:AC78)+1,3)=0,(AC78*$E14)+AC78,AC78)),\"NÃO\"),\"NÃO\")","v":"NÃO"},{"$f":"IF(AND(AE$8>=$M14,AE$8<=$N14),IF($F14=\"Trimestral\",IF(AD78=\"NÃO\",$D14,IF(MOD(COUNT($Q78:AD78)+1,3)=0,(AD78*$E14)+AD78,AD78)),\"NÃO\"),\"NÃO\")","v":"NÃO"},{"$f":"IF(AND(AF$8>=$M14,AF$8<=$N14),IF($F14=\"Trimestral\",IF(AE78=\"NÃO\",$D14,IF(MOD(COUNT($Q78:AE78)+1,3)=0,(AE78*$E14)+AE78,AE78)),\"NÃO\"),\"NÃO\")","v":"NÃO"},{"$f":"IF(AND(AG$8>=$M14,AG$8<=$N14),IF($F14=\"Trimestral\",IF(AF78=\"NÃO\",$D14,IF(MOD(COUNT($Q78:AF78)+1,3)=0,(AF78*$E14)+AF78,AF78)),\"NÃO\"),\"NÃO\")","v":"NÃO"},{"$f":"IF(AND(AH$8>=$M14,AH$8<=$N14),IF($F14=\"Trimestral\",IF(AG78=\"NÃO\",$D14,IF(MOD(COUNT($Q78:AG78)+1,3)=0,(AG78*$E14)+AG78,AG78)),\"NÃO\"),\"NÃO\")","v":"NÃO"},{"$f":"IF(AND(AI$8>=$M14,AI$8<=$N14),IF($F14=\"Trimestral\",IF(AH78=\"NÃO\",$D14,IF(MOD(COUNT($Q78:AH78)+1,3)=0,(AH78*$E14)+AH78,AH78)),\"NÃO\"),\"NÃO\")","v":"NÃO"},{"$f":"IF(AND(AJ$8>=$M14,AJ$8<=$N14),IF($F14=\"Trimestral\",IF(AI78=\"NÃO\",$D14,IF(MOD(COUNT($Q78:AI78)+1,3)=0,(AI78*$E14)+AI78,AI78)),\"NÃO\"),\"NÃO\")","v":"NÃO"},{"$f":"IF(AND(AK$8>=$M14,AK$8<=$N14),IF($F14=\"Trimestral\",IF(AJ78=\"NÃO\",$D14,IF(MOD(COUNT($Q78:AJ78)+1,3)=0,(AJ78*$E14)+AJ78,AJ78)),\"NÃO\"),\"NÃO\")","v":"NÃO"},{"$f":"IF(AND(AL$8>=$M14,AL$8<=$N14),IF($F14=\"Trimestral\",IF(AK78=\"NÃO\",$D14,IF(MOD(COUNT($Q78:AK78)+1,3)=0,(AK78*$E14)+AK78,AK78)),\"NÃO\"),\"NÃO\")","v":"NÃO"},{"$f":"IF(AND(AM$8>=$M14,AM$8<=$N14),IF($F14=\"Trimestral\",IF(AL78=\"NÃO\",$D14,IF(MOD(COUNT($Q78:AL78)+1,3)=0,(AL78*$E14)+AL78,AL78)),\"NÃO\"),\"NÃO\")","v":"NÃO"},{"$f":"IF(AND(AN$8>=$M14,AN$8<=$N14),IF($F14=\"Trimestral\",IF(AM78=\"NÃO\",$D14,IF(MOD(COUNT($Q78:AM78)+1,3)=0,(AM78*$E14)+AM78,AM78)),\"NÃO\"),\"NÃO\")","v":"NÃO"},{"$f":"IF(AND(AO$8>=$M14,AO$8<=$N14),IF($F14=\"Trimestral\",IF(AN78=\"NÃO\",$D14,IF(MOD(COUNT($Q78:AN78)+1,3)=0,(AN78*$E14)+AN78,AN78)),\"NÃO\"),\"NÃO\")","v":"NÃO"},{"$f":"IF(AND(AP$8>=$M14,AP$8<=$N14),IF($F14=\"Trimestral\",IF(AO78=\"NÃO\",$D14,IF(MOD(COUNT($Q78:AO78)+1,3)=0,(AO78*$E14)+AO78,AO78)),\"NÃO\"),\"NÃO\")","v":"NÃO"},{"$f":"IF(AND(AQ$8>=$M14,AQ$8<=$N14),IF($F14=\"Trimestral\",IF(AP78=\"NÃO\",$D14,IF(MOD(COUNT($Q78:AP78)+1,3)=0,(AP78*$E14)+AP78,AP78)),\"NÃO\"),\"NÃO\")","v":"NÃO"},{"$f":"IF(AND(AR$8>=$M14,AR$8<=$N14),IF($F14=\"Trimestral\",IF(AQ78=\"NÃO\",$D14,IF(MOD(COUNT($Q78:AQ78)+1,3)=0,(AQ78*$E14)+AQ78,AQ78)),\"NÃO\"),\"NÃO\")","v":"NÃO"},{"$f":"IF(AND(AS$8>=$M14,AS$8<=$N14),IF($F14=\"Trimestral\",IF(AR78=\"NÃO\",$D14,IF(MOD(COUNT($Q78:AR78)+1,3)=0,(AR78*$E14)+AR78,AR78)),\"NÃO\"),\"NÃO\")","v":"NÃO"},{"$f":"IF(AND(AT$8>=$M14,AT$8<=$N14),IF($F14=\"Trimestral\",IF(AS78=\"NÃO\",$D14,IF(MOD(COUNT($Q78:AS78)+1,3)=0,(AS78*$E14)+AS78,AS78)),\"NÃO\"),\"NÃO\")","v":"NÃO"},{"$f":"IF(AND(AU$8>=$M14,AU$8<=$N14),IF($F14=\"Trimestral\",IF(AT78=\"NÃO\",$D14,IF(MOD(COUNT($Q78:AT78)+1,3)=0,(AT78*$E14)+AT78,AT78)),\"NÃO\"),\"NÃO\")","v":"NÃO"},{"$f":"IF(AND(AV$8>=$M14,AV$8<=$N14),IF($F14=\"Trimestral\",IF(AU78=\"NÃO\",$D14,IF(MOD(COUNT($Q78:AU78)+1,3)=0,(AU78*$E14)+AU78,AU78)),\"NÃO\"),\"NÃO\")","v":"NÃO"},{"$f":"IF(AND(AW$8>=$M14,AW$8<=$N14),IF($F14=\"Trimestral\",IF(AV78=\"NÃO\",$D14,IF(MOD(COUNT($Q78:AV78)+1,3)=0,(AV78*$E14)+AV78,AV78)),\"NÃO\"),\"NÃO\")","v":"NÃO"},{"$f":"IF(AND(AX$8>=$M14,AX$8<=$N14),IF($F14=\"Trimestral\",IF(AW78=\"NÃO\",$D14,IF(MOD(COUNT($Q78:AW78)+1,3)=0,(AW78*$E14)+AW78,AW78)),\"NÃO\"),\"NÃO\")","v":"NÃO"},{"$f":"IF(AND(AY$8>=$M14,AY$8<=$N14),IF($F14=\"Trimestral\",IF(AX78=\"NÃO\",$D14,IF(MOD(COUNT($Q78:AX78)+1,3)=0,(AX78*$E14)+AX78,AX78)),\"NÃO\"),\"NÃO\")","v":"NÃO"},{"$f":"IF(AND(AZ$8>=$M14,AZ$8<=$N14),IF($F14=\"Trimestral\",IF(AY78=\"NÃO\",$D14,IF(MOD(COUNT($Q78:AY78)+1,3)=0,(AY78*$E14)+AY78,AY78)),\"NÃO\"),\"NÃO\")","v":"NÃO"},{"$f":"IF(AND(BA$8>=$M14,BA$8<=$N14),IF($F14=\"Trimestral\",IF(AZ78=\"NÃO\",$D14,IF(MOD(COUNT($Q78:AZ78)+1,3)=0,(AZ78*$E14)+AZ78,AZ78)),\"NÃO\"),\"NÃO\")","v":"NÃO"},{"$f":"IF(AND(BB$8>=$M14,BB$8<=$N14),IF($F14=\"Trimestral\",IF(BA78=\"NÃO\",$D14,IF(MOD(COUNT($Q78:BA78)+1,3)=0,(BA78*$E14)+BA78,BA78)),\"NÃO\"),\"NÃO\")","v":"NÃO"},{"$f":"IF(AND(BC$8>=$M14,BC$8<=$N14),IF($F14=\"Trimestral\",IF(BB78=\"NÃO\",$D14,IF(MOD(COUNT($Q78:BB78)+1,3)=0,(BB78*$E14)+BB78,BB78)),\"NÃO\"),\"NÃO\")","v":"NÃO"},{"$f":"IF(AND(BD$8>=$M14,BD$8<=$N14),IF($F14=\"Trimestral\",IF(BC78=\"NÃO\",$D14,IF(MOD(COUNT($Q78:BC78)+1,3)=0,(BC78*$E14)+BC78,BC78)),\"NÃO\"),\"NÃO\")","v":"NÃO"},{"$f":"IF(AND(BE$8>=$M14,BE$8<=$N14),IF($F14=\"Trimestral\",IF(BD78=\"NÃO\",$D14,IF(MOD(COUNT($Q78:BD78)+1,3)=0,(BD78*$E14)+BD78,BD78)),\"NÃO\"),\"NÃO\")","v":"NÃO"},{"$f":"IF(AND(BF$8>=$M14,BF$8<=$N14),IF($F14=\"Trimestral\",IF(BE78=\"NÃO\",$D14,IF(MOD(COUNT($Q78:BE78)+1,3)=0,(BE78*$E14)+BE78,BE78)),\"NÃO\"),\"NÃO\")","v":"NÃO"},{"$f":"IF(AND(BG$8>=$M14,BG$8<=$N14),IF($F14=\"Trimestral\",IF(BF78=\"NÃO\",$D14,IF(MOD(COUNT($Q78:BF78)+1,3)=0,(BF78*$E14)+BF78,BF78)),\"NÃO\"),\"NÃO\")","v":"NÃO"},{"$f":"IF(AND(BH$8>=$M14,BH$8<=$N14),IF($F14=\"Trimestral\",IF(BG78=\"NÃO\",$D14,IF(MOD(COUNT($Q78:BG78)+1,3)=0,(BG78*$E14)+BG78,BG78)),\"NÃO\"),\"NÃO\")","v":"NÃO"},{"$f":"IF(AND(BI$8>=$M14,BI$8<=$N14),IF($F14=\"Trimestral\",IF(BH78=\"NÃO\",$D14,IF(MOD(COUNT($Q78:BH78)+1,3)=0,(BH78*$E14)+BH78,BH78)),\"NÃO\"),\"NÃO\")","v":"NÃO"},{"$f":"IF(AND(BJ$8>=$M14,BJ$8<=$N14),IF($F14=\"Trimestral\",IF(BI78=\"NÃO\",$D14,IF(MOD(COUNT($Q78:BI78)+1,3)=0,(BI78*$E14)+BI78,BI78)),\"NÃO\"),\"NÃO\")","v":"NÃO"},{"$f":"IF(AND(BK$8>=$M14,BK$8<=$N14),IF($F14=\"Trimestral\",IF(BJ78=\"NÃO\",$D14,IF(MOD(COUNT($Q78:BJ78)+1,3)=0,(BJ78*$E14)+BJ78,BJ78)),\"NÃO\"),\"NÃO\")","v":"NÃO"},{"$f":"IF(AND(BL$8>=$M14,BL$8<=$N14),IF($F14=\"Trimestral\",IF(BK78=\"NÃO\",$D14,IF(MOD(COUNT($Q78:BK78)+1,3)=0,(BK78*$E14)+BK78,BK78)),\"NÃO\"),\"NÃO\")","v":"NÃO"},{"$f":"IF(AND(BM$8>=$M14,BM$8<=$N14),IF($F14=\"Trimestral\",IF(BL78=\"NÃO\",$D14,IF(MOD(COUNT($Q78:BL78)+1,3)=0,(BL78*$E14)+BL78,BL78)),\"NÃO\"),\"NÃO\")","v":"NÃO"},{"$f":"IF(AND(BN$8>=$M14,BN$8<=$N14),IF($F14=\"Trimestral\",IF(BM78=\"NÃO\",$D14,IF(MOD(COUNT($Q78:BM78)+1,3)=0,(BM78*$E14)+BM78,BM78)),\"NÃO\"),\"NÃO\")","v":"NÃO"},{"$f":"IF(AND(BO$8>=$M14,BO$8<=$N14),IF($F14=\"Trimestral\",IF(BN78=\"NÃO\",$D14,IF(MOD(COUNT($Q78:BN78)+1,3)=0,(BN78*$E14)+BN78,BN78)),\"NÃO\"),\"NÃO\")","v":"NÃO"},{"$f":"IF(AND(BP$8>=$M14,BP$8<=$N14),IF($F14=\"Trimestral\",IF(BO78=\"NÃO\",$D14,IF(MOD(COUNT($Q78:BO78)+1,3)=0,(BO78*$E14)+BO78,BO78)),\"NÃO\"),\"NÃO\")","v":"NÃO"},{"$f":"IF(AND(BQ$8>=$M14,BQ$8<=$N14),IF($F14=\"Trimestral\",IF(BP78=\"NÃO\",$D14,IF(MOD(COUNT($Q78:BP78)+1,3)=0,(BP78*$E14)+BP78,BP78)),\"NÃO\"),\"NÃO\")","v":"NÃO"},{"$f":"IF(AND(BR$8>=$M14,BR$8<=$N14),IF($F14=\"Trimestral\",IF(BQ78=\"NÃO\",$D14,IF(MOD(COUNT($Q78:BQ78)+1,3)=0,(BQ78*$E14)+BQ78,BQ78)),\"NÃO\"),\"NÃO\")","v":"NÃO"},{"$f":"IF(AND(BS$8>=$M14,BS$8<=$N14),IF($F14=\"Trimestral\",IF(BR78=\"NÃO\",$D14,IF(MOD(COUNT($Q78:BR78)+1,3)=0,(BR78*$E14)+BR78,BR78)),\"NÃO\"),\"NÃO\")","v":"NÃO"},{"$f":"IF(AND(BT$8>=$M14,BT$8<=$N14),IF($F14=\"Trimestral\",IF(BS78=\"NÃO\",$D14,IF(MOD(COUNT($Q78:BS78)+1,3)=0,(BS78*$E14)+BS78,BS78)),\"NÃO\"),\"NÃO\")","v":"NÃO"},{"$f":"IF(AND(BU$8>=$M14,BU$8<=$N14),IF($F14=\"Trimestral\",IF(BT78=\"NÃO\",$D14,IF(MOD(COUNT($Q78:BT78)+1,3)=0,(BT78*$E14)+BT78,BT78)),\"NÃO\"),\"NÃO\")","v":"NÃO"},{"$f":"IF(AND(BV$8>=$M14,BV$8<=$N14),IF($F14=\"Trimestral\",IF(BU78=\"NÃO\",$D14,IF(MOD(COUNT($Q78:BU78)+1,3)=0,(BU78*$E14)+BU78,BU78)),\"NÃO\"),\"NÃO\")","v":"NÃO"},{"$f":"IF(AND(BW$8>=$M14,BW$8<=$N14),IF($F14=\"Trimestral\",IF(BV78=\"NÃO\",$D14,IF(MOD(COUNT($Q78:BV78)+1,3)=0,(BV78*$E14)+BV78,BV78)),\"NÃO\"),\"NÃO\")","v":"NÃO"},{"$f":"IF(AND(BX$8>=$M14,BX$8<=$N14),IF($F14=\"Trimestral\",IF(BW78=\"NÃO\",$D14,IF(MOD(COUNT($Q78:BW78)+1,3)=0,(BW78*$E14)+BW78,BW78)),\"NÃO\"),\"NÃO\")","v":"NÃO"},null,null,6]
[null,null,null,null,null,null,null,null,null,null,null,null,null,null,null,7,"NÃO",{"$f":"IF(AND(R$8>=$M15,R$8<=$N15),IF($F15=\"Trimestral\",IF(Q79=\"NÃO\",$D15,IF(MOD(COUNT($Q79:Q79)+1,3)=0,(Q79*$E15)+Q79,Q79)),\"NÃO\"),\"NÃO\")","v":"NÃO"},{"$f":"IF(AND(S$8>=$M15,S$8<=$N15),IF($F15=\"Trimestral\",IF(R79=\"NÃO\",$D15,IF(MOD(COUNT($Q79:R79)+1,3)=0,(R79*$E15)+R79,R79)),\"NÃO\"),\"NÃO\")","v":"NÃO"},{"$f":"IF(AND(T$8>=$M15,T$8<=$N15),IF($F15=\"Trimestral\",IF(S79=\"NÃO\",$D15,IF(MOD(COUNT($Q79:S79)+1,3)=0,(S79*$E15)+S79,S79)),\"NÃO\"),\"NÃO\")","v":"NÃO"},{"$f":"IF(AND(U$8>=$M15,U$8<=$N15),IF($F15=\"Trimestral\",IF(T79=\"NÃO\",$D15,IF(MOD(COUNT($Q79:T79)+1,3)=0,(T79*$E15)+T79,T79)),\"NÃO\"),\"NÃO\")","v":"NÃO"},{"$f":"IF(AND(V$8>=$M15,V$8<=$N15),IF($F15=\"Trimestral\",IF(U79=\"NÃO\",$D15,IF(MOD(COUNT($Q79:U79)+1,3)=0,(U79*$E15)+U79,U79)),\"NÃO\"),\"NÃO\")","v":"NÃO"},{"$f":"IF(AND(W$8>=$M15,W$8<=$N15),IF($F15=\"Trimestral\",IF(V79=\"NÃO\",$D15,IF(MOD(COUNT($Q79:V79)+1,3)=0,(V79*$E15)+V79,V79)),\"NÃO\"),\"NÃO\")","v":"NÃO"},{"$f":"IF(AND(X$8>=$M15,X$8<=$N15),IF($F15=\"Trimestral\",IF(W79=\"NÃO\",$D15,IF(MOD(COUNT($Q79:W79)+1,3)=0,(W79*$E15)+W79,W79)),\"NÃO\"),\"NÃO\")","v":"NÃO"},{"$f":"IF(AND(Y$8>=$M15,Y$8<=$N15),IF($F15=\"Trimestral\",IF(X79=\"NÃO\",$D15,IF(MOD(COUNT($Q79:X79)+1,3)=0,(X79*$E15)+X79,X79)),\"NÃO\"),\"NÃO\")","v":"NÃO"},{"$f":"IF(AND(Z$8>=$M15,Z$8<=$N15),IF($F15=\"Trimestral\",IF(Y79=\"NÃO\",$D15,IF(MOD(COUNT($Q79:Y79)+1,3)=0,(Y79*$E15)+Y79,Y79)),\"NÃO\"),\"NÃO\")","v":"NÃO"},{"$f":"IF(AND(AA$8>=$M15,AA$8<=$N15),IF($F15=\"Trimestral\",IF(Z79=\"NÃO\",$D15,IF(MOD(COUNT($Q79:Z79)+1,3)=0,(Z79*$E15)+Z79,Z79)),\"NÃO\"),\"NÃO\")","v":"NÃO"},{"$f":"IF(AND(AB$8>=$M15,AB$8<=$N15),IF($F15=\"Trimestral\",IF(AA79=\"NÃO\",$D15,IF(MOD(COUNT($Q79:AA79)+1,3)=0,(AA79*$E15)+AA79,AA79)),\"NÃO\"),\"NÃO\")","v":"NÃO"},{"$f":"IF(AND(AC$8>=$M15,AC$8<=$N15),IF($F15=\"Trimestral\",IF(AB79=\"NÃO\",$D15,IF(MOD(COUNT($Q79:AB79)+1,3)=0,(AB79*$E15)+AB79,AB79)),\"NÃO\"),\"NÃO\")","v":"NÃO"},{"$f":"IF(AND(AD$8>=$M15,AD$8<=$N15),IF($F15=\"Trimestral\",IF(AC79=\"NÃO\",$D15,IF(MOD(COUNT($Q79:AC79)+1,3)=0,(AC79*$E15)+AC79,AC79)),\"NÃO\"),\"NÃO\")","v":"NÃO"},{"$f":"IF(AND(AE$8>=$M15,AE$8<=$N15),IF($F15=\"Trimestral\",IF(AD79=\"NÃO\",$D15,IF(MOD(COUNT($Q79:AD79)+1,3)=0,(AD79*$E15)+AD79,AD79)),\"NÃO\"),\"NÃO\")","v":"NÃO"},{"$f":"IF(AND(AF$8>=$M15,AF$8<=$N15),IF($F15=\"Trimestral\",IF(AE79=\"NÃO\",$D15,IF(MOD(COUNT($Q79:AE79)+1,3)=0,(AE79*$E15)+AE79,AE79)),\"NÃO\"),\"NÃO\")","v":"NÃO"},{"$f":"IF(AND(AG$8>=$M15,AG$8<=$N15),IF($F15=\"Trimestral\",IF(AF79=\"NÃO\",$D15,IF(MOD(COUNT($Q79:AF79)+1,3)=0,(AF79*$E15)+AF79,AF79)),\"NÃO\"),\"NÃO\")","v":"NÃO"},{"$f":"IF(AND(AH$8>=$M15,AH$8<=$N15),IF($F15=\"Trimestral\",IF(AG79=\"NÃO\",$D15,IF(MOD(COUNT($Q79:AG79)+1,3)=0,(AG79*$E15)+AG79,AG79)),\"NÃO\"),\"NÃO\")","v":"NÃO"},{"$f":"IF(AND(AI$8>=$M15,AI$8<=$N15),IF($F15=\"Trimestral\",IF(AH79=\"NÃO\",$D15,IF(MOD(COUNT($Q79:AH79)+1,3)=0,(AH79*$E15)+AH79,AH79)),\"NÃO\"),\"NÃO\")","v":"NÃO"},{"$f":"IF(AND(AJ$8>=$M15,AJ$8<=$N15),IF($F15=\"Trimestral\",IF(AI79=\"NÃO\",$D15,IF(MOD(COUNT($Q79:AI79)+1,3)=0,(AI79*$E15)+AI79,AI79)),\"NÃO\"),\"NÃO\")","v":"NÃO"},{"$f":"IF(AND(AK$8>=$M15,AK$8<=$N15),IF($F15=\"Trimestral\",IF(AJ79=\"NÃO\",$D15,IF(MOD(COUNT($Q79:AJ79)+1,3)=0,(AJ79*$E15)+AJ79,AJ79)),\"NÃO\"),\"NÃO\")","v":"NÃO"},{"$f":"IF(AND(AL$8>=$M15,AL$8<=$N15),IF($F15=\"Trimestral\",IF(AK79=\"NÃO\",$D15,IF(MOD(COUNT($Q79:AK79)+1,3)=0,(AK79*$E15)+AK79,AK79)),\"NÃO\"),\"NÃO\")","v":"NÃO"},{"$f":"IF(AND(AM$8>=$M15,AM$8<=$N15),IF($F15=\"Trimestral\",IF(AL79=\"NÃO\",$D15,IF(MOD(COUNT($Q79:AL79)+1,3)=0,(AL79*$E15)+AL79,AL79)),\"NÃO\"),\"NÃO\")","v":"NÃO"},{"$f":"IF(AND(AN$8>=$M15,AN$8<=$N15),IF($F15=\"Trimestral\",IF(AM79=\"NÃO\",$D15,IF(MOD(COUNT($Q79:AM79)+1,3)=0,(AM79*$E15)+AM79,AM79)),\"NÃO\"),\"NÃO\")","v":"NÃO"},{"$f":"IF(AND(AO$8>=$M15,AO$8<=$N15),IF($F15=\"Trimestral\",IF(AN79=\"NÃO\",$D15,IF(MOD(COUNT($Q79:AN79)+1,3)=0,(AN79*$E15)+AN79,AN79)),\"NÃO\"),\"NÃO\")","v":"NÃO"},{"$f":"IF(AND(AP$8>=$M15,AP$8<=$N15),IF($F15=\"Trimestral\",IF(AO79=\"NÃO\",$D15,IF(MOD(COUNT($Q79:AO79)+1,3)=0,(AO79*$E15)+AO79,AO79)),\"NÃO\"),\"NÃO\")","v":"NÃO"},{"$f":"IF(AND(AQ$8>=$M15,AQ$8<=$N15),IF($F15=\"Trimestral\",IF(AP79=\"NÃO\",$D15,IF(MOD(COUNT($Q79:AP79)+1,3)=0,(AP79*$E15)+AP79,AP79)),\"NÃO\"),\"NÃO\")","v":"NÃO"},{"$f":"IF(AND(AR$8>=$M15,AR$8<=$N15),IF($F15=\"Trimestral\",IF(AQ79=\"NÃO\",$D15,IF(MOD(COUNT($Q79:AQ79)+1,3)=0,(AQ79*$E15)+AQ79,AQ79)),\"NÃO\"),\"NÃO\")","v":"NÃO"},{"$f":"IF(AND(AS$8>=$M15,AS$8<=$N15),IF($F15=\"Trimestral\",IF(AR79=\"NÃO\",$D15,IF(MOD(COUNT($Q79:AR79)+1,3)=0,(AR79*$E15)+AR79,AR79)),\"NÃO\"),\"NÃO\")","v":"NÃO"},{"$f":"IF(AND(AT$8>=$M15,AT$8<=$N15),IF($F15=\"Trimestral\",IF(AS79=\"NÃO\",$D15,IF(MOD(COUNT($Q79:AS79)+1,3)=0,(AS79*$E15)+AS79,AS79)),\"NÃO\"),\"NÃO\")","v":"NÃO"},{"$f":"IF(AND(AU$8>=$M15,AU$8<=$N15),IF($F15=\"Trimestral\",IF(AT79=\"NÃO\",$D15,IF(MOD(COUNT($Q79:AT79)+1,3)=0,(AT79*$E15)+AT79,AT79)),\"NÃO\"),\"NÃO\")","v":"NÃO"},{"$f":"IF(AND(AV$8>=$M15,AV$8<=$N15),IF($F15=\"Trimestral\",IF(AU79=\"NÃO\",$D15,IF(MOD(COUNT($Q79:AU79)+1,3)=0,(AU79*$E15)+AU79,AU79)),\"NÃO\"),\"NÃO\")","v":"NÃO"},{"$f":"IF(AND(AW$8>=$M15,AW$8<=$N15),IF($F15=\"Trimestral\",IF(AV79=\"NÃO\",$D15,IF(MOD(COUNT($Q79:AV79)+1,3)=0,(AV79*$E15)+AV79,AV79)),\"NÃO\"),\"NÃO\")","v":"NÃO"},{"$f":"IF(AND(AX$8>=$M15,AX$8<=$N15),IF($F15=\"Trimestral\",IF(AW79=\"NÃO\",$D15,IF(MOD(COUNT($Q79:AW79)+1,3)=0,(AW79*$E15)+AW79,AW79)),\"NÃO\"),\"NÃO\")","v":"NÃO"},{"$f":"IF(AND(AY$8>=$M15,AY$8<=$N15),IF($F15=\"Trimestral\",IF(AX79=\"NÃO\",$D15,IF(MOD(COUNT($Q79:AX79)+1,3)=0,(AX79*$E15)+AX79,AX79)),\"NÃO\"),\"NÃO\")","v":"NÃO"},{"$f":"IF(AND(AZ$8>=$M15,AZ$8<=$N15),IF($F15=\"Trimestral\",IF(AY79=\"NÃO\",$D15,IF(MOD(COUNT($Q79:AY79)+1,3)=0,(AY79*$E15)+AY79,AY79)),\"NÃO\"),\"NÃO\")","v":"NÃO"},{"$f":"IF(AND(BA$8>=$M15,BA$8<=$N15),IF($F15=\"Trimestral\",IF(AZ79=\"NÃO\",$D15,IF(MOD(COUNT($Q79:AZ79)+1,3)=0,(AZ79*$E15)+AZ79,AZ79)),\"NÃO\"),\"NÃO\")","v":"NÃO"},{"$f":"IF(AND(BB$8>=$M15,BB$8<=$N15),IF($F15=\"Trimestral\",IF(BA79=\"NÃO\",$D15,IF(MOD(COUNT($Q79:BA79)+1,3)=0,(BA79*$E15)+BA79,BA79)),\"NÃO\"),\"NÃO\")","v":"NÃO"},{"$f":"IF(AND(BC$8>=$M15,BC$8<=$N15),IF($F15=\"Trimestral\",IF(BB79=\"NÃO\",$D15,IF(MOD(COUNT($Q79:BB79)+1,3)=0,(BB79*$E15)+BB79,BB79)),\"NÃO\"),\"NÃO\")","v":"NÃO"},{"$f":"IF(AND(BD$8>=$M15,BD$8<=$N15),IF($F15=\"Trimestral\",IF(BC79=\"NÃO\",$D15,IF(MOD(COUNT($Q79:BC79)+1,3)=0,(BC79*$E15)+BC79,BC79)),\"NÃO\"),\"NÃO\")","v":"NÃO"},{"$f":"IF(AND(BE$8>=$M15,BE$8<=$N15),IF($F15=\"Trimestral\",IF(BD79=\"NÃO\",$D15,IF(MOD(COUNT($Q79:BD79)+1,3)=0,(BD79*$E15)+BD79,BD79)),\"NÃO\"),\"NÃO\")","v":"NÃO"},{"$f":"IF(AND(BF$8>=$M15,BF$8<=$N15),IF($F15=\"Trimestral\",IF(BE79=\"NÃO\",$D15,IF(MOD(COUNT($Q79:BE79)+1,3)=0,(BE79*$E15)+BE79,BE79)),\"NÃO\"),\"NÃO\")","v":"NÃO"},{"$f":"IF(AND(BG$8>=$M15,BG$8<=$N15),IF($F15=\"Trimestral\",IF(BF79=\"NÃO\",$D15,IF(MOD(COUNT($Q79:BF79)+1,3)=0,(BF79*$E15)+BF79,BF79)),\"NÃO\"),\"NÃO\")","v":"NÃO"},{"$f":"IF(AND(BH$8>=$M15,BH$8<=$N15),IF($F15=\"Trimestral\",IF(BG79=\"NÃO\",$D15,IF(MOD(COUNT($Q79:BG79)+1,3)=0,(BG79*$E15)+BG79,BG79)),\"NÃO\"),\"NÃO\")","v":"NÃO"},{"$f":"IF(AND(BI$8>=$M15,BI$8<=$N15),IF($F15=\"Trimestral\",IF(BH79=\"NÃO\",$D15,IF(MOD(COUNT($Q79:BH79)+1,3)=0,(BH79*$E15)+BH79,BH79)),\"NÃO\"),\"NÃO\")","v":"NÃO"},{"$f":"IF(AND(BJ$8>=$M15,BJ$8<=$N15),IF($F15=\"Trimestral\",IF(BI79=\"NÃO\",$D15,IF(MOD(COUNT($Q79:BI79)+1,3)=0,(BI79*$E15)+BI79,BI79)),\"NÃO\"),\"NÃO\")","v":"NÃO"},{"$f":"IF(AND(BK$8>=$M15,BK$8<=$N15),IF($F15=\"Trimestral\",IF(BJ79=\"NÃO\",$D15,IF(MOD(COUNT($Q79:BJ79)+1,3)=0,(BJ79*$E15)+BJ79,BJ79)),\"NÃO\"),\"NÃO\")","v":"NÃO"},{"$f":"IF(AND(BL$8>=$M15,BL$8<=$N15),IF($F15=\"Trimestral\",IF(BK79=\"NÃO\",$D15,IF(MOD(COUNT($Q79:BK79)+1,3)=0,(BK79*$E15)+BK79,BK79)),\"NÃO\"),\"NÃO\")","v":"NÃO"},{"$f":"IF(AND(BM$8>=$M15,BM$8<=$N15),IF($F15=\"Trimestral\",IF(BL79=\"NÃO\",$D15,IF(MOD(COUNT($Q79:BL79)+1,3)=0,(BL79*$E15)+BL79,BL79)),\"NÃO\"),\"NÃO\")","v":"NÃO"},{"$f":"IF(AND(BN$8>=$M15,BN$8<=$N15),IF($F15=\"Trimestral\",IF(BM79=\"NÃO\",$D15,IF(MOD(COUNT($Q79:BM79)+1,3)=0,(BM79*$E15)+BM79,BM79)),\"NÃO\"),\"NÃO\")","v":"NÃO"},{"$f":"IF(AND(BO$8>=$M15,BO$8<=$N15),IF($F15=\"Trimestral\",IF(BN79=\"NÃO\",$D15,IF(MOD(COUNT($Q79:BN79)+1,3)=0,(BN79*$E15)+BN79,BN79)),\"NÃO\"),\"NÃO\")","v":"NÃO"},{"$f":"IF(AND(BP$8>=$M15,BP$8<=$N15),IF($F15=\"Trimestral\",IF(BO79=\"NÃO\",$D15,IF(MOD(COUNT($Q79:BO79)+1,3)=0,(BO79*$E15)+BO79,BO79)),\"NÃO\"),\"NÃO\")","v":"NÃO"},{"$f":"IF(AND(BQ$8>=$M15,BQ$8<=$N15),IF($F15=\"Trimestral\",IF(BP79=\"NÃO\",$D15,IF(MOD(COUNT($Q79:BP79)+1,3)=0,(BP79*$E15)+BP79,BP79)),\"NÃO\"),\"NÃO\")","v":"NÃO"},{"$f":"IF(AND(BR$8>=$M15,BR$8<=$N15),IF($F15=\"Trimestral\",IF(BQ79=\"NÃO\",$D15,IF(MOD(COUNT($Q79:BQ79)+1,3)=0,(BQ79*$E15)+BQ79,BQ79)),\"NÃO\"),\"NÃO\")","v":"NÃO"},{"$f":"IF(AND(BS$8>=$M15,BS$8<=$N15),IF($F15=\"Trimestral\",IF(BR79=\"NÃO\",$D15,IF(MOD(COUNT($Q79:BR79)+1,3)=0,(BR79*$E15)+BR79,BR79)),\"NÃO\"),\"NÃO\")","v":"NÃO"},{"$f":"IF(AND(BT$8>=$M15,BT$8<=$N15),IF($F15=\"Trimestral\",IF(BS79=\"NÃO\",$D15,IF(MOD(COUNT($Q79:BS79)+1,3)=0,(BS79*$E15)+BS79,BS79)),\"NÃO\"),\"NÃO\")","v":"NÃO"},{"$f":"IF(AND(BU$8>=$M15,BU$8<=$N15),IF($F15=\"Trimestral\",IF(BT79=\"NÃO\",$D15,IF(MOD(COUNT($Q79:BT79)+1,3)=0,(BT79*$E15)+BT79,BT79)),\"NÃO\"),\"NÃO\")","v":"NÃO"},{"$f":"IF(AND(BV$8>=$M15,BV$8<=$N15),IF($F15=\"Trimestral\",IF(BU79=\"NÃO\",$D15,IF(MOD(COUNT($Q79:BU79)+1,3)=0,(BU79*$E15)+BU79,BU79)),\"NÃO\"),\"NÃO\")","v":"NÃO"},{"$f":"IF(AND(BW$8>=$M15,BW$8<=$N15),IF($F15=\"Trimestral\",IF(BV79=\"NÃO\",$D15,IF(MOD(COUNT($Q79:BV79)+1,3)=0,(BV79*$E15)+BV79,BV79)),\"NÃO\"),\"NÃO\")","v":"NÃO"},{"$f":"IF(AND(BX$8>=$M15,BX$8<=$N15),IF($F15=\"Trimestral\",IF(BW79=\"NÃO\",$D15,IF(MOD(COUNT($Q79:BW79)+1,3)=0,(BW79*$E15)+BW79,BW79)),\"NÃO\"),\"NÃO\")","v":"NÃO"},null,null,7]
[null,null,null,null,null,null,null,null,null,null,null,null,null,null,null,8,"NÃO",{"$f":"IF(AND(R$8>=$M16,R$8<=$N16),IF($F16=\"Trimestral\",IF(Q80=\"NÃO\",$D16,IF(MOD(COUNT($Q80:Q80)+1,3)=0,(Q80*$E16)+Q80,Q80)),\"NÃO\"),\"NÃO\")","v":"NÃO"},{"$f":"IF(AND(S$8>=$M16,S$8<=$N16),IF($F16=\"Trimestral\",IF(R80=\"NÃO\",$D16,IF(MOD(COUNT($Q80:R80)+1,3)=0,(R80*$E16)+R80,R80)),\"NÃO\"),\"NÃO\")","v":"NÃO"},{"$f":"IF(AND(T$8>=$M16,T$8<=$N16),IF($F16=\"Trimestral\",IF(S80=\"NÃO\",$D16,IF(MOD(COUNT($Q80:S80)+1,3)=0,(S80*$E16)+S80,S80)),\"NÃO\"),\"NÃO\")","v":"NÃO"},{"$f":"IF(AND(U$8>=$M16,U$8<=$N16),IF($F16=\"Trimestral\",IF(T80=\"NÃO\",$D16,IF(MOD(COUNT($Q80:T80)+1,3)=0,(T80*$E16)+T80,T80)),\"NÃO\"),\"NÃO\")","v":"NÃO"},{"$f":"IF(AND(V$8>=$M16,V$8<=$N16),IF($F16=\"Trimestral\",IF(U80=\"NÃO\",$D16,IF(MOD(COUNT($Q80:U80)+1,3)=0,(U80*$E16)+U80,U80)),\"NÃO\"),\"NÃO\")","v":"NÃO"},{"$f":"IF(AND(W$8>=$M16,W$8<=$N16),IF($F16=\"Trimestral\",IF(V80=\"NÃO\",$D16,IF(MOD(COUNT($Q80:V80)+1,3)=0,(V80*$E16)+V80,V80)),\"NÃO\"),\"NÃO\")","v":"NÃO"},{"$f":"IF(AND(X$8>=$M16,X$8<=$N16),IF($F16=\"Trimestral\",IF(W80=\"NÃO\",$D16,IF(MOD(COUNT($Q80:W80)+1,3)=0,(W80*$E16)+W80,W80)),\"NÃO\"),\"NÃO\")","v":"NÃO"},{"$f":"IF(AND(Y$8>=$M16,Y$8<=$N16),IF($F16=\"Trimestral\",IF(X80=\"NÃO\",$D16,IF(MOD(COUNT($Q80:X80)+1,3)=0,(X80*$E16)+X80,X80)),\"NÃO\"),\"NÃO\")","v":"NÃO"},{"$f":"IF(AND(Z$8>=$M16,Z$8<=$N16),IF($F16=\"Trimestral\",IF(Y80=\"NÃO\",$D16,IF(MOD(COUNT($Q80:Y80)+1,3)=0,(Y80*$E16)+Y80,Y80)),\"NÃO\"),\"NÃO\")","v":"NÃO"},{"$f":"IF(AND(AA$8>=$M16,AA$8<=$N16),IF($F16=\"Trimestral\",IF(Z80=\"NÃO\",$D16,IF(MOD(COUNT($Q80:Z80)+1,3)=0,(Z80*$E16)+Z80,Z80)),\"NÃO\"),\"NÃO\")","v":"NÃO"},{"$f":"IF(AND(AB$8>=$M16,AB$8<=$N16),IF($F16=\"Trimestral\",IF(AA80=\"NÃO\",$D16,IF(MOD(COUNT($Q80:AA80)+1,3)=0,(AA80*$E16)+AA80,AA80)),\"NÃO\"),\"NÃO\")","v":"NÃO"},{"$f":"IF(AND(AC$8>=$M16,AC$8<=$N16),IF($F16=\"Trimestral\",IF(AB80=\"NÃO\",$D16,IF(MOD(COUNT($Q80:AB80)+1,3)=0,(AB80*$E16)+AB80,AB80)),\"NÃO\"),\"NÃO\")","v":"NÃO"},{"$f":"IF(AND(AD$8>=$M16,AD$8<=$N16),IF($F16=\"Trimestral\",IF(AC80=\"NÃO\",$D16,IF(MOD(COUNT($Q80:AC80)+1,3)=0,(AC80*$E16)+AC80,AC80)),\"NÃO\"),\"NÃO\")","v":"NÃO"},{"$f":"IF(AND(AE$8>=$M16,AE$8<=$N16),IF($F16=\"Trimestral\",IF(AD80=\"NÃO\",$D16,IF(MOD(COUNT($Q80:AD80)+1,3)=0,(AD80*$E16)+AD80,AD80)),\"NÃO\"),\"NÃO\")","v":"NÃO"},{"$f":"IF(AND(AF$8>=$M16,AF$8<=$N16),IF($F16=\"Trimestral\",IF(AE80=\"NÃO\",$D16,IF(MOD(COUNT($Q80:AE80)+1,3)=0,(AE80*$E16)+AE80,AE80)),\"NÃO\"),\"NÃO\")","v":"NÃO"},{"$f":"IF(AND(AG$8>=$M16,AG$8<=$N16),IF($F16=\"Trimestral\",IF(AF80=\"NÃO\",$D16,IF(MOD(COUNT($Q80:AF80)+1,3)=0,(AF80*$E16)+AF80,AF80)),\"NÃO\"),\"NÃO\")","v":"NÃO"},{"$f":"IF(AND(AH$8>=$M16,AH$8<=$N16),IF($F16=\"Trimestral\",IF(AG80=\"NÃO\",$D16,IF(MOD(COUNT($Q80:AG80)+1,3)=0,(AG80*$E16)+AG80,AG80)),\"NÃO\"),\"NÃO\")","v":"NÃO"},{"$f":"IF(AND(AI$8>=$M16,AI$8<=$N16),IF($F16=\"Trimestral\",IF(AH80=\"NÃO\",$D16,IF(MOD(COUNT($Q80:AH80)+1,3)=0,(AH80*$E16)+AH80,AH80)),\"NÃO\"),\"NÃO\")","v":"NÃO"},{"$f":"IF(AND(AJ$8>=$M16,AJ$8<=$N16),IF($F16=\"Trimestral\",IF(AI80=\"NÃO\",$D16,IF(MOD(COUNT($Q80:AI80)+1,3)=0,(AI80*$E16)+AI80,AI80)),\"NÃO\"),\"NÃO\")","v":"NÃO"},{"$f":"IF(AND(AK$8>=$M16,AK$8<=$N16),IF($F16=\"Trimestral\",IF(AJ80=\"NÃO\",$D16,IF(MOD(COUNT($Q80:AJ80)+1,3)=0,(AJ80*$E16)+AJ80,AJ80)),\"NÃO\"),\"NÃO\")","v":"NÃO"},{"$f":"IF(AND(AL$8>=$M16,AL$8<=$N16),IF($F16=\"Trimestral\",IF(AK80=\"NÃO\",$D16,IF(MOD(COUNT($Q80:AK80)+1,3)=0,(AK80*$E16)+AK80,AK80)),\"NÃO\"),\"NÃO\")","v":"NÃO"},{"$f":"IF(AND(AM$8>=$M16,AM$8<=$N16),IF($F16=\"Trimestral\",IF(AL80=\"NÃO\",$D16,IF(MOD(COUNT($Q80:AL80)+1,3)=0,(AL80*$E16)+AL80,AL80)),\"NÃO\"),\"NÃO\")","v":"NÃO"},{"$f":"IF(AND(AN$8>=$M16,AN$8<=$N16),IF($F16=\"Trimestral\",IF(AM80=\"NÃO\",$D16,IF(MOD(COUNT($Q80:AM80)+1,3)=0,(AM80*$E16)+AM80,AM80)),\"NÃO\"),\"NÃO\")","v":"NÃO"},{"$f":"IF(AND(AO$8>=$M16,AO$8<=$N16),IF($F16=\"Trimestral\",IF(AN80=\"NÃO\",$D16,IF(MOD(COUNT($Q80:AN80)+1,3)=0,(AN80*$E16)+AN80,AN80)),\"NÃO\"),\"NÃO\")","v":"NÃO"},{"$f":"IF(AND(AP$8>=$M16,AP$8<=$N16),IF($F16=\"Trimestral\",IF(AO80=\"NÃO\",$D16,IF(MOD(COUNT($Q80:AO80)+1,3)=0,(AO80*$E16)+AO80,AO80)),\"NÃO\"),\"NÃO\")","v":"NÃO"},{"$f":"IF(AND(AQ$8>=$M16,AQ$8<=$N16),IF($F16=\"Trimestral\",IF(AP80=\"NÃO\",$D16,IF(MOD(COUNT($Q80:AP80)+1,3)=0,(AP80*$E16)+AP80,AP80)),\"NÃO\"),\"NÃO\")","v":"NÃO"},{"$f":"IF(AND(AR$8>=$M16,AR$8<=$N16),IF($F16=\"Trimestral\",IF(AQ80=\"NÃO\",$D16,IF(MOD(COUNT($Q80:AQ80)+1,3)=0,(AQ80*$E16)+AQ80,AQ80)),\"NÃO\"),\"NÃO\")","v":"NÃO"},{"$f":"IF(AND(AS$8>=$M16,AS$8<=$N16),IF($F16=\"Trimestral\",IF(AR80=\"NÃO\",$D16,IF(MOD(COUNT($Q80:AR80)+1,3)=0,(AR80*$E16)+AR80,AR80)),\"NÃO\"),\"NÃO\")","v":"NÃO"},{"$f":"IF(AND(AT$8>=$M16,AT$8<=$N16),IF($F16=\"Trimestral\",IF(AS80=\"NÃO\",$D16,IF(MOD(COUNT($Q80:AS80)+1,3)=0,(AS80*$E16)+AS80,AS80)),\"NÃO\"),\"NÃO\")","v":"NÃO"},{"$f":"IF(AND(AU$8>=$M16,AU$8<=$N16),IF($F16=\"Trimestral\",IF(AT80=\"NÃO\",$D16,IF(MOD(COUNT($Q80:AT80)+1,3)=0,(AT80*$E16)+AT80,AT80)),\"NÃO\"),\"NÃO\")","v":"NÃO"},{"$f":"IF(AND(AV$8>=$M16,AV$8<=$N16),IF($F16=\"Trimestral\",IF(AU80=\"NÃO\",$D16,IF(MOD(COUNT($Q80:AU80)+1,3)=0,(AU80*$E16)+AU80,AU80)),\"NÃO\"),\"NÃO\")","v":"NÃO"},{"$f":"IF(AND(AW$8>=$M16,AW$8<=$N16),IF($F16=\"Trimestral\",IF(AV80=\"NÃO\",$D16,IF(MOD(COUNT($Q80:AV80)+1,3)=0,(AV80*$E16)+AV80,AV80)),\"NÃO\"),\"NÃO\")","v":"NÃO"},{"$f":"IF(AND(AX$8>=$M16,AX$8<=$N16),IF($F16=\"Trimestral\",IF(AW80=\"NÃO\",$D16,IF(MOD(COUNT($Q80:AW80)+1,3)=0,(AW80*$E16)+AW80,AW80)),\"NÃO\"),\"NÃO\")","v":"NÃO"},{"$f":"IF(AND(AY$8>=$M16,AY$8<=$N16),IF($F16=\"Trimestral\",IF(AX80=\"NÃO\",$D16,IF(MOD(COUNT($Q80:AX80)+1,3)=0,(AX80*$E16)+AX80,AX80)),\"NÃO\"),\"NÃO\")","v":"NÃO"},{"$f":"IF(AND(AZ$8>=$M16,AZ$8<=$N16),IF($F16=\"Trimestral\",IF(AY80=\"NÃO\",$D16,IF(MOD(COUNT($Q80:AY80)+1,3)=0,(AY80*$E16)+AY80,AY80)),\"NÃO\"),\"NÃO\")","v":"NÃO"},{"$f":"IF(AND(BA$8>=$M16,BA$8<=$N16),IF($F16=\"Trimestral\",IF(AZ80=\"NÃO\",$D16,IF(MOD(COUNT($Q80:AZ80)+1,3)=0,(AZ80*$E16)+AZ80,AZ80)),\"NÃO\"),\"NÃO\")","v":"NÃO"},{"$f":"IF(AND(BB$8>=$M16,BB$8<=$N16),IF($F16=\"Trimestral\",IF(BA80=\"NÃO\",$D16,IF(MOD(COUNT($Q80:BA80)+1,3)=0,(BA80*$E16)+BA80,BA80)),\"NÃO\"),\"NÃO\")","v":"NÃO"},{"$f":"IF(AND(BC$8>=$M16,BC$8<=$N16),IF($F16=\"Trimestral\",IF(BB80=\"NÃO\",$D16,IF(MOD(COUNT($Q80:BB80)+1,3)=0,(BB80*$E16)+BB80,BB80)),\"NÃO\"),\"NÃO\")","v":"NÃO"},{"$f":"IF(AND(BD$8>=$M16,BD$8<=$N16),IF($F16=\"Trimestral\",IF(BC80=\"NÃO\",$D16,IF(MOD(COUNT($Q80:BC80)+1,3)=0,(BC80*$E16)+BC80,BC80)),\"NÃO\"),\"NÃO\")","v":"NÃO"},{"$f":"IF(AND(BE$8>=$M16,BE$8<=$N16),IF($F16=\"Trimestral\",IF(BD80=\"NÃO\",$D16,IF(MOD(COUNT($Q80:BD80)+1,3)=0,(BD80*$E16)+BD80,BD80)),\"NÃO\"),\"NÃO\")","v":"NÃO"},{"$f":"IF(AND(BF$8>=$M16,BF$8<=$N16),IF($F16=\"Trimestral\",IF(BE80=\"NÃO\",$D16,IF(MOD(COUNT($Q80:BE80)+1,3)=0,(BE80*$E16)+BE80,BE80)),\"NÃO\"),\"NÃO\")","v":"NÃO"},{"$f":"IF(AND(BG$8>=$M16,BG$8<=$N16),IF($F16=\"Trimestral\",IF(BF80=\"NÃO\",$D16,IF(MOD(COUNT($Q80:BF80)+1,3)=0,(BF80*$E16)+BF80,BF80)),\"NÃO\"),\"NÃO\")","v":"NÃO"},{"$f":"IF(AND(BH$8>=$M16,BH$8<=$N16),IF($F16=\"Trimestral\",IF(BG80=\"NÃO\",$D16,IF(MOD(COUNT($Q80:BG80)+1,3)=0,(BG80*$E16)+BG80,BG80)),\"NÃO\"),\"NÃO\")","v":"NÃO"},{"$f":"IF(AND(BI$8>=$M16,BI$8<=$N16),IF($F16=\"Trimestral\",IF(BH80=\"NÃO\",$D16,IF(MOD(COUNT($Q80:BH80)+1,3)=0,(BH80*$E16)+BH80,BH80)),\"NÃO\"),\"NÃO\")","v":"NÃO"},{"$f":"IF(AND(BJ$8>=$M16,BJ$8<=$N16),IF($F16=\"Trimestral\",IF(BI80=\"NÃO\",$D16,IF(MOD(COUNT($Q80:BI80)+1,3)=0,(BI80*$E16)+BI80,BI80)),\"NÃO\"),\"NÃO\")","v":"NÃO"},{"$f":"IF(AND(BK$8>=$M16,BK$8<=$N16),IF($F16=\"Trimestral\",IF(BJ80=\"NÃO\",$D16,IF(MOD(COUNT($Q80:BJ80)+1,3)=0,(BJ80*$E16)+BJ80,BJ80)),\"NÃO\"),\"NÃO\")","v":"NÃO"},{"$f":"IF(AND(BL$8>=$M16,BL$8<=$N16),IF($F16=\"Trimestral\",IF(BK80=\"NÃO\",$D16,IF(MOD(COUNT($Q80:BK80)+1,3)=0,(BK80*$E16)+BK80,BK80)),\"NÃO\"),\"NÃO\")","v":"NÃO"},{"$f":"IF(AND(BM$8>=$M16,BM$8<=$N16),IF($F16=\"Trimestral\",IF(BL80=\"NÃO\",$D16,IF(MOD(COUNT($Q80:BL80)+1,3)=0,(BL80*$E16)+BL80,BL80)),\"NÃO\"),\"NÃO\")","v":"NÃO"},{"$f":"IF(AND(BN$8>=$M16,BN$8<=$N16),IF($F16=\"Trimestral\",IF(BM80=\"NÃO\",$D16,IF(MOD(COUNT($Q80:BM80)+1,3)=0,(BM80*$E16)+BM80,BM80)),\"NÃO\"),\"NÃO\")","v":"NÃO"},{"$f":"IF(AND(BO$8>=$M16,BO$8<=$N16),IF($F16=\"Trimestral\",IF(BN80=\"NÃO\",$D16,IF(MOD(COUNT($Q80:BN80)+1,3)=0,(BN80*$E16)+BN80,BN80)),\"NÃO\"),\"NÃO\")","v":"NÃO"},{"$f":"IF(AND(BP$8>=$M16,BP$8<=$N16),IF($F16=\"Trimestral\",IF(BO80=\"NÃO\",$D16,IF(MOD(COUNT($Q80:BO80)+1,3)=0,(BO80*$E16)+BO80,BO80)),\"NÃO\"),\"NÃO\")","v":"NÃO"},{"$f":"IF(AND(BQ$8>=$M16,BQ$8<=$N16),IF($F16=\"Trimestral\",IF(BP80=\"NÃO\",$D16,IF(MOD(COUNT($Q80:BP80)+1,3)=0,(BP80*$E16)+BP80,BP80)),\"NÃO\"),\"NÃO\")","v":"NÃO"},{"$f":"IF(AND(BR$8>=$M16,BR$8<=$N16),IF($F16=\"Trimestral\",IF(BQ80=\"NÃO\",$D16,IF(MOD(COUNT($Q80:BQ80)+1,3)=0,(BQ80*$E16)+BQ80,BQ80)),\"NÃO\"),\"NÃO\")","v":"NÃO"},{"$f":"IF(AND(BS$8>=$M16,BS$8<=$N16),IF($F16=\"Trimestral\",IF(BR80=\"NÃO\",$D16,IF(MOD(COUNT($Q80:BR80)+1,3)=0,(BR80*$E16)+BR80,BR80)),\"NÃO\"),\"NÃO\")","v":"NÃO"},{"$f":"IF(AND(BT$8>=$M16,BT$8<=$N16),IF($F16=\"Trimestral\",IF(BS80=\"NÃO\",$D16,IF(MOD(COUNT($Q80:BS80)+1,3)=0,(BS80*$E16)+BS80,BS80)),\"NÃO\"),\"NÃO\")","v":"NÃO"},{"$f":"IF(AND(BU$8>=$M16,BU$8<=$N16),IF($F16=\"Trimestral\",IF(BT80=\"NÃO\",$D16,IF(MOD(COUNT($Q80:BT80)+1,3)=0,(BT80*$E16)+BT80,BT80)),\"NÃO\"),\"NÃO\")","v":"NÃO"},{"$f":"IF(AND(BV$8>=$M16,BV$8<=$N16),IF($F16=\"Trimestral\",IF(BU80=\"NÃO\",$D16,IF(MOD(COUNT($Q80:BU80)+1,3)=0,(BU80*$E16)+BU80,BU80)),\"NÃO\"),\"NÃO\")","v":"NÃO"},{"$f":"IF(AND(BW$8>=$M16,BW$8<=$N16),IF($F16=\"Trimestral\",IF(BV80=\"NÃO\",$D16,IF(MOD(COUNT($Q80:BV80)+1,3)=0,(BV80*$E16)+BV80,BV80)),\"NÃO\"),\"NÃO\")","v":"NÃO"},{"$f":"IF(AND(BX$8>=$M16,BX$8<=$N16),IF($F16=\"Trimestral\",IF(BW80=\"NÃO\",$D16,IF(MOD(COUNT($Q80:BW80)+1,3)=0,(BW80*$E16)+BW80,BW80)),\"NÃO\"),\"NÃO\")","v":"NÃO"},null,null,8]
[null,null,null,null,null,null,null,null,null,null,null,null,null,null,null,9,"NÃO",{"$f":"IF(AND(R$8>=$M17,R$8<=$N17),IF($F17=\"Trimestral\",IF(Q81=\"NÃO\",$D17,IF(MOD(COUNT($Q81:Q81)+1,3)=0,(Q81*$E17)+Q81,Q81)),\"NÃO\"),\"NÃO\")","v":"NÃO"},{"$f":"IF(AND(S$8>=$M17,S$8<=$N17),IF($F17=\"Trimestral\",IF(R81=\"NÃO\",$D17,IF(MOD(COUNT($Q81:R81)+1,3)=0,(R81*$E17)+R81,R81)),\"NÃO\"),\"NÃO\")","v":"NÃO"},{"$f":"IF(AND(T$8>=$M17,T$8<=$N17),IF($F17=\"Trimestral\",IF(S81=\"NÃO\",$D17,IF(MOD(COUNT($Q81:S81)+1,3)=0,(S81*$E17)+S81,S81)),\"NÃO\"),\"NÃO\")","v":"NÃO"},{"$f":"IF(AND(U$8>=$M17,U$8<=$N17),IF($F17=\"Trimestral\",IF(T81=\"NÃO\",$D17,IF(MOD(COUNT($Q81:T81)+1,3)=0,(T81*$E17)+T81,T81)),\"NÃO\"),\"NÃO\")","v":"NÃO"},{"$f":"IF(AND(V$8>=$M17,V$8<=$N17),IF($F17=\"Trimestral\",IF(U81=\"NÃO\",$D17,IF(MOD(COUNT($Q81:U81)+1,3)=0,(U81*$E17)+U81,U81)),\"NÃO\"),\"NÃO\")","v":"NÃO"},{"$f":"IF(AND(W$8>=$M17,W$8<=$N17),IF($F17=\"Trimestral\",IF(V81=\"NÃO\",$D17,IF(MOD(COUNT($Q81:V81)+1,3)=0,(V81*$E17)+V81,V81)),\"NÃO\"),\"NÃO\")","v":"NÃO"},{"$f":"IF(AND(X$8>=$M17,X$8<=$N17),IF($F17=\"Trimestral\",IF(W81=\"NÃO\",$D17,IF(MOD(COUNT($Q81:W81)+1,3)=0,(W81*$E17)+W81,W81)),\"NÃO\"),\"NÃO\")","v":"NÃO"},{"$f":"IF(AND(Y$8>=$M17,Y$8<=$N17),IF($F17=\"Trimestral\",IF(X81=\"NÃO\",$D17,IF(MOD(COUNT($Q81:X81)+1,3)=0,(X81*$E17)+X81,X81)),\"NÃO\"),\"NÃO\")","v":"NÃO"},{"$f":"IF(AND(Z$8>=$M17,Z$8<=$N17),IF($F17=\"Trimestral\",IF(Y81=\"NÃO\",$D17,IF(MOD(COUNT($Q81:Y81)+1,3)=0,(Y81*$E17)+Y81,Y81)),\"NÃO\"),\"NÃO\")","v":"NÃO"},{"$f":"IF(AND(AA$8>=$M17,AA$8<=$N17),IF($F17=\"Trimestral\",IF(Z81=\"NÃO\",$D17,IF(MOD(COUNT($Q81:Z81)+1,3)=0,(Z81*$E17)+Z81,Z81)),\"NÃO\"),\"NÃO\")","v":"NÃO"},{"$f":"IF(AND(AB$8>=$M17,AB$8<=$N17),IF($F17=\"Trimestral\",IF(AA81=\"NÃO\",$D17,IF(MOD(COUNT($Q81:AA81)+1,3)=0,(AA81*$E17)+AA81,AA81)),\"NÃO\"),\"NÃO\")","v":"NÃO"},{"$f":"IF(AND(AC$8>=$M17,AC$8<=$N17),IF($F17=\"Trimestral\",IF(AB81=\"NÃO\",$D17,IF(MOD(COUNT($Q81:AB81)+1,3)=0,(AB81*$E17)+AB81,AB81)),\"NÃO\"),\"NÃO\")","v":"NÃO"},{"$f":"IF(AND(AD$8>=$M17,AD$8<=$N17),IF($F17=\"Trimestral\",IF(AC81=\"NÃO\",$D17,IF(MOD(COUNT($Q81:AC81)+1,3)=0,(AC81*$E17)+AC81,AC81)),\"NÃO\"),\"NÃO\")","v":"NÃO"},{"$f":"IF(AND(AE$8>=$M17,AE$8<=$N17),IF($F17=\"Trimestral\",IF(AD81=\"NÃO\",$D17,IF(MOD(COUNT($Q81:AD81)+1,3)=0,(AD81*$E17)+AD81,AD81)),\"NÃO\"),\"NÃO\")","v":"NÃO"},{"$f":"IF(AND(AF$8>=$M17,AF$8<=$N17),IF($F17=\"Trimestral\",IF(AE81=\"NÃO\",$D17,IF(MOD(COUNT($Q81:AE81)+1,3)=0,(AE81*$E17)+AE81,AE81)),\"NÃO\"),\"NÃO\")","v":"NÃO"},{"$f":"IF(AND(AG$8>=$M17,AG$8<=$N17),IF($F17=\"Trimestral\",IF(AF81=\"NÃO\",$D17,IF(MOD(COUNT($Q81:AF81)+1,3)=0,(AF81*$E17)+AF81,AF81)),\"NÃO\"),\"NÃO\")","v":"NÃO"},{"$f":"IF(AND(AH$8>=$M17,AH$8<=$N17),IF($F17=\"Trimestral\",IF(AG81=\"NÃO\",$D17,IF(MOD(COUNT($Q81:AG81)+1,3)=0,(AG81*$E17)+AG81,AG81)),\"NÃO\"),\"NÃO\")","v":"NÃO"},{"$f":"IF(AND(AI$8>=$M17,AI$8<=$N17),IF($F17=\"Trimestral\",IF(AH81=\"NÃO\",$D17,IF(MOD(COUNT($Q81:AH81)+1,3)=0,(AH81*$E17)+AH81,AH81)),\"NÃO\"),\"NÃO\")","v":"NÃO"},{"$f":"IF(AND(AJ$8>=$M17,AJ$8<=$N17),IF($F17=\"Trimestral\",IF(AI81=\"NÃO\",$D17,IF(MOD(COUNT($Q81:AI81)+1,3)=0,(AI81*$E17)+AI81,AI81)),\"NÃO\"),\"NÃO\")","v":"NÃO"},{"$f":"IF(AND(AK$8>=$M17,AK$8<=$N17),IF($F17=\"Trimestral\",IF(AJ81=\"NÃO\",$D17,IF(MOD(COUNT($Q81:AJ81)+1,3)=0,(AJ81*$E17)+AJ81,AJ81)),\"NÃO\"),\"NÃO\")","v":"NÃO"},{"$f":"IF(AND(AL$8>=$M17,AL$8<=$N17),IF($F17=\"Trimestral\",IF(AK81=\"NÃO\",$D17,IF(MOD(COUNT($Q81:AK81)+1,3)=0,(AK81*$E17)+AK81,AK81)),\"NÃO\"),\"NÃO\")","v":"NÃO"},{"$f":"IF(AND(AM$8>=$M17,AM$8<=$N17),IF($F17=\"Trimestral\",IF(AL81=\"NÃO\",$D17,IF(MOD(COUNT($Q81:AL81)+1,3)=0,(AL81*$E17)+AL81,AL81)),\"NÃO\"),\"NÃO\")","v":"NÃO"},{"$f":"IF(AND(AN$8>=$M17,AN$8<=$N17),IF($F17=\"Trimestral\",IF(AM81=\"NÃO\",$D17,IF(MOD(COUNT($Q81:AM81)+1,3)=0,(AM81*$E17)+AM81,AM81)),\"NÃO\"),\"NÃO\")","v":"NÃO"},{"$f":"IF(AND(AO$8>=$M17,AO$8<=$N17),IF($F17=\"Trimestral\",IF(AN81=\"NÃO\",$D17,IF(MOD(COUNT($Q81:AN81)+1,3)=0,(AN81*$E17)+AN81,AN81)),\"NÃO\"),\"NÃO\")","v":"NÃO"},{"$f":"IF(AND(AP$8>=$M17,AP$8<=$N17),IF($F17=\"Trimestral\",IF(AO81=\"NÃO\",$D17,IF(MOD(COUNT($Q81:AO81)+1,3)=0,(AO81*$E17)+AO81,AO81)),\"NÃO\"),\"NÃO\")","v":"NÃO"},{"$f":"IF(AND(AQ$8>=$M17,AQ$8<=$N17),IF($F17=\"Trimestral\",IF(AP81=\"NÃO\",$D17,IF(MOD(COUNT($Q81:AP81)+1,3)=0,(AP81*$E17)+AP81,AP81)),\"NÃO\"),\"NÃO\")","v":"NÃO"},{"$f":"IF(AND(AR$8>=$M17,AR$8<=$N17),IF($F17=\"Trimestral\",IF(AQ81=\"NÃO\",$D17,IF(MOD(COUNT($Q81:AQ81)+1,3)=0,(AQ81*$E17)+AQ81,AQ81)),\"NÃO\"),\"NÃO\")","v":"NÃO"},{"$f":"IF(AND(AS$8>=$M17,AS$8<=$N17),IF($F17=\"Trimestral\",IF(AR81=\"NÃO\",$D17,IF(MOD(COUNT($Q81:AR81)+1,3)=0,(AR81*$E17)+AR81,AR81)),\"NÃO\"),\"NÃO\")","v":"NÃO"},{"$f":"IF(AND(AT$8>=$M17,AT$8<=$N17),IF($F17=\"Trimestral\",IF(AS81=\"NÃO\",$D17,IF(MOD(COUNT($Q81:AS81)+1,3)=0,(AS81*$E17)+AS81,AS81)),\"NÃO\"),\"NÃO\")","v":"NÃO"},{"$f":"IF(AND(AU$8>=$M17,AU$8<=$N17),IF($F17=\"Trimestral\",IF(AT81=\"NÃO\",$D17,IF(MOD(COUNT($Q81:AT81)+1,3)=0,(AT81*$E17)+AT81,AT81)),\"NÃO\"),\"NÃO\")","v":"NÃO"},{"$f":"IF(AND(AV$8>=$M17,AV$8<=$N17),IF($F17=\"Trimestral\",IF(AU81=\"NÃO\",$D17,IF(MOD(COUNT($Q81:AU81)+1,3)=0,(AU81*$E17)+AU81,AU81)),\"NÃO\"),\"NÃO\")","v":"NÃO"},{"$f":"IF(AND(AW$8>=$M17,AW$8<=$N17),IF($F17=\"Trimestral\",IF(AV81=\"NÃO\",$D17,IF(MOD(COUNT($Q81:AV81)+1,3)=0,(AV81*$E17)+AV81,AV81)),\"NÃO\"),\"NÃO\")","v":"NÃO"},{"$f":"IF(AND(AX$8>=$M17,AX$8<=$N17),IF($F17=\"Trimestral\",IF(AW81=\"NÃO\",$D17,IF(MOD(COUNT($Q81:AW81)+1,3)=0,(AW81*$E17)+AW81,AW81)),\"NÃO\"),\"NÃO\")","v":"NÃO"},{"$f":"IF(AND(AY$8>=$M17,AY$8<=$N17),IF($F17=\"Trimestral\",IF(AX81=\"NÃO\",$D17,IF(MOD(COUNT($Q81:AX81)+1,3)=0,(AX81*$E17)+AX81,AX81)),\"NÃO\"),\"NÃO\")","v":"NÃO"},{"$f":"IF(AND(AZ$8>=$M17,AZ$8<=$N17),IF($F17=\"Trimestral\",IF(AY81=\"NÃO\",$D17,IF(MOD(COUNT($Q81:AY81)+1,3)=0,(AY81*$E17)+AY81,AY81)),\"NÃO\"),\"NÃO\")","v":"NÃO"},{"$f":"IF(AND(BA$8>=$M17,BA$8<=$N17),IF($F17=\"Trimestral\",IF(AZ81=\"NÃO\",$D17,IF(MOD(COUNT($Q81:AZ81)+1,3)=0,(AZ81*$E17)+AZ81,AZ81)),\"NÃO\"),\"NÃO\")","v":"NÃO"},{"$f":"IF(AND(BB$8>=$M17,BB$8<=$N17),IF($F17=\"Trimestral\",IF(BA81=\"NÃO\",$D17,IF(MOD(COUNT($Q81:BA81)+1,3)=0,(BA81*$E17)+BA81,BA81)),\"NÃO\"),\"NÃO\")","v":"NÃO"},{"$f":"IF(AND(BC$8>=$M17,BC$8<=$N17),IF($F17=\"Trimestral\",IF(BB81=\"NÃO\",$D17,IF(MOD(COUNT($Q81:BB81)+1,3)=0,(BB81*$E17)+BB81,BB81)),\"NÃO\"),\"NÃO\")","v":"NÃO"},{"$f":"IF(AND(BD$8>=$M17,BD$8<=$N17),IF($F17=\"Trimestral\",IF(BC81=\"NÃO\",$D17,IF(MOD(COUNT($Q81:BC81)+1,3)=0,(BC81*$E17)+BC81,BC81)),\"NÃO\"),\"NÃO\")","v":"NÃO"},{"$f":"IF(AND(BE$8>=$M17,BE$8<=$N17),IF($F17=\"Trimestral\",IF(BD81=\"NÃO\",$D17,IF(MOD(COUNT($Q81:BD81)+1,3)=0,(BD81*$E17)+BD81,BD81)),\"NÃO\"),\"NÃO\")","v":"NÃO"},{"$f":"IF(AND(BF$8>=$M17,BF$8<=$N17),IF($F17=\"Trimestral\",IF(BE81=\"NÃO\",$D17,IF(MOD(COUNT($Q81:BE81)+1,3)=0,(BE81*$E17)+BE81,BE81)),\"NÃO\"),\"NÃO\")","v":"NÃO"},{"$f":"IF(AND(BG$8>=$M17,BG$8<=$N17),IF($F17=\"Trimestral\",IF(BF81=\"NÃO\",$D17,IF(MOD(COUNT($Q81:BF81)+1,3)=0,(BF81*$E17)+BF81,BF81)),\"NÃO\"),\"NÃO\")","v":"NÃO"},{"$f":"IF(AND(BH$8>=$M17,BH$8<=$N17),IF($F17=\"Trimestral\",IF(BG81=\"NÃO\",$D17,IF(MOD(COUNT($Q81:BG81)+1,3)=0,(BG81*$E17)+BG81,BG81)),\"NÃO\"),\"NÃO\")","v":"NÃO"},{"$f":"IF(AND(BI$8>=$M17,BI$8<=$N17),IF($F17=\"Trimestral\",IF(BH81=\"NÃO\",$D17,IF(MOD(COUNT($Q81:BH81)+1,3)=0,(BH81*$E17)+BH81,BH81)),\"NÃO\"),\"NÃO\")","v":"NÃO"},{"$f":"IF(AND(BJ$8>=$M17,BJ$8<=$N17),IF($F17=\"Trimestral\",IF(BI81=\"NÃO\",$D17,IF(MOD(COUNT($Q81:BI81)+1,3)=0,(BI81*$E17)+BI81,BI81)),\"NÃO\"),\"NÃO\")","v":"NÃO"},{"$f":"IF(AND(BK$8>=$M17,BK$8<=$N17),IF($F17=\"Trimestral\",IF(BJ81=\"NÃO\",$D17,IF(MOD(COUNT($Q81:BJ81)+1,3)=0,(BJ81*$E17)+BJ81,BJ81)),\"NÃO\"),\"NÃO\")","v":"NÃO"},{"$f":"IF(AND(BL$8>=$M17,BL$8<=$N17),IF($F17=\"Trimestral\",IF(BK81=\"NÃO\",$D17,IF(MOD(COUNT($Q81:BK81)+1,3)=0,(BK81*$E17)+BK81,BK81)),\"NÃO\"),\"NÃO\")","v":"NÃO"},{"$f":"IF(AND(BM$8>=$M17,BM$8<=$N17),IF($F17=\"Trimestral\",IF(BL81=\"NÃO\",$D17,IF(MOD(COUNT($Q81:BL81)+1,3)=0,(BL81*$E17)+BL81,BL81)),\"NÃO\"),\"NÃO\")","v":"NÃO"},{"$f":"IF(AND(BN$8>=$M17,BN$8<=$N17),IF($F17=\"Trimestral\",IF(BM81=\"NÃO\",$D17,IF(MOD(COUNT($Q81:BM81)+1,3)=0,(BM81*$E17)+BM81,BM81)),\"NÃO\"),\"NÃO\")","v":"NÃO"},{"$f":"IF(AND(BO$8>=$M17,BO$8<=$N17),IF($F17=\"Trimestral\",IF(BN81=\"NÃO\",$D17,IF(MOD(COUNT($Q81:BN81)+1,3)=0,(BN81*$E17)+BN81,BN81)),\"NÃO\"),\"NÃO\")","v":"NÃO"},{"$f":"IF(AND(BP$8>=$M17,BP$8<=$N17),IF($F17=\"Trimestral\",IF(BO81=\"NÃO\",$D17,IF(MOD(COUNT($Q81:BO81)+1,3)=0,(BO81*$E17)+BO81,BO81)),\"NÃO\"),\"NÃO\")","v":"NÃO"},{"$f":"IF(AND(BQ$8>=$M17,BQ$8<=$N17),IF($F17=\"Trimestral\",IF(BP81=\"NÃO\",$D17,IF(MOD(COUNT($Q81:BP81)+1,3)=0,(BP81*$E17)+BP81,BP81)),\"NÃO\"),\"NÃO\")","v":"NÃO"},{"$f":"IF(AND(BR$8>=$M17,BR$8<=$N17),IF($F17=\"Trimestral\",IF(BQ81=\"NÃO\",$D17,IF(MOD(COUNT($Q81:BQ81)+1,3)=0,(BQ81*$E17)+BQ81,BQ81)),\"NÃO\"),\"NÃO\")","v":"NÃO"},{"$f":"IF(AND(BS$8>=$M17,BS$8<=$N17),IF($F17=\"Trimestral\",IF(BR81=\"NÃO\",$D17,IF(MOD(COUNT($Q81:BR81)+1,3)=0,(BR81*$E17)+BR81,BR81)),\"NÃO\"),\"NÃO\")","v":"NÃO"},{"$f":"IF(AND(BT$8>=$M17,BT$8<=$N17),IF($F17=\"Trimestral\",IF(BS81=\"NÃO\",$D17,IF(MOD(COUNT($Q81:BS81)+1,3)=0,(BS81*$E17)+BS81,BS81)),\"NÃO\"),\"NÃO\")","v":"NÃO"},{"$f":"IF(AND(BU$8>=$M17,BU$8<=$N17),IF($F17=\"Trimestral\",IF(BT81=\"NÃO\",$D17,IF(MOD(COUNT($Q81:BT81)+1,3)=0,(BT81*$E17)+BT81,BT81)),\"NÃO\"),\"NÃO\")","v":"NÃO"},{"$f":"IF(AND(BV$8>=$M17,BV$8<=$N17),IF($F17=\"Trimestral\",IF(BU81=\"NÃO\",$D17,IF(MOD(COUNT($Q81:BU81)+1,3)=0,(BU81*$E17)+BU81,BU81)),\"NÃO\"),\"NÃO\")","v":"NÃO"},{"$f":"IF(AND(BW$8>=$M17,BW$8<=$N17),IF($F17=\"Trimestral\",IF(BV81=\"NÃO\",$D17,IF(MOD(COUNT($Q81:BV81)+1,3)=0,(BV81*$E17)+BV81,BV81)),\"NÃO\"),\"NÃO\")","v":"NÃO"},{"$f":"IF(AND(BX$8>=$M17,BX$8<=$N17),IF($F17=\"Trimestral\",IF(BW81=\"NÃO\",$D17,IF(MOD(COUNT($Q81:BW81)+1,3)=0,(BW81*$E17)+BW81,BW81)),\"NÃO\"),\"NÃO\")","v":"NÃO"},null,null,9]
[null,null,null,null,null,null,null,null,null,null,null,null,null,null,null,10,"NÃO",{"$f":"IF(AND(R$8>=$M18,R$8<=$N18),IF($F18=\"Trimestral\",IF(Q82=\"NÃO\",$D18,IF(MOD(COUNT($Q82:Q82)+1,3)=0,(Q82*$E18)+Q82,Q82)),\"NÃO\"),\"NÃO\")","v":"NÃO"},{"$f":"IF(AND(S$8>=$M18,S$8<=$N18),IF($F18=\"Trimestral\",IF(R82=\"NÃO\",$D18,IF(MOD(COUNT($Q82:R82)+1,3)=0,(R82*$E18)+R82,R82)),\"NÃO\"),\"NÃO\")","v":"NÃO"},{"$f":"IF(AND(T$8>=$M18,T$8<=$N18),IF($F18=\"Trimestral\",IF(S82=\"NÃO\",$D18,IF(MOD(COUNT($Q82:S82)+1,3)=0,(S82*$E18)+S82,S82)),\"NÃO\"),\"NÃO\")","v":"NÃO"},{"$f":"IF(AND(U$8>=$M18,U$8<=$N18),IF($F18=\"Trimestral\",IF(T82=\"NÃO\",$D18,IF(MOD(COUNT($Q82:T82)+1,3)=0,(T82*$E18)+T82,T82)),\"NÃO\"),\"NÃO\")","v":"NÃO"},{"$f":"IF(AND(V$8>=$M18,V$8<=$N18),IF($F18=\"Trimestral\",IF(U82=\"NÃO\",$D18,IF(MOD(COUNT($Q82:U82)+1,3)=0,(U82*$E18)+U82,U82)),\"NÃO\"),\"NÃO\")","v":"NÃO"},{"$f":"IF(AND(W$8>=$M18,W$8<=$N18),IF($F18=\"Trimestral\",IF(V82=\"NÃO\",$D18,IF(MOD(COUNT($Q82:V82)+1,3)=0,(V82*$E18)+V82,V82)),\"NÃO\"),\"NÃO\")","v":"NÃO"},{"$f":"IF(AND(X$8>=$M18,X$8<=$N18),IF($F18=\"Trimestral\",IF(W82=\"NÃO\",$D18,IF(MOD(COUNT($Q82:W82)+1,3)=0,(W82*$E18)+W82,W82)),\"NÃO\"),\"NÃO\")","v":"NÃO"},{"$f":"IF(AND(Y$8>=$M18,Y$8<=$N18),IF($F18=\"Trimestral\",IF(X82=\"NÃO\",$D18,IF(MOD(COUNT($Q82:X82)+1,3)=0,(X82*$E18)+X82,X82)),\"NÃO\"),\"NÃO\")","v":"NÃO"},{"$f":"IF(AND(Z$8>=$M18,Z$8<=$N18),IF($F18=\"Trimestral\",IF(Y82=\"NÃO\",$D18,IF(MOD(COUNT($Q82:Y82)+1,3)=0,(Y82*$E18)+Y82,Y82)),\"NÃO\"),\"NÃO\")","v":"NÃO"},{"$f":"IF(AND(AA$8>=$M18,AA$8<=$N18),IF($F18=\"Trimestral\",IF(Z82=\"NÃO\",$D18,IF(MOD(COUNT($Q82:Z82)+1,3)=0,(Z82*$E18)+Z82,Z82)),\"NÃO\"),\"NÃO\")","v":"NÃO"},{"$f":"IF(AND(AB$8>=$M18,AB$8<=$N18),IF($F18=\"Trimestral\",IF(AA82=\"NÃO\",$D18,IF(MOD(COUNT($Q82:AA82)+1,3)=0,(AA82*$E18)+AA82,AA82)),\"NÃO\"),\"NÃO\")","v":"NÃO"},{"$f":"IF(AND(AC$8>=$M18,AC$8<=$N18),IF($F18=\"Trimestral\",IF(AB82=\"NÃO\",$D18,IF(MOD(COUNT($Q82:AB82)+1,3)=0,(AB82*$E18)+AB82,AB82)),\"NÃO\"),\"NÃO\")","v":"NÃO"},{"$f":"IF(AND(AD$8>=$M18,AD$8<=$N18),IF($F18=\"Trimestral\",IF(AC82=\"NÃO\",$D18,IF(MOD(COUNT($Q82:AC82)+1,3)=0,(AC82*$E18)+AC82,AC82)),\"NÃO\"),\"NÃO\")","v":"NÃO"},{"$f":"IF(AND(AE$8>=$M18,AE$8<=$N18),IF($F18=\"Trimestral\",IF(AD82=\"NÃO\",$D18,IF(MOD(COUNT($Q82:AD82)+1,3)=0,(AD82*$E18)+AD82,AD82)),\"NÃO\"),\"NÃO\")","v":"NÃO"},{"$f":"IF(AND(AF$8>=$M18,AF$8<=$N18),IF($F18=\"Trimestral\",IF(AE82=\"NÃO\",$D18,IF(MOD(COUNT($Q82:AE82)+1,3)=0,(AE82*$E18)+AE82,AE82)),\"NÃO\"),\"NÃO\")","v":"NÃO"},{"$f":"IF(AND(AG$8>=$M18,AG$8<=$N18),IF($F18=\"Trimestral\",IF(AF82=\"NÃO\",$D18,IF(MOD(COUNT($Q82:AF82)+1,3)=0,(AF82*$E18)+AF82,AF82)),\"NÃO\"),\"NÃO\")","v":"NÃO"},{"$f":"IF(AND(AH$8>=$M18,AH$8<=$N18),IF($F18=\"Trimestral\",IF(AG82=\"NÃO\",$D18,IF(MOD(COUNT($Q82:AG82)+1,3)=0,(AG82*$E18)+AG82,AG82)),\"NÃO\"),\"NÃO\")","v":"NÃO"},{"$f":"IF(AND(AI$8>=$M18,AI$8<=$N18),IF($F18=\"Trimestral\",IF(AH82=\"NÃO\",$D18,IF(MOD(COUNT($Q82:AH82)+1,3)=0,(AH82*$E18)+AH82,AH82)),\"NÃO\"),\"NÃO\")","v":"NÃO"},{"$f":"IF(AND(AJ$8>=$M18,AJ$8<=$N18),IF($F18=\"Trimestral\",IF(AI82=\"NÃO\",$D18,IF(MOD(COUNT($Q82:AI82)+1,3)=0,(AI82*$E18)+AI82,AI82)),\"NÃO\"),\"NÃO\")","v":"NÃO"},{"$f":"IF(AND(AK$8>=$M18,AK$8<=$N18),IF($F18=\"Trimestral\",IF(AJ82=\"NÃO\",$D18,IF(MOD(COUNT($Q82:AJ82)+1,3)=0,(AJ82*$E18)+AJ82,AJ82)),\"NÃO\"),\"NÃO\")","v":"NÃO"},{"$f":"IF(AND(AL$8>=$M18,AL$8<=$N18),IF($F18=\"Trimestral\",IF(AK82=\"NÃO\",$D18,IF(MOD(COUNT($Q82:AK82)+1,3)=0,(AK82*$E18)+AK82,AK82)),\"NÃO\"),\"NÃO\")","v":"NÃO"},{"$f":"IF(AND(AM$8>=$M18,AM$8<=$N18),IF($F18=\"Trimestral\",IF(AL82=\"NÃO\",$D18,IF(MOD(COUNT($Q82:AL82)+1,3)=0,(AL82*$E18)+AL82,AL82)),\"NÃO\"),\"NÃO\")","v":"NÃO"},{"$f":"IF(AND(AN$8>=$M18,AN$8<=$N18),IF($F18=\"Trimestral\",IF(AM82=\"NÃO\",$D18,IF(MOD(COUNT($Q82:AM82)+1,3)=0,(AM82*$E18)+AM82,AM82)),\"NÃO\"),\"NÃO\")","v":"NÃO"},{"$f":"IF(AND(AO$8>=$M18,AO$8<=$N18),IF($F18=\"Trimestral\",IF(AN82=\"NÃO\",$D18,IF(MOD(COUNT($Q82:AN82)+1,3)=0,(AN82*$E18)+AN82,AN82)),\"NÃO\"),\"NÃO\")","v":"NÃO"},{"$f":"IF(AND(AP$8>=$M18,AP$8<=$N18),IF($F18=\"Trimestral\",IF(AO82=\"NÃO\",$D18,IF(MOD(COUNT($Q82:AO82)+1,3)=0,(AO82*$E18)+AO82,AO82)),\"NÃO\"),\"NÃO\")","v":"NÃO"},{"$f":"IF(AND(AQ$8>=$M18,AQ$8<=$N18),IF($F18=\"Trimestral\",IF(AP82=\"NÃO\",$D18,IF(MOD(COUNT($Q82:AP82)+1,3)=0,(AP82*$E18)+AP82,AP82)),\"NÃO\"),\"NÃO\")","v":"NÃO"},{"$f":"IF(AND(AR$8>=$M18,AR$8<=$N18),IF($F18=\"Trimestral\",IF(AQ82=\"NÃO\",$D18,IF(MOD(COUNT($Q82:AQ82)+1,3)=0,(AQ82*$E18)+AQ82,AQ82)),\"NÃO\"),\"NÃO\")","v":"NÃO"},{"$f":"IF(AND(AS$8>=$M18,AS$8<=$N18),IF($F18=\"Trimestral\",IF(AR82=\"NÃO\",$D18,IF(MOD(COUNT($Q82:AR82)+1,3)=0,(AR82*$E18)+AR82,AR82)),\"NÃO\"),\"NÃO\")","v":"NÃO"},{"$f":"IF(AND(AT$8>=$M18,AT$8<=$N18),IF($F18=\"Trimestral\",IF(AS82=\"NÃO\",$D18,IF(MOD(COUNT($Q82:AS82)+1,3)=0,(AS82*$E18)+AS82,AS82)),\"NÃO\"),\"NÃO\")","v":"NÃO"},{"$f":"IF(AND(AU$8>=$M18,AU$8<=$N18),IF($F18=\"Trimestral\",IF(AT82=\"NÃO\",$D18,IF(MOD(COUNT($Q82:AT82)+1,3)=0,(AT82*$E18)+AT82,AT82)),\"NÃO\"),\"NÃO\")","v":"NÃO"},{"$f":"IF(AND(AV$8>=$M18,AV$8<=$N18),IF($F18=\"Trimestral\",IF(AU82=\"NÃO\",$D18,IF(MOD(COUNT($Q82:AU82)+1,3)=0,(AU82*$E18)+AU82,AU82)),\"NÃO\"),\"NÃO\")","v":"NÃO"},{"$f":"IF(AND(AW$8>=$M18,AW$8<=$N18),IF($F18=\"Trimestral\",IF(AV82=\"NÃO\",$D18,IF(MOD(COUNT($Q82:AV82)+1,3)=0,(AV82*$E18)+AV82,AV82)),\"NÃO\"),\"NÃO\")","v":"NÃO"},{"$f":"IF(AND(AX$8>=$M18,AX$8<=$N18),IF($F18=\"Trimestral\",IF(AW82=\"NÃO\",$D18,IF(MOD(COUNT($Q82:AW82)+1,3)=0,(AW82*$E18)+AW82,AW82)),\"NÃO\"),\"NÃO\")","v":"NÃO"},{"$f":"IF(AND(AY$8>=$M18,AY$8<=$N18),IF($F18=\"Trimestral\",IF(AX82=\"NÃO\",$D18,IF(MOD(COUNT($Q82:AX82)+1,3)=0,(AX82*$E18)+AX82,AX82)),\"NÃO\"),\"NÃO\")","v":"NÃO"},{"$f":"IF(AND(AZ$8>=$M18,AZ$8<=$N18),IF($F18=\"Trimestral\",IF(AY82=\"NÃO\",$D18,IF(MOD(COUNT($Q82:AY82)+1,3)=0,(AY82*$E18)+AY82,AY82)),\"NÃO\"),\"NÃO\")","v":"NÃO"},{"$f":"IF(AND(BA$8>=$M18,BA$8<=$N18),IF($F18=\"Trimestral\",IF(AZ82=\"NÃO\",$D18,IF(MOD(COUNT($Q82:AZ82)+1,3)=0,(AZ82*$E18)+AZ82,AZ82)),\"NÃO\"),\"NÃO\")","v":"NÃO"},{"$f":"IF(AND(BB$8>=$M18,BB$8<=$N18),IF($F18=\"Trimestral\",IF(BA82=\"NÃO\",$D18,IF(MOD(COUNT($Q82:BA82)+1,3)=0,(BA82*$E18)+BA82,BA82)),\"NÃO\"),\"NÃO\")","v":"NÃO"},{"$f":"IF(AND(BC$8>=$M18,BC$8<=$N18),IF($F18=\"Trimestral\",IF(BB82=\"NÃO\",$D18,IF(MOD(COUNT($Q82:BB82)+1,3)=0,(BB82*$E18)+BB82,BB82)),\"NÃO\"),\"NÃO\")","v":"NÃO"},{"$f":"IF(AND(BD$8>=$M18,BD$8<=$N18),IF($F18=\"Trimestral\",IF(BC82=\"NÃO\",$D18,IF(MOD(COUNT($Q82:BC82)+1,3)=0,(BC82*$E18)+BC82,BC82)),\"NÃO\"),\"NÃO\")","v":"NÃO"},{"$f":"IF(AND(BE$8>=$M18,BE$8<=$N18),IF($F18=\"Trimestral\",IF(BD82=\"NÃO\",$D18,IF(MOD(COUNT($Q82:BD82)+1,3)=0,(BD82*$E18)+BD82,BD82)),\"NÃO\"),\"NÃO\")","v":"NÃO"},{"$f":"IF(AND(BF$8>=$M18,BF$8<=$N18),IF($F18=\"Trimestral\",IF(BE82=\"NÃO\",$D18,IF(MOD(COUNT($Q82:BE82)+1,3)=0,(BE82*$E18)+BE82,BE82)),\"NÃO\"),\"NÃO\")","v":"NÃO"},{"$f":"IF(AND(BG$8>=$M18,BG$8<=$N18),IF($F18=\"Trimestral\",IF(BF82=\"NÃO\",$D18,IF(MOD(COUNT($Q82:BF82)+1,3)=0,(BF82*$E18)+BF82,BF82)),\"NÃO\"),\"NÃO\")","v":"NÃO"},{"$f":"IF(AND(BH$8>=$M18,BH$8<=$N18),IF($F18=\"Trimestral\",IF(BG82=\"NÃO\",$D18,IF(MOD(COUNT($Q82:BG82)+1,3)=0,(BG82*$E18)+BG82,BG82)),\"NÃO\"),\"NÃO\")","v":"NÃO"},{"$f":"IF(AND(BI$8>=$M18,BI$8<=$N18),IF($F18=\"Trimestral\",IF(BH82=\"NÃO\",$D18,IF(MOD(COUNT($Q82:BH82)+1,3)=0,(BH82*$E18)+BH82,BH82)),\"NÃO\"),\"NÃO\")","v":"NÃO"},{"$f":"IF(AND(BJ$8>=$M18,BJ$8<=$N18),IF($F18=\"Trimestral\",IF(BI82=\"NÃO\",$D18,IF(MOD(COUNT($Q82:BI82)+1,3)=0,(BI82*$E18)+BI82,BI82)),\"NÃO\"),\"NÃO\")","v":"NÃO"},{"$f":"IF(AND(BK$8>=$M18,BK$8<=$N18),IF($F18=\"Trimestral\",IF(BJ82=\"NÃO\",$D18,IF(MOD(COUNT($Q82:BJ82)+1,3)=0,(BJ82*$E18)+BJ82,BJ82)),\"NÃO\"),\"NÃO\")","v":"NÃO"},{"$f":"IF(AND(BL$8>=$M18,BL$8<=$N18),IF($F18=\"Trimestral\",IF(BK82=\"NÃO\",$D18,IF(MOD(COUNT($Q82:BK82)+1,3)=0,(BK82*$E18)+BK82,BK82)),\"NÃO\"),\"NÃO\")","v":"NÃO"},{"$f":"IF(AND(BM$8>=$M18,BM$8<=$N18),IF($F18=\"Trimestral\",IF(BL82=\"NÃO\",$D18,IF(MOD(COUNT($Q82:BL82)+1,3)=0,(BL82*$E18)+BL82,BL82)),\"NÃO\"),\"NÃO\")","v":"NÃO"},{"$f":"IF(AND(BN$8>=$M18,BN$8<=$N18),IF($F18=\"Trimestral\",IF(BM82=\"NÃO\",$D18,IF(MOD(COUNT($Q82:BM82)+1,3)=0,(BM82*$E18)+BM82,BM82)),\"NÃO\"),\"NÃO\")","v":"NÃO"},{"$f":"IF(AND(BO$8>=$M18,BO$8<=$N18),IF($F18=\"Trimestral\",IF(BN82=\"NÃO\",$D18,IF(MOD(COUNT($Q82:BN82)+1,3)=0,(BN82*$E18)+BN82,BN82)),\"NÃO\"),\"NÃO\")","v":"NÃO"},{"$f":"IF(AND(BP$8>=$M18,BP$8<=$N18),IF($F18=\"Trimestral\",IF(BO82=\"NÃO\",$D18,IF(MOD(COUNT($Q82:BO82)+1,3)=0,(BO82*$E18)+BO82,BO82)),\"NÃO\"),\"NÃO\")","v":"NÃO"},{"$f":"IF(AND(BQ$8>=$M18,BQ$8<=$N18),IF($F18=\"Trimestral\",IF(BP82=\"NÃO\",$D18,IF(MOD(COUNT($Q82:BP82)+1,3)=0,(BP82*$E18)+BP82,BP82)),\"NÃO\"),\"NÃO\")","v":"NÃO"},{"$f":"IF(AND(BR$8>=$M18,BR$8<=$N18),IF($F18=\"Trimestral\",IF(BQ82=\"NÃO\",$D18,IF(MOD(COUNT($Q82:BQ82)+1,3)=0,(BQ82*$E18)+BQ82,BQ82)),\"NÃO\"),\"NÃO\")","v":"NÃO"},{"$f":"IF(AND(BS$8>=$M18,BS$8<=$N18),IF($F18=\"Trimestral\",IF(BR82=\"NÃO\",$D18,IF(MOD(COUNT($Q82:BR82)+1,3)=0,(BR82*$E18)+BR82,BR82)),\"NÃO\"),\"NÃO\")","v":"NÃO"},{"$f":"IF(AND(BT$8>=$M18,BT$8<=$N18),IF($F18=\"Trimestral\",IF(BS82=\"NÃO\",$D18,IF(MOD(COUNT($Q82:BS82)+1,3)=0,(BS82*$E18)+BS82,BS82)),\"NÃO\"),\"NÃO\")","v":"NÃO"},{"$f":"IF(AND(BU$8>=$M18,BU$8<=$N18),IF($F18=\"Trimestral\",IF(BT82=\"NÃO\",$D18,IF(MOD(COUNT($Q82:BT82)+1,3)=0,(BT82*$E18)+BT82,BT82)),\"NÃO\"),\"NÃO\")","v":"NÃO"},{"$f":"IF(AND(BV$8>=$M18,BV$8<=$N18),IF($F18=\"Trimestral\",IF(BU82=\"NÃO\",$D18,IF(MOD(COUNT($Q82:BU82)+1,3)=0,(BU82*$E18)+BU82,BU82)),\"NÃO\"),\"NÃO\")","v":"NÃO"},{"$f":"IF(AND(BW$8>=$M18,BW$8<=$N18),IF($F18=\"Trimestral\",IF(BV82=\"NÃO\",$D18,IF(MOD(COUNT($Q82:BV82)+1,3)=0,(BV82*$E18)+BV82,BV82)),\"NÃO\"),\"NÃO\")","v":"NÃO"},{"$f":"IF(AND(BX$8>=$M18,BX$8<=$N18),IF($F18=\"Trimestral\",IF(BW82=\"NÃO\",$D18,IF(MOD(COUNT($Q82:BW82)+1,3)=0,(BW82*$E18)+BW82,BW82)),\"NÃO\"),\"NÃO\")","v":"NÃO"},null,null,10]
[null,null,null,null,null,null,null,null,null,null,null,null,null,null,null,11,"NÃO",{"$f":"IF(AND(R$8>=$M19,R$8<=$N19),IF($F19=\"Trimestral\",IF(Q83=\"NÃO\",$D19,IF(MOD(COUNT($Q83:Q83)+1,3)=0,(Q83*$E19)+Q83,Q83)),\"NÃO\"),\"NÃO\")","v":"NÃO"},{"$f":"IF(AND(S$8>=$M19,S$8<=$N19),IF($F19=\"Trimestral\",IF(R83=\"NÃO\",$D19,IF(MOD(COUNT($Q83:R83)+1,3)=0,(R83*$E19)+R83,R83)),\"NÃO\"),\"NÃO\")","v":"NÃO"},{"$f":"IF(AND(T$8>=$M19,T$8<=$N19),IF($F19=\"Trimestral\",IF(S83=\"NÃO\",$D19,IF(MOD(COUNT($Q83:S83)+1,3)=0,(S83*$E19)+S83,S83)),\"NÃO\"),\"NÃO\")","v":"NÃO"},{"$f":"IF(AND(U$8>=$M19,U$8<=$N19),IF($F19=\"Trimestral\",IF(T83=\"NÃO\",$D19,IF(MOD(COUNT($Q83:T83)+1,3)=0,(T83*$E19)+T83,T83)),\"NÃO\"),\"NÃO\")","v":"NÃO"},{"$f":"IF(AND(V$8>=$M19,V$8<=$N19),IF($F19=\"Trimestral\",IF(U83=\"NÃO\",$D19,IF(MOD(COUNT($Q83:U83)+1,3)=0,(U83*$E19)+U83,U83)),\"NÃO\"),\"NÃO\")","v":"NÃO"},{"$f":"IF(AND(W$8>=$M19,W$8<=$N19),IF($F19=\"Trimestral\",IF(V83=\"NÃO\",$D19,IF(MOD(COUNT($Q83:V83)+1,3)=0,(V83*$E19)+V83,V83)),\"NÃO\"),\"NÃO\")","v":"NÃO"},{"$f":"IF(AND(X$8>=$M19,X$8<=$N19),IF($F19=\"Trimestral\",IF(W83=\"NÃO\",$D19,IF(MOD(COUNT($Q83:W83)+1,3)=0,(W83*$E19)+W83,W83)),\"NÃO\"),\"NÃO\")","v":"NÃO"},{"$f":"IF(AND(Y$8>=$M19,Y$8<=$N19),IF($F19=\"Trimestral\",IF(X83=\"NÃO\",$D19,IF(MOD(COUNT($Q83:X83)+1,3)=0,(X83*$E19)+X83,X83)),\"NÃO\"),\"NÃO\")","v":"NÃO"},{"$f":"IF(AND(Z$8>=$M19,Z$8<=$N19),IF($F19=\"Trimestral\",IF(Y83=\"NÃO\",$D19,IF(MOD(COUNT($Q83:Y83)+1,3)=0,(Y83*$E19)+Y83,Y83)),\"NÃO\"),\"NÃO\")","v":"NÃO"},{"$f":"IF(AND(AA$8>=$M19,AA$8<=$N19),IF($F19=\"Trimestral\",IF(Z83=\"NÃO\",$D19,IF(MOD(COUNT($Q83:Z83)+1,3)=0,(Z83*$E19)+Z83,Z83)),\"NÃO\"),\"NÃO\")","v":"NÃO"},{"$f":"IF(AND(AB$8>=$M19,AB$8<=$N19),IF($F19=\"Trimestral\",IF(AA83=\"NÃO\",$D19,IF(MOD(COUNT($Q83:AA83)+1,3)=0,(AA83*$E19)+AA83,AA83)),\"NÃO\"),\"NÃO\")","v":"NÃO"},{"$f":"IF(AND(AC$8>=$M19,AC$8<=$N19),IF($F19=\"Trimestral\",IF(AB83=\"NÃO\",$D19,IF(MOD(COUNT($Q83:AB83)+1,3)=0,(AB83*$E19)+AB83,AB83)),\"NÃO\"),\"NÃO\")","v":"NÃO"},{"$f":"IF(AND(AD$8>=$M19,AD$8<=$N19),IF($F19=\"Trimestral\",IF(AC83=\"NÃO\",$D19,IF(MOD(COUNT($Q83:AC83)+1,3)=0,(AC83*$E19)+AC83,AC83)),\"NÃO\"),\"NÃO\")","v":"NÃO"},{"$f":"IF(AND(AE$8>=$M19,AE$8<=$N19),IF($F19=\"Trimestral\",IF(AD83=\"NÃO\",$D19,IF(MOD(COUNT($Q83:AD83)+1,3)=0,(AD83*$E19)+AD83,AD83)),\"NÃO\"),\"NÃO\")","v":"NÃO"},{"$f":"IF(AND(AF$8>=$M19,AF$8<=$N19),IF($F19=\"Trimestral\",IF(AE83=\"NÃO\",$D19,IF(MOD(COUNT($Q83:AE83)+1,3)=0,(AE83*$E19)+AE83,AE83)),\"NÃO\"),\"NÃO\")","v":"NÃO"},{"$f":"IF(AND(AG$8>=$M19,AG$8<=$N19),IF($F19=\"Trimestral\",IF(AF83=\"NÃO\",$D19,IF(MOD(COUNT($Q83:AF83)+1,3)=0,(AF83*$E19)+AF83,AF83)),\"NÃO\"),\"NÃO\")","v":"NÃO"},{"$f":"IF(AND(AH$8>=$M19,AH$8<=$N19),IF($F19=\"Trimestral\",IF(AG83=\"NÃO\",$D19,IF(MOD(COUNT($Q83:AG83)+1,3)=0,(AG83*$E19)+AG83,AG83)),\"NÃO\"),\"NÃO\")","v":"NÃO"},{"$f":"IF(AND(AI$8>=$M19,AI$8<=$N19),IF($F19=\"Trimestral\",IF(AH83=\"NÃO\",$D19,IF(MOD(COUNT($Q83:AH83)+1,3)=0,(AH83*$E19)+AH83,AH83)),\"NÃO\"),\"NÃO\")","v":"NÃO"},{"$f":"IF(AND(AJ$8>=$M19,AJ$8<=$N19),IF($F19=\"Trimestral\",IF(AI83=\"NÃO\",$D19,IF(MOD(COUNT($Q83:AI83)+1,3)=0,(AI83*$E19)+AI83,AI83)),\"NÃO\"),\"NÃO\")","v":"NÃO"},{"$f":"IF(AND(AK$8>=$M19,AK$8<=$N19),IF($F19=\"Trimestral\",IF(AJ83=\"NÃO\",$D19,IF(MOD(COUNT($Q83:AJ83)+1,3)=0,(AJ83*$E19)+AJ83,AJ83)),\"NÃO\"),\"NÃO\")","v":"NÃO"},{"$f":"IF(AND(AL$8>=$M19,AL$8<=$N19),IF($F19=\"Trimestral\",IF(AK83=\"NÃO\",$D19,IF(MOD(COUNT($Q83:AK83)+1,3)=0,(AK83*$E19)+AK83,AK83)),\"NÃO\"),\"NÃO\")","v":"NÃO"},{"$f":"IF(AND(AM$8>=$M19,AM$8<=$N19),IF($F19=\"Trimestral\",IF(AL83=\"NÃO\",$D19,IF(MOD(COUNT($Q83:AL83)+1,3)=0,(AL83*$E19)+AL83,AL83)),\"NÃO\"),\"NÃO\")","v":"NÃO"},{"$f":"IF(AND(AN$8>=$M19,AN$8<=$N19),IF($F19=\"Trimestral\",IF(AM83=\"NÃO\",$D19,IF(MOD(COUNT($Q83:AM83)+1,3)=0,(AM83*$E19)+AM83,AM83)),\"NÃO\"),\"NÃO\")","v":"NÃO"},{"$f":"IF(AND(AO$8>=$M19,AO$8<=$N19),IF($F19=\"Trimestral\",IF(AN83=\"NÃO\",$D19,IF(MOD(COUNT($Q83:AN83)+1,3)=0,(AN83*$E19)+AN83,AN83)),\"NÃO\"),\"NÃO\")","v":"NÃO"},{"$f":"IF(AND(AP$8>=$M19,AP$8<=$N19),IF($F19=\"Trimestral\",IF(AO83=\"NÃO\",$D19,IF(MOD(COUNT($Q83:AO83)+1,3)=0,(AO83*$E19)+AO83,AO83)),\"NÃO\"),\"NÃO\")","v":"NÃO"},{"$f":"IF(AND(AQ$8>=$M19,AQ$8<=$N19),IF($F19=\"Trimestral\",IF(AP83=\"NÃO\",$D19,IF(MOD(COUNT($Q83:AP83)+1,3)=0,(AP83*$E19)+AP83,AP83)),\"NÃO\"),\"NÃO\")","v":"NÃO"},{"$f":"IF(AND(AR$8>=$M19,AR$8<=$N19),IF($F19=\"Trimestral\",IF(AQ83=\"NÃO\",$D19,IF(MOD(COUNT($Q83:AQ83)+1,3)=0,(AQ83*$E19)+AQ83,AQ83)),\"NÃO\"),\"NÃO\")","v":"NÃO"},{"$f":"IF(AND(AS$8>=$M19,AS$8<=$N19),IF($F19=\"Trimestral\",IF(AR83=\"NÃO\",$D19,IF(MOD(COUNT($Q83:AR83)+1,3)=0,(AR83*$E19)+AR83,AR83)),\"NÃO\"),\"NÃO\")","v":"NÃO"},{"$f":"IF(AND(AT$8>=$M19,AT$8<=$N19),IF($F19=\"Trimestral\",IF(AS83=\"NÃO\",$D19,IF(MOD(COUNT($Q83:AS83)+1,3)=0,(AS83*$E19)+AS83,AS83)),\"NÃO\"),\"NÃO\")","v":"NÃO"},{"$f":"IF(AND(AU$8>=$M19,AU$8<=$N19),IF($F19=\"Trimestral\",IF(AT83=\"NÃO\",$D19,IF(MOD(COUNT($Q83:AT83)+1,3)=0,(AT83*$E19)+AT83,AT83)),\"NÃO\"),\"NÃO\")","v":"NÃO"},{"$f":"IF(AND(AV$8>=$M19,AV$8<=$N19),IF($F19=\"Trimestral\",IF(AU83=\"NÃO\",$D19,IF(MOD(COUNT($Q83:AU83)+1,3)=0,(AU83*$E19)+AU83,AU83)),\"NÃO\"),\"NÃO\")","v":"NÃO"},{"$f":"IF(AND(AW$8>=$M19,AW$8<=$N19),IF($F19=\"Trimestral\",IF(AV83=\"NÃO\",$D19,IF(MOD(COUNT($Q83:AV83)+1,3)=0,(AV83*$E19)+AV83,AV83)),\"NÃO\"),\"NÃO\")","v":"NÃO"},{"$f":"IF(AND(AX$8>=$M19,AX$8<=$N19),IF($F19=\"Trimestral\",IF(AW83=\"NÃO\",$D19,IF(MOD(COUNT($Q83:AW83)+1,3)=0,(AW83*$E19)+AW83,AW83)),\"NÃO\"),\"NÃO\")","v":"NÃO"},{"$f":"IF(AND(AY$8>=$M19,AY$8<=$N19),IF($F19=\"Trimestral\",IF(AX83=\"NÃO\",$D19,IF(MOD(COUNT($Q83:AX83)+1,3)=0,(AX83*$E19)+AX83,AX83)),\"NÃO\"),\"NÃO\")","v":"NÃO"},{"$f":"IF(AND(AZ$8>=$M19,AZ$8<=$N19),IF($F19=\"Trimestral\",IF(AY83=\"NÃO\",$D19,IF(MOD(COUNT($Q83:AY83)+1,3)=0,(AY83*$E19)+AY83,AY83)),\"NÃO\"),\"NÃO\")","v":"NÃO"},{"$f":"IF(AND(BA$8>=$M19,BA$8<=$N19),IF($F19=\"Trimestral\",IF(AZ83=\"NÃO\",$D19,IF(MOD(COUNT($Q83:AZ83)+1,3)=0,(AZ83*$E19)+AZ83,AZ83)),\"NÃO\"),\"NÃO\")","v":"NÃO"},{"$f":"IF(AND(BB$8>=$M19,BB$8<=$N19),IF($F19=\"Trimestral\",IF(BA83=\"NÃO\",$D19,IF(MOD(COUNT($Q83:BA83)+1,3)=0,(BA83*$E19)+BA83,BA83)),\"NÃO\"),\"NÃO\")","v":"NÃO"},{"$f":"IF(AND(BC$8>=$M19,BC$8<=$N19),IF($F19=\"Trimestral\",IF(BB83=\"NÃO\",$D19,IF(MOD(COUNT($Q83:BB83)+1,3)=0,(BB83*$E19)+BB83,BB83)),\"NÃO\"),\"NÃO\")","v":"NÃO"},{"$f":"IF(AND(BD$8>=$M19,BD$8<=$N19),IF($F19=\"Trimestral\",IF(BC83=\"NÃO\",$D19,IF(MOD(COUNT($Q83:BC83)+1,3)=0,(BC83*$E19)+BC83,BC83)),\"NÃO\"),\"NÃO\")","v":"NÃO"},{"$f":"IF(AND(BE$8>=$M19,BE$8<=$N19),IF($F19=\"Trimestral\",IF(BD83=\"NÃO\",$D19,IF(MOD(COUNT($Q83:BD83)+1,3)=0,(BD83*$E19)+BD83,BD83)),\"NÃO\"),\"NÃO\")","v":"NÃO"},{"$f":"IF(AND(BF$8>=$M19,BF$8<=$N19),IF($F19=\"Trimestral\",IF(BE83=\"NÃO\",$D19,IF(MOD(COUNT($Q83:BE83)+1,3)=0,(BE83*$E19)+BE83,BE83)),\"NÃO\"),\"NÃO\")","v":"NÃO"},{"$f":"IF(AND(BG$8>=$M19,BG$8<=$N19),IF($F19=\"Trimestral\",IF(BF83=\"NÃO\",$D19,IF(MOD(COUNT($Q83:BF83)+1,3)=0,(BF83*$E19)+BF83,BF83)),\"NÃO\"),\"NÃO\")","v":"NÃO"},{"$f":"IF(AND(BH$8>=$M19,BH$8<=$N19),IF($F19=\"Trimestral\",IF(BG83=\"NÃO\",$D19,IF(MOD(COUNT($Q83:BG83)+1,3)=0,(BG83*$E19)+BG83,BG83)),\"NÃO\"),\"NÃO\")","v":"NÃO"},{"$f":"IF(AND(BI$8>=$M19,BI$8<=$N19),IF($F19=\"Trimestral\",IF(BH83=\"NÃO\",$D19,IF(MOD(COUNT($Q83:BH83)+1,3)=0,(BH83*$E19)+BH83,BH83)),\"NÃO\"),\"NÃO\")","v":"NÃO"},{"$f":"IF(AND(BJ$8>=$M19,BJ$8<=$N19),IF($F19=\"Trimestral\",IF(BI83=\"NÃO\",$D19,IF(MOD(COUNT($Q83:BI83)+1,3)=0,(BI83*$E19)+BI83,BI83)),\"NÃO\"),\"NÃO\")","v":"NÃO"},{"$f":"IF(AND(BK$8>=$M19,BK$8<=$N19),IF($F19=\"Trimestral\",IF(BJ83=\"NÃO\",$D19,IF(MOD(COUNT($Q83:BJ83)+1,3)=0,(BJ83*$E19)+BJ83,BJ83)),\"NÃO\"),\"NÃO\")","v":"NÃO"},{"$f":"IF(AND(BL$8>=$M19,BL$8<=$N19),IF($F19=\"Trimestral\",IF(BK83=\"NÃO\",$D19,IF(MOD(COUNT($Q83:BK83)+1,3)=0,(BK83*$E19)+BK83,BK83)),\"NÃO\"),\"NÃO\")","v":"NÃO"},{"$f":"IF(AND(BM$8>=$M19,BM$8<=$N19),IF($F19=\"Trimestral\",IF(BL83=\"NÃO\",$D19,IF(MOD(COUNT($Q83:BL83)+1,3)=0,(BL83*$E19)+BL83,BL83)),\"NÃO\"),\"NÃO\")","v":"NÃO"},{"$f":"IF(AND(BN$8>=$M19,BN$8<=$N19),IF($F19=\"Trimestral\",IF(BM83=\"NÃO\",$D19,IF(MOD(COUNT($Q83:BM83)+1,3)=0,(BM83*$E19)+BM83,BM83)),\"NÃO\"),\"NÃO\")","v":"NÃO"},{"$f":"IF(AND(BO$8>=$M19,BO$8<=$N19),IF($F19=\"Trimestral\",IF(BN83=\"NÃO\",$D19,IF(MOD(COUNT($Q83:BN83)+1,3)=0,(BN83*$E19)+BN83,BN83)),\"NÃO\"),\"NÃO\")","v":"NÃO"},{"$f":"IF(AND(BP$8>=$M19,BP$8<=$N19),IF($F19=\"Trimestral\",IF(BO83=\"NÃO\",$D19,IF(MOD(COUNT($Q83:BO83)+1,3)=0,(BO83*$E19)+BO83,BO83)),\"NÃO\"),\"NÃO\")","v":"NÃO"},{"$f":"IF(AND(BQ$8>=$M19,BQ$8<=$N19),IF($F19=\"Trimestral\",IF(BP83=\"NÃO\",$D19,IF(MOD(COUNT($Q83:BP83)+1,3)=0,(BP83*$E19)+BP83,BP83)),\"NÃO\"),\"NÃO\")","v":"NÃO"},{"$f":"IF(AND(BR$8>=$M19,BR$8<=$N19),IF($F19=\"Trimestral\",IF(BQ83=\"NÃO\",$D19,IF(MOD(COUNT($Q83:BQ83)+1,3)=0,(BQ83*$E19)+BQ83,BQ83)),\"NÃO\"),\"NÃO\")","v":"NÃO"},{"$f":"IF(AND(BS$8>=$M19,BS$8<=$N19),IF($F19=\"Trimestral\",IF(BR83=\"NÃO\",$D19,IF(MOD(COUNT($Q83:BR83)+1,3)=0,(BR83*$E19)+BR83,BR83)),\"NÃO\"),\"NÃO\")","v":"NÃO"},{"$f":"IF(AND(BT$8>=$M19,BT$8<=$N19),IF($F19=\"Trimestral\",IF(BS83=\"NÃO\",$D19,IF(MOD(COUNT($Q83:BS83)+1,3)=0,(BS83*$E19)+BS83,BS83)),\"NÃO\"),\"NÃO\")","v":"NÃO"},{"$f":"IF(AND(BU$8>=$M19,BU$8<=$N19),IF($F19=\"Trimestral\",IF(BT83=\"NÃO\",$D19,IF(MOD(COUNT($Q83:BT83)+1,3)=0,(BT83*$E19)+BT83,BT83)),\"NÃO\"),\"NÃO\")","v":"NÃO"},{"$f":"IF(AND(BV$8>=$M19,BV$8<=$N19),IF($F19=\"Trimestral\",IF(BU83=\"NÃO\",$D19,IF(MOD(COUNT($Q83:BU83)+1,3)=0,(BU83*$E19)+BU83,BU83)),\"NÃO\"),\"NÃO\")","v":"NÃO"},{"$f":"IF(AND(BW$8>=$M19,BW$8<=$N19),IF($F19=\"Trimestral\",IF(BV83=\"NÃO\",$D19,IF(MOD(COUNT($Q83:BV83)+1,3)=0,(BV83*$E19)+BV83,BV83)),\"NÃO\"),\"NÃO\")","v":"NÃO"},{"$f":"IF(AND(BX$8>=$M19,BX$8<=$N19),IF($F19=\"Trimestral\",IF(BW83=\"NÃO\",$D19,IF(MOD(COUNT($Q83:BW83)+1,3)=0,(BW83*$E19)+BW83,BW83)),\"NÃO\"),\"NÃO\")","v":"NÃO"},null,null,11]
[null,null,null,null,null,null,null,null,null,null,null,null,null,null,null,12,"NÃO",{"$f":"IF(AND(R$8>=$M20,R$8<=$N20),IF($F20=\"Trimestral\",IF(Q84=\"NÃO\",$D20,IF(MOD(COUNT($Q84:Q84)+1,3)=0,(Q84*$E20)+Q84,Q84)),\"NÃO\"),\"NÃO\")","v":"NÃO"},{"$f":"IF(AND(S$8>=$M20,S$8<=$N20),IF($F20=\"Trimestral\",IF(R84=\"NÃO\",$D20,IF(MOD(COUNT($Q84:R84)+1,3)=0,(R84*$E20)+R84,R84)),\"NÃO\"),\"NÃO\")","v":"NÃO"},{"$f":"IF(AND(T$8>=$M20,T$8<=$N20),IF($F20=\"Trimestral\",IF(S84=\"NÃO\",$D20,IF(MOD(COUNT($Q84:S84)+1,3)=0,(S84*$E20)+S84,S84)),\"NÃO\"),\"NÃO\")","v":"NÃO"},{"$f":"IF(AND(U$8>=$M20,U$8<=$N20),IF($F20=\"Trimestral\",IF(T84=\"NÃO\",$D20,IF(MOD(COUNT($Q84:T84)+1,3)=0,(T84*$E20)+T84,T84)),\"NÃO\"),\"NÃO\")","v":"NÃO"},{"$f":"IF(AND(V$8>=$M20,V$8<=$N20),IF($F20=\"Trimestral\",IF(U84=\"NÃO\",$D20,IF(MOD(COUNT($Q84:U84)+1,3)=0,(U84*$E20)+U84,U84)),\"NÃO\"),\"NÃO\")","v":"NÃO"},{"$f":"IF(AND(W$8>=$M20,W$8<=$N20),IF($F20=\"Trimestral\",IF(V84=\"NÃO\",$D20,IF(MOD(COUNT($Q84:V84)+1,3)=0,(V84*$E20)+V84,V84)),\"NÃO\"),\"NÃO\")","v":"NÃO"},{"$f":"IF(AND(X$8>=$M20,X$8<=$N20),IF($F20=\"Trimestral\",IF(W84=\"NÃO\",$D20,IF(MOD(COUNT($Q84:W84)+1,3)=0,(W84*$E20)+W84,W84)),\"NÃO\"),\"NÃO\")","v":"NÃO"},{"$f":"IF(AND(Y$8>=$M20,Y$8<=$N20),IF($F20=\"Trimestral\",IF(X84=\"NÃO\",$D20,IF(MOD(COUNT($Q84:X84)+1,3)=0,(X84*$E20)+X84,X84)),\"NÃO\"),\"NÃO\")","v":"NÃO"},{"$f":"IF(AND(Z$8>=$M20,Z$8<=$N20),IF($F20=\"Trimestral\",IF(Y84=\"NÃO\",$D20,IF(MOD(COUNT($Q84:Y84)+1,3)=0,(Y84*$E20)+Y84,Y84)),\"NÃO\"),\"NÃO\")","v":"NÃO"},{"$f":"IF(AND(AA$8>=$M20,AA$8<=$N20),IF($F20=\"Trimestral\",IF(Z84=\"NÃO\",$D20,IF(MOD(COUNT($Q84:Z84)+1,3)=0,(Z84*$E20)+Z84,Z84)),\"NÃO\"),\"NÃO\")","v":"NÃO"},{"$f":"IF(AND(AB$8>=$M20,AB$8<=$N20),IF($F20=\"Trimestral\",IF(AA84=\"NÃO\",$D20,IF(MOD(COUNT($Q84:AA84)+1,3)=0,(AA84*$E20)+AA84,AA84)),\"NÃO\"),\"NÃO\")","v":"NÃO"},{"$f":"IF(AND(AC$8>=$M20,AC$8<=$N20),IF($F20=\"Trimestral\",IF(AB84=\"NÃO\",$D20,IF(MOD(COUNT($Q84:AB84)+1,3)=0,(AB84*$E20)+AB84,AB84)),\"NÃO\"),\"NÃO\")","v":"NÃO"},{"$f":"IF(AND(AD$8>=$M20,AD$8<=$N20),IF($F20=\"Trimestral\",IF(AC84=\"NÃO\",$D20,IF(MOD(COUNT($Q84:AC84)+1,3)=0,(AC84*$E20)+AC84,AC84)),\"NÃO\"),\"NÃO\")","v":"NÃO"},{"$f":"IF(AND(AE$8>=$M20,AE$8<=$N20),IF($F20=\"Trimestral\",IF(AD84=\"NÃO\",$D20,IF(MOD(COUNT($Q84:AD84)+1,3)=0,(AD84*$E20)+AD84,AD84)),\"NÃO\"),\"NÃO\")","v":"NÃO"},{"$f":"IF(AND(AF$8>=$M20,AF$8<=$N20),IF($F20=\"Trimestral\",IF(AE84=\"NÃO\",$D20,IF(MOD(COUNT($Q84:AE84)+1,3)=0,(AE84*$E20)+AE84,AE84)),\"NÃO\"),\"NÃO\")","v":"NÃO"},{"$f":"IF(AND(AG$8>=$M20,AG$8<=$N20),IF($F20=\"Trimestral\",IF(AF84=\"NÃO\",$D20,IF(MOD(COUNT($Q84:AF84)+1,3)=0,(AF84*$E20)+AF84,AF84)),\"NÃO\"),\"NÃO\")","v":"NÃO"},{"$f":"IF(AND(AH$8>=$M20,AH$8<=$N20),IF($F20=\"Trimestral\",IF(AG84=\"NÃO\",$D20,IF(MOD(COUNT($Q84:AG84)+1,3)=0,(AG84*$E20)+AG84,AG84)),\"NÃO\"),\"NÃO\")","v":"NÃO"},{"$f":"IF(AND(AI$8>=$M20,AI$8<=$N20),IF($F20=\"Trimestral\",IF(AH84=\"NÃO\",$D20,IF(MOD(COUNT($Q84:AH84)+1,3)=0,(AH84*$E20)+AH84,AH84)),\"NÃO\"),\"NÃO\")","v":"NÃO"},{"$f":"IF(AND(AJ$8>=$M20,AJ$8<=$N20),IF($F20=\"Trimestral\",IF(AI84=\"NÃO\",$D20,IF(MOD(COUNT($Q84:AI84)+1,3)=0,(AI84*$E20)+AI84,AI84)),\"NÃO\"),\"NÃO\")","v":"NÃO"},{"$f":"IF(AND(AK$8>=$M20,AK$8<=$N20),IF($F20=\"Trimestral\",IF(AJ84=\"NÃO\",$D20,IF(MOD(COUNT($Q84:AJ84)+1,3)=0,(AJ84*$E20)+AJ84,AJ84)),\"NÃO\"),\"NÃO\")","v":"NÃO"},{"$f":"IF(AND(AL$8>=$M20,AL$8<=$N20),IF($F20=\"Trimestral\",IF(AK84=\"NÃO\",$D20,IF(MOD(COUNT($Q84:AK84)+1,3)=0,(AK84*$E20)+AK84,AK84)),\"NÃO\"),\"NÃO\")","v":"NÃO"},{"$f":"IF(AND(AM$8>=$M20,AM$8<=$N20),IF($F20=\"Trimestral\",IF(AL84=\"NÃO\",$D20,IF(MOD(COUNT($Q84:AL84)+1,3)=0,(AL84*$E20)+AL84,AL84)),\"NÃO\"),\"NÃO\")","v":"NÃO"},{"$f":"IF(AND(AN$8>=$M20,AN$8<=$N20),IF($F20=\"Trimestral\",IF(AM84=\"NÃO\",$D20,IF(MOD(COUNT($Q84:AM84)+1,3)=0,(AM84*$E20)+AM84,AM84)),\"NÃO\"),\"NÃO\")","v":"NÃO"},{"$f":"IF(AND(AO$8>=$M20,AO$8<=$N20),IF($F20=\"Trimestral\",IF(AN84=\"NÃO\",$D20,IF(MOD(COUNT($Q84:AN84)+1,3)=0,(AN84*$E20)+AN84,AN84)),\"NÃO\"),\"NÃO\")","v":"NÃO"},{"$f":"IF(AND(AP$8>=$M20,AP$8<=$N20),IF($F20=\"Trimestral\",IF(AO84=\"NÃO\",$D20,IF(MOD(COUNT($Q84:AO84)+1,3)=0,(AO84*$E20)+AO84,AO84)),\"NÃO\"),\"NÃO\")","v":"NÃO"},{"$f":"IF(AND(AQ$8>=$M20,AQ$8<=$N20),IF($F20=\"Trimestral\",IF(AP84=\"NÃO\",$D20,IF(MOD(COUNT($Q84:AP84)+1,3)=0,(AP84*$E20)+AP84,AP84)),\"NÃO\"),\"NÃO\")","v":"NÃO"},{"$f":"IF(AND(AR$8>=$M20,AR$8<=$N20),IF($F20=\"Trimestral\",IF(AQ84=\"NÃO\",$D20,IF(MOD(COUNT($Q84:AQ84)+1,3)=0,(AQ84*$E20)+AQ84,AQ84)),\"NÃO\"),\"NÃO\")","v":"NÃO"},{"$f":"IF(AND(AS$8>=$M20,AS$8<=$N20),IF($F20=\"Trimestral\",IF(AR84=\"NÃO\",$D20,IF(MOD(COUNT($Q84:AR84)+1,3)=0,(AR84*$E20)+AR84,AR84)),\"NÃO\"),\"NÃO\")","v":"NÃO"},{"$f":"IF(AND(AT$8>=$M20,AT$8<=$N20),IF($F20=\"Trimestral\",IF(AS84=\"NÃO\",$D20,IF(MOD(COUNT($Q84:AS84)+1,3)=0,(AS84*$E20)+AS84,AS84)),\"NÃO\"),\"NÃO\")","v":"NÃO"},{"$f":"IF(AND(AU$8>=$M20,AU$8<=$N20),IF($F20=\"Trimestral\",IF(AT84=\"NÃO\",$D20,IF(MOD(COUNT($Q84:AT84)+1,3)=0,(AT84*$E20)+AT84,AT84)),\"NÃO\"),\"NÃO\")","v":"NÃO"},{"$f":"IF(AND(AV$8>=$M20,AV$8<=$N20),IF($F20=\"Trimestral\",IF(AU84=\"NÃO\",$D20,IF(MOD(COUNT($Q84:AU84)+1,3)=0,(AU84*$E20)+AU84,AU84)),\"NÃO\"),\"NÃO\")","v":"NÃO"},{"$f":"IF(AND(AW$8>=$M20,AW$8<=$N20),IF($F20=\"Trimestral\",IF(AV84=\"NÃO\",$D20,IF(MOD(COUNT($Q84:AV84)+1,3)=0,(AV84*$E20)+AV84,AV84)),\"NÃO\"),\"NÃO\")","v":"NÃO"},{"$f":"IF(AND(AX$8>=$M20,AX$8<=$N20),IF($F20=\"Trimestral\",IF(AW84=\"NÃO\",$D20,IF(MOD(COUNT($Q84:AW84)+1,3)=0,(AW84*$E20)+AW84,AW84)),\"NÃO\"),\"NÃO\")","v":"NÃO"},{"$f":"IF(AND(AY$8>=$M20,AY$8<=$N20),IF($F20=\"Trimestral\",IF(AX84=\"NÃO\",$D20,IF(MOD(COUNT($Q84:AX84)+1,3)=0,(AX84*$E20)+AX84,AX84)),\"NÃO\"),\"NÃO\")","v":"NÃO"},{"$f":"IF(AND(AZ$8>=$M20,AZ$8<=$N20),IF($F20=\"Trimestral\",IF(AY84=\"NÃO\",$D20,IF(MOD(COUNT($Q84:AY84)+1,3)=0,(AY84*$E20)+AY84,AY84)),\"NÃO\"),\"NÃO\")","v":"NÃO"},{"$f":"IF(AND(BA$8>=$M20,BA$8<=$N20),IF($F20=\"Trimestral\",IF(AZ84=\"NÃO\",$D20,IF(MOD(COUNT($Q84:AZ84)+1,3)=0,(AZ84*$E20)+AZ84,AZ84)),\"NÃO\"),\"NÃO\")","v":"NÃO"},{"$f":"IF(AND(BB$8>=$M20,BB$8<=$N20),IF($F20=\"Trimestral\",IF(BA84=\"NÃO\",$D20,IF(MOD(COUNT($Q84:BA84)+1,3)=0,(BA84*$E20)+BA84,BA84)),\"NÃO\"),\"NÃO\")","v":"NÃO"},{"$f":"IF(AND(BC$8>=$M20,BC$8<=$N20),IF($F20=\"Trimestral\",IF(BB84=\"NÃO\",$D20,IF(MOD(COUNT($Q84:BB84)+1,3)=0,(BB84*$E20)+BB84,BB84)),\"NÃO\"),\"NÃO\")","v":"NÃO"},{"$f":"IF(AND(BD$8>=$M20,BD$8<=$N20),IF($F20=\"Trimestral\",IF(BC84=\"NÃO\",$D20,IF(MOD(COUNT($Q84:BC84)+1,3)=0,(BC84*$E20)+BC84,BC84)),\"NÃO\"),\"NÃO\")","v":"NÃO"},{"$f":"IF(AND(BE$8>=$M20,BE$8<=$N20),IF($F20=\"Trimestral\",IF(BD84=\"NÃO\",$D20,IF(MOD(COUNT($Q84:BD84)+1,3)=0,(BD84*$E20)+BD84,BD84)),\"NÃO\"),\"NÃO\")","v":"NÃO"},{"$f":"IF(AND(BF$8>=$M20,BF$8<=$N20),IF($F20=\"Trimestral\",IF(BE84=\"NÃO\",$D20,IF(MOD(COUNT($Q84:BE84)+1,3)=0,(BE84*$E20)+BE84,BE84)),\"NÃO\"),\"NÃO\")","v":"NÃO"},{"$f":"IF(AND(BG$8>=$M20,BG$8<=$N20),IF($F20=\"Trimestral\",IF(BF84=\"NÃO\",$D20,IF(MOD(COUNT($Q84:BF84)+1,3)=0,(BF84*$E20)+BF84,BF84)),\"NÃO\"),\"NÃO\")","v":"NÃO"},{"$f":"IF(AND(BH$8>=$M20,BH$8<=$N20),IF($F20=\"Trimestral\",IF(BG84=\"NÃO\",$D20,IF(MOD(COUNT($Q84:BG84)+1,3)=0,(BG84*$E20)+BG84,BG84)),\"NÃO\"),\"NÃO\")","v":"NÃO"},{"$f":"IF(AND(BI$8>=$M20,BI$8<=$N20),IF($F20=\"Trimestral\",IF(BH84=\"NÃO\",$D20,IF(MOD(COUNT($Q84:BH84)+1,3)=0,(BH84*$E20)+BH84,BH84)),\"NÃO\"),\"NÃO\")","v":"NÃO"},{"$f":"IF(AND(BJ$8>=$M20,BJ$8<=$N20),IF($F20=\"Trimestral\",IF(BI84=\"NÃO\",$D20,IF(MOD(COUNT($Q84:BI84)+1,3)=0,(BI84*$E20)+BI84,BI84)),\"NÃO\"),\"NÃO\")","v":"NÃO"},{"$f":"IF(AND(BK$8>=$M20,BK$8<=$N20),IF($F20=\"Trimestral\",IF(BJ84=\"NÃO\",$D20,IF(MOD(COUNT($Q84:BJ84)+1,3)=0,(BJ84*$E20)+BJ84,BJ84)),\"NÃO\"),\"NÃO\")","v":"NÃO"},{"$f":"IF(AND(BL$8>=$M20,BL$8<=$N20),IF($F20=\"Trimestral\",IF(BK84=\"NÃO\",$D20,IF(MOD(COUNT($Q84:BK84)+1,3)=0,(BK84*$E20)+BK84,BK84)),\"NÃO\"),\"NÃO\")","v":"NÃO"},{"$f":"IF(AND(BM$8>=$M20,BM$8<=$N20),IF($F20=\"Trimestral\",IF(BL84=\"NÃO\",$D20,IF(MOD(COUNT($Q84:BL84)+1,3)=0,(BL84*$E20)+BL84,BL84)),\"NÃO\"),\"NÃO\")","v":"NÃO"},{"$f":"IF(AND(BN$8>=$M20,BN$8<=$N20),IF($F20=\"Trimestral\",IF(BM84=\"NÃO\",$D20,IF(MOD(COUNT($Q84:BM84)+1,3)=0,(BM84*$E20)+BM84,BM84)),\"NÃO\"),\"NÃO\")","v":"NÃO"},{"$f":"IF(AND(BO$8>=$M20,BO$8<=$N20),IF($F20=\"Trimestral\",IF(BN84=\"NÃO\",$D20,IF(MOD(COUNT($Q84:BN84)+1,3)=0,(BN84*$E20)+BN84,BN84)),\"NÃO\"),\"NÃO\")","v":"NÃO"},{"$f":"IF(AND(BP$8>=$M20,BP$8<=$N20),IF($F20=\"Trimestral\",IF(BO84=\"NÃO\",$D20,IF(MOD(COUNT($Q84:BO84)+1,3)=0,(BO84*$E20)+BO84,BO84)),\"NÃO\"),\"NÃO\")","v":"NÃO"},{"$f":"IF(AND(BQ$8>=$M20,BQ$8<=$N20),IF($F20=\"Trimestral\",IF(BP84=\"NÃO\",$D20,IF(MOD(COUNT($Q84:BP84)+1,3)=0,(BP84*$E20)+BP84,BP84)),\"NÃO\"),\"NÃO\")","v":"NÃO"},{"$f":"IF(AND(BR$8>=$M20,BR$8<=$N20),IF($F20=\"Trimestral\",IF(BQ84=\"NÃO\",$D20,IF(MOD(COUNT($Q84:BQ84)+1,3)=0,(BQ84*$E20)+BQ84,BQ84)),\"NÃO\"),\"NÃO\")","v":"NÃO"},{"$f":"IF(AND(BS$8>=$M20,BS$8<=$N20),IF($F20=\"Trimestral\",IF(BR84=\"NÃO\",$D20,IF(MOD(COUNT($Q84:BR84)+1,3)=0,(BR84*$E20)+BR84,BR84)),\"NÃO\"),\"NÃO\")","v":"NÃO"},{"$f":"IF(AND(BT$8>=$M20,BT$8<=$N20),IF($F20=\"Trimestral\",IF(BS84=\"NÃO\",$D20,IF(MOD(COUNT($Q84:BS84)+1,3)=0,(BS84*$E20)+BS84,BS84)),\"NÃO\"),\"NÃO\")","v":"NÃO"},{"$f":"IF(AND(BU$8>=$M20,BU$8<=$N20),IF($F20=\"Trimestral\",IF(BT84=\"NÃO\",$D20,IF(MOD(COUNT($Q84:BT84)+1,3)=0,(BT84*$E20)+BT84,BT84)),\"NÃO\"),\"NÃO\")","v":"NÃO"},{"$f":"IF(AND(BV$8>=$M20,BV$8<=$N20),IF($F20=\"Trimestral\",IF(BU84=\"NÃO\",$D20,IF(MOD(COUNT($Q84:BU84)+1,3)=0,(BU84*$E20)+BU84,BU84)),\"NÃO\"),\"NÃO\")","v":"NÃO"},{"$f":"IF(AND(BW$8>=$M20,BW$8<=$N20),IF($F20=\"Trimestral\",IF(BV84=\"NÃO\",$D20,IF(MOD(COUNT($Q84:BV84)+1,3)=0,(BV84*$E20)+BV84,BV84)),\"NÃO\"),\"NÃO\")","v":"NÃO"},{"$f":"IF(AND(BX$8>=$M20,BX$8<=$N20),IF($F20=\"Trimestral\",IF(BW84=\"NÃO\",$D20,IF(MOD(COUNT($Q84:BW84)+1,3)=0,(BW84*$E20)+BW84,BW84)),\"NÃO\"),\"NÃO\")","v":"NÃO"},null,null,12]
[null,null,null,null,null,null,null,null,null,null,null,null,null,null,null,13,"NÃO",{"$f":"IF(AND(R$8>=$M21,R$8<=$N21),IF($F21=\"Trimestral\",IF(Q85=\"NÃO\",$D21,IF(MOD(COUNT($Q85:Q85)+1,3)=0,(Q85*$E21)+Q85,Q85)),\"NÃO\"),\"NÃO\")","v":"NÃO"},{"$f":"IF(AND(S$8>=$M21,S$8<=$N21),IF($F21=\"Trimestral\",IF(R85=\"NÃO\",$D21,IF(MOD(COUNT($Q85:R85)+1,3)=0,(R85*$E21)+R85,R85)),\"NÃO\"),\"NÃO\")","v":"NÃO"},{"$f":"IF(AND(T$8>=$M21,T$8<=$N21),IF($F21=\"Trimestral\",IF(S85=\"NÃO\",$D21,IF(MOD(COUNT($Q85:S85)+1,3)=0,(S85*$E21)+S85,S85)),\"NÃO\"),\"NÃO\")","v":"NÃO"},{"$f":"IF(AND(U$8>=$M21,U$8<=$N21),IF($F21=\"Trimestral\",IF(T85=\"NÃO\",$D21,IF(MOD(COUNT($Q85:T85)+1,3)=0,(T85*$E21)+T85,T85)),\"NÃO\"),\"NÃO\")","v":"NÃO"},{"$f":"IF(AND(V$8>=$M21,V$8<=$N21),IF($F21=\"Trimestral\",IF(U85=\"NÃO\",$D21,IF(MOD(COUNT($Q85:U85)+1,3)=0,(U85*$E21)+U85,U85)),\"NÃO\"),\"NÃO\")","v":"NÃO"},{"$f":"IF(AND(W$8>=$M21,W$8<=$N21),IF($F21=\"Trimestral\",IF(V85=\"NÃO\",$D21,IF(MOD(COUNT($Q85:V85)+1,3)=0,(V85*$E21)+V85,V85)),\"NÃO\"),\"NÃO\")","v":"NÃO"},{"$f":"IF(AND(X$8>=$M21,X$8<=$N21),IF($F21=\"Trimestral\",IF(W85=\"NÃO\",$D21,IF(MOD(COUNT($Q85:W85)+1,3)=0,(W85*$E21)+W85,W85)),\"NÃO\"),\"NÃO\")","v":"NÃO"},{"$f":"IF(AND(Y$8>=$M21,Y$8<=$N21),IF($F21=\"Trimestral\",IF(X85=\"NÃO\",$D21,IF(MOD(COUNT($Q85:X85)+1,3)=0,(X85*$E21)+X85,X85)),\"NÃO\"),\"NÃO\")","v":"NÃO"},{"$f":"IF(AND(Z$8>=$M21,Z$8<=$N21),IF($F21=\"Trimestral\",IF(Y85=\"NÃO\",$D21,IF(MOD(COUNT($Q85:Y85)+1,3)=0,(Y85*$E21)+Y85,Y85)),\"NÃO\"),\"NÃO\")","v":"NÃO"},{"$f":"IF(AND(AA$8>=$M21,AA$8<=$N21),IF($F21=\"Trimestral\",IF(Z85=\"NÃO\",$D21,IF(MOD(COUNT($Q85:Z85)+1,3)=0,(Z85*$E21)+Z85,Z85)),\"NÃO\"),\"NÃO\")","v":"NÃO"},{"$f":"IF(AND(AB$8>=$M21,AB$8<=$N21),IF($F21=\"Trimestral\",IF(AA85=\"NÃO\",$D21,IF(MOD(COUNT($Q85:AA85)+1,3)=0,(AA85*$E21)+AA85,AA85)),\"NÃO\"),\"NÃO\")","v":"NÃO"},{"$f":"IF(AND(AC$8>=$M21,AC$8<=$N21),IF($F21=\"Trimestral\",IF(AB85=\"NÃO\",$D21,IF(MOD(COUNT($Q85:AB85)+1,3)=0,(AB85*$E21)+AB85,AB85)),\"NÃO\"),\"NÃO\")","v":"NÃO"},{"$f":"IF(AND(AD$8>=$M21,AD$8<=$N21),IF($F21=\"Trimestral\",IF(AC85=\"NÃO\",$D21,IF(MOD(COUNT($Q85:AC85)+1,3)=0,(AC85*$E21)+AC85,AC85)),\"NÃO\"),\"NÃO\")","v":"NÃO"},{"$f":"IF(AND(AE$8>=$M21,AE$8<=$N21),IF($F21=\"Trimestral\",IF(AD85=\"NÃO\",$D21,IF(MOD(COUNT($Q85:AD85)+1,3)=0,(AD85*$E21)+AD85,AD85)),\"NÃO\"),\"NÃO\")","v":"NÃO"},{"$f":"IF(AND(AF$8>=$M21,AF$8<=$N21),IF($F21=\"Trimestral\",IF(AE85=\"NÃO\",$D21,IF(MOD(COUNT($Q85:AE85)+1,3)=0,(AE85*$E21)+AE85,AE85)),\"NÃO\"),\"NÃO\")","v":"NÃO"},{"$f":"IF(AND(AG$8>=$M21,AG$8<=$N21),IF($F21=\"Trimestral\",IF(AF85=\"NÃO\",$D21,IF(MOD(COUNT($Q85:AF85)+1,3)=0,(AF85*$E21)+AF85,AF85)),\"NÃO\"),\"NÃO\")","v":"NÃO"},{"$f":"IF(AND(AH$8>=$M21,AH$8<=$N21),IF($F21=\"Trimestral\",IF(AG85=\"NÃO\",$D21,IF(MOD(COUNT($Q85:AG85)+1,3)=0,(AG85*$E21)+AG85,AG85)),\"NÃO\"),\"NÃO\")","v":"NÃO"},{"$f":"IF(AND(AI$8>=$M21,AI$8<=$N21),IF($F21=\"Trimestral\",IF(AH85=\"NÃO\",$D21,IF(MOD(COUNT($Q85:AH85)+1,3)=0,(AH85*$E21)+AH85,AH85)),\"NÃO\"),\"NÃO\")","v":"NÃO"},{"$f":"IF(AND(AJ$8>=$M21,AJ$8<=$N21),IF($F21=\"Trimestral\",IF(AI85=\"NÃO\",$D21,IF(MOD(COUNT($Q85:AI85)+1,3)=0,(AI85*$E21)+AI85,AI85)),\"NÃO\"),\"NÃO\")","v":"NÃO"},{"$f":"IF(AND(AK$8>=$M21,AK$8<=$N21),IF($F21=\"Trimestral\",IF(AJ85=\"NÃO\",$D21,IF(MOD(COUNT($Q85:AJ85)+1,3)=0,(AJ85*$E21)+AJ85,AJ85)),\"NÃO\"),\"NÃO\")","v":"NÃO"},{"$f":"IF(AND(AL$8>=$M21,AL$8<=$N21),IF($F21=\"Trimestral\",IF(AK85=\"NÃO\",$D21,IF(MOD(COUNT($Q85:AK85)+1,3)=0,(AK85*$E21)+AK85,AK85)),\"NÃO\"),\"NÃO\")","v":"NÃO"},{"$f":"IF(AND(AM$8>=$M21,AM$8<=$N21),IF($F21=\"Trimestral\",IF(AL85=\"NÃO\",$D21,IF(MOD(COUNT($Q85:AL85)+1,3)=0,(AL85*$E21)+AL85,AL85)),\"NÃO\"),\"NÃO\")","v":"NÃO"},{"$f":"IF(AND(AN$8>=$M21,AN$8<=$N21),IF($F21=\"Trimestral\",IF(AM85=\"NÃO\",$D21,IF(MOD(COUNT($Q85:AM85)+1,3)=0,(AM85*$E21)+AM85,AM85)),\"NÃO\"),\"NÃO\")","v":"NÃO"},{"$f":"IF(AND(AO$8>=$M21,AO$8<=$N21),IF($F21=\"Trimestral\",IF(AN85=\"NÃO\",$D21,IF(MOD(COUNT($Q85:AN85)+1,3)=0,(AN85*$E21)+AN85,AN85)),\"NÃO\"),\"NÃO\")","v":"NÃO"},{"$f":"IF(AND(AP$8>=$M21,AP$8<=$N21),IF($F21=\"Trimestral\",IF(AO85=\"NÃO\",$D21,IF(MOD(COUNT($Q85:AO85)+1,3)=0,(AO85*$E21)+AO85,AO85)),\"NÃO\"),\"NÃO\")","v":"NÃO"},{"$f":"IF(AND(AQ$8>=$M21,AQ$8<=$N21),IF($F21=\"Trimestral\",IF(AP85=\"NÃO\",$D21,IF(MOD(COUNT($Q85:AP85)+1,3)=0,(AP85*$E21)+AP85,AP85)),\"NÃO\"),\"NÃO\")","v":"NÃO"},{"$f":"IF(AND(AR$8>=$M21,AR$8<=$N21),IF($F21=\"Trimestral\",IF(AQ85=\"NÃO\",$D21,IF(MOD(COUNT($Q85:AQ85)+1,3)=0,(AQ85*$E21)+AQ85,AQ85)),\"NÃO\"),\"NÃO\")","v":"NÃO"},{"$f":"IF(AND(AS$8>=$M21,AS$8<=$N21),IF($F21=\"Trimestral\",IF(AR85=\"NÃO\",$D21,IF(MOD(COUNT($Q85:AR85)+1,3)=0,(AR85*$E21)+AR85,AR85)),\"NÃO\"),\"NÃO\")","v":"NÃO"},{"$f":"IF(AND(AT$8>=$M21,AT$8<=$N21),IF($F21=\"Trimestral\",IF(AS85=\"NÃO\",$D21,IF(MOD(COUNT($Q85:AS85)+1,3)=0,(AS85*$E21)+AS85,AS85)),\"NÃO\"),\"NÃO\")","v":"NÃO"},{"$f":"IF(AND(AU$8>=$M21,AU$8<=$N21),IF($F21=\"Trimestral\",IF(AT85=\"NÃO\",$D21,IF(MOD(COUNT($Q85:AT85)+1,3)=0,(AT85*$E21)+AT85,AT85)),\"NÃO\"),\"NÃO\")","v":"NÃO"},{"$f":"IF(AND(AV$8>=$M21,AV$8<=$N21),IF($F21=\"Trimestral\",IF(AU85=\"NÃO\",$D21,IF(MOD(COUNT($Q85:AU85)+1,3)=0,(AU85*$E21)+AU85,AU85)),\"NÃO\"),\"NÃO\")","v":"NÃO"},{"$f":"IF(AND(AW$8>=$M21,AW$8<=$N21),IF($F21=\"Trimestral\",IF(AV85=\"NÃO\",$D21,IF(MOD(COUNT($Q85:AV85)+1,3)=0,(AV85*$E21)+AV85,AV85)),\"NÃO\"),\"NÃO\")","v":"NÃO"},{"$f":"IF(AND(AX$8>=$M21,AX$8<=$N21),IF($F21=\"Trimestral\",IF(AW85=\"NÃO\",$D21,IF(MOD(COUNT($Q85:AW85)+1,3)=0,(AW85*$E21)+AW85,AW85)),\"NÃO\"),\"NÃO\")","v":"NÃO"},{"$f":"IF(AND(AY$8>=$M21,AY$8<=$N21),IF($F21=\"Trimestral\",IF(AX85=\"NÃO\",$D21,IF(MOD(COUNT($Q85:AX85)+1,3)=0,(AX85*$E21)+AX85,AX85)),\"NÃO\"),\"NÃO\")","v":"NÃO"},{"$f":"IF(AND(AZ$8>=$M21,AZ$8<=$N21),IF($F21=\"Trimestral\",IF(AY85=\"NÃO\",$D21,IF(MOD(COUNT($Q85:AY85)+1,3)=0,(AY85*$E21)+AY85,AY85)),\"NÃO\"),\"NÃO\")","v":"NÃO"},{"$f":"IF(AND(BA$8>=$M21,BA$8<=$N21),IF($F21=\"Trimestral\",IF(AZ85=\"NÃO\",$D21,IF(MOD(COUNT($Q85:AZ85)+1,3)=0,(AZ85*$E21)+AZ85,AZ85)),\"NÃO\"),\"NÃO\")","v":"NÃO"},{"$f":"IF(AND(BB$8>=$M21,BB$8<=$N21),IF($F21=\"Trimestral\",IF(BA85=\"NÃO\",$D21,IF(MOD(COUNT($Q85:BA85)+1,3)=0,(BA85*$E21)+BA85,BA85)),\"NÃO\"),\"NÃO\")","v":"NÃO"},{"$f":"IF(AND(BC$8>=$M21,BC$8<=$N21),IF($F21=\"Trimestral\",IF(BB85=\"NÃO\",$D21,IF(MOD(COUNT($Q85:BB85)+1,3)=0,(BB85*$E21)+BB85,BB85)),\"NÃO\"),\"NÃO\")","v":"NÃO"},{"$f":"IF(AND(BD$8>=$M21,BD$8<=$N21),IF($F21=\"Trimestral\",IF(BC85=\"NÃO\",$D21,IF(MOD(COUNT($Q85:BC85)+1,3)=0,(BC85*$E21)+BC85,BC85)),\"NÃO\"),\"NÃO\")","v":"NÃO"},{"$f":"IF(AND(BE$8>=$M21,BE$8<=$N21),IF($F21=\"Trimestral\",IF(BD85=\"NÃO\",$D21,IF(MOD(COUNT($Q85:BD85)+1,3)=0,(BD85*$E21)+BD85,BD85)),\"NÃO\"),\"NÃO\")","v":"NÃO"},{"$f":"IF(AND(BF$8>=$M21,BF$8<=$N21),IF($F21=\"Trimestral\",IF(BE85=\"NÃO\",$D21,IF(MOD(COUNT($Q85:BE85)+1,3)=0,(BE85*$E21)+BE85,BE85)),\"NÃO\"),\"NÃO\")","v":"NÃO"},{"$f":"IF(AND(BG$8>=$M21,BG$8<=$N21),IF($F21=\"Trimestral\",IF(BF85=\"NÃO\",$D21,IF(MOD(COUNT($Q85:BF85)+1,3)=0,(BF85*$E21)+BF85,BF85)),\"NÃO\"),\"NÃO\")","v":"NÃO"},{"$f":"IF(AND(BH$8>=$M21,BH$8<=$N21),IF($F21=\"Trimestral\",IF(BG85=\"NÃO\",$D21,IF(MOD(COUNT($Q85:BG85)+1,3)=0,(BG85*$E21)+BG85,BG85)),\"NÃO\"),\"NÃO\")","v":"NÃO"},{"$f":"IF(AND(BI$8>=$M21,BI$8<=$N21),IF($F21=\"Trimestral\",IF(BH85=\"NÃO\",$D21,IF(MOD(COUNT($Q85:BH85)+1,3)=0,(BH85*$E21)+BH85,BH85)),\"NÃO\"),\"NÃO\")","v":"NÃO"},{"$f":"IF(AND(BJ$8>=$M21,BJ$8<=$N21),IF($F21=\"Trimestral\",IF(BI85=\"NÃO\",$D21,IF(MOD(COUNT($Q85:BI85)+1,3)=0,(BI85*$E21)+BI85,BI85)),\"NÃO\"),\"NÃO\")","v":"NÃO"},{"$f":"IF(AND(BK$8>=$M21,BK$8<=$N21),IF($F21=\"Trimestral\",IF(BJ85=\"NÃO\",$D21,IF(MOD(COUNT($Q85:BJ85)+1,3)=0,(BJ85*$E21)+BJ85,BJ85)),\"NÃO\"),\"NÃO\")","v":"NÃO"},{"$f":"IF(AND(BL$8>=$M21,BL$8<=$N21),IF($F21=\"Trimestral\",IF(BK85=\"NÃO\",$D21,IF(MOD(COUNT($Q85:BK85)+1,3)=0,(BK85*$E21)+BK85,BK85)),\"NÃO\"),\"NÃO\")","v":"NÃO"},{"$f":"IF(AND(BM$8>=$M21,BM$8<=$N21),IF($F21=\"Trimestral\",IF(BL85=\"NÃO\",$D21,IF(MOD(COUNT($Q85:BL85)+1,3)=0,(BL85*$E21)+BL85,BL85)),\"NÃO\"),\"NÃO\")","v":"NÃO"},{"$f":"IF(AND(BN$8>=$M21,BN$8<=$N21),IF($F21=\"Trimestral\",IF(BM85=\"NÃO\",$D21,IF(MOD(COUNT($Q85:BM85)+1,3)=0,(BM85*$E21)+BM85,BM85)),\"NÃO\"),\"NÃO\")","v":"NÃO"},{"$f":"IF(AND(BO$8>=$M21,BO$8<=$N21),IF($F21=\"Trimestral\",IF(BN85=\"NÃO\",$D21,IF(MOD(COUNT($Q85:BN85)+1,3)=0,(BN85*$E21)+BN85,BN85)),\"NÃO\"),\"NÃO\")","v":"NÃO"},{"$f":"IF(AND(BP$8>=$M21,BP$8<=$N21),IF($F21=\"Trimestral\",IF(BO85=\"NÃO\",$D21,IF(MOD(COUNT($Q85:BO85)+1,3)=0,(BO85*$E21)+BO85,BO85)),\"NÃO\"),\"NÃO\")","v":"NÃO"},{"$f":"IF(AND(BQ$8>=$M21,BQ$8<=$N21),IF($F21=\"Trimestral\",IF(BP85=\"NÃO\",$D21,IF(MOD(COUNT($Q85:BP85)+1,3)=0,(BP85*$E21)+BP85,BP85)),\"NÃO\"),\"NÃO\")","v":"NÃO"},{"$f":"IF(AND(BR$8>=$M21,BR$8<=$N21),IF($F21=\"Trimestral\",IF(BQ85=\"NÃO\",$D21,IF(MOD(COUNT($Q85:BQ85)+1,3)=0,(BQ85*$E21)+BQ85,BQ85)),\"NÃO\"),\"NÃO\")","v":"NÃO"},{"$f":"IF(AND(BS$8>=$M21,BS$8<=$N21),IF($F21=\"Trimestral\",IF(BR85=\"NÃO\",$D21,IF(MOD(COUNT($Q85:BR85)+1,3)=0,(BR85*$E21)+BR85,BR85)),\"NÃO\"),\"NÃO\")","v":"NÃO"},{"$f":"IF(AND(BT$8>=$M21,BT$8<=$N21),IF($F21=\"Trimestral\",IF(BS85=\"NÃO\",$D21,IF(MOD(COUNT($Q85:BS85)+1,3)=0,(BS85*$E21)+BS85,BS85)),\"NÃO\"),\"NÃO\")","v":"NÃO"},{"$f":"IF(AND(BU$8>=$M21,BU$8<=$N21),IF($F21=\"Trimestral\",IF(BT85=\"NÃO\",$D21,IF(MOD(COUNT($Q85:BT85)+1,3)=0,(BT85*$E21)+BT85,BT85)),\"NÃO\"),\"NÃO\")","v":"NÃO"},{"$f":"IF(AND(BV$8>=$M21,BV$8<=$N21),IF($F21=\"Trimestral\",IF(BU85=\"NÃO\",$D21,IF(MOD(COUNT($Q85:BU85)+1,3)=0,(BU85*$E21)+BU85,BU85)),\"NÃO\"),\"NÃO\")","v":"NÃO"},{"$f":"IF(AND(BW$8>=$M21,BW$8<=$N21),IF($F21=\"Trimestral\",IF(BV85=\"NÃO\",$D21,IF(MOD(COUNT($Q85:BV85)+1,3)=0,(BV85*$E21)+BV85,BV85)),\"NÃO\"),\"NÃO\")","v":"NÃO"},{"$f":"IF(AND(BX$8>=$M21,BX$8<=$N21),IF($F21=\"Trimestral\",IF(BW85=\"NÃO\",$D21,IF(MOD(COUNT($Q85:BW85)+1,3)=0,(BW85*$E21)+BW85,BW85)),\"NÃO\"),\"NÃO\")","v":"NÃO"},null,null,13]
[null,null,null,null,null,null,null,null,null,null,null,null,null,null,null,14,"NÃO",{"$f":"IF(AND(R$8>=$M22,R$8<=$N22),IF($F22=\"Trimestral\",IF(Q86=\"NÃO\",$D22,IF(MOD(COUNT($Q86:Q86)+1,3)=0,(Q86*$E22)+Q86,Q86)),\"NÃO\"),\"NÃO\")","v":"NÃO"},{"$f":"IF(AND(S$8>=$M22,S$8<=$N22),IF($F22=\"Trimestral\",IF(R86=\"NÃO\",$D22,IF(MOD(COUNT($Q86:R86)+1,3)=0,(R86*$E22)+R86,R86)),\"NÃO\"),\"NÃO\")","v":"NÃO"},{"$f":"IF(AND(T$8>=$M22,T$8<=$N22),IF($F22=\"Trimestral\",IF(S86=\"NÃO\",$D22,IF(MOD(COUNT($Q86:S86)+1,3)=0,(S86*$E22)+S86,S86)),\"NÃO\"),\"NÃO\")","v":"NÃO"},{"$f":"IF(AND(U$8>=$M22,U$8<=$N22),IF($F22=\"Trimestral\",IF(T86=\"NÃO\",$D22,IF(MOD(COUNT($Q86:T86)+1,3)=0,(T86*$E22)+T86,T86)),\"NÃO\"),\"NÃO\")","v":"NÃO"},{"$f":"IF(AND(V$8>=$M22,V$8<=$N22),IF($F22=\"Trimestral\",IF(U86=\"NÃO\",$D22,IF(MOD(COUNT($Q86:U86)+1,3)=0,(U86*$E22)+U86,U86)),\"NÃO\"),\"NÃO\")","v":"NÃO"},{"$f":"IF(AND(W$8>=$M22,W$8<=$N22),IF($F22=\"Trimestral\",IF(V86=\"NÃO\",$D22,IF(MOD(COUNT($Q86:V86)+1,3)=0,(V86*$E22)+V86,V86)),\"NÃO\"),\"NÃO\")","v":"NÃO"},{"$f":"IF(AND(X$8>=$M22,X$8<=$N22),IF($F22=\"Trimestral\",IF(W86=\"NÃO\",$D22,IF(MOD(COUNT($Q86:W86)+1,3)=0,(W86*$E22)+W86,W86)),\"NÃO\"),\"NÃO\")","v":"NÃO"},{"$f":"IF(AND(Y$8>=$M22,Y$8<=$N22),IF($F22=\"Trimestral\",IF(X86=\"NÃO\",$D22,IF(MOD(COUNT($Q86:X86)+1,3)=0,(X86*$E22)+X86,X86)),\"NÃO\"),\"NÃO\")","v":"NÃO"},{"$f":"IF(AND(Z$8>=$M22,Z$8<=$N22),IF($F22=\"Trimestral\",IF(Y86=\"NÃO\",$D22,IF(MOD(COUNT($Q86:Y86)+1,3)=0,(Y86*$E22)+Y86,Y86)),\"NÃO\"),\"NÃO\")","v":"NÃO"},{"$f":"IF(AND(AA$8>=$M22,AA$8<=$N22),IF($F22=\"Trimestral\",IF(Z86=\"NÃO\",$D22,IF(MOD(COUNT($Q86:Z86)+1,3)=0,(Z86*$E22)+Z86,Z86)),\"NÃO\"),\"NÃO\")","v":"NÃO"},{"$f":"IF(AND(AB$8>=$M22,AB$8<=$N22),IF($F22=\"Trimestral\",IF(AA86=\"NÃO\",$D22,IF(MOD(COUNT($Q86:AA86)+1,3)=0,(AA86*$E22)+AA86,AA86)),\"NÃO\"),\"NÃO\")","v":"NÃO"},{"$f":"IF(AND(AC$8>=$M22,AC$8<=$N22),IF($F22=\"Trimestral\",IF(AB86=\"NÃO\",$D22,IF(MOD(COUNT($Q86:AB86)+1,3)=0,(AB86*$E22)+AB86,AB86)),\"NÃO\"),\"NÃO\")","v":"NÃO"},{"$f":"IF(AND(AD$8>=$M22,AD$8<=$N22),IF($F22=\"Trimestral\",IF(AC86=\"NÃO\",$D22,IF(MOD(COUNT($Q86:AC86)+1,3)=0,(AC86*$E22)+AC86,AC86)),\"NÃO\"),\"NÃO\")","v":"NÃO"},{"$f":"IF(AND(AE$8>=$M22,AE$8<=$N22),IF($F22=\"Trimestral\",IF(AD86=\"NÃO\",$D22,IF(MOD(COUNT($Q86:AD86)+1,3)=0,(AD86*$E22)+AD86,AD86)),\"NÃO\"),\"NÃO\")","v":"NÃO"},{"$f":"IF(AND(AF$8>=$M22,AF$8<=$N22),IF($F22=\"Trimestral\",IF(AE86=\"NÃO\",$D22,IF(MOD(COUNT($Q86:AE86)+1,3)=0,(AE86*$E22)+AE86,AE86)),\"NÃO\"),\"NÃO\")","v":"NÃO"},{"$f":"IF(AND(AG$8>=$M22,AG$8<=$N22),IF($F22=\"Trimestral\",IF(AF86=\"NÃO\",$D22,IF(MOD(COUNT($Q86:AF86)+1,3)=0,(AF86*$E22)+AF86,AF86)),\"NÃO\"),\"NÃO\")","v":"NÃO"},{"$f":"IF(AND(AH$8>=$M22,AH$8<=$N22),IF($F22=\"Trimestral\",IF(AG86=\"NÃO\",$D22,IF(MOD(COUNT($Q86:AG86)+1,3)=0,(AG86*$E22)+AG86,AG86)),\"NÃO\"),\"NÃO\")","v":"NÃO"},{"$f":"IF(AND(AI$8>=$M22,AI$8<=$N22),IF($F22=\"Trimestral\",IF(AH86=\"NÃO\",$D22,IF(MOD(COUNT($Q86:AH86)+1,3)=0,(AH86*$E22)+AH86,AH86)),\"NÃO\"),\"NÃO\")","v":"NÃO"},{"$f":"IF(AND(AJ$8>=$M22,AJ$8<=$N22),IF($F22=\"Trimestral\",IF(AI86=\"NÃO\",$D22,IF(MOD(COUNT($Q86:AI86)+1,3)=0,(AI86*$E22)+AI86,AI86)),\"NÃO\"),\"NÃO\")","v":"NÃO"},{"$f":"IF(AND(AK$8>=$M22,AK$8<=$N22),IF($F22=\"Trimestral\",IF(AJ86=\"NÃO\",$D22,IF(MOD(COUNT($Q86:AJ86)+1,3)=0,(AJ86*$E22)+AJ86,AJ86)),\"NÃO\"),\"NÃO\")","v":"NÃO"},{"$f":"IF(AND(AL$8>=$M22,AL$8<=$N22),IF($F22=\"Trimestral\",IF(AK86=\"NÃO\",$D22,IF(MOD(COUNT($Q86:AK86)+1,3)=0,(AK86*$E22)+AK86,AK86)),\"NÃO\"),\"NÃO\")","v":"NÃO"},{"$f":"IF(AND(AM$8>=$M22,AM$8<=$N22),IF($F22=\"Trimestral\",IF(AL86=\"NÃO\",$D22,IF(MOD(COUNT($Q86:AL86)+1,3)=0,(AL86*$E22)+AL86,AL86)),\"NÃO\"),\"NÃO\")","v":"NÃO"},{"$f":"IF(AND(AN$8>=$M22,AN$8<=$N22),IF($F22=\"Trimestral\",IF(AM86=\"NÃO\",$D22,IF(MOD(COUNT($Q86:AM86)+1,3)=0,(AM86*$E22)+AM86,AM86)),\"NÃO\"),\"NÃO\")","v":"NÃO"},{"$f":"IF(AND(AO$8>=$M22,AO$8<=$N22),IF($F22=\"Trimestral\",IF(AN86=\"NÃO\",$D22,IF(MOD(COUNT($Q86:AN86)+1,3)=0,(AN86*$E22)+AN86,AN86)),\"NÃO\"),\"NÃO\")","v":"NÃO"},{"$f":"IF(AND(AP$8>=$M22,AP$8<=$N22),IF($F22=\"Trimestral\",IF(AO86=\"NÃO\",$D22,IF(MOD(COUNT($Q86:AO86)+1,3)=0,(AO86*$E22)+AO86,AO86)),\"NÃO\"),\"NÃO\")","v":"NÃO"},{"$f":"IF(AND(AQ$8>=$M22,AQ$8<=$N22),IF($F22=\"Trimestral\",IF(AP86=\"NÃO\",$D22,IF(MOD(COUNT($Q86:AP86)+1,3)=0,(AP86*$E22)+AP86,AP86)),\"NÃO\"),\"NÃO\")","v":"NÃO"},{"$f":"IF(AND(AR$8>=$M22,AR$8<=$N22),IF($F22=\"Trimestral\",IF(AQ86=\"NÃO\",$D22,IF(MOD(COUNT($Q86:AQ86)+1,3)=0,(AQ86*$E22)+AQ86,AQ86)),\"NÃO\"),\"NÃO\")","v":"NÃO"},{"$f":"IF(AND(AS$8>=$M22,AS$8<=$N22),IF($F22=\"Trimestral\",IF(AR86=\"NÃO\",$D22,IF(MOD(COUNT($Q86:AR86)+1,3)=0,(AR86*$E22)+AR86,AR86)),\"NÃO\"),\"NÃO\")","v":"NÃO"},{"$f":"IF(AND(AT$8>=$M22,AT$8<=$N22),IF($F22=\"Trimestral\",IF(AS86=\"NÃO\",$D22,IF(MOD(COUNT($Q86:AS86)+1,3)=0,(AS86*$E22)+AS86,AS86)),\"NÃO\"),\"NÃO\")","v":"NÃO"},{"$f":"IF(AND(AU$8>=$M22,AU$8<=$N22),IF($F22=\"Trimestral\",IF(AT86=\"NÃO\",$D22,IF(MOD(COUNT($Q86:AT86)+1,3)=0,(AT86*$E22)+AT86,AT86)),\"NÃO\"),\"NÃO\")","v":"NÃO"},{"$f":"IF(AND(AV$8>=$M22,AV$8<=$N22),IF($F22=\"Trimestral\",IF(AU86=\"NÃO\",$D22,IF(MOD(COUNT($Q86:AU86)+1,3)=0,(AU86*$E22)+AU86,AU86)),\"NÃO\"),\"NÃO\")","v":"NÃO"},{"$f":"IF(AND(AW$8>=$M22,AW$8<=$N22),IF($F22=\"Trimestral\",IF(AV86=\"NÃO\",$D22,IF(MOD(COUNT($Q86:AV86)+1,3)=0,(AV86*$E22)+AV86,AV86)),\"NÃO\"),\"NÃO\")","v":"NÃO"},{"$f":"IF(AND(AX$8>=$M22,AX$8<=$N22),IF($F22=\"Trimestral\",IF(AW86=\"NÃO\",$D22,IF(MOD(COUNT($Q86:AW86)+1,3)=0,(AW86*$E22)+AW86,AW86)),\"NÃO\"),\"NÃO\")","v":"NÃO"},{"$f":"IF(AND(AY$8>=$M22,AY$8<=$N22),IF($F22=\"Trimestral\",IF(AX86=\"NÃO\",$D22,IF(MOD(COUNT($Q86:AX86)+1,3)=0,(AX86*$E22)+AX86,AX86)),\"NÃO\"),\"NÃO\")","v":"NÃO"},{"$f":"IF(AND(AZ$8>=$M22,AZ$8<=$N22),IF($F22=\"Trimestral\",IF(AY86=\"NÃO\",$D22,IF(MOD(COUNT($Q86:AY86)+1,3)=0,(AY86*$E22)+AY86,AY86)),\"NÃO\"),\"NÃO\")","v":"NÃO"},{"$f":"IF(AND(BA$8>=$M22,BA$8<=$N22),IF($F22=\"Trimestral\",IF(AZ86=\"NÃO\",$D22,IF(MOD(COUNT($Q86:AZ86)+1,3)=0,(AZ86*$E22)+AZ86,AZ86)),\"NÃO\"),\"NÃO\")","v":"NÃO"},{"$f":"IF(AND(BB$8>=$M22,BB$8<=$N22),IF($F22=\"Trimestral\",IF(BA86=\"NÃO\",$D22,IF(MOD(COUNT($Q86:BA86)+1,3)=0,(BA86*$E22)+BA86,BA86)),\"NÃO\"),\"NÃO\")","v":"NÃO"},{"$f":"IF(AND(BC$8>=$M22,BC$8<=$N22),IF($F22=\"Trimestral\",IF(BB86=\"NÃO\",$D22,IF(MOD(COUNT($Q86:BB86)+1,3)=0,(BB86*$E22)+BB86,BB86)),\"NÃO\"),\"NÃO\")","v":"NÃO"},{"$f":"IF(AND(BD$8>=$M22,BD$8<=$N22),IF($F22=\"Trimestral\",IF(BC86=\"NÃO\",$D22,IF(MOD(COUNT($Q86:BC86)+1,3)=0,(BC86*$E22)+BC86,BC86)),\"NÃO\"),\"NÃO\")","v":"NÃO"},{"$f":"IF(AND(BE$8>=$M22,BE$8<=$N22),IF($F22=\"Trimestral\",IF(BD86=\"NÃO\",$D22,IF(MOD(COUNT($Q86:BD86)+1,3)=0,(BD86*$E22)+BD86,BD86)),\"NÃO\"),\"NÃO\")","v":"NÃO"},{"$f":"IF(AND(BF$8>=$M22,BF$8<=$N22),IF($F22=\"Trimestral\",IF(BE86=\"NÃO\",$D22,IF(MOD(COUNT($Q86:BE86)+1,3)=0,(BE86*$E22)+BE86,BE86)),\"NÃO\"),\"NÃO\")","v":"NÃO"},{"$f":"IF(AND(BG$8>=$M22,BG$8<=$N22),IF($F22=\"Trimestral\",IF(BF86=\"NÃO\",$D22,IF(MOD(COUNT($Q86:BF86)+1,3)=0,(BF86*$E22)+BF86,BF86)),\"NÃO\"),\"NÃO\")","v":"NÃO"},{"$f":"IF(AND(BH$8>=$M22,BH$8<=$N22),IF($F22=\"Trimestral\",IF(BG86=\"NÃO\",$D22,IF(MOD(COUNT($Q86:BG86)+1,3)=0,(BG86*$E22)+BG86,BG86)),\"NÃO\"),\"NÃO\")","v":"NÃO"},{"$f":"IF(AND(BI$8>=$M22,BI$8<=$N22),IF($F22=\"Trimestral\",IF(BH86=\"NÃO\",$D22,IF(MOD(COUNT($Q86:BH86)+1,3)=0,(BH86*$E22)+BH86,BH86)),\"NÃO\"),\"NÃO\")","v":"NÃO"},{"$f":"IF(AND(BJ$8>=$M22,BJ$8<=$N22),IF($F22=\"Trimestral\",IF(BI86=\"NÃO\",$D22,IF(MOD(COUNT($Q86:BI86)+1,3)=0,(BI86*$E22)+BI86,BI86)),\"NÃO\"),\"NÃO\")","v":"NÃO"},{"$f":"IF(AND(BK$8>=$M22,BK$8<=$N22),IF($F22=\"Trimestral\",IF(BJ86=\"NÃO\",$D22,IF(MOD(COUNT($Q86:BJ86)+1,3)=0,(BJ86*$E22)+BJ86,BJ86)),\"NÃO\"),\"NÃO\")","v":"NÃO"},{"$f":"IF(AND(BL$8>=$M22,BL$8<=$N22),IF($F22=\"Trimestral\",IF(BK86=\"NÃO\",$D22,IF(MOD(COUNT($Q86:BK86)+1,3)=0,(BK86*$E22)+BK86,BK86)),\"NÃO\"),\"NÃO\")","v":"NÃO"},{"$f":"IF(AND(BM$8>=$M22,BM$8<=$N22),IF($F22=\"Trimestral\",IF(BL86=\"NÃO\",$D22,IF(MOD(COUNT($Q86:BL86)+1,3)=0,(BL86*$E22)+BL86,BL86)),\"NÃO\"),\"NÃO\")","v":"NÃO"},{"$f":"IF(AND(BN$8>=$M22,BN$8<=$N22),IF($F22=\"Trimestral\",IF(BM86=\"NÃO\",$D22,IF(MOD(COUNT($Q86:BM86)+1,3)=0,(BM86*$E22)+BM86,BM86)),\"NÃO\"),\"NÃO\")","v":"NÃO"},{"$f":"IF(AND(BO$8>=$M22,BO$8<=$N22),IF($F22=\"Trimestral\",IF(BN86=\"NÃO\",$D22,IF(MOD(COUNT($Q86:BN86)+1,3)=0,(BN86*$E22)+BN86,BN86)),\"NÃO\"),\"NÃO\")","v":"NÃO"},{"$f":"IF(AND(BP$8>=$M22,BP$8<=$N22),IF($F22=\"Trimestral\",IF(BO86=\"NÃO\",$D22,IF(MOD(COUNT($Q86:BO86)+1,3)=0,(BO86*$E22)+BO86,BO86)),\"NÃO\"),\"NÃO\")","v":"NÃO"},{"$f":"IF(AND(BQ$8>=$M22,BQ$8<=$N22),IF($F22=\"Trimestral\",IF(BP86=\"NÃO\",$D22,IF(MOD(COUNT($Q86:BP86)+1,3)=0,(BP86*$E22)+BP86,BP86)),\"NÃO\"),\"NÃO\")","v":"NÃO"},{"$f":"IF(AND(BR$8>=$M22,BR$8<=$N22),IF($F22=\"Trimestral\",IF(BQ86=\"NÃO\",$D22,IF(MOD(COUNT($Q86:BQ86)+1,3)=0,(BQ86*$E22)+BQ86,BQ86)),\"NÃO\"),\"NÃO\")","v":"NÃO"},{"$f":"IF(AND(BS$8>=$M22,BS$8<=$N22),IF($F22=\"Trimestral\",IF(BR86=\"NÃO\",$D22,IF(MOD(COUNT($Q86:BR86)+1,3)=0,(BR86*$E22)+BR86,BR86)),\"NÃO\"),\"NÃO\")","v":"NÃO"},{"$f":"IF(AND(BT$8>=$M22,BT$8<=$N22),IF($F22=\"Trimestral\",IF(BS86=\"NÃO\",$D22,IF(MOD(COUNT($Q86:BS86)+1,3)=0,(BS86*$E22)+BS86,BS86)),\"NÃO\"),\"NÃO\")","v":"NÃO"},{"$f":"IF(AND(BU$8>=$M22,BU$8<=$N22),IF($F22=\"Trimestral\",IF(BT86=\"NÃO\",$D22,IF(MOD(COUNT($Q86:BT86)+1,3)=0,(BT86*$E22)+BT86,BT86)),\"NÃO\"),\"NÃO\")","v":"NÃO"},{"$f":"IF(AND(BV$8>=$M22,BV$8<=$N22),IF($F22=\"Trimestral\",IF(BU86=\"NÃO\",$D22,IF(MOD(COUNT($Q86:BU86)+1,3)=0,(BU86*$E22)+BU86,BU86)),\"NÃO\"),\"NÃO\")","v":"NÃO"},{"$f":"IF(AND(BW$8>=$M22,BW$8<=$N22),IF($F22=\"Trimestral\",IF(BV86=\"NÃO\",$D22,IF(MOD(COUNT($Q86:BV86)+1,3)=0,(BV86*$E22)+BV86,BV86)),\"NÃO\"),\"NÃO\")","v":"NÃO"},{"$f":"IF(AND(BX$8>=$M22,BX$8<=$N22),IF($F22=\"Trimestral\",IF(BW86=\"NÃO\",$D22,IF(MOD(COUNT($Q86:BW86)+1,3)=0,(BW86*$E22)+BW86,BW86)),\"NÃO\"),\"NÃO\")","v":"NÃO"},null,null,14]
[null,null,null,null,null,null,null,null,null,null,null,null,null,null,null,15,"NÃO",{"$f":"IF(AND(R$8>=$M23,R$8<=$N23),IF($F23=\"Trimestral\",IF(Q87=\"NÃO\",$D23,IF(MOD(COUNT($Q87:Q87)+1,3)=0,(Q87*$E23)+Q87,Q87)),\"NÃO\"),\"NÃO\")","v":"NÃO"},{"$f":"IF(AND(S$8>=$M23,S$8<=$N23),IF($F23=\"Trimestral\",IF(R87=\"NÃO\",$D23,IF(MOD(COUNT($Q87:R87)+1,3)=0,(R87*$E23)+R87,R87)),\"NÃO\"),\"NÃO\")","v":"NÃO"},{"$f":"IF(AND(T$8>=$M23,T$8<=$N23),IF($F23=\"Trimestral\",IF(S87=\"NÃO\",$D23,IF(MOD(COUNT($Q87:S87)+1,3)=0,(S87*$E23)+S87,S87)),\"NÃO\"),\"NÃO\")","v":"NÃO"},{"$f":"IF(AND(U$8>=$M23,U$8<=$N23),IF($F23=\"Trimestral\",IF(T87=\"NÃO\",$D23,IF(MOD(COUNT($Q87:T87)+1,3)=0,(T87*$E23)+T87,T87)),\"NÃO\"),\"NÃO\")","v":"NÃO"},{"$f":"IF(AND(V$8>=$M23,V$8<=$N23),IF($F23=\"Trimestral\",IF(U87=\"NÃO\",$D23,IF(MOD(COUNT($Q87:U87)+1,3)=0,(U87*$E23)+U87,U87)),\"NÃO\"),\"NÃO\")","v":"NÃO"},{"$f":"IF(AND(W$8>=$M23,W$8<=$N23),IF($F23=\"Trimestral\",IF(V87=\"NÃO\",$D23,IF(MOD(COUNT($Q87:V87)+1,3)=0,(V87*$E23)+V87,V87)),\"NÃO\"),\"NÃO\")","v":"NÃO"},{"$f":"IF(AND(X$8>=$M23,X$8<=$N23),IF($F23=\"Trimestral\",IF(W87=\"NÃO\",$D23,IF(MOD(COUNT($Q87:W87)+1,3)=0,(W87*$E23)+W87,W87)),\"NÃO\"),\"NÃO\")","v":"NÃO"},{"$f":"IF(AND(Y$8>=$M23,Y$8<=$N23),IF($F23=\"Trimestral\",IF(X87=\"NÃO\",$D23,IF(MOD(COUNT($Q87:X87)+1,3)=0,(X87*$E23)+X87,X87)),\"NÃO\"),\"NÃO\")","v":"NÃO"},{"$f":"IF(AND(Z$8>=$M23,Z$8<=$N23),IF($F23=\"Trimestral\",IF(Y87=\"NÃO\",$D23,IF(MOD(COUNT($Q87:Y87)+1,3)=0,(Y87*$E23)+Y87,Y87)),\"NÃO\"),\"NÃO\")","v":"NÃO"},{"$f":"IF(AND(AA$8>=$M23,AA$8<=$N23),IF($F23=\"Trimestral\",IF(Z87=\"NÃO\",$D23,IF(MOD(COUNT($Q87:Z87)+1,3)=0,(Z87*$E23)+Z87,Z87)),\"NÃO\"),\"NÃO\")","v":"NÃO"},{"$f":"IF(AND(AB$8>=$M23,AB$8<=$N23),IF($F23=\"Trimestral\",IF(AA87=\"NÃO\",$D23,IF(MOD(COUNT($Q87:AA87)+1,3)=0,(AA87*$E23)+AA87,AA87)),\"NÃO\"),\"NÃO\")","v":"NÃO"},{"$f":"IF(AND(AC$8>=$M23,AC$8<=$N23),IF($F23=\"Trimestral\",IF(AB87=\"NÃO\",$D23,IF(MOD(COUNT($Q87:AB87)+1,3)=0,(AB87*$E23)+AB87,AB87)),\"NÃO\"),\"NÃO\")","v":"NÃO"},{"$f":"IF(AND(AD$8>=$M23,AD$8<=$N23),IF($F23=\"Trimestral\",IF(AC87=\"NÃO\",$D23,IF(MOD(COUNT($Q87:AC87)+1,3)=0,(AC87*$E23)+AC87,AC87)),\"NÃO\"),\"NÃO\")","v":"NÃO"},{"$f":"IF(AND(AE$8>=$M23,AE$8<=$N23),IF($F23=\"Trimestral\",IF(AD87=\"NÃO\",$D23,IF(MOD(COUNT($Q87:AD87)+1,3)=0,(AD87*$E23)+AD87,AD87)),\"NÃO\"),\"NÃO\")","v":"NÃO"},{"$f":"IF(AND(AF$8>=$M23,AF$8<=$N23),IF($F23=\"Trimestral\",IF(AE87=\"NÃO\",$D23,IF(MOD(COUNT($Q87:AE87)+1,3)=0,(AE87*$E23)+AE87,AE87)),\"NÃO\"),\"NÃO\")","v":"NÃO"},{"$f":"IF(AND(AG$8>=$M23,AG$8<=$N23),IF($F23=\"Trimestral\",IF(AF87=\"NÃO\",$D23,IF(MOD(COUNT($Q87:AF87)+1,3)=0,(AF87*$E23)+AF87,AF87)),\"NÃO\"),\"NÃO\")","v":"NÃO"},{"$f":"IF(AND(AH$8>=$M23,AH$8<=$N23),IF($F23=\"Trimestral\",IF(AG87=\"NÃO\",$D23,IF(MOD(COUNT($Q87:AG87)+1,3)=0,(AG87*$E23)+AG87,AG87)),\"NÃO\"),\"NÃO\")","v":"NÃO"},{"$f":"IF(AND(AI$8>=$M23,AI$8<=$N23),IF($F23=\"Trimestral\",IF(AH87=\"NÃO\",$D23,IF(MOD(COUNT($Q87:AH87)+1,3)=0,(AH87*$E23)+AH87,AH87)),\"NÃO\"),\"NÃO\")","v":"NÃO"},{"$f":"IF(AND(AJ$8>=$M23,AJ$8<=$N23),IF($F23=\"Trimestral\",IF(AI87=\"NÃO\",$D23,IF(MOD(COUNT($Q87:AI87)+1,3)=0,(AI87*$E23)+AI87,AI87)),\"NÃO\"),\"NÃO\")","v":"NÃO"},{"$f":"IF(AND(AK$8>=$M23,AK$8<=$N23),IF($F23=\"Trimestral\",IF(AJ87=\"NÃO\",$D23,IF(MOD(COUNT($Q87:AJ87)+1,3)=0,(AJ87*$E23)+AJ87,AJ87)),\"NÃO\"),\"NÃO\")","v":"NÃO"},{"$f":"IF(AND(AL$8>=$M23,AL$8<=$N23),IF($F23=\"Trimestral\",IF(AK87=\"NÃO\",$D23,IF(MOD(COUNT($Q87:AK87)+1,3)=0,(AK87*$E23)+AK87,AK87)),\"NÃO\"),\"NÃO\")","v":"NÃO"},{"$f":"IF(AND(AM$8>=$M23,AM$8<=$N23),IF($F23=\"Trimestral\",IF(AL87=\"NÃO\",$D23,IF(MOD(COUNT($Q87:AL87)+1,3)=0,(AL87*$E23)+AL87,AL87)),\"NÃO\"),\"NÃO\")","v":"NÃO"},{"$f":"IF(AND(AN$8>=$M23,AN$8<=$N23),IF($F23=\"Trimestral\",IF(AM87=\"NÃO\",$D23,IF(MOD(COUNT($Q87:AM87)+1,3)=0,(AM87*$E23)+AM87,AM87)),\"NÃO\"),\"NÃO\")","v":"NÃO"},{"$f":"IF(AND(AO$8>=$M23,AO$8<=$N23),IF($F23=\"Trimestral\",IF(AN87=\"NÃO\",$D23,IF(MOD(COUNT($Q87:AN87)+1,3)=0,(AN87*$E23)+AN87,AN87)),\"NÃO\"),\"NÃO\")","v":"NÃO"},{"$f":"IF(AND(AP$8>=$M23,AP$8<=$N23),IF($F23=\"Trimestral\",IF(AO87=\"NÃO\",$D23,IF(MOD(COUNT($Q87:AO87)+1,3)=0,(AO87*$E23)+AO87,AO87)),\"NÃO\"),\"NÃO\")","v":"NÃO"},{"$f":"IF(AND(AQ$8>=$M23,AQ$8<=$N23),IF($F23=\"Trimestral\",IF(AP87=\"NÃO\",$D23,IF(MOD(COUNT($Q87:AP87)+1,3)=0,(AP87*$E23)+AP87,AP87)),\"NÃO\"),\"NÃO\")","v":"NÃO"},{"$f":"IF(AND(AR$8>=$M23,AR$8<=$N23),IF($F23=\"Trimestral\",IF(AQ87=\"NÃO\",$D23,IF(MOD(COUNT($Q87:AQ87)+1,3)=0,(AQ87*$E23)+AQ87,AQ87)),\"NÃO\"),\"NÃO\")","v":"NÃO"},{"$f":"IF(AND(AS$8>=$M23,AS$8<=$N23),IF($F23=\"Trimestral\",IF(AR87=\"NÃO\",$D23,IF(MOD(COUNT($Q87:AR87)+1,3)=0,(AR87*$E23)+AR87,AR87)),\"NÃO\"),\"NÃO\")","v":"NÃO"},{"$f":"IF(AND(AT$8>=$M23,AT$8<=$N23),IF($F23=\"Trimestral\",IF(AS87=\"NÃO\",$D23,IF(MOD(COUNT($Q87:AS87)+1,3)=0,(AS87*$E23)+AS87,AS87)),\"NÃO\"),\"NÃO\")","v":"NÃO"},{"$f":"IF(AND(AU$8>=$M23,AU$8<=$N23),IF($F23=\"Trimestral\",IF(AT87=\"NÃO\",$D23,IF(MOD(COUNT($Q87:AT87)+1,3)=0,(AT87*$E23)+AT87,AT87)),\"NÃO\"),\"NÃO\")","v":"NÃO"},{"$f":"IF(AND(AV$8>=$M23,AV$8<=$N23),IF($F23=\"Trimestral\",IF(AU87=\"NÃO\",$D23,IF(MOD(COUNT($Q87:AU87)+1,3)=0,(AU87*$E23)+AU87,AU87)),\"NÃO\"),\"NÃO\")","v":"NÃO"},{"$f":"IF(AND(AW$8>=$M23,AW$8<=$N23),IF($F23=\"Trimestral\",IF(AV87=\"NÃO\",$D23,IF(MOD(COUNT($Q87:AV87)+1,3)=0,(AV87*$E23)+AV87,AV87)),\"NÃO\"),\"NÃO\")","v":"NÃO"},{"$f":"IF(AND(AX$8>=$M23,AX$8<=$N23),IF($F23=\"Trimestral\",IF(AW87=\"NÃO\",$D23,IF(MOD(COUNT($Q87:AW87)+1,3)=0,(AW87*$E23)+AW87,AW87)),\"NÃO\"),\"NÃO\")","v":"NÃO"},{"$f":"IF(AND(AY$8>=$M23,AY$8<=$N23),IF($F23=\"Trimestral\",IF(AX87=\"NÃO\",$D23,IF(MOD(COUNT($Q87:AX87)+1,3)=0,(AX87*$E23)+AX87,AX87)),\"NÃO\"),\"NÃO\")","v":"NÃO"},{"$f":"IF(AND(AZ$8>=$M23,AZ$8<=$N23),IF($F23=\"Trimestral\",IF(AY87=\"NÃO\",$D23,IF(MOD(COUNT($Q87:AY87)+1,3)=0,(AY87*$E23)+AY87,AY87)),\"NÃO\"),\"NÃO\")","v":"NÃO"},{"$f":"IF(AND(BA$8>=$M23,BA$8<=$N23),IF($F23=\"Trimestral\",IF(AZ87=\"NÃO\",$D23,IF(MOD(COUNT($Q87:AZ87)+1,3)=0,(AZ87*$E23)+AZ87,AZ87)),\"NÃO\"),\"NÃO\")","v":"NÃO"},{"$f":"IF(AND(BB$8>=$M23,BB$8<=$N23),IF($F23=\"Trimestral\",IF(BA87=\"NÃO\",$D23,IF(MOD(COUNT($Q87:BA87)+1,3)=0,(BA87*$E23)+BA87,BA87)),\"NÃO\"),\"NÃO\")","v":"NÃO"},{"$f":"IF(AND(BC$8>=$M23,BC$8<=$N23),IF($F23=\"Trimestral\",IF(BB87=\"NÃO\",$D23,IF(MOD(COUNT($Q87:BB87)+1,3)=0,(BB87*$E23)+BB87,BB87)),\"NÃO\"),\"NÃO\")","v":"NÃO"},{"$f":"IF(AND(BD$8>=$M23,BD$8<=$N23),IF($F23=\"Trimestral\",IF(BC87=\"NÃO\",$D23,IF(MOD(COUNT($Q87:BC87)+1,3)=0,(BC87*$E23)+BC87,BC87)),\"NÃO\"),\"NÃO\")","v":"NÃO"},{"$f":"IF(AND(BE$8>=$M23,BE$8<=$N23),IF($F23=\"Trimestral\",IF(BD87=\"NÃO\",$D23,IF(MOD(COUNT($Q87:BD87)+1,3)=0,(BD87*$E23)+BD87,BD87)),\"NÃO\"),\"NÃO\")","v":"NÃO"},{"$f":"IF(AND(BF$8>=$M23,BF$8<=$N23),IF($F23=\"Trimestral\",IF(BE87=\"NÃO\",$D23,IF(MOD(COUNT($Q87:BE87)+1,3)=0,(BE87*$E23)+BE87,BE87)),\"NÃO\"),\"NÃO\")","v":"NÃO"},{"$f":"IF(AND(BG$8>=$M23,BG$8<=$N23),IF($F23=\"Trimestral\",IF(BF87=\"NÃO\",$D23,IF(MOD(COUNT($Q87:BF87)+1,3)=0,(BF87*$E23)+BF87,BF87)),\"NÃO\"),\"NÃO\")","v":"NÃO"},{"$f":"IF(AND(BH$8>=$M23,BH$8<=$N23),IF($F23=\"Trimestral\",IF(BG87=\"NÃO\",$D23,IF(MOD(COUNT($Q87:BG87)+1,3)=0,(BG87*$E23)+BG87,BG87)),\"NÃO\"),\"NÃO\")","v":"NÃO"},{"$f":"IF(AND(BI$8>=$M23,BI$8<=$N23),IF($F23=\"Trimestral\",IF(BH87=\"NÃO\",$D23,IF(MOD(COUNT($Q87:BH87)+1,3)=0,(BH87*$E23)+BH87,BH87)),\"NÃO\"),\"NÃO\")","v":"NÃO"},{"$f":"IF(AND(BJ$8>=$M23,BJ$8<=$N23),IF($F23=\"Trimestral\",IF(BI87=\"NÃO\",$D23,IF(MOD(COUNT($Q87:BI87)+1,3)=0,(BI87*$E23)+BI87,BI87)),\"NÃO\"),\"NÃO\")","v":"NÃO"},{"$f":"IF(AND(BK$8>=$M23,BK$8<=$N23),IF($F23=\"Trimestral\",IF(BJ87=\"NÃO\",$D23,IF(MOD(COUNT($Q87:BJ87)+1,3)=0,(BJ87*$E23)+BJ87,BJ87)),\"NÃO\"),\"NÃO\")","v":"NÃO"},{"$f":"IF(AND(BL$8>=$M23,BL$8<=$N23),IF($F23=\"Trimestral\",IF(BK87=\"NÃO\",$D23,IF(MOD(COUNT($Q87:BK87)+1,3)=0,(BK87*$E23)+BK87,BK87)),\"NÃO\"),\"NÃO\")","v":"NÃO"},{"$f":"IF(AND(BM$8>=$M23,BM$8<=$N23),IF($F23=\"Trimestral\",IF(BL87=\"NÃO\",$D23,IF(MOD(COUNT($Q87:BL87)+1,3)=0,(BL87*$E23)+BL87,BL87)),\"NÃO\"),\"NÃO\")","v":"NÃO"},{"$f":"IF(AND(BN$8>=$M23,BN$8<=$N23),IF($F23=\"Trimestral\",IF(BM87=\"NÃO\",$D23,IF(MOD(COUNT($Q87:BM87)+1,3)=0,(BM87*$E23)+BM87,BM87)),\"NÃO\"),\"NÃO\")","v":"NÃO"},{"$f":"IF(AND(BO$8>=$M23,BO$8<=$N23),IF($F23=\"Trimestral\",IF(BN87=\"NÃO\",$D23,IF(MOD(COUNT($Q87:BN87)+1,3)=0,(BN87*$E23)+BN87,BN87)),\"NÃO\"),\"NÃO\")","v":"NÃO"},{"$f":"IF(AND(BP$8>=$M23,BP$8<=$N23),IF($F23=\"Trimestral\",IF(BO87=\"NÃO\",$D23,IF(MOD(COUNT($Q87:BO87)+1,3)=0,(BO87*$E23)+BO87,BO87)),\"NÃO\"),\"NÃO\")","v":"NÃO"},{"$f":"IF(AND(BQ$8>=$M23,BQ$8<=$N23),IF($F23=\"Trimestral\",IF(BP87=\"NÃO\",$D23,IF(MOD(COUNT($Q87:BP87)+1,3)=0,(BP87*$E23)+BP87,BP87)),\"NÃO\"),\"NÃO\")","v":"NÃO"},{"$f":"IF(AND(BR$8>=$M23,BR$8<=$N23),IF($F23=\"Trimestral\",IF(BQ87=\"NÃO\",$D23,IF(MOD(COUNT($Q87:BQ87)+1,3)=0,(BQ87*$E23)+BQ87,BQ87)),\"NÃO\"),\"NÃO\")","v":"NÃO"},{"$f":"IF(AND(BS$8>=$M23,BS$8<=$N23),IF($F23=\"Trimestral\",IF(BR87=\"NÃO\",$D23,IF(MOD(COUNT($Q87:BR87)+1,3)=0,(BR87*$E23)+BR87,BR87)),\"NÃO\"),\"NÃO\")","v":"NÃO"},{"$f":"IF(AND(BT$8>=$M23,BT$8<=$N23),IF($F23=\"Trimestral\",IF(BS87=\"NÃO\",$D23,IF(MOD(COUNT($Q87:BS87)+1,3)=0,(BS87*$E23)+BS87,BS87)),\"NÃO\"),\"NÃO\")","v":"NÃO"},{"$f":"IF(AND(BU$8>=$M23,BU$8<=$N23),IF($F23=\"Trimestral\",IF(BT87=\"NÃO\",$D23,IF(MOD(COUNT($Q87:BT87)+1,3)=0,(BT87*$E23)+BT87,BT87)),\"NÃO\"),\"NÃO\")","v":"NÃO"},{"$f":"IF(AND(BV$8>=$M23,BV$8<=$N23),IF($F23=\"Trimestral\",IF(BU87=\"NÃO\",$D23,IF(MOD(COUNT($Q87:BU87)+1,3)=0,(BU87*$E23)+BU87,BU87)),\"NÃO\"),\"NÃO\")","v":"NÃO"},{"$f":"IF(AND(BW$8>=$M23,BW$8<=$N23),IF($F23=\"Trimestral\",IF(BV87=\"NÃO\",$D23,IF(MOD(COUNT($Q87:BV87)+1,3)=0,(BV87*$E23)+BV87,BV87)),\"NÃO\"),\"NÃO\")","v":"NÃO"},{"$f":"IF(AND(BX$8>=$M23,BX$8<=$N23),IF($F23=\"Trimestral\",IF(BW87=\"NÃO\",$D23,IF(MOD(COUNT($Q87:BW87)+1,3)=0,(BW87*$E23)+BW87,BW87)),\"NÃO\"),\"NÃO\")","v":"NÃO"},null,null,15]
[null,null,null,null,null,null,null,null,null,null,null,null,null,null,null,16,"NÃO",{"$f":"IF(AND(R$8>=$M24,R$8<=$N24),IF($F24=\"Trimestral\",IF(Q88=\"NÃO\",$D24,IF(MOD(COUNT($Q88:Q88)+1,3)=0,(Q88*$E24)+Q88,Q88)),\"NÃO\"),\"NÃO\")","v":"NÃO"},{"$f":"IF(AND(S$8>=$M24,S$8<=$N24),IF($F24=\"Trimestral\",IF(R88=\"NÃO\",$D24,IF(MOD(COUNT($Q88:R88)+1,3)=0,(R88*$E24)+R88,R88)),\"NÃO\"),\"NÃO\")","v":"NÃO"},{"$f":"IF(AND(T$8>=$M24,T$8<=$N24),IF($F24=\"Trimestral\",IF(S88=\"NÃO\",$D24,IF(MOD(COUNT($Q88:S88)+1,3)=0,(S88*$E24)+S88,S88)),\"NÃO\"),\"NÃO\")","v":"NÃO"},{"$f":"IF(AND(U$8>=$M24,U$8<=$N24),IF($F24=\"Trimestral\",IF(T88=\"NÃO\",$D24,IF(MOD(COUNT($Q88:T88)+1,3)=0,(T88*$E24)+T88,T88)),\"NÃO\"),\"NÃO\")","v":"NÃO"},{"$f":"IF(AND(V$8>=$M24,V$8<=$N24),IF($F24=\"Trimestral\",IF(U88=\"NÃO\",$D24,IF(MOD(COUNT($Q88:U88)+1,3)=0,(U88*$E24)+U88,U88)),\"NÃO\"),\"NÃO\")","v":"NÃO"},{"$f":"IF(AND(W$8>=$M24,W$8<=$N24),IF($F24=\"Trimestral\",IF(V88=\"NÃO\",$D24,IF(MOD(COUNT($Q88:V88)+1,3)=0,(V88*$E24)+V88,V88)),\"NÃO\"),\"NÃO\")","v":"NÃO"},{"$f":"IF(AND(X$8>=$M24,X$8<=$N24),IF($F24=\"Trimestral\",IF(W88=\"NÃO\",$D24,IF(MOD(COUNT($Q88:W88)+1,3)=0,(W88*$E24)+W88,W88)),\"NÃO\"),\"NÃO\")","v":"NÃO"},{"$f":"IF(AND(Y$8>=$M24,Y$8<=$N24),IF($F24=\"Trimestral\",IF(X88=\"NÃO\",$D24,IF(MOD(COUNT($Q88:X88)+1,3)=0,(X88*$E24)+X88,X88)),\"NÃO\"),\"NÃO\")","v":"NÃO"},{"$f":"IF(AND(Z$8>=$M24,Z$8<=$N24),IF($F24=\"Trimestral\",IF(Y88=\"NÃO\",$D24,IF(MOD(COUNT($Q88:Y88)+1,3)=0,(Y88*$E24)+Y88,Y88)),\"NÃO\"),\"NÃO\")","v":"NÃO"},{"$f":"IF(AND(AA$8>=$M24,AA$8<=$N24),IF($F24=\"Trimestral\",IF(Z88=\"NÃO\",$D24,IF(MOD(COUNT($Q88:Z88)+1,3)=0,(Z88*$E24)+Z88,Z88)),\"NÃO\"),\"NÃO\")","v":"NÃO"},{"$f":"IF(AND(AB$8>=$M24,AB$8<=$N24),IF($F24=\"Trimestral\",IF(AA88=\"NÃO\",$D24,IF(MOD(COUNT($Q88:AA88)+1,3)=0,(AA88*$E24)+AA88,AA88)),\"NÃO\"),\"NÃO\")","v":"NÃO"},{"$f":"IF(AND(AC$8>=$M24,AC$8<=$N24),IF($F24=\"Trimestral\",IF(AB88=\"NÃO\",$D24,IF(MOD(COUNT($Q88:AB88)+1,3)=0,(AB88*$E24)+AB88,AB88)),\"NÃO\"),\"NÃO\")","v":"NÃO"},{"$f":"IF(AND(AD$8>=$M24,AD$8<=$N24),IF($F24=\"Trimestral\",IF(AC88=\"NÃO\",$D24,IF(MOD(COUNT($Q88:AC88)+1,3)=0,(AC88*$E24)+AC88,AC88)),\"NÃO\"),\"NÃO\")","v":"NÃO"},{"$f":"IF(AND(AE$8>=$M24,AE$8<=$N24),IF($F24=\"Trimestral\",IF(AD88=\"NÃO\",$D24,IF(MOD(COUNT($Q88:AD88)+1,3)=0,(AD88*$E24)+AD88,AD88)),\"NÃO\"),\"NÃO\")","v":"NÃO"},{"$f":"IF(AND(AF$8>=$M24,AF$8<=$N24),IF($F24=\"Trimestral\",IF(AE88=\"NÃO\",$D24,IF(MOD(COUNT($Q88:AE88)+1,3)=0,(AE88*$E24)+AE88,AE88)),\"NÃO\"),\"NÃO\")","v":"NÃO"},{"$f":"IF(AND(AG$8>=$M24,AG$8<=$N24),IF($F24=\"Trimestral\",IF(AF88=\"NÃO\",$D24,IF(MOD(COUNT($Q88:AF88)+1,3)=0,(AF88*$E24)+AF88,AF88)),\"NÃO\"),\"NÃO\")","v":"NÃO"},{"$f":"IF(AND(AH$8>=$M24,AH$8<=$N24),IF($F24=\"Trimestral\",IF(AG88=\"NÃO\",$D24,IF(MOD(COUNT($Q88:AG88)+1,3)=0,(AG88*$E24)+AG88,AG88)),\"NÃO\"),\"NÃO\")","v":"NÃO"},{"$f":"IF(AND(AI$8>=$M24,AI$8<=$N24),IF($F24=\"Trimestral\",IF(AH88=\"NÃO\",$D24,IF(MOD(COUNT($Q88:AH88)+1,3)=0,(AH88*$E24)+AH88,AH88)),\"NÃO\"),\"NÃO\")","v":"NÃO"},{"$f":"IF(AND(AJ$8>=$M24,AJ$8<=$N24),IF($F24=\"Trimestral\",IF(AI88=\"NÃO\",$D24,IF(MOD(COUNT($Q88:AI88)+1,3)=0,(AI88*$E24)+AI88,AI88)),\"NÃO\"),\"NÃO\")","v":"NÃO"},{"$f":"IF(AND(AK$8>=$M24,AK$8<=$N24),IF($F24=\"Trimestral\",IF(AJ88=\"NÃO\",$D24,IF(MOD(COUNT($Q88:AJ88)+1,3)=0,(AJ88*$E24)+AJ88,AJ88)),\"NÃO\"),\"NÃO\")","v":"NÃO"},{"$f":"IF(AND(AL$8>=$M24,AL$8<=$N24),IF($F24=\"Trimestral\",IF(AK88=\"NÃO\",$D24,IF(MOD(COUNT($Q88:AK88)+1,3)=0,(AK88*$E24)+AK88,AK88)),\"NÃO\"),\"NÃO\")","v":"NÃO"},{"$f":"IF(AND(AM$8>=$M24,AM$8<=$N24),IF($F24=\"Trimestral\",IF(AL88=\"NÃO\",$D24,IF(MOD(COUNT($Q88:AL88)+1,3)=0,(AL88*$E24)+AL88,AL88)),\"NÃO\"),\"NÃO\")","v":"NÃO"},{"$f":"IF(AND(AN$8>=$M24,AN$8<=$N24),IF($F24=\"Trimestral\",IF(AM88=\"NÃO\",$D24,IF(MOD(COUNT($Q88:AM88)+1,3)=0,(AM88*$E24)+AM88,AM88)),\"NÃO\"),\"NÃO\")","v":"NÃO"},{"$f":"IF(AND(AO$8>=$M24,AO$8<=$N24),IF($F24=\"Trimestral\",IF(AN88=\"NÃO\",$D24,IF(MOD(COUNT($Q88:AN88)+1,3)=0,(AN88*$E24)+AN88,AN88)),\"NÃO\"),\"NÃO\")","v":"NÃO"},{"$f":"IF(AND(AP$8>=$M24,AP$8<=$N24),IF($F24=\"Trimestral\",IF(AO88=\"NÃO\",$D24,IF(MOD(COUNT($Q88:AO88)+1,3)=0,(AO88*$E24)+AO88,AO88)),\"NÃO\"),\"NÃO\")","v":"NÃO"},{"$f":"IF(AND(AQ$8>=$M24,AQ$8<=$N24),IF($F24=\"Trimestral\",IF(AP88=\"NÃO\",$D24,IF(MOD(COUNT($Q88:AP88)+1,3)=0,(AP88*$E24)+AP88,AP88)),\"NÃO\"),\"NÃO\")","v":"NÃO"},{"$f":"IF(AND(AR$8>=$M24,AR$8<=$N24),IF($F24=\"Trimestral\",IF(AQ88=\"NÃO\",$D24,IF(MOD(COUNT($Q88:AQ88)+1,3)=0,(AQ88*$E24)+AQ88,AQ88)),\"NÃO\"),\"NÃO\")","v":"NÃO"},{"$f":"IF(AND(AS$8>=$M24,AS$8<=$N24),IF($F24=\"Trimestral\",IF(AR88=\"NÃO\",$D24,IF(MOD(COUNT($Q88:AR88)+1,3)=0,(AR88*$E24)+AR88,AR88)),\"NÃO\"),\"NÃO\")","v":"NÃO"},{"$f":"IF(AND(AT$8>=$M24,AT$8<=$N24),IF($F24=\"Trimestral\",IF(AS88=\"NÃO\",$D24,IF(MOD(COUNT($Q88:AS88)+1,3)=0,(AS88*$E24)+AS88,AS88)),\"NÃO\"),\"NÃO\")","v":"NÃO"},{"$f":"IF(AND(AU$8>=$M24,AU$8<=$N24),IF($F24=\"Trimestral\",IF(AT88=\"NÃO\",$D24,IF(MOD(COUNT($Q88:AT88)+1,3)=0,(AT88*$E24)+AT88,AT88)),\"NÃO\"),\"NÃO\")","v":"NÃO"},{"$f":"IF(AND(AV$8>=$M24,AV$8<=$N24),IF($F24=\"Trimestral\",IF(AU88=\"NÃO\",$D24,IF(MOD(COUNT($Q88:AU88)+1,3)=0,(AU88*$E24)+AU88,AU88)),\"NÃO\"),\"NÃO\")","v":"NÃO"},{"$f":"IF(AND(AW$8>=$M24,AW$8<=$N24),IF($F24=\"Trimestral\",IF(AV88=\"NÃO\",$D24,IF(MOD(COUNT($Q88:AV88)+1,3)=0,(AV88*$E24)+AV88,AV88)),\"NÃO\"),\"NÃO\")","v":"NÃO"},{"$f":"IF(AND(AX$8>=$M24,AX$8<=$N24),IF($F24=\"Trimestral\",IF(AW88=\"NÃO\",$D24,IF(MOD(COUNT($Q88:AW88)+1,3)=0,(AW88*$E24)+AW88,AW88)),\"NÃO\"),\"NÃO\")","v":"NÃO"},{"$f":"IF(AND(AY$8>=$M24,AY$8<=$N24),IF($F24=\"Trimestral\",IF(AX88=\"NÃO\",$D24,IF(MOD(COUNT($Q88:AX88)+1,3)=0,(AX88*$E24)+AX88,AX88)),\"NÃO\"),\"NÃO\")","v":"NÃO"},{"$f":"IF(AND(AZ$8>=$M24,AZ$8<=$N24),IF($F24=\"Trimestral\",IF(AY88=\"NÃO\",$D24,IF(MOD(COUNT($Q88:AY88)+1,3)=0,(AY88*$E24)+AY88,AY88)),\"NÃO\"),\"NÃO\")","v":"NÃO"},{"$f":"IF(AND(BA$8>=$M24,BA$8<=$N24),IF($F24=\"Trimestral\",IF(AZ88=\"NÃO\",$D24,IF(MOD(COUNT($Q88:AZ88)+1,3)=0,(AZ88*$E24)+AZ88,AZ88)),\"NÃO\"),\"NÃO\")","v":"NÃO"},{"$f":"IF(AND(BB$8>=$M24,BB$8<=$N24),IF($F24=\"Trimestral\",IF(BA88=\"NÃO\",$D24,IF(MOD(COUNT($Q88:BA88)+1,3)=0,(BA88*$E24)+BA88,BA88)),\"NÃO\"),\"NÃO\")","v":"NÃO"},{"$f":"IF(AND(BC$8>=$M24,BC$8<=$N24),IF($F24=\"Trimestral\",IF(BB88=\"NÃO\",$D24,IF(MOD(COUNT($Q88:BB88)+1,3)=0,(BB88*$E24)+BB88,BB88)),\"NÃO\"),\"NÃO\")","v":"NÃO"},{"$f":"IF(AND(BD$8>=$M24,BD$8<=$N24),IF($F24=\"Trimestral\",IF(BC88=\"NÃO\",$D24,IF(MOD(COUNT($Q88:BC88)+1,3)=0,(BC88*$E24)+BC88,BC88)),\"NÃO\"),\"NÃO\")","v":"NÃO"},{"$f":"IF(AND(BE$8>=$M24,BE$8<=$N24),IF($F24=\"Trimestral\",IF(BD88=\"NÃO\",$D24,IF(MOD(COUNT($Q88:BD88)+1,3)=0,(BD88*$E24)+BD88,BD88)),\"NÃO\"),\"NÃO\")","v":"NÃO"},{"$f":"IF(AND(BF$8>=$M24,BF$8<=$N24),IF($F24=\"Trimestral\",IF(BE88=\"NÃO\",$D24,IF(MOD(COUNT($Q88:BE88)+1,3)=0,(BE88*$E24)+BE88,BE88)),\"NÃO\"),\"NÃO\")","v":"NÃO"},{"$f":"IF(AND(BG$8>=$M24,BG$8<=$N24),IF($F24=\"Trimestral\",IF(BF88=\"NÃO\",$D24,IF(MOD(COUNT($Q88:BF88)+1,3)=0,(BF88*$E24)+BF88,BF88)),\"NÃO\"),\"NÃO\")","v":"NÃO"},{"$f":"IF(AND(BH$8>=$M24,BH$8<=$N24),IF($F24=\"Trimestral\",IF(BG88=\"NÃO\",$D24,IF(MOD(COUNT($Q88:BG88)+1,3)=0,(BG88*$E24)+BG88,BG88)),\"NÃO\"),\"NÃO\")","v":"NÃO"},{"$f":"IF(AND(BI$8>=$M24,BI$8<=$N24),IF($F24=\"Trimestral\",IF(BH88=\"NÃO\",$D24,IF(MOD(COUNT($Q88:BH88)+1,3)=0,(BH88*$E24)+BH88,BH88)),\"NÃO\"),\"NÃO\")","v":"NÃO"},{"$f":"IF(AND(BJ$8>=$M24,BJ$8<=$N24),IF($F24=\"Trimestral\",IF(BI88=\"NÃO\",$D24,IF(MOD(COUNT($Q88:BI88)+1,3)=0,(BI88*$E24)+BI88,BI88)),\"NÃO\"),\"NÃO\")","v":"NÃO"},{"$f":"IF(AND(BK$8>=$M24,BK$8<=$N24),IF($F24=\"Trimestral\",IF(BJ88=\"NÃO\",$D24,IF(MOD(COUNT($Q88:BJ88)+1,3)=0,(BJ88*$E24)+BJ88,BJ88)),\"NÃO\"),\"NÃO\")","v":"NÃO"},{"$f":"IF(AND(BL$8>=$M24,BL$8<=$N24),IF($F24=\"Trimestral\",IF(BK88=\"NÃO\",$D24,IF(MOD(COUNT($Q88:BK88)+1,3)=0,(BK88*$E24)+BK88,BK88)),\"NÃO\"),\"NÃO\")","v":"NÃO"},{"$f":"IF(AND(BM$8>=$M24,BM$8<=$N24),IF($F24=\"Trimestral\",IF(BL88=\"NÃO\",$D24,IF(MOD(COUNT($Q88:BL88)+1,3)=0,(BL88*$E24)+BL88,BL88)),\"NÃO\"),\"NÃO\")","v":"NÃO"},{"$f":"IF(AND(BN$8>=$M24,BN$8<=$N24),IF($F24=\"Trimestral\",IF(BM88=\"NÃO\",$D24,IF(MOD(COUNT($Q88:BM88)+1,3)=0,(BM88*$E24)+BM88,BM88)),\"NÃO\"),\"NÃO\")","v":"NÃO"},{"$f":"IF(AND(BO$8>=$M24,BO$8<=$N24),IF($F24=\"Trimestral\",IF(BN88=\"NÃO\",$D24,IF(MOD(COUNT($Q88:BN88)+1,3)=0,(BN88*$E24)+BN88,BN88)),\"NÃO\"),\"NÃO\")","v":"NÃO"},{"$f":"IF(AND(BP$8>=$M24,BP$8<=$N24),IF($F24=\"Trimestral\",IF(BO88=\"NÃO\",$D24,IF(MOD(COUNT($Q88:BO88)+1,3)=0,(BO88*$E24)+BO88,BO88)),\"NÃO\"),\"NÃO\")","v":"NÃO"},{"$f":"IF(AND(BQ$8>=$M24,BQ$8<=$N24),IF($F24=\"Trimestral\",IF(BP88=\"NÃO\",$D24,IF(MOD(COUNT($Q88:BP88)+1,3)=0,(BP88*$E24)+BP88,BP88)),\"NÃO\"),\"NÃO\")","v":"NÃO"},{"$f":"IF(AND(BR$8>=$M24,BR$8<=$N24),IF($F24=\"Trimestral\",IF(BQ88=\"NÃO\",$D24,IF(MOD(COUNT($Q88:BQ88)+1,3)=0,(BQ88*$E24)+BQ88,BQ88)),\"NÃO\"),\"NÃO\")","v":"NÃO"},{"$f":"IF(AND(BS$8>=$M24,BS$8<=$N24),IF($F24=\"Trimestral\",IF(BR88=\"NÃO\",$D24,IF(MOD(COUNT($Q88:BR88)+1,3)=0,(BR88*$E24)+BR88,BR88)),\"NÃO\"),\"NÃO\")","v":"NÃO"},{"$f":"IF(AND(BT$8>=$M24,BT$8<=$N24),IF($F24=\"Trimestral\",IF(BS88=\"NÃO\",$D24,IF(MOD(COUNT($Q88:BS88)+1,3)=0,(BS88*$E24)+BS88,BS88)),\"NÃO\"),\"NÃO\")","v":"NÃO"},{"$f":"IF(AND(BU$8>=$M24,BU$8<=$N24),IF($F24=\"Trimestral\",IF(BT88=\"NÃO\",$D24,IF(MOD(COUNT($Q88:BT88)+1,3)=0,(BT88*$E24)+BT88,BT88)),\"NÃO\"),\"NÃO\")","v":"NÃO"},{"$f":"IF(AND(BV$8>=$M24,BV$8<=$N24),IF($F24=\"Trimestral\",IF(BU88=\"NÃO\",$D24,IF(MOD(COUNT($Q88:BU88)+1,3)=0,(BU88*$E24)+BU88,BU88)),\"NÃO\"),\"NÃO\")","v":"NÃO"},{"$f":"IF(AND(BW$8>=$M24,BW$8<=$N24),IF($F24=\"Trimestral\",IF(BV88=\"NÃO\",$D24,IF(MOD(COUNT($Q88:BV88)+1,3)=0,(BV88*$E24)+BV88,BV88)),\"NÃO\"),\"NÃO\")","v":"NÃO"},{"$f":"IF(AND(BX$8>=$M24,BX$8<=$N24),IF($F24=\"Trimestral\",IF(BW88=\"NÃO\",$D24,IF(MOD(COUNT($Q88:BW88)+1,3)=0,(BW88*$E24)+BW88,BW88)),\"NÃO\"),\"NÃO\")","v":"NÃO"},null,null,16]
[null,null,null,null,null,null,null,null,null,null,null,null,null,null,null,17,"NÃO",{"$f":"IF(AND(R$8>=$M25,R$8<=$N25),IF($F25=\"Trimestral\",IF(Q89=\"NÃO\",$D25,IF(MOD(COUNT($Q89:Q89)+1,3)=0,(Q89*$E25)+Q89,Q89)),\"NÃO\"),\"NÃO\")","v":"NÃO"},{"$f":"IF(AND(S$8>=$M25,S$8<=$N25),IF($F25=\"Trimestral\",IF(R89=\"NÃO\",$D25,IF(MOD(COUNT($Q89:R89)+1,3)=0,(R89*$E25)+R89,R89)),\"NÃO\"),\"NÃO\")","v":"NÃO"},{"$f":"IF(AND(T$8>=$M25,T$8<=$N25),IF($F25=\"Trimestral\",IF(S89=\"NÃO\",$D25,IF(MOD(COUNT($Q89:S89)+1,3)=0,(S89*$E25)+S89,S89)),\"NÃO\"),\"NÃO\")","v":"NÃO"},{"$f":"IF(AND(U$8>=$M25,U$8<=$N25),IF($F25=\"Trimestral\",IF(T89=\"NÃO\",$D25,IF(MOD(COUNT($Q89:T89)+1,3)=0,(T89*$E25)+T89,T89)),\"NÃO\"),\"NÃO\")","v":"NÃO"},{"$f":"IF(AND(V$8>=$M25,V$8<=$N25),IF($F25=\"Trimestral\",IF(U89=\"NÃO\",$D25,IF(MOD(COUNT($Q89:U89)+1,3)=0,(U89*$E25)+U89,U89)),\"NÃO\"),\"NÃO\")","v":"NÃO"},{"$f":"IF(AND(W$8>=$M25,W$8<=$N25),IF($F25=\"Trimestral\",IF(V89=\"NÃO\",$D25,IF(MOD(COUNT($Q89:V89)+1,3)=0,(V89*$E25)+V89,V89)),\"NÃO\"),\"NÃO\")","v":"NÃO"},{"$f":"IF(AND(X$8>=$M25,X$8<=$N25),IF($F25=\"Trimestral\",IF(W89=\"NÃO\",$D25,IF(MOD(COUNT($Q89:W89)+1,3)=0,(W89*$E25)+W89,W89)),\"NÃO\"),\"NÃO\")","v":"NÃO"},{"$f":"IF(AND(Y$8>=$M25,Y$8<=$N25),IF($F25=\"Trimestral\",IF(X89=\"NÃO\",$D25,IF(MOD(COUNT($Q89:X89)+1,3)=0,(X89*$E25)+X89,X89)),\"NÃO\"),\"NÃO\")","v":"NÃO"},{"$f":"IF(AND(Z$8>=$M25,Z$8<=$N25),IF($F25=\"Trimestral\",IF(Y89=\"NÃO\",$D25,IF(MOD(COUNT($Q89:Y89)+1,3)=0,(Y89*$E25)+Y89,Y89)),\"NÃO\"),\"NÃO\")","v":"NÃO"},{"$f":"IF(AND(AA$8>=$M25,AA$8<=$N25),IF($F25=\"Trimestral\",IF(Z89=\"NÃO\",$D25,IF(MOD(COUNT($Q89:Z89)+1,3)=0,(Z89*$E25)+Z89,Z89)),\"NÃO\"),\"NÃO\")","v":"NÃO"},{"$f":"IF(AND(AB$8>=$M25,AB$8<=$N25),IF($F25=\"Trimestral\",IF(AA89=\"NÃO\",$D25,IF(MOD(COUNT($Q89:AA89)+1,3)=0,(AA89*$E25)+AA89,AA89)),\"NÃO\"),\"NÃO\")","v":"NÃO"},{"$f":"IF(AND(AC$8>=$M25,AC$8<=$N25),IF($F25=\"Trimestral\",IF(AB89=\"NÃO\",$D25,IF(MOD(COUNT($Q89:AB89)+1,3)=0,(AB89*$E25)+AB89,AB89)),\"NÃO\"),\"NÃO\")","v":"NÃO"},{"$f":"IF(AND(AD$8>=$M25,AD$8<=$N25),IF($F25=\"Trimestral\",IF(AC89=\"NÃO\",$D25,IF(MOD(COUNT($Q89:AC89)+1,3)=0,(AC89*$E25)+AC89,AC89)),\"NÃO\"),\"NÃO\")","v":"NÃO"},{"$f":"IF(AND(AE$8>=$M25,AE$8<=$N25),IF($F25=\"Trimestral\",IF(AD89=\"NÃO\",$D25,IF(MOD(COUNT($Q89:AD89)+1,3)=0,(AD89*$E25)+AD89,AD89)),\"NÃO\"),\"NÃO\")","v":"NÃO"},{"$f":"IF(AND(AF$8>=$M25,AF$8<=$N25),IF($F25=\"Trimestral\",IF(AE89=\"NÃO\",$D25,IF(MOD(COUNT($Q89:AE89)+1,3)=0,(AE89*$E25)+AE89,AE89)),\"NÃO\"),\"NÃO\")","v":"NÃO"},{"$f":"IF(AND(AG$8>=$M25,AG$8<=$N25),IF($F25=\"Trimestral\",IF(AF89=\"NÃO\",$D25,IF(MOD(COUNT($Q89:AF89)+1,3)=0,(AF89*$E25)+AF89,AF89)),\"NÃO\"),\"NÃO\")","v":"NÃO"},{"$f":"IF(AND(AH$8>=$M25,AH$8<=$N25),IF($F25=\"Trimestral\",IF(AG89=\"NÃO\",$D25,IF(MOD(COUNT($Q89:AG89)+1,3)=0,(AG89*$E25)+AG89,AG89)),\"NÃO\"),\"NÃO\")","v":"NÃO"},{"$f":"IF(AND(AI$8>=$M25,AI$8<=$N25),IF($F25=\"Trimestral\",IF(AH89=\"NÃO\",$D25,IF(MOD(COUNT($Q89:AH89)+1,3)=0,(AH89*$E25)+AH89,AH89)),\"NÃO\"),\"NÃO\")","v":"NÃO"},{"$f":"IF(AND(AJ$8>=$M25,AJ$8<=$N25),IF($F25=\"Trimestral\",IF(AI89=\"NÃO\",$D25,IF(MOD(COUNT($Q89:AI89)+1,3)=0,(AI89*$E25)+AI89,AI89)),\"NÃO\"),\"NÃO\")","v":"NÃO"},{"$f":"IF(AND(AK$8>=$M25,AK$8<=$N25),IF($F25=\"Trimestral\",IF(AJ89=\"NÃO\",$D25,IF(MOD(COUNT($Q89:AJ89)+1,3)=0,(AJ89*$E25)+AJ89,AJ89)),\"NÃO\"),\"NÃO\")","v":"NÃO"},{"$f":"IF(AND(AL$8>=$M25,AL$8<=$N25),IF($F25=\"Trimestral\",IF(AK89=\"NÃO\",$D25,IF(MOD(COUNT($Q89:AK89)+1,3)=0,(AK89*$E25)+AK89,AK89)),\"NÃO\"),\"NÃO\")","v":"NÃO"},{"$f":"IF(AND(AM$8>=$M25,AM$8<=$N25),IF($F25=\"Trimestral\",IF(AL89=\"NÃO\",$D25,IF(MOD(COUNT($Q89:AL89)+1,3)=0,(AL89*$E25)+AL89,AL89)),\"NÃO\"),\"NÃO\")","v":"NÃO"},{"$f":"IF(AND(AN$8>=$M25,AN$8<=$N25),IF($F25=\"Trimestral\",IF(AM89=\"NÃO\",$D25,IF(MOD(COUNT($Q89:AM89)+1,3)=0,(AM89*$E25)+AM89,AM89)),\"NÃO\"),\"NÃO\")","v":"NÃO"},{"$f":"IF(AND(AO$8>=$M25,AO$8<=$N25),IF($F25=\"Trimestral\",IF(AN89=\"NÃO\",$D25,IF(MOD(COUNT($Q89:AN89)+1,3)=0,(AN89*$E25)+AN89,AN89)),\"NÃO\"),\"NÃO\")","v":"NÃO"},{"$f":"IF(AND(AP$8>=$M25,AP$8<=$N25),IF($F25=\"Trimestral\",IF(AO89=\"NÃO\",$D25,IF(MOD(COUNT($Q89:AO89)+1,3)=0,(AO89*$E25)+AO89,AO89)),\"NÃO\"),\"NÃO\")","v":"NÃO"},{"$f":"IF(AND(AQ$8>=$M25,AQ$8<=$N25),IF($F25=\"Trimestral\",IF(AP89=\"NÃO\",$D25,IF(MOD(COUNT($Q89:AP89)+1,3)=0,(AP89*$E25)+AP89,AP89)),\"NÃO\"),\"NÃO\")","v":"NÃO"},{"$f":"IF(AND(AR$8>=$M25,AR$8<=$N25),IF($F25=\"Trimestral\",IF(AQ89=\"NÃO\",$D25,IF(MOD(COUNT($Q89:AQ89)+1,3)=0,(AQ89*$E25)+AQ89,AQ89)),\"NÃO\"),\"NÃO\")","v":"NÃO"},{"$f":"IF(AND(AS$8>=$M25,AS$8<=$N25),IF($F25=\"Trimestral\",IF(AR89=\"NÃO\",$D25,IF(MOD(COUNT($Q89:AR89)+1,3)=0,(AR89*$E25)+AR89,AR89)),\"NÃO\"),\"NÃO\")","v":"NÃO"},{"$f":"IF(AND(AT$8>=$M25,AT$8<=$N25),IF($F25=\"Trimestral\",IF(AS89=\"NÃO\",$D25,IF(MOD(COUNT($Q89:AS89)+1,3)=0,(AS89*$E25)+AS89,AS89)),\"NÃO\"),\"NÃO\")","v":"NÃO"},{"$f":"IF(AND(AU$8>=$M25,AU$8<=$N25),IF($F25=\"Trimestral\",IF(AT89=\"NÃO\",$D25,IF(MOD(COUNT($Q89:AT89)+1,3)=0,(AT89*$E25)+AT89,AT89)),\"NÃO\"),\"NÃO\")","v":"NÃO"},{"$f":"IF(AND(AV$8>=$M25,AV$8<=$N25),IF($F25=\"Trimestral\",IF(AU89=\"NÃO\",$D25,IF(MOD(COUNT($Q89:AU89)+1,3)=0,(AU89*$E25)+AU89,AU89)),\"NÃO\"),\"NÃO\")","v":"NÃO"},{"$f":"IF(AND(AW$8>=$M25,AW$8<=$N25),IF($F25=\"Trimestral\",IF(AV89=\"NÃO\",$D25,IF(MOD(COUNT($Q89:AV89)+1,3)=0,(AV89*$E25)+AV89,AV89)),\"NÃO\"),\"NÃO\")","v":"NÃO"},{"$f":"IF(AND(AX$8>=$M25,AX$8<=$N25),IF($F25=\"Trimestral\",IF(AW89=\"NÃO\",$D25,IF(MOD(COUNT($Q89:AW89)+1,3)=0,(AW89*$E25)+AW89,AW89)),\"NÃO\"),\"NÃO\")","v":"NÃO"},{"$f":"IF(AND(AY$8>=$M25,AY$8<=$N25),IF($F25=\"Trimestral\",IF(AX89=\"NÃO\",$D25,IF(MOD(COUNT($Q89:AX89)+1,3)=0,(AX89*$E25)+AX89,AX89)),\"NÃO\"),\"NÃO\")","v":"NÃO"},{"$f":"IF(AND(AZ$8>=$M25,AZ$8<=$N25),IF($F25=\"Trimestral\",IF(AY89=\"NÃO\",$D25,IF(MOD(COUNT($Q89:AY89)+1,3)=0,(AY89*$E25)+AY89,AY89)),\"NÃO\"),\"NÃO\")","v":"NÃO"},{"$f":"IF(AND(BA$8>=$M25,BA$8<=$N25),IF($F25=\"Trimestral\",IF(AZ89=\"NÃO\",$D25,IF(MOD(COUNT($Q89:AZ89)+1,3)=0,(AZ89*$E25)+AZ89,AZ89)),\"NÃO\"),\"NÃO\")","v":"NÃO"},{"$f":"IF(AND(BB$8>=$M25,BB$8<=$N25),IF($F25=\"Trimestral\",IF(BA89=\"NÃO\",$D25,IF(MOD(COUNT($Q89:BA89)+1,3)=0,(BA89*$E25)+BA89,BA89)),\"NÃO\"),\"NÃO\")","v":"NÃO"},{"$f":"IF(AND(BC$8>=$M25,BC$8<=$N25),IF($F25=\"Trimestral\",IF(BB89=\"NÃO\",$D25,IF(MOD(COUNT($Q89:BB89)+1,3)=0,(BB89*$E25)+BB89,BB89)),\"NÃO\"),\"NÃO\")","v":"NÃO"},{"$f":"IF(AND(BD$8>=$M25,BD$8<=$N25),IF($F25=\"Trimestral\",IF(BC89=\"NÃO\",$D25,IF(MOD(COUNT($Q89:BC89)+1,3)=0,(BC89*$E25)+BC89,BC89)),\"NÃO\"),\"NÃO\")","v":"NÃO"},{"$f":"IF(AND(BE$8>=$M25,BE$8<=$N25),IF($F25=\"Trimestral\",IF(BD89=\"NÃO\",$D25,IF(MOD(COUNT($Q89:BD89)+1,3)=0,(BD89*$E25)+BD89,BD89)),\"NÃO\"),\"NÃO\")","v":"NÃO"},{"$f":"IF(AND(BF$8>=$M25,BF$8<=$N25),IF($F25=\"Trimestral\",IF(BE89=\"NÃO\",$D25,IF(MOD(COUNT($Q89:BE89)+1,3)=0,(BE89*$E25)+BE89,BE89)),\"NÃO\"),\"NÃO\")","v":"NÃO"},{"$f":"IF(AND(BG$8>=$M25,BG$8<=$N25),IF($F25=\"Trimestral\",IF(BF89=\"NÃO\",$D25,IF(MOD(COUNT($Q89:BF89)+1,3)=0,(BF89*$E25)+BF89,BF89)),\"NÃO\"),\"NÃO\")","v":"NÃO"},{"$f":"IF(AND(BH$8>=$M25,BH$8<=$N25),IF($F25=\"Trimestral\",IF(BG89=\"NÃO\",$D25,IF(MOD(COUNT($Q89:BG89)+1,3)=0,(BG89*$E25)+BG89,BG89)),\"NÃO\"),\"NÃO\")","v":"NÃO"},{"$f":"IF(AND(BI$8>=$M25,BI$8<=$N25),IF($F25=\"Trimestral\",IF(BH89=\"NÃO\",$D25,IF(MOD(COUNT($Q89:BH89)+1,3)=0,(BH89*$E25)+BH89,BH89)),\"NÃO\"),\"NÃO\")","v":"NÃO"},{"$f":"IF(AND(BJ$8>=$M25,BJ$8<=$N25),IF($F25=\"Trimestral\",IF(BI89=\"NÃO\",$D25,IF(MOD(COUNT($Q89:BI89)+1,3)=0,(BI89*$E25)+BI89,BI89)),\"NÃO\"),\"NÃO\")","v":"NÃO"},{"$f":"IF(AND(BK$8>=$M25,BK$8<=$N25),IF($F25=\"Trimestral\",IF(BJ89=\"NÃO\",$D25,IF(MOD(COUNT($Q89:BJ89)+1,3)=0,(BJ89*$E25)+BJ89,BJ89)),\"NÃO\"),\"NÃO\")","v":"NÃO"},{"$f":"IF(AND(BL$8>=$M25,BL$8<=$N25),IF($F25=\"Trimestral\",IF(BK89=\"NÃO\",$D25,IF(MOD(COUNT($Q89:BK89)+1,3)=0,(BK89*$E25)+BK89,BK89)),\"NÃO\"),\"NÃO\")","v":"NÃO"},{"$f":"IF(AND(BM$8>=$M25,BM$8<=$N25),IF($F25=\"Trimestral\",IF(BL89=\"NÃO\",$D25,IF(MOD(COUNT($Q89:BL89)+1,3)=0,(BL89*$E25)+BL89,BL89)),\"NÃO\"),\"NÃO\")","v":"NÃO"},{"$f":"IF(AND(BN$8>=$M25,BN$8<=$N25),IF($F25=\"Trimestral\",IF(BM89=\"NÃO\",$D25,IF(MOD(COUNT($Q89:BM89)+1,3)=0,(BM89*$E25)+BM89,BM89)),\"NÃO\"),\"NÃO\")","v":"NÃO"},{"$f":"IF(AND(BO$8>=$M25,BO$8<=$N25),IF($F25=\"Trimestral\",IF(BN89=\"NÃO\",$D25,IF(MOD(COUNT($Q89:BN89)+1,3)=0,(BN89*$E25)+BN89,BN89)),\"NÃO\"),\"NÃO\")","v":"NÃO"},{"$f":"IF(AND(BP$8>=$M25,BP$8<=$N25),IF($F25=\"Trimestral\",IF(BO89=\"NÃO\",$D25,IF(MOD(COUNT($Q89:BO89)+1,3)=0,(BO89*$E25)+BO89,BO89)),\"NÃO\"),\"NÃO\")","v":"NÃO"},{"$f":"IF(AND(BQ$8>=$M25,BQ$8<=$N25),IF($F25=\"Trimestral\",IF(BP89=\"NÃO\",$D25,IF(MOD(COUNT($Q89:BP89)+1,3)=0,(BP89*$E25)+BP89,BP89)),\"NÃO\"),\"NÃO\")","v":"NÃO"},{"$f":"IF(AND(BR$8>=$M25,BR$8<=$N25),IF($F25=\"Trimestral\",IF(BQ89=\"NÃO\",$D25,IF(MOD(COUNT($Q89:BQ89)+1,3)=0,(BQ89*$E25)+BQ89,BQ89)),\"NÃO\"),\"NÃO\")","v":"NÃO"},{"$f":"IF(AND(BS$8>=$M25,BS$8<=$N25),IF($F25=\"Trimestral\",IF(BR89=\"NÃO\",$D25,IF(MOD(COUNT($Q89:BR89)+1,3)=0,(BR89*$E25)+BR89,BR89)),\"NÃO\"),\"NÃO\")","v":"NÃO"},{"$f":"IF(AND(BT$8>=$M25,BT$8<=$N25),IF($F25=\"Trimestral\",IF(BS89=\"NÃO\",$D25,IF(MOD(COUNT($Q89:BS89)+1,3)=0,(BS89*$E25)+BS89,BS89)),\"NÃO\"),\"NÃO\")","v":"NÃO"},{"$f":"IF(AND(BU$8>=$M25,BU$8<=$N25),IF($F25=\"Trimestral\",IF(BT89=\"NÃO\",$D25,IF(MOD(COUNT($Q89:BT89)+1,3)=0,(BT89*$E25)+BT89,BT89)),\"NÃO\"),\"NÃO\")","v":"NÃO"},{"$f":"IF(AND(BV$8>=$M25,BV$8<=$N25),IF($F25=\"Trimestral\",IF(BU89=\"NÃO\",$D25,IF(MOD(COUNT($Q89:BU89)+1,3)=0,(BU89*$E25)+BU89,BU89)),\"NÃO\"),\"NÃO\")","v":"NÃO"},{"$f":"IF(AND(BW$8>=$M25,BW$8<=$N25),IF($F25=\"Trimestral\",IF(BV89=\"NÃO\",$D25,IF(MOD(COUNT($Q89:BV89)+1,3)=0,(BV89*$E25)+BV89,BV89)),\"NÃO\"),\"NÃO\")","v":"NÃO"},{"$f":"IF(AND(BX$8>=$M25,BX$8<=$N25),IF($F25=\"Trimestral\",IF(BW89=\"NÃO\",$D25,IF(MOD(COUNT($Q89:BW89)+1,3)=0,(BW89*$E25)+BW89,BW89)),\"NÃO\"),\"NÃO\")","v":"NÃO"},null,null,17]
[null,null,null,null,null,null,null,null,null,null,null,null,null,null,null,18,"NÃO",{"$f":"IF(AND(R$8>=$M26,R$8<=$N26),IF($F26=\"Trimestral\",IF(Q90=\"NÃO\",$D26,IF(MOD(COUNT($Q90:Q90)+1,3)=0,(Q90*$E26)+Q90,Q90)),\"NÃO\"),\"NÃO\")","v":"NÃO"},{"$f":"IF(AND(S$8>=$M26,S$8<=$N26),IF($F26=\"Trimestral\",IF(R90=\"NÃO\",$D26,IF(MOD(COUNT($Q90:R90)+1,3)=0,(R90*$E26)+R90,R90)),\"NÃO\"),\"NÃO\")","v":"NÃO"},{"$f":"IF(AND(T$8>=$M26,T$8<=$N26),IF($F26=\"Trimestral\",IF(S90=\"NÃO\",$D26,IF(MOD(COUNT($Q90:S90)+1,3)=0,(S90*$E26)+S90,S90)),\"NÃO\"),\"NÃO\")","v":"NÃO"},{"$f":"IF(AND(U$8>=$M26,U$8<=$N26),IF($F26=\"Trimestral\",IF(T90=\"NÃO\",$D26,IF(MOD(COUNT($Q90:T90)+1,3)=0,(T90*$E26)+T90,T90)),\"NÃO\"),\"NÃO\")","v":"NÃO"},{"$f":"IF(AND(V$8>=$M26,V$8<=$N26),IF($F26=\"Trimestral\",IF(U90=\"NÃO\",$D26,IF(MOD(COUNT($Q90:U90)+1,3)=0,(U90*$E26)+U90,U90)),\"NÃO\"),\"NÃO\")","v":"NÃO"},{"$f":"IF(AND(W$8>=$M26,W$8<=$N26),IF($F26=\"Trimestral\",IF(V90=\"NÃO\",$D26,IF(MOD(COUNT($Q90:V90)+1,3)=0,(V90*$E26)+V90,V90)),\"NÃO\"),\"NÃO\")","v":"NÃO"},{"$f":"IF(AND(X$8>=$M26,X$8<=$N26),IF($F26=\"Trimestral\",IF(W90=\"NÃO\",$D26,IF(MOD(COUNT($Q90:W90)+1,3)=0,(W90*$E26)+W90,W90)),\"NÃO\"),\"NÃO\")","v":"NÃO"},{"$f":"IF(AND(Y$8>=$M26,Y$8<=$N26),IF($F26=\"Trimestral\",IF(X90=\"NÃO\",$D26,IF(MOD(COUNT($Q90:X90)+1,3)=0,(X90*$E26)+X90,X90)),\"NÃO\"),\"NÃO\")","v":"NÃO"},{"$f":"IF(AND(Z$8>=$M26,Z$8<=$N26),IF($F26=\"Trimestral\",IF(Y90=\"NÃO\",$D26,IF(MOD(COUNT($Q90:Y90)+1,3)=0,(Y90*$E26)+Y90,Y90)),\"NÃO\"),\"NÃO\")","v":"NÃO"},{"$f":"IF(AND(AA$8>=$M26,AA$8<=$N26),IF($F26=\"Trimestral\",IF(Z90=\"NÃO\",$D26,IF(MOD(COUNT($Q90:Z90)+1,3)=0,(Z90*$E26)+Z90,Z90)),\"NÃO\"),\"NÃO\")","v":"NÃO"},{"$f":"IF(AND(AB$8>=$M26,AB$8<=$N26),IF($F26=\"Trimestral\",IF(AA90=\"NÃO\",$D26,IF(MOD(COUNT($Q90:AA90)+1,3)=0,(AA90*$E26)+AA90,AA90)),\"NÃO\"),\"NÃO\")","v":"NÃO"},{"$f":"IF(AND(AC$8>=$M26,AC$8<=$N26),IF($F26=\"Trimestral\",IF(AB90=\"NÃO\",$D26,IF(MOD(COUNT($Q90:AB90)+1,3)=0,(AB90*$E26)+AB90,AB90)),\"NÃO\"),\"NÃO\")","v":"NÃO"},{"$f":"IF(AND(AD$8>=$M26,AD$8<=$N26),IF($F26=\"Trimestral\",IF(AC90=\"NÃO\",$D26,IF(MOD(COUNT($Q90:AC90)+1,3)=0,(AC90*$E26)+AC90,AC90)),\"NÃO\"),\"NÃO\")","v":"NÃO"},{"$f":"IF(AND(AE$8>=$M26,AE$8<=$N26),IF($F26=\"Trimestral\",IF(AD90=\"NÃO\",$D26,IF(MOD(COUNT($Q90:AD90)+1,3)=0,(AD90*$E26)+AD90,AD90)),\"NÃO\"),\"NÃO\")","v":"NÃO"},{"$f":"IF(AND(AF$8>=$M26,AF$8<=$N26),IF($F26=\"Trimestral\",IF(AE90=\"NÃO\",$D26,IF(MOD(COUNT($Q90:AE90)+1,3)=0,(AE90*$E26)+AE90,AE90)),\"NÃO\"),\"NÃO\")","v":"NÃO"},{"$f":"IF(AND(AG$8>=$M26,AG$8<=$N26),IF($F26=\"Trimestral\",IF(AF90=\"NÃO\",$D26,IF(MOD(COUNT($Q90:AF90)+1,3)=0,(AF90*$E26)+AF90,AF90)),\"NÃO\"),\"NÃO\")","v":"NÃO"},{"$f":"IF(AND(AH$8>=$M26,AH$8<=$N26),IF($F26=\"Trimestral\",IF(AG90=\"NÃO\",$D26,IF(MOD(COUNT($Q90:AG90)+1,3)=0,(AG90*$E26)+AG90,AG90)),\"NÃO\"),\"NÃO\")","v":"NÃO"},{"$f":"IF(AND(AI$8>=$M26,AI$8<=$N26),IF($F26=\"Trimestral\",IF(AH90=\"NÃO\",$D26,IF(MOD(COUNT($Q90:AH90)+1,3)=0,(AH90*$E26)+AH90,AH90)),\"NÃO\"),\"NÃO\")","v":"NÃO"},{"$f":"IF(AND(AJ$8>=$M26,AJ$8<=$N26),IF($F26=\"Trimestral\",IF(AI90=\"NÃO\",$D26,IF(MOD(COUNT($Q90:AI90)+1,3)=0,(AI90*$E26)+AI90,AI90)),\"NÃO\"),\"NÃO\")","v":"NÃO"},{"$f":"IF(AND(AK$8>=$M26,AK$8<=$N26),IF($F26=\"Trimestral\",IF(AJ90=\"NÃO\",$D26,IF(MOD(COUNT($Q90:AJ90)+1,3)=0,(AJ90*$E26)+AJ90,AJ90)),\"NÃO\"),\"NÃO\")","v":"NÃO"},{"$f":"IF(AND(AL$8>=$M26,AL$8<=$N26),IF($F26=\"Trimestral\",IF(AK90=\"NÃO\",$D26,IF(MOD(COUNT($Q90:AK90)+1,3)=0,(AK90*$E26)+AK90,AK90)),\"NÃO\"),\"NÃO\")","v":"NÃO"},{"$f":"IF(AND(AM$8>=$M26,AM$8<=$N26),IF($F26=\"Trimestral\",IF(AL90=\"NÃO\",$D26,IF(MOD(COUNT($Q90:AL90)+1,3)=0,(AL90*$E26)+AL90,AL90)),\"NÃO\"),\"NÃO\")","v":"NÃO"},{"$f":"IF(AND(AN$8>=$M26,AN$8<=$N26),IF($F26=\"Trimestral\",IF(AM90=\"NÃO\",$D26,IF(MOD(COUNT($Q90:AM90)+1,3)=0,(AM90*$E26)+AM90,AM90)),\"NÃO\"),\"NÃO\")","v":"NÃO"},{"$f":"IF(AND(AO$8>=$M26,AO$8<=$N26),IF($F26=\"Trimestral\",IF(AN90=\"NÃO\",$D26,IF(MOD(COUNT($Q90:AN90)+1,3)=0,(AN90*$E26)+AN90,AN90)),\"NÃO\"),\"NÃO\")","v":"NÃO"},{"$f":"IF(AND(AP$8>=$M26,AP$8<=$N26),IF($F26=\"Trimestral\",IF(AO90=\"NÃO\",$D26,IF(MOD(COUNT($Q90:AO90)+1,3)=0,(AO90*$E26)+AO90,AO90)),\"NÃO\"),\"NÃO\")","v":"NÃO"},{"$f":"IF(AND(AQ$8>=$M26,AQ$8<=$N26),IF($F26=\"Trimestral\",IF(AP90=\"NÃO\",$D26,IF(MOD(COUNT($Q90:AP90)+1,3)=0,(AP90*$E26)+AP90,AP90)),\"NÃO\"),\"NÃO\")","v":"NÃO"},{"$f":"IF(AND(AR$8>=$M26,AR$8<=$N26),IF($F26=\"Trimestral\",IF(AQ90=\"NÃO\",$D26,IF(MOD(COUNT($Q90:AQ90)+1,3)=0,(AQ90*$E26)+AQ90,AQ90)),\"NÃO\"),\"NÃO\")","v":"NÃO"},{"$f":"IF(AND(AS$8>=$M26,AS$8<=$N26),IF($F26=\"Trimestral\",IF(AR90=\"NÃO\",$D26,IF(MOD(COUNT($Q90:AR90)+1,3)=0,(AR90*$E26)+AR90,AR90)),\"NÃO\"),\"NÃO\")","v":"NÃO"},{"$f":"IF(AND(AT$8>=$M26,AT$8<=$N26),IF($F26=\"Trimestral\",IF(AS90=\"NÃO\",$D26,IF(MOD(COUNT($Q90:AS90)+1,3)=0,(AS90*$E26)+AS90,AS90)),\"NÃO\"),\"NÃO\")","v":"NÃO"},{"$f":"IF(AND(AU$8>=$M26,AU$8<=$N26),IF($F26=\"Trimestral\",IF(AT90=\"NÃO\",$D26,IF(MOD(COUNT($Q90:AT90)+1,3)=0,(AT90*$E26)+AT90,AT90)),\"NÃO\"),\"NÃO\")","v":"NÃO"},{"$f":"IF(AND(AV$8>=$M26,AV$8<=$N26),IF($F26=\"Trimestral\",IF(AU90=\"NÃO\",$D26,IF(MOD(COUNT($Q90:AU90)+1,3)=0,(AU90*$E26)+AU90,AU90)),\"NÃO\"),\"NÃO\")","v":"NÃO"},{"$f":"IF(AND(AW$8>=$M26,AW$8<=$N26),IF($F26=\"Trimestral\",IF(AV90=\"NÃO\",$D26,IF(MOD(COUNT($Q90:AV90)+1,3)=0,(AV90*$E26)+AV90,AV90)),\"NÃO\"),\"NÃO\")","v":"NÃO"},{"$f":"IF(AND(AX$8>=$M26,AX$8<=$N26),IF($F26=\"Trimestral\",IF(AW90=\"NÃO\",$D26,IF(MOD(COUNT($Q90:AW90)+1,3)=0,(AW90*$E26)+AW90,AW90)),\"NÃO\"),\"NÃO\")","v":"NÃO"},{"$f":"IF(AND(AY$8>=$M26,AY$8<=$N26),IF($F26=\"Trimestral\",IF(AX90=\"NÃO\",$D26,IF(MOD(COUNT($Q90:AX90)+1,3)=0,(AX90*$E26)+AX90,AX90)),\"NÃO\"),\"NÃO\")","v":"NÃO"},{"$f":"IF(AND(AZ$8>=$M26,AZ$8<=$N26),IF($F26=\"Trimestral\",IF(AY90=\"NÃO\",$D26,IF(MOD(COUNT($Q90:AY90)+1,3)=0,(AY90*$E26)+AY90,AY90)),\"NÃO\"),\"NÃO\")","v":"NÃO"},{"$f":"IF(AND(BA$8>=$M26,BA$8<=$N26),IF($F26=\"Trimestral\",IF(AZ90=\"NÃO\",$D26,IF(MOD(COUNT($Q90:AZ90)+1,3)=0,(AZ90*$E26)+AZ90,AZ90)),\"NÃO\"),\"NÃO\")","v":"NÃO"},{"$f":"IF(AND(BB$8>=$M26,BB$8<=$N26),IF($F26=\"Trimestral\",IF(BA90=\"NÃO\",$D26,IF(MOD(COUNT($Q90:BA90)+1,3)=0,(BA90*$E26)+BA90,BA90)),\"NÃO\"),\"NÃO\")","v":"NÃO"},{"$f":"IF(AND(BC$8>=$M26,BC$8<=$N26),IF($F26=\"Trimestral\",IF(BB90=\"NÃO\",$D26,IF(MOD(COUNT($Q90:BB90)+1,3)=0,(BB90*$E26)+BB90,BB90)),\"NÃO\"),\"NÃO\")","v":"NÃO"},{"$f":"IF(AND(BD$8>=$M26,BD$8<=$N26),IF($F26=\"Trimestral\",IF(BC90=\"NÃO\",$D26,IF(MOD(COUNT($Q90:BC90)+1,3)=0,(BC90*$E26)+BC90,BC90)),\"NÃO\"),\"NÃO\")","v":"NÃO"},{"$f":"IF(AND(BE$8>=$M26,BE$8<=$N26),IF($F26=\"Trimestral\",IF(BD90=\"NÃO\",$D26,IF(MOD(COUNT($Q90:BD90)+1,3)=0,(BD90*$E26)+BD90,BD90)),\"NÃO\"),\"NÃO\")","v":"NÃO"},{"$f":"IF(AND(BF$8>=$M26,BF$8<=$N26),IF($F26=\"Trimestral\",IF(BE90=\"NÃO\",$D26,IF(MOD(COUNT($Q90:BE90)+1,3)=0,(BE90*$E26)+BE90,BE90)),\"NÃO\"),\"NÃO\")","v":"NÃO"},{"$f":"IF(AND(BG$8>=$M26,BG$8<=$N26),IF($F26=\"Trimestral\",IF(BF90=\"NÃO\",$D26,IF(MOD(COUNT($Q90:BF90)+1,3)=0,(BF90*$E26)+BF90,BF90)),\"NÃO\"),\"NÃO\")","v":"NÃO"},{"$f":"IF(AND(BH$8>=$M26,BH$8<=$N26),IF($F26=\"Trimestral\",IF(BG90=\"NÃO\",$D26,IF(MOD(COUNT($Q90:BG90)+1,3)=0,(BG90*$E26)+BG90,BG90)),\"NÃO\"),\"NÃO\")","v":"NÃO"},{"$f":"IF(AND(BI$8>=$M26,BI$8<=$N26),IF($F26=\"Trimestral\",IF(BH90=\"NÃO\",$D26,IF(MOD(COUNT($Q90:BH90)+1,3)=0,(BH90*$E26)+BH90,BH90)),\"NÃO\"),\"NÃO\")","v":"NÃO"},{"$f":"IF(AND(BJ$8>=$M26,BJ$8<=$N26),IF($F26=\"Trimestral\",IF(BI90=\"NÃO\",$D26,IF(MOD(COUNT($Q90:BI90)+1,3)=0,(BI90*$E26)+BI90,BI90)),\"NÃO\"),\"NÃO\")","v":"NÃO"},{"$f":"IF(AND(BK$8>=$M26,BK$8<=$N26),IF($F26=\"Trimestral\",IF(BJ90=\"NÃO\",$D26,IF(MOD(COUNT($Q90:BJ90)+1,3)=0,(BJ90*$E26)+BJ90,BJ90)),\"NÃO\"),\"NÃO\")","v":"NÃO"},{"$f":"IF(AND(BL$8>=$M26,BL$8<=$N26),IF($F26=\"Trimestral\",IF(BK90=\"NÃO\",$D26,IF(MOD(COUNT($Q90:BK90)+1,3)=0,(BK90*$E26)+BK90,BK90)),\"NÃO\"),\"NÃO\")","v":"NÃO"},{"$f":"IF(AND(BM$8>=$M26,BM$8<=$N26),IF($F26=\"Trimestral\",IF(BL90=\"NÃO\",$D26,IF(MOD(COUNT($Q90:BL90)+1,3)=0,(BL90*$E26)+BL90,BL90)),\"NÃO\"),\"NÃO\")","v":"NÃO"},{"$f":"IF(AND(BN$8>=$M26,BN$8<=$N26),IF($F26=\"Trimestral\",IF(BM90=\"NÃO\",$D26,IF(MOD(COUNT($Q90:BM90)+1,3)=0,(BM90*$E26)+BM90,BM90)),\"NÃO\"),\"NÃO\")","v":"NÃO"},{"$f":"IF(AND(BO$8>=$M26,BO$8<=$N26),IF($F26=\"Trimestral\",IF(BN90=\"NÃO\",$D26,IF(MOD(COUNT($Q90:BN90)+1,3)=0,(BN90*$E26)+BN90,BN90)),\"NÃO\"),\"NÃO\")","v":"NÃO"},{"$f":"IF(AND(BP$8>=$M26,BP$8<=$N26),IF($F26=\"Trimestral\",IF(BO90=\"NÃO\",$D26,IF(MOD(COUNT($Q90:BO90)+1,3)=0,(BO90*$E26)+BO90,BO90)),\"NÃO\"),\"NÃO\")","v":"NÃO"},{"$f":"IF(AND(BQ$8>=$M26,BQ$8<=$N26),IF($F26=\"Trimestral\",IF(BP90=\"NÃO\",$D26,IF(MOD(COUNT($Q90:BP90)+1,3)=0,(BP90*$E26)+BP90,BP90)),\"NÃO\"),\"NÃO\")","v":"NÃO"},{"$f":"IF(AND(BR$8>=$M26,BR$8<=$N26),IF($F26=\"Trimestral\",IF(BQ90=\"NÃO\",$D26,IF(MOD(COUNT($Q90:BQ90)+1,3)=0,(BQ90*$E26)+BQ90,BQ90)),\"NÃO\"),\"NÃO\")","v":"NÃO"},{"$f":"IF(AND(BS$8>=$M26,BS$8<=$N26),IF($F26=\"Trimestral\",IF(BR90=\"NÃO\",$D26,IF(MOD(COUNT($Q90:BR90)+1,3)=0,(BR90*$E26)+BR90,BR90)),\"NÃO\"),\"NÃO\")","v":"NÃO"},{"$f":"IF(AND(BT$8>=$M26,BT$8<=$N26),IF($F26=\"Trimestral\",IF(BS90=\"NÃO\",$D26,IF(MOD(COUNT($Q90:BS90)+1,3)=0,(BS90*$E26)+BS90,BS90)),\"NÃO\"),\"NÃO\")","v":"NÃO"},{"$f":"IF(AND(BU$8>=$M26,BU$8<=$N26),IF($F26=\"Trimestral\",IF(BT90=\"NÃO\",$D26,IF(MOD(COUNT($Q90:BT90)+1,3)=0,(BT90*$E26)+BT90,BT90)),\"NÃO\"),\"NÃO\")","v":"NÃO"},{"$f":"IF(AND(BV$8>=$M26,BV$8<=$N26),IF($F26=\"Trimestral\",IF(BU90=\"NÃO\",$D26,IF(MOD(COUNT($Q90:BU90)+1,3)=0,(BU90*$E26)+BU90,BU90)),\"NÃO\"),\"NÃO\")","v":"NÃO"},{"$f":"IF(AND(BW$8>=$M26,BW$8<=$N26),IF($F26=\"Trimestral\",IF(BV90=\"NÃO\",$D26,IF(MOD(COUNT($Q90:BV90)+1,3)=0,(BV90*$E26)+BV90,BV90)),\"NÃO\"),\"NÃO\")","v":"NÃO"},{"$f":"IF(AND(BX$8>=$M26,BX$8<=$N26),IF($F26=\"Trimestral\",IF(BW90=\"NÃO\",$D26,IF(MOD(COUNT($Q90:BW90)+1,3)=0,(BW90*$E26)+BW90,BW90)),\"NÃO\"),\"NÃO\")","v":"NÃO"},null,null,18]
[null,null,null,null,null,null,null,null,null,null,null,null,null,null,null,19,"NÃO",{"$f":"IF(AND(R$8>=$M27,R$8<=$N27),IF($F27=\"Trimestral\",IF(Q91=\"NÃO\",$D27,IF(MOD(COUNT($Q91:Q91)+1,3)=0,(Q91*$E27)+Q91,Q91)),\"NÃO\"),\"NÃO\")","v":"NÃO"},{"$f":"IF(AND(S$8>=$M27,S$8<=$N27),IF($F27=\"Trimestral\",IF(R91=\"NÃO\",$D27,IF(MOD(COUNT($Q91:R91)+1,3)=0,(R91*$E27)+R91,R91)),\"NÃO\"),\"NÃO\")","v":"NÃO"},{"$f":"IF(AND(T$8>=$M27,T$8<=$N27),IF($F27=\"Trimestral\",IF(S91=\"NÃO\",$D27,IF(MOD(COUNT($Q91:S91)+1,3)=0,(S91*$E27)+S91,S91)),\"NÃO\"),\"NÃO\")","v":"NÃO"},{"$f":"IF(AND(U$8>=$M27,U$8<=$N27),IF($F27=\"Trimestral\",IF(T91=\"NÃO\",$D27,IF(MOD(COUNT($Q91:T91)+1,3)=0,(T91*$E27)+T91,T91)),\"NÃO\"),\"NÃO\")","v":"NÃO"},{"$f":"IF(AND(V$8>=$M27,V$8<=$N27),IF($F27=\"Trimestral\",IF(U91=\"NÃO\",$D27,IF(MOD(COUNT($Q91:U91)+1,3)=0,(U91*$E27)+U91,U91)),\"NÃO\"),\"NÃO\")","v":"NÃO"},{"$f":"IF(AND(W$8>=$M27,W$8<=$N27),IF($F27=\"Trimestral\",IF(V91=\"NÃO\",$D27,IF(MOD(COUNT($Q91:V91)+1,3)=0,(V91*$E27)+V91,V91)),\"NÃO\"),\"NÃO\")","v":"NÃO"},{"$f":"IF(AND(X$8>=$M27,X$8<=$N27),IF($F27=\"Trimestral\",IF(W91=\"NÃO\",$D27,IF(MOD(COUNT($Q91:W91)+1,3)=0,(W91*$E27)+W91,W91)),\"NÃO\"),\"NÃO\")","v":"NÃO"},{"$f":"IF(AND(Y$8>=$M27,Y$8<=$N27),IF($F27=\"Trimestral\",IF(X91=\"NÃO\",$D27,IF(MOD(COUNT($Q91:X91)+1,3)=0,(X91*$E27)+X91,X91)),\"NÃO\"),\"NÃO\")","v":"NÃO"},{"$f":"IF(AND(Z$8>=$M27,Z$8<=$N27),IF($F27=\"Trimestral\",IF(Y91=\"NÃO\",$D27,IF(MOD(COUNT($Q91:Y91)+1,3)=0,(Y91*$E27)+Y91,Y91)),\"NÃO\"),\"NÃO\")","v":"NÃO"},{"$f":"IF(AND(AA$8>=$M27,AA$8<=$N27),IF($F27=\"Trimestral\",IF(Z91=\"NÃO\",$D27,IF(MOD(COUNT($Q91:Z91)+1,3)=0,(Z91*$E27)+Z91,Z91)),\"NÃO\"),\"NÃO\")","v":"NÃO"},{"$f":"IF(AND(AB$8>=$M27,AB$8<=$N27),IF($F27=\"Trimestral\",IF(AA91=\"NÃO\",$D27,IF(MOD(COUNT($Q91:AA91)+1,3)=0,(AA91*$E27)+AA91,AA91)),\"NÃO\"),\"NÃO\")","v":"NÃO"},{"$f":"IF(AND(AC$8>=$M27,AC$8<=$N27),IF($F27=\"Trimestral\",IF(AB91=\"NÃO\",$D27,IF(MOD(COUNT($Q91:AB91)+1,3)=0,(AB91*$E27)+AB91,AB91)),\"NÃO\"),\"NÃO\")","v":"NÃO"},{"$f":"IF(AND(AD$8>=$M27,AD$8<=$N27),IF($F27=\"Trimestral\",IF(AC91=\"NÃO\",$D27,IF(MOD(COUNT($Q91:AC91)+1,3)=0,(AC91*$E27)+AC91,AC91)),\"NÃO\"),\"NÃO\")","v":"NÃO"},{"$f":"IF(AND(AE$8>=$M27,AE$8<=$N27),IF($F27=\"Trimestral\",IF(AD91=\"NÃO\",$D27,IF(MOD(COUNT($Q91:AD91)+1,3)=0,(AD91*$E27)+AD91,AD91)),\"NÃO\"),\"NÃO\")","v":"NÃO"},{"$f":"IF(AND(AF$8>=$M27,AF$8<=$N27),IF($F27=\"Trimestral\",IF(AE91=\"NÃO\",$D27,IF(MOD(COUNT($Q91:AE91)+1,3)=0,(AE91*$E27)+AE91,AE91)),\"NÃO\"),\"NÃO\")","v":"NÃO"},{"$f":"IF(AND(AG$8>=$M27,AG$8<=$N27),IF($F27=\"Trimestral\",IF(AF91=\"NÃO\",$D27,IF(MOD(COUNT($Q91:AF91)+1,3)=0,(AF91*$E27)+AF91,AF91)),\"NÃO\"),\"NÃO\")","v":"NÃO"},{"$f":"IF(AND(AH$8>=$M27,AH$8<=$N27),IF($F27=\"Trimestral\",IF(AG91=\"NÃO\",$D27,IF(MOD(COUNT($Q91:AG91)+1,3)=0,(AG91*$E27)+AG91,AG91)),\"NÃO\"),\"NÃO\")","v":"NÃO"},{"$f":"IF(AND(AI$8>=$M27,AI$8<=$N27),IF($F27=\"Trimestral\",IF(AH91=\"NÃO\",$D27,IF(MOD(COUNT($Q91:AH91)+1,3)=0,(AH91*$E27)+AH91,AH91)),\"NÃO\"),\"NÃO\")","v":"NÃO"},{"$f":"IF(AND(AJ$8>=$M27,AJ$8<=$N27),IF($F27=\"Trimestral\",IF(AI91=\"NÃO\",$D27,IF(MOD(COUNT($Q91:AI91)+1,3)=0,(AI91*$E27)+AI91,AI91)),\"NÃO\"),\"NÃO\")","v":"NÃO"},{"$f":"IF(AND(AK$8>=$M27,AK$8<=$N27),IF($F27=\"Trimestral\",IF(AJ91=\"NÃO\",$D27,IF(MOD(COUNT($Q91:AJ91)+1,3)=0,(AJ91*$E27)+AJ91,AJ91)),\"NÃO\"),\"NÃO\")","v":"NÃO"},{"$f":"IF(AND(AL$8>=$M27,AL$8<=$N27),IF($F27=\"Trimestral\",IF(AK91=\"NÃO\",$D27,IF(MOD(COUNT($Q91:AK91)+1,3)=0,(AK91*$E27)+AK91,AK91)),\"NÃO\"),\"NÃO\")","v":"NÃO"},{"$f":"IF(AND(AM$8>=$M27,AM$8<=$N27),IF($F27=\"Trimestral\",IF(AL91=\"NÃO\",$D27,IF(MOD(COUNT($Q91:AL91)+1,3)=0,(AL91*$E27)+AL91,AL91)),\"NÃO\"),\"NÃO\")","v":"NÃO"},{"$f":"IF(AND(AN$8>=$M27,AN$8<=$N27),IF($F27=\"Trimestral\",IF(AM91=\"NÃO\",$D27,IF(MOD(COUNT($Q91:AM91)+1,3)=0,(AM91*$E27)+AM91,AM91)),\"NÃO\"),\"NÃO\")","v":"NÃO"},{"$f":"IF(AND(AO$8>=$M27,AO$8<=$N27),IF($F27=\"Trimestral\",IF(AN91=\"NÃO\",$D27,IF(MOD(COUNT($Q91:AN91)+1,3)=0,(AN91*$E27)+AN91,AN91)),\"NÃO\"),\"NÃO\")","v":"NÃO"},{"$f":"IF(AND(AP$8>=$M27,AP$8<=$N27),IF($F27=\"Trimestral\",IF(AO91=\"NÃO\",$D27,IF(MOD(COUNT($Q91:AO91)+1,3)=0,(AO91*$E27)+AO91,AO91)),\"NÃO\"),\"NÃO\")","v":"NÃO"},{"$f":"IF(AND(AQ$8>=$M27,AQ$8<=$N27),IF($F27=\"Trimestral\",IF(AP91=\"NÃO\",$D27,IF(MOD(COUNT($Q91:AP91)+1,3)=0,(AP91*$E27)+AP91,AP91)),\"NÃO\"),\"NÃO\")","v":"NÃO"},{"$f":"IF(AND(AR$8>=$M27,AR$8<=$N27),IF($F27=\"Trimestral\",IF(AQ91=\"NÃO\",$D27,IF(MOD(COUNT($Q91:AQ91)+1,3)=0,(AQ91*$E27)+AQ91,AQ91)),\"NÃO\"),\"NÃO\")","v":"NÃO"},{"$f":"IF(AND(AS$8>=$M27,AS$8<=$N27),IF($F27=\"Trimestral\",IF(AR91=\"NÃO\",$D27,IF(MOD(COUNT($Q91:AR91)+1,3)=0,(AR91*$E27)+AR91,AR91)),\"NÃO\"),\"NÃO\")","v":"NÃO"},{"$f":"IF(AND(AT$8>=$M27,AT$8<=$N27),IF($F27=\"Trimestral\",IF(AS91=\"NÃO\",$D27,IF(MOD(COUNT($Q91:AS91)+1,3)=0,(AS91*$E27)+AS91,AS91)),\"NÃO\"),\"NÃO\")","v":"NÃO"},{"$f":"IF(AND(AU$8>=$M27,AU$8<=$N27),IF($F27=\"Trimestral\",IF(AT91=\"NÃO\",$D27,IF(MOD(COUNT($Q91:AT91)+1,3)=0,(AT91*$E27)+AT91,AT91)),\"NÃO\"),\"NÃO\")","v":"NÃO"},{"$f":"IF(AND(AV$8>=$M27,AV$8<=$N27),IF($F27=\"Trimestral\",IF(AU91=\"NÃO\",$D27,IF(MOD(COUNT($Q91:AU91)+1,3)=0,(AU91*$E27)+AU91,AU91)),\"NÃO\"),\"NÃO\")","v":"NÃO"},{"$f":"IF(AND(AW$8>=$M27,AW$8<=$N27),IF($F27=\"Trimestral\",IF(AV91=\"NÃO\",$D27,IF(MOD(COUNT($Q91:AV91)+1,3)=0,(AV91*$E27)+AV91,AV91)),\"NÃO\"),\"NÃO\")","v":"NÃO"},{"$f":"IF(AND(AX$8>=$M27,AX$8<=$N27),IF($F27=\"Trimestral\",IF(AW91=\"NÃO\",$D27,IF(MOD(COUNT($Q91:AW91)+1,3)=0,(AW91*$E27)+AW91,AW91)),\"NÃO\"),\"NÃO\")","v":"NÃO"},{"$f":"IF(AND(AY$8>=$M27,AY$8<=$N27),IF($F27=\"Trimestral\",IF(AX91=\"NÃO\",$D27,IF(MOD(COUNT($Q91:AX91)+1,3)=0,(AX91*$E27)+AX91,AX91)),\"NÃO\"),\"NÃO\")","v":"NÃO"},{"$f":"IF(AND(AZ$8>=$M27,AZ$8<=$N27),IF($F27=\"Trimestral\",IF(AY91=\"NÃO\",$D27,IF(MOD(COUNT($Q91:AY91)+1,3)=0,(AY91*$E27)+AY91,AY91)),\"NÃO\"),\"NÃO\")","v":"NÃO"},{"$f":"IF(AND(BA$8>=$M27,BA$8<=$N27),IF($F27=\"Trimestral\",IF(AZ91=\"NÃO\",$D27,IF(MOD(COUNT($Q91:AZ91)+1,3)=0,(AZ91*$E27)+AZ91,AZ91)),\"NÃO\"),\"NÃO\")","v":"NÃO"},{"$f":"IF(AND(BB$8>=$M27,BB$8<=$N27),IF($F27=\"Trimestral\",IF(BA91=\"NÃO\",$D27,IF(MOD(COUNT($Q91:BA91)+1,3)=0,(BA91*$E27)+BA91,BA91)),\"NÃO\"),\"NÃO\")","v":"NÃO"},{"$f":"IF(AND(BC$8>=$M27,BC$8<=$N27),IF($F27=\"Trimestral\",IF(BB91=\"NÃO\",$D27,IF(MOD(COUNT($Q91:BB91)+1,3)=0,(BB91*$E27)+BB91,BB91)),\"NÃO\"),\"NÃO\")","v":"NÃO"},{"$f":"IF(AND(BD$8>=$M27,BD$8<=$N27),IF($F27=\"Trimestral\",IF(BC91=\"NÃO\",$D27,IF(MOD(COUNT($Q91:BC91)+1,3)=0,(BC91*$E27)+BC91,BC91)),\"NÃO\"),\"NÃO\")","v":"NÃO"},{"$f":"IF(AND(BE$8>=$M27,BE$8<=$N27),IF($F27=\"Trimestral\",IF(BD91=\"NÃO\",$D27,IF(MOD(COUNT($Q91:BD91)+1,3)=0,(BD91*$E27)+BD91,BD91)),\"NÃO\"),\"NÃO\")","v":"NÃO"},{"$f":"IF(AND(BF$8>=$M27,BF$8<=$N27),IF($F27=\"Trimestral\",IF(BE91=\"NÃO\",$D27,IF(MOD(COUNT($Q91:BE91)+1,3)=0,(BE91*$E27)+BE91,BE91)),\"NÃO\"),\"NÃO\")","v":"NÃO"},{"$f":"IF(AND(BG$8>=$M27,BG$8<=$N27),IF($F27=\"Trimestral\",IF(BF91=\"NÃO\",$D27,IF(MOD(COUNT($Q91:BF91)+1,3)=0,(BF91*$E27)+BF91,BF91)),\"NÃO\"),\"NÃO\")","v":"NÃO"},{"$f":"IF(AND(BH$8>=$M27,BH$8<=$N27),IF($F27=\"Trimestral\",IF(BG91=\"NÃO\",$D27,IF(MOD(COUNT($Q91:BG91)+1,3)=0,(BG91*$E27)+BG91,BG91)),\"NÃO\"),\"NÃO\")","v":"NÃO"},{"$f":"IF(AND(BI$8>=$M27,BI$8<=$N27),IF($F27=\"Trimestral\",IF(BH91=\"NÃO\",$D27,IF(MOD(COUNT($Q91:BH91)+1,3)=0,(BH91*$E27)+BH91,BH91)),\"NÃO\"),\"NÃO\")","v":"NÃO"},{"$f":"IF(AND(BJ$8>=$M27,BJ$8<=$N27),IF($F27=\"Trimestral\",IF(BI91=\"NÃO\",$D27,IF(MOD(COUNT($Q91:BI91)+1,3)=0,(BI91*$E27)+BI91,BI91)),\"NÃO\"),\"NÃO\")","v":"NÃO"},{"$f":"IF(AND(BK$8>=$M27,BK$8<=$N27),IF($F27=\"Trimestral\",IF(BJ91=\"NÃO\",$D27,IF(MOD(COUNT($Q91:BJ91)+1,3)=0,(BJ91*$E27)+BJ91,BJ91)),\"NÃO\"),\"NÃO\")","v":"NÃO"},{"$f":"IF(AND(BL$8>=$M27,BL$8<=$N27),IF($F27=\"Trimestral\",IF(BK91=\"NÃO\",$D27,IF(MOD(COUNT($Q91:BK91)+1,3)=0,(BK91*$E27)+BK91,BK91)),\"NÃO\"),\"NÃO\")","v":"NÃO"},{"$f":"IF(AND(BM$8>=$M27,BM$8<=$N27),IF($F27=\"Trimestral\",IF(BL91=\"NÃO\",$D27,IF(MOD(COUNT($Q91:BL91)+1,3)=0,(BL91*$E27)+BL91,BL91)),\"NÃO\"),\"NÃO\")","v":"NÃO"},{"$f":"IF(AND(BN$8>=$M27,BN$8<=$N27),IF($F27=\"Trimestral\",IF(BM91=\"NÃO\",$D27,IF(MOD(COUNT($Q91:BM91)+1,3)=0,(BM91*$E27)+BM91,BM91)),\"NÃO\"),\"NÃO\")","v":"NÃO"},{"$f":"IF(AND(BO$8>=$M27,BO$8<=$N27),IF($F27=\"Trimestral\",IF(BN91=\"NÃO\",$D27,IF(MOD(COUNT($Q91:BN91)+1,3)=0,(BN91*$E27)+BN91,BN91)),\"NÃO\"),\"NÃO\")","v":"NÃO"},{"$f":"IF(AND(BP$8>=$M27,BP$8<=$N27),IF($F27=\"Trimestral\",IF(BO91=\"NÃO\",$D27,IF(MOD(COUNT($Q91:BO91)+1,3)=0,(BO91*$E27)+BO91,BO91)),\"NÃO\"),\"NÃO\")","v":"NÃO"},{"$f":"IF(AND(BQ$8>=$M27,BQ$8<=$N27),IF($F27=\"Trimestral\",IF(BP91=\"NÃO\",$D27,IF(MOD(COUNT($Q91:BP91)+1,3)=0,(BP91*$E27)+BP91,BP91)),\"NÃO\"),\"NÃO\")","v":"NÃO"},{"$f":"IF(AND(BR$8>=$M27,BR$8<=$N27),IF($F27=\"Trimestral\",IF(BQ91=\"NÃO\",$D27,IF(MOD(COUNT($Q91:BQ91)+1,3)=0,(BQ91*$E27)+BQ91,BQ91)),\"NÃO\"),\"NÃO\")","v":"NÃO"},{"$f":"IF(AND(BS$8>=$M27,BS$8<=$N27),IF($F27=\"Trimestral\",IF(BR91=\"NÃO\",$D27,IF(MOD(COUNT($Q91:BR91)+1,3)=0,(BR91*$E27)+BR91,BR91)),\"NÃO\"),\"NÃO\")","v":"NÃO"},{"$f":"IF(AND(BT$8>=$M27,BT$8<=$N27),IF($F27=\"Trimestral\",IF(BS91=\"NÃO\",$D27,IF(MOD(COUNT($Q91:BS91)+1,3)=0,(BS91*$E27)+BS91,BS91)),\"NÃO\"),\"NÃO\")","v":"NÃO"},{"$f":"IF(AND(BU$8>=$M27,BU$8<=$N27),IF($F27=\"Trimestral\",IF(BT91=\"NÃO\",$D27,IF(MOD(COUNT($Q91:BT91)+1,3)=0,(BT91*$E27)+BT91,BT91)),\"NÃO\"),\"NÃO\")","v":"NÃO"},{"$f":"IF(AND(BV$8>=$M27,BV$8<=$N27),IF($F27=\"Trimestral\",IF(BU91=\"NÃO\",$D27,IF(MOD(COUNT($Q91:BU91)+1,3)=0,(BU91*$E27)+BU91,BU91)),\"NÃO\"),\"NÃO\")","v":"NÃO"},{"$f":"IF(AND(BW$8>=$M27,BW$8<=$N27),IF($F27=\"Trimestral\",IF(BV91=\"NÃO\",$D27,IF(MOD(COUNT($Q91:BV91)+1,3)=0,(BV91*$E27)+BV91,BV91)),\"NÃO\"),\"NÃO\")","v":"NÃO"},{"$f":"IF(AND(BX$8>=$M27,BX$8<=$N27),IF($F27=\"Trimestral\",IF(BW91=\"NÃO\",$D27,IF(MOD(COUNT($Q91:BW91)+1,3)=0,(BW91*$E27)+BW91,BW91)),\"NÃO\"),\"NÃO\")","v":"NÃO"},null,null,19]
[null,null,null,null,null,null,null,null,null,null,null,null,null,null,null,20,"NÃO",{"$f":"IF(AND(R$8>=$M28,R$8<=$N28),IF($F28=\"Trimestral\",IF(Q92=\"NÃO\",$D28,IF(MOD(COUNT($Q92:Q92)+1,3)=0,(Q92*$E28)+Q92,Q92)),\"NÃO\"),\"NÃO\")","v":"NÃO"},{"$f":"IF(AND(S$8>=$M28,S$8<=$N28),IF($F28=\"Trimestral\",IF(R92=\"NÃO\",$D28,IF(MOD(COUNT($Q92:R92)+1,3)=0,(R92*$E28)+R92,R92)),\"NÃO\"),\"NÃO\")","v":"NÃO"},{"$f":"IF(AND(T$8>=$M28,T$8<=$N28),IF($F28=\"Trimestral\",IF(S92=\"NÃO\",$D28,IF(MOD(COUNT($Q92:S92)+1,3)=0,(S92*$E28)+S92,S92)),\"NÃO\"),\"NÃO\")","v":"NÃO"},{"$f":"IF(AND(U$8>=$M28,U$8<=$N28),IF($F28=\"Trimestral\",IF(T92=\"NÃO\",$D28,IF(MOD(COUNT($Q92:T92)+1,3)=0,(T92*$E28)+T92,T92)),\"NÃO\"),\"NÃO\")","v":"NÃO"},{"$f":"IF(AND(V$8>=$M28,V$8<=$N28),IF($F28=\"Trimestral\",IF(U92=\"NÃO\",$D28,IF(MOD(COUNT($Q92:U92)+1,3)=0,(U92*$E28)+U92,U92)),\"NÃO\"),\"NÃO\")","v":"NÃO"},{"$f":"IF(AND(W$8>=$M28,W$8<=$N28),IF($F28=\"Trimestral\",IF(V92=\"NÃO\",$D28,IF(MOD(COUNT($Q92:V92)+1,3)=0,(V92*$E28)+V92,V92)),\"NÃO\"),\"NÃO\")","v":"NÃO"},{"$f":"IF(AND(X$8>=$M28,X$8<=$N28),IF($F28=\"Trimestral\",IF(W92=\"NÃO\",$D28,IF(MOD(COUNT($Q92:W92)+1,3)=0,(W92*$E28)+W92,W92)),\"NÃO\"),\"NÃO\")","v":"NÃO"},{"$f":"IF(AND(Y$8>=$M28,Y$8<=$N28),IF($F28=\"Trimestral\",IF(X92=\"NÃO\",$D28,IF(MOD(COUNT($Q92:X92)+1,3)=0,(X92*$E28)+X92,X92)),\"NÃO\"),\"NÃO\")","v":"NÃO"},{"$f":"IF(AND(Z$8>=$M28,Z$8<=$N28),IF($F28=\"Trimestral\",IF(Y92=\"NÃO\",$D28,IF(MOD(COUNT($Q92:Y92)+1,3)=0,(Y92*$E28)+Y92,Y92)),\"NÃO\"),\"NÃO\")","v":"NÃO"},{"$f":"IF(AND(AA$8>=$M28,AA$8<=$N28),IF($F28=\"Trimestral\",IF(Z92=\"NÃO\",$D28,IF(MOD(COUNT($Q92:Z92)+1,3)=0,(Z92*$E28)+Z92,Z92)),\"NÃO\"),\"NÃO\")","v":"NÃO"},{"$f":"IF(AND(AB$8>=$M28,AB$8<=$N28),IF($F28=\"Trimestral\",IF(AA92=\"NÃO\",$D28,IF(MOD(COUNT($Q92:AA92)+1,3)=0,(AA92*$E28)+AA92,AA92)),\"NÃO\"),\"NÃO\")","v":"NÃO"},{"$f":"IF(AND(AC$8>=$M28,AC$8<=$N28),IF($F28=\"Trimestral\",IF(AB92=\"NÃO\",$D28,IF(MOD(COUNT($Q92:AB92)+1,3)=0,(AB92*$E28)+AB92,AB92)),\"NÃO\"),\"NÃO\")","v":"NÃO"},{"$f":"IF(AND(AD$8>=$M28,AD$8<=$N28),IF($F28=\"Trimestral\",IF(AC92=\"NÃO\",$D28,IF(MOD(COUNT($Q92:AC92)+1,3)=0,(AC92*$E28)+AC92,AC92)),\"NÃO\"),\"NÃO\")","v":"NÃO"},{"$f":"IF(AND(AE$8>=$M28,AE$8<=$N28),IF($F28=\"Trimestral\",IF(AD92=\"NÃO\",$D28,IF(MOD(COUNT($Q92:AD92)+1,3)=0,(AD92*$E28)+AD92,AD92)),\"NÃO\"),\"NÃO\")","v":"NÃO"},{"$f":"IF(AND(AF$8>=$M28,AF$8<=$N28),IF($F28=\"Trimestral\",IF(AE92=\"NÃO\",$D28,IF(MOD(COUNT($Q92:AE92)+1,3)=0,(AE92*$E28)+AE92,AE92)),\"NÃO\"),\"NÃO\")","v":"NÃO"},{"$f":"IF(AND(AG$8>=$M28,AG$8<=$N28),IF($F28=\"Trimestral\",IF(AF92=\"NÃO\",$D28,IF(MOD(COUNT($Q92:AF92)+1,3)=0,(AF92*$E28)+AF92,AF92)),\"NÃO\"),\"NÃO\")","v":"NÃO"},{"$f":"IF(AND(AH$8>=$M28,AH$8<=$N28),IF($F28=\"Trimestral\",IF(AG92=\"NÃO\",$D28,IF(MOD(COUNT($Q92:AG92)+1,3)=0,(AG92*$E28)+AG92,AG92)),\"NÃO\"),\"NÃO\")","v":"NÃO"},{"$f":"IF(AND(AI$8>=$M28,AI$8<=$N28),IF($F28=\"Trimestral\",IF(AH92=\"NÃO\",$D28,IF(MOD(COUNT($Q92:AH92)+1,3)=0,(AH92*$E28)+AH92,AH92)),\"NÃO\"),\"NÃO\")","v":"NÃO"},{"$f":"IF(AND(AJ$8>=$M28,AJ$8<=$N28),IF($F28=\"Trimestral\",IF(AI92=\"NÃO\",$D28,IF(MOD(COUNT($Q92:AI92)+1,3)=0,(AI92*$E28)+AI92,AI92)),\"NÃO\"),\"NÃO\")","v":"NÃO"},{"$f":"IF(AND(AK$8>=$M28,AK$8<=$N28),IF($F28=\"Trimestral\",IF(AJ92=\"NÃO\",$D28,IF(MOD(COUNT($Q92:AJ92)+1,3)=0,(AJ92*$E28)+AJ92,AJ92)),\"NÃO\"),\"NÃO\")","v":"NÃO"},{"$f":"IF(AND(AL$8>=$M28,AL$8<=$N28),IF($F28=\"Trimestral\",IF(AK92=\"NÃO\",$D28,IF(MOD(COUNT($Q92:AK92)+1,3)=0,(AK92*$E28)+AK92,AK92)),\"NÃO\"),\"NÃO\")","v":"NÃO"},{"$f":"IF(AND(AM$8>=$M28,AM$8<=$N28),IF($F28=\"Trimestral\",IF(AL92=\"NÃO\",$D28,IF(MOD(COUNT($Q92:AL92)+1,3)=0,(AL92*$E28)+AL92,AL92)),\"NÃO\"),\"NÃO\")","v":"NÃO"},{"$f":"IF(AND(AN$8>=$M28,AN$8<=$N28),IF($F28=\"Trimestral\",IF(AM92=\"NÃO\",$D28,IF(MOD(COUNT($Q92:AM92)+1,3)=0,(AM92*$E28)+AM92,AM92)),\"NÃO\"),\"NÃO\")","v":"NÃO"},{"$f":"IF(AND(AO$8>=$M28,AO$8<=$N28),IF($F28=\"Trimestral\",IF(AN92=\"NÃO\",$D28,IF(MOD(COUNT($Q92:AN92)+1,3)=0,(AN92*$E28)+AN92,AN92)),\"NÃO\"),\"NÃO\")","v":"NÃO"},{"$f":"IF(AND(AP$8>=$M28,AP$8<=$N28),IF($F28=\"Trimestral\",IF(AO92=\"NÃO\",$D28,IF(MOD(COUNT($Q92:AO92)+1,3)=0,(AO92*$E28)+AO92,AO92)),\"NÃO\"),\"NÃO\")","v":"NÃO"},{"$f":"IF(AND(AQ$8>=$M28,AQ$8<=$N28),IF($F28=\"Trimestral\",IF(AP92=\"NÃO\",$D28,IF(MOD(COUNT($Q92:AP92)+1,3)=0,(AP92*$E28)+AP92,AP92)),\"NÃO\"),\"NÃO\")","v":"NÃO"},{"$f":"IF(AND(AR$8>=$M28,AR$8<=$N28),IF($F28=\"Trimestral\",IF(AQ92=\"NÃO\",$D28,IF(MOD(COUNT($Q92:AQ92)+1,3)=0,(AQ92*$E28)+AQ92,AQ92)),\"NÃO\"),\"NÃO\")","v":"NÃO"},{"$f":"IF(AND(AS$8>=$M28,AS$8<=$N28),IF($F28=\"Trimestral\",IF(AR92=\"NÃO\",$D28,IF(MOD(COUNT($Q92:AR92)+1,3)=0,(AR92*$E28)+AR92,AR92)),\"NÃO\"),\"NÃO\")","v":"NÃO"},{"$f":"IF(AND(AT$8>=$M28,AT$8<=$N28),IF($F28=\"Trimestral\",IF(AS92=\"NÃO\",$D28,IF(MOD(COUNT($Q92:AS92)+1,3)=0,(AS92*$E28)+AS92,AS92)),\"NÃO\"),\"NÃO\")","v":"NÃO"},{"$f":"IF(AND(AU$8>=$M28,AU$8<=$N28),IF($F28=\"Trimestral\",IF(AT92=\"NÃO\",$D28,IF(MOD(COUNT($Q92:AT92)+1,3)=0,(AT92*$E28)+AT92,AT92)),\"NÃO\"),\"NÃO\")","v":"NÃO"},{"$f":"IF(AND(AV$8>=$M28,AV$8<=$N28),IF($F28=\"Trimestral\",IF(AU92=\"NÃO\",$D28,IF(MOD(COUNT($Q92:AU92)+1,3)=0,(AU92*$E28)+AU92,AU92)),\"NÃO\"),\"NÃO\")","v":"NÃO"},{"$f":"IF(AND(AW$8>=$M28,AW$8<=$N28),IF($F28=\"Trimestral\",IF(AV92=\"NÃO\",$D28,IF(MOD(COUNT($Q92:AV92)+1,3)=0,(AV92*$E28)+AV92,AV92)),\"NÃO\"),\"NÃO\")","v":"NÃO"},{"$f":"IF(AND(AX$8>=$M28,AX$8<=$N28),IF($F28=\"Trimestral\",IF(AW92=\"NÃO\",$D28,IF(MOD(COUNT($Q92:AW92)+1,3)=0,(AW92*$E28)+AW92,AW92)),\"NÃO\"),\"NÃO\")","v":"NÃO"},{"$f":"IF(AND(AY$8>=$M28,AY$8<=$N28),IF($F28=\"Trimestral\",IF(AX92=\"NÃO\",$D28,IF(MOD(COUNT($Q92:AX92)+1,3)=0,(AX92*$E28)+AX92,AX92)),\"NÃO\"),\"NÃO\")","v":"NÃO"},{"$f":"IF(AND(AZ$8>=$M28,AZ$8<=$N28),IF($F28=\"Trimestral\",IF(AY92=\"NÃO\",$D28,IF(MOD(COUNT($Q92:AY92)+1,3)=0,(AY92*$E28)+AY92,AY92)),\"NÃO\"),\"NÃO\")","v":"NÃO"},{"$f":"IF(AND(BA$8>=$M28,BA$8<=$N28),IF($F28=\"Trimestral\",IF(AZ92=\"NÃO\",$D28,IF(MOD(COUNT($Q92:AZ92)+1,3)=0,(AZ92*$E28)+AZ92,AZ92)),\"NÃO\"),\"NÃO\")","v":"NÃO"},{"$f":"IF(AND(BB$8>=$M28,BB$8<=$N28),IF($F28=\"Trimestral\",IF(BA92=\"NÃO\",$D28,IF(MOD(COUNT($Q92:BA92)+1,3)=0,(BA92*$E28)+BA92,BA92)),\"NÃO\"),\"NÃO\")","v":"NÃO"},{"$f":"IF(AND(BC$8>=$M28,BC$8<=$N28),IF($F28=\"Trimestral\",IF(BB92=\"NÃO\",$D28,IF(MOD(COUNT($Q92:BB92)+1,3)=0,(BB92*$E28)+BB92,BB92)),\"NÃO\"),\"NÃO\")","v":"NÃO"},{"$f":"IF(AND(BD$8>=$M28,BD$8<=$N28),IF($F28=\"Trimestral\",IF(BC92=\"NÃO\",$D28,IF(MOD(COUNT($Q92:BC92)+1,3)=0,(BC92*$E28)+BC92,BC92)),\"NÃO\"),\"NÃO\")","v":"NÃO"},{"$f":"IF(AND(BE$8>=$M28,BE$8<=$N28),IF($F28=\"Trimestral\",IF(BD92=\"NÃO\",$D28,IF(MOD(COUNT($Q92:BD92)+1,3)=0,(BD92*$E28)+BD92,BD92)),\"NÃO\"),\"NÃO\")","v":"NÃO"},{"$f":"IF(AND(BF$8>=$M28,BF$8<=$N28),IF($F28=\"Trimestral\",IF(BE92=\"NÃO\",$D28,IF(MOD(COUNT($Q92:BE92)+1,3)=0,(BE92*$E28)+BE92,BE92)),\"NÃO\"),\"NÃO\")","v":"NÃO"},{"$f":"IF(AND(BG$8>=$M28,BG$8<=$N28),IF($F28=\"Trimestral\",IF(BF92=\"NÃO\",$D28,IF(MOD(COUNT($Q92:BF92)+1,3)=0,(BF92*$E28)+BF92,BF92)),\"NÃO\"),\"NÃO\")","v":"NÃO"},{"$f":"IF(AND(BH$8>=$M28,BH$8<=$N28),IF($F28=\"Trimestral\",IF(BG92=\"NÃO\",$D28,IF(MOD(COUNT($Q92:BG92)+1,3)=0,(BG92*$E28)+BG92,BG92)),\"NÃO\"),\"NÃO\")","v":"NÃO"},{"$f":"IF(AND(BI$8>=$M28,BI$8<=$N28),IF($F28=\"Trimestral\",IF(BH92=\"NÃO\",$D28,IF(MOD(COUNT($Q92:BH92)+1,3)=0,(BH92*$E28)+BH92,BH92)),\"NÃO\"),\"NÃO\")","v":"NÃO"},{"$f":"IF(AND(BJ$8>=$M28,BJ$8<=$N28),IF($F28=\"Trimestral\",IF(BI92=\"NÃO\",$D28,IF(MOD(COUNT($Q92:BI92)+1,3)=0,(BI92*$E28)+BI92,BI92)),\"NÃO\"),\"NÃO\")","v":"NÃO"},{"$f":"IF(AND(BK$8>=$M28,BK$8<=$N28),IF($F28=\"Trimestral\",IF(BJ92=\"NÃO\",$D28,IF(MOD(COUNT($Q92:BJ92)+1,3)=0,(BJ92*$E28)+BJ92,BJ92)),\"NÃO\"),\"NÃO\")","v":"NÃO"},{"$f":"IF(AND(BL$8>=$M28,BL$8<=$N28),IF($F28=\"Trimestral\",IF(BK92=\"NÃO\",$D28,IF(MOD(COUNT($Q92:BK92)+1,3)=0,(BK92*$E28)+BK92,BK92)),\"NÃO\"),\"NÃO\")","v":"NÃO"},{"$f":"IF(AND(BM$8>=$M28,BM$8<=$N28),IF($F28=\"Trimestral\",IF(BL92=\"NÃO\",$D28,IF(MOD(COUNT($Q92:BL92)+1,3)=0,(BL92*$E28)+BL92,BL92)),\"NÃO\"),\"NÃO\")","v":"NÃO"},{"$f":"IF(AND(BN$8>=$M28,BN$8<=$N28),IF($F28=\"Trimestral\",IF(BM92=\"NÃO\",$D28,IF(MOD(COUNT($Q92:BM92)+1,3)=0,(BM92*$E28)+BM92,BM92)),\"NÃO\"),\"NÃO\")","v":"NÃO"},{"$f":"IF(AND(BO$8>=$M28,BO$8<=$N28),IF($F28=\"Trimestral\",IF(BN92=\"NÃO\",$D28,IF(MOD(COUNT($Q92:BN92)+1,3)=0,(BN92*$E28)+BN92,BN92)),\"NÃO\"),\"NÃO\")","v":"NÃO"},{"$f":"IF(AND(BP$8>=$M28,BP$8<=$N28),IF($F28=\"Trimestral\",IF(BO92=\"NÃO\",$D28,IF(MOD(COUNT($Q92:BO92)+1,3)=0,(BO92*$E28)+BO92,BO92)),\"NÃO\"),\"NÃO\")","v":"NÃO"},{"$f":"IF(AND(BQ$8>=$M28,BQ$8<=$N28),IF($F28=\"Trimestral\",IF(BP92=\"NÃO\",$D28,IF(MOD(COUNT($Q92:BP92)+1,3)=0,(BP92*$E28)+BP92,BP92)),\"NÃO\"),\"NÃO\")","v":"NÃO"},{"$f":"IF(AND(BR$8>=$M28,BR$8<=$N28),IF($F28=\"Trimestral\",IF(BQ92=\"NÃO\",$D28,IF(MOD(COUNT($Q92:BQ92)+1,3)=0,(BQ92*$E28)+BQ92,BQ92)),\"NÃO\"),\"NÃO\")","v":"NÃO"},{"$f":"IF(AND(BS$8>=$M28,BS$8<=$N28),IF($F28=\"Trimestral\",IF(BR92=\"NÃO\",$D28,IF(MOD(COUNT($Q92:BR92)+1,3)=0,(BR92*$E28)+BR92,BR92)),\"NÃO\"),\"NÃO\")","v":"NÃO"},{"$f":"IF(AND(BT$8>=$M28,BT$8<=$N28),IF($F28=\"Trimestral\",IF(BS92=\"NÃO\",$D28,IF(MOD(COUNT($Q92:BS92)+1,3)=0,(BS92*$E28)+BS92,BS92)),\"NÃO\"),\"NÃO\")","v":"NÃO"},{"$f":"IF(AND(BU$8>=$M28,BU$8<=$N28),IF($F28=\"Trimestral\",IF(BT92=\"NÃO\",$D28,IF(MOD(COUNT($Q92:BT92)+1,3)=0,(BT92*$E28)+BT92,BT92)),\"NÃO\"),\"NÃO\")","v":"NÃO"},{"$f":"IF(AND(BV$8>=$M28,BV$8<=$N28),IF($F28=\"Trimestral\",IF(BU92=\"NÃO\",$D28,IF(MOD(COUNT($Q92:BU92)+1,3)=0,(BU92*$E28)+BU92,BU92)),\"NÃO\"),\"NÃO\")","v":"NÃO"},{"$f":"IF(AND(BW$8>=$M28,BW$8<=$N28),IF($F28=\"Trimestral\",IF(BV92=\"NÃO\",$D28,IF(MOD(COUNT($Q92:BV92)+1,3)=0,(BV92*$E28)+BV92,BV92)),\"NÃO\"),\"NÃO\")","v":"NÃO"},{"$f":"IF(AND(BX$8>=$M28,BX$8<=$N28),IF($F28=\"Trimestral\",IF(BW92=\"NÃO\",$D28,IF(MOD(COUNT($Q92:BW92)+1,3)=0,(BW92*$E28)+BW92,BW92)),\"NÃO\"),\"NÃO\")","v":"NÃO"},null,null,20]
[null,null,null,null,null,null,null,null,null,null,null,null,null,null,null,21,"NÃO",{"$f":"IF(AND(R$8>=$M29,R$8<=$N29),IF($F29=\"Trimestral\",IF(Q93=\"NÃO\",$D29,IF(MOD(COUNT($Q93:Q93)+1,3)=0,(Q93*$E29)+Q93,Q93)),\"NÃO\"),\"NÃO\")","v":"NÃO"},{"$f":"IF(AND(S$8>=$M29,S$8<=$N29),IF($F29=\"Trimestral\",IF(R93=\"NÃO\",$D29,IF(MOD(COUNT($Q93:R93)+1,3)=0,(R93*$E29)+R93,R93)),\"NÃO\"),\"NÃO\")","v":"NÃO"},{"$f":"IF(AND(T$8>=$M29,T$8<=$N29),IF($F29=\"Trimestral\",IF(S93=\"NÃO\",$D29,IF(MOD(COUNT($Q93:S93)+1,3)=0,(S93*$E29)+S93,S93)),\"NÃO\"),\"NÃO\")","v":"NÃO"},{"$f":"IF(AND(U$8>=$M29,U$8<=$N29),IF($F29=\"Trimestral\",IF(T93=\"NÃO\",$D29,IF(MOD(COUNT($Q93:T93)+1,3)=0,(T93*$E29)+T93,T93)),\"NÃO\"),\"NÃO\")","v":"NÃO"},{"$f":"IF(AND(V$8>=$M29,V$8<=$N29),IF($F29=\"Trimestral\",IF(U93=\"NÃO\",$D29,IF(MOD(COUNT($Q93:U93)+1,3)=0,(U93*$E29)+U93,U93)),\"NÃO\"),\"NÃO\")","v":"NÃO"},{"$f":"IF(AND(W$8>=$M29,W$8<=$N29),IF($F29=\"Trimestral\",IF(V93=\"NÃO\",$D29,IF(MOD(COUNT($Q93:V93)+1,3)=0,(V93*$E29)+V93,V93)),\"NÃO\"),\"NÃO\")","v":"NÃO"},{"$f":"IF(AND(X$8>=$M29,X$8<=$N29),IF($F29=\"Trimestral\",IF(W93=\"NÃO\",$D29,IF(MOD(COUNT($Q93:W93)+1,3)=0,(W93*$E29)+W93,W93)),\"NÃO\"),\"NÃO\")","v":"NÃO"},{"$f":"IF(AND(Y$8>=$M29,Y$8<=$N29),IF($F29=\"Trimestral\",IF(X93=\"NÃO\",$D29,IF(MOD(COUNT($Q93:X93)+1,3)=0,(X93*$E29)+X93,X93)),\"NÃO\"),\"NÃO\")","v":"NÃO"},{"$f":"IF(AND(Z$8>=$M29,Z$8<=$N29),IF($F29=\"Trimestral\",IF(Y93=\"NÃO\",$D29,IF(MOD(COUNT($Q93:Y93)+1,3)=0,(Y93*$E29)+Y93,Y93)),\"NÃO\"),\"NÃO\")","v":"NÃO"},{"$f":"IF(AND(AA$8>=$M29,AA$8<=$N29),IF($F29=\"Trimestral\",IF(Z93=\"NÃO\",$D29,IF(MOD(COUNT($Q93:Z93)+1,3)=0,(Z93*$E29)+Z93,Z93)),\"NÃO\"),\"NÃO\")","v":"NÃO"},{"$f":"IF(AND(AB$8>=$M29,AB$8<=$N29),IF($F29=\"Trimestral\",IF(AA93=\"NÃO\",$D29,IF(MOD(COUNT($Q93:AA93)+1,3)=0,(AA93*$E29)+AA93,AA93)),\"NÃO\"),\"NÃO\")","v":"NÃO"},{"$f":"IF(AND(AC$8>=$M29,AC$8<=$N29),IF($F29=\"Trimestral\",IF(AB93=\"NÃO\",$D29,IF(MOD(COUNT($Q93:AB93)+1,3)=0,(AB93*$E29)+AB93,AB93)),\"NÃO\"),\"NÃO\")","v":"NÃO"},{"$f":"IF(AND(AD$8>=$M29,AD$8<=$N29),IF($F29=\"Trimestral\",IF(AC93=\"NÃO\",$D29,IF(MOD(COUNT($Q93:AC93)+1,3)=0,(AC93*$E29)+AC93,AC93)),\"NÃO\"),\"NÃO\")","v":"NÃO"},{"$f":"IF(AND(AE$8>=$M29,AE$8<=$N29),IF($F29=\"Trimestral\",IF(AD93=\"NÃO\",$D29,IF(MOD(COUNT($Q93:AD93)+1,3)=0,(AD93*$E29)+AD93,AD93)),\"NÃO\"),\"NÃO\")","v":"NÃO"},{"$f":"IF(AND(AF$8>=$M29,AF$8<=$N29),IF($F29=\"Trimestral\",IF(AE93=\"NÃO\",$D29,IF(MOD(COUNT($Q93:AE93)+1,3)=0,(AE93*$E29)+AE93,AE93)),\"NÃO\"),\"NÃO\")","v":"NÃO"},{"$f":"IF(AND(AG$8>=$M29,AG$8<=$N29),IF($F29=\"Trimestral\",IF(AF93=\"NÃO\",$D29,IF(MOD(COUNT($Q93:AF93)+1,3)=0,(AF93*$E29)+AF93,AF93)),\"NÃO\"),\"NÃO\")","v":"NÃO"},{"$f":"IF(AND(AH$8>=$M29,AH$8<=$N29),IF($F29=\"Trimestral\",IF(AG93=\"NÃO\",$D29,IF(MOD(COUNT($Q93:AG93)+1,3)=0,(AG93*$E29)+AG93,AG93)),\"NÃO\"),\"NÃO\")","v":"NÃO"},{"$f":"IF(AND(AI$8>=$M29,AI$8<=$N29),IF($F29=\"Trimestral\",IF(AH93=\"NÃO\",$D29,IF(MOD(COUNT($Q93:AH93)+1,3)=0,(AH93*$E29)+AH93,AH93)),\"NÃO\"),\"NÃO\")","v":"NÃO"},{"$f":"IF(AND(AJ$8>=$M29,AJ$8<=$N29),IF($F29=\"Trimestral\",IF(AI93=\"NÃO\",$D29,IF(MOD(COUNT($Q93:AI93)+1,3)=0,(AI93*$E29)+AI93,AI93)),\"NÃO\"),\"NÃO\")","v":"NÃO"},{"$f":"IF(AND(AK$8>=$M29,AK$8<=$N29),IF($F29=\"Trimestral\",IF(AJ93=\"NÃO\",$D29,IF(MOD(COUNT($Q93:AJ93)+1,3)=0,(AJ93*$E29)+AJ93,AJ93)),\"NÃO\"),\"NÃO\")","v":"NÃO"},{"$f":"IF(AND(AL$8>=$M29,AL$8<=$N29),IF($F29=\"Trimestral\",IF(AK93=\"NÃO\",$D29,IF(MOD(COUNT($Q93:AK93)+1,3)=0,(AK93*$E29)+AK93,AK93)),\"NÃO\"),\"NÃO\")","v":"NÃO"},{"$f":"IF(AND(AM$8>=$M29,AM$8<=$N29),IF($F29=\"Trimestral\",IF(AL93=\"NÃO\",$D29,IF(MOD(COUNT($Q93:AL93)+1,3)=0,(AL93*$E29)+AL93,AL93)),\"NÃO\"),\"NÃO\")","v":"NÃO"},{"$f":"IF(AND(AN$8>=$M29,AN$8<=$N29),IF($F29=\"Trimestral\",IF(AM93=\"NÃO\",$D29,IF(MOD(COUNT($Q93:AM93)+1,3)=0,(AM93*$E29)+AM93,AM93)),\"NÃO\"),\"NÃO\")","v":"NÃO"},{"$f":"IF(AND(AO$8>=$M29,AO$8<=$N29),IF($F29=\"Trimestral\",IF(AN93=\"NÃO\",$D29,IF(MOD(COUNT($Q93:AN93)+1,3)=0,(AN93*$E29)+AN93,AN93)),\"NÃO\"),\"NÃO\")","v":"NÃO"},{"$f":"IF(AND(AP$8>=$M29,AP$8<=$N29),IF($F29=\"Trimestral\",IF(AO93=\"NÃO\",$D29,IF(MOD(COUNT($Q93:AO93)+1,3)=0,(AO93*$E29)+AO93,AO93)),\"NÃO\"),\"NÃO\")","v":"NÃO"},{"$f":"IF(AND(AQ$8>=$M29,AQ$8<=$N29),IF($F29=\"Trimestral\",IF(AP93=\"NÃO\",$D29,IF(MOD(COUNT($Q93:AP93)+1,3)=0,(AP93*$E29)+AP93,AP93)),\"NÃO\"),\"NÃO\")","v":"NÃO"},{"$f":"IF(AND(AR$8>=$M29,AR$8<=$N29),IF($F29=\"Trimestral\",IF(AQ93=\"NÃO\",$D29,IF(MOD(COUNT($Q93:AQ93)+1,3)=0,(AQ93*$E29)+AQ93,AQ93)),\"NÃO\"),\"NÃO\")","v":"NÃO"},{"$f":"IF(AND(AS$8>=$M29,AS$8<=$N29),IF($F29=\"Trimestral\",IF(AR93=\"NÃO\",$D29,IF(MOD(COUNT($Q93:AR93)+1,3)=0,(AR93*$E29)+AR93,AR93)),\"NÃO\"),\"NÃO\")","v":"NÃO"},{"$f":"IF(AND(AT$8>=$M29,AT$8<=$N29),IF($F29=\"Trimestral\",IF(AS93=\"NÃO\",$D29,IF(MOD(COUNT($Q93:AS93)+1,3)=0,(AS93*$E29)+AS93,AS93)),\"NÃO\"),\"NÃO\")","v":"NÃO"},{"$f":"IF(AND(AU$8>=$M29,AU$8<=$N29),IF($F29=\"Trimestral\",IF(AT93=\"NÃO\",$D29,IF(MOD(COUNT($Q93:AT93)+1,3)=0,(AT93*$E29)+AT93,AT93)),\"NÃO\"),\"NÃO\")","v":"NÃO"},{"$f":"IF(AND(AV$8>=$M29,AV$8<=$N29),IF($F29=\"Trimestral\",IF(AU93=\"NÃO\",$D29,IF(MOD(COUNT($Q93:AU93)+1,3)=0,(AU93*$E29)+AU93,AU93)),\"NÃO\"),\"NÃO\")","v":"NÃO"},{"$f":"IF(AND(AW$8>=$M29,AW$8<=$N29),IF($F29=\"Trimestral\",IF(AV93=\"NÃO\",$D29,IF(MOD(COUNT($Q93:AV93)+1,3)=0,(AV93*$E29)+AV93,AV93)),\"NÃO\"),\"NÃO\")","v":"NÃO"},{"$f":"IF(AND(AX$8>=$M29,AX$8<=$N29),IF($F29=\"Trimestral\",IF(AW93=\"NÃO\",$D29,IF(MOD(COUNT($Q93:AW93)+1,3)=0,(AW93*$E29)+AW93,AW93)),\"NÃO\"),\"NÃO\")","v":"NÃO"},{"$f":"IF(AND(AY$8>=$M29,AY$8<=$N29),IF($F29=\"Trimestral\",IF(AX93=\"NÃO\",$D29,IF(MOD(COUNT($Q93:AX93)+1,3)=0,(AX93*$E29)+AX93,AX93)),\"NÃO\"),\"NÃO\")","v":"NÃO"},{"$f":"IF(AND(AZ$8>=$M29,AZ$8<=$N29),IF($F29=\"Trimestral\",IF(AY93=\"NÃO\",$D29,IF(MOD(COUNT($Q93:AY93)+1,3)=0,(AY93*$E29)+AY93,AY93)),\"NÃO\"),\"NÃO\")","v":"NÃO"},{"$f":"IF(AND(BA$8>=$M29,BA$8<=$N29),IF($F29=\"Trimestral\",IF(AZ93=\"NÃO\",$D29,IF(MOD(COUNT($Q93:AZ93)+1,3)=0,(AZ93*$E29)+AZ93,AZ93)),\"NÃO\"),\"NÃO\")","v":"NÃO"},{"$f":"IF(AND(BB$8>=$M29,BB$8<=$N29),IF($F29=\"Trimestral\",IF(BA93=\"NÃO\",$D29,IF(MOD(COUNT($Q93:BA93)+1,3)=0,(BA93*$E29)+BA93,BA93)),\"NÃO\"),\"NÃO\")","v":"NÃO"},{"$f":"IF(AND(BC$8>=$M29,BC$8<=$N29),IF($F29=\"Trimestral\",IF(BB93=\"NÃO\",$D29,IF(MOD(COUNT($Q93:BB93)+1,3)=0,(BB93*$E29)+BB93,BB93)),\"NÃO\"),\"NÃO\")","v":"NÃO"},{"$f":"IF(AND(BD$8>=$M29,BD$8<=$N29),IF($F29=\"Trimestral\",IF(BC93=\"NÃO\",$D29,IF(MOD(COUNT($Q93:BC93)+1,3)=0,(BC93*$E29)+BC93,BC93)),\"NÃO\"),\"NÃO\")","v":"NÃO"},{"$f":"IF(AND(BE$8>=$M29,BE$8<=$N29),IF($F29=\"Trimestral\",IF(BD93=\"NÃO\",$D29,IF(MOD(COUNT($Q93:BD93)+1,3)=0,(BD93*$E29)+BD93,BD93)),\"NÃO\"),\"NÃO\")","v":"NÃO"},{"$f":"IF(AND(BF$8>=$M29,BF$8<=$N29),IF($F29=\"Trimestral\",IF(BE93=\"NÃO\",$D29,IF(MOD(COUNT($Q93:BE93)+1,3)=0,(BE93*$E29)+BE93,BE93)),\"NÃO\"),\"NÃO\")","v":"NÃO"},{"$f":"IF(AND(BG$8>=$M29,BG$8<=$N29),IF($F29=\"Trimestral\",IF(BF93=\"NÃO\",$D29,IF(MOD(COUNT($Q93:BF93)+1,3)=0,(BF93*$E29)+BF93,BF93)),\"NÃO\"),\"NÃO\")","v":"NÃO"},{"$f":"IF(AND(BH$8>=$M29,BH$8<=$N29),IF($F29=\"Trimestral\",IF(BG93=\"NÃO\",$D29,IF(MOD(COUNT($Q93:BG93)+1,3)=0,(BG93*$E29)+BG93,BG93)),\"NÃO\"),\"NÃO\")","v":"NÃO"},{"$f":"IF(AND(BI$8>=$M29,BI$8<=$N29),IF($F29=\"Trimestral\",IF(BH93=\"NÃO\",$D29,IF(MOD(COUNT($Q93:BH93)+1,3)=0,(BH93*$E29)+BH93,BH93)),\"NÃO\"),\"NÃO\")","v":"NÃO"},{"$f":"IF(AND(BJ$8>=$M29,BJ$8<=$N29),IF($F29=\"Trimestral\",IF(BI93=\"NÃO\",$D29,IF(MOD(COUNT($Q93:BI93)+1,3)=0,(BI93*$E29)+BI93,BI93)),\"NÃO\"),\"NÃO\")","v":"NÃO"},{"$f":"IF(AND(BK$8>=$M29,BK$8<=$N29),IF($F29=\"Trimestral\",IF(BJ93=\"NÃO\",$D29,IF(MOD(COUNT($Q93:BJ93)+1,3)=0,(BJ93*$E29)+BJ93,BJ93)),\"NÃO\"),\"NÃO\")","v":"NÃO"},{"$f":"IF(AND(BL$8>=$M29,BL$8<=$N29),IF($F29=\"Trimestral\",IF(BK93=\"NÃO\",$D29,IF(MOD(COUNT($Q93:BK93)+1,3)=0,(BK93*$E29)+BK93,BK93)),\"NÃO\"),\"NÃO\")","v":"NÃO"},{"$f":"IF(AND(BM$8>=$M29,BM$8<=$N29),IF($F29=\"Trimestral\",IF(BL93=\"NÃO\",$D29,IF(MOD(COUNT($Q93:BL93)+1,3)=0,(BL93*$E29)+BL93,BL93)),\"NÃO\"),\"NÃO\")","v":"NÃO"},{"$f":"IF(AND(BN$8>=$M29,BN$8<=$N29),IF($F29=\"Trimestral\",IF(BM93=\"NÃO\",$D29,IF(MOD(COUNT($Q93:BM93)+1,3)=0,(BM93*$E29)+BM93,BM93)),\"NÃO\"),\"NÃO\")","v":"NÃO"},{"$f":"IF(AND(BO$8>=$M29,BO$8<=$N29),IF($F29=\"Trimestral\",IF(BN93=\"NÃO\",$D29,IF(MOD(COUNT($Q93:BN93)+1,3)=0,(BN93*$E29)+BN93,BN93)),\"NÃO\"),\"NÃO\")","v":"NÃO"},{"$f":"IF(AND(BP$8>=$M29,BP$8<=$N29),IF($F29=\"Trimestral\",IF(BO93=\"NÃO\",$D29,IF(MOD(COUNT($Q93:BO93)+1,3)=0,(BO93*$E29)+BO93,BO93)),\"NÃO\"),\"NÃO\")","v":"NÃO"},{"$f":"IF(AND(BQ$8>=$M29,BQ$8<=$N29),IF($F29=\"Trimestral\",IF(BP93=\"NÃO\",$D29,IF(MOD(COUNT($Q93:BP93)+1,3)=0,(BP93*$E29)+BP93,BP93)),\"NÃO\"),\"NÃO\")","v":"NÃO"},{"$f":"IF(AND(BR$8>=$M29,BR$8<=$N29),IF($F29=\"Trimestral\",IF(BQ93=\"NÃO\",$D29,IF(MOD(COUNT($Q93:BQ93)+1,3)=0,(BQ93*$E29)+BQ93,BQ93)),\"NÃO\"),\"NÃO\")","v":"NÃO"},{"$f":"IF(AND(BS$8>=$M29,BS$8<=$N29),IF($F29=\"Trimestral\",IF(BR93=\"NÃO\",$D29,IF(MOD(COUNT($Q93:BR93)+1,3)=0,(BR93*$E29)+BR93,BR93)),\"NÃO\"),\"NÃO\")","v":"NÃO"},{"$f":"IF(AND(BT$8>=$M29,BT$8<=$N29),IF($F29=\"Trimestral\",IF(BS93=\"NÃO\",$D29,IF(MOD(COUNT($Q93:BS93)+1,3)=0,(BS93*$E29)+BS93,BS93)),\"NÃO\"),\"NÃO\")","v":"NÃO"},{"$f":"IF(AND(BU$8>=$M29,BU$8<=$N29),IF($F29=\"Trimestral\",IF(BT93=\"NÃO\",$D29,IF(MOD(COUNT($Q93:BT93)+1,3)=0,(BT93*$E29)+BT93,BT93)),\"NÃO\"),\"NÃO\")","v":"NÃO"},{"$f":"IF(AND(BV$8>=$M29,BV$8<=$N29),IF($F29=\"Trimestral\",IF(BU93=\"NÃO\",$D29,IF(MOD(COUNT($Q93:BU93)+1,3)=0,(BU93*$E29)+BU93,BU93)),\"NÃO\"),\"NÃO\")","v":"NÃO"},{"$f":"IF(AND(BW$8>=$M29,BW$8<=$N29),IF($F29=\"Trimestral\",IF(BV93=\"NÃO\",$D29,IF(MOD(COUNT($Q93:BV93)+1,3)=0,(BV93*$E29)+BV93,BV93)),\"NÃO\"),\"NÃO\")","v":"NÃO"},{"$f":"IF(AND(BX$8>=$M29,BX$8<=$N29),IF($F29=\"Trimestral\",IF(BW93=\"NÃO\",$D29,IF(MOD(COUNT($Q93:BW93)+1,3)=0,(BW93*$E29)+BW93,BW93)),\"NÃO\"),\"NÃO\")","v":"NÃO"},null,null,21]
[null,null,null,null,null,null,null,null,null,null,null,null,null,null,null,22,"NÃO",{"$f":"IF(AND(R$8>=$M30,R$8<=$N30),IF($F30=\"Trimestral\",IF(Q94=\"NÃO\",$D30,IF(MOD(COUNT($Q94:Q94)+1,3)=0,(Q94*$E30)+Q94,Q94)),\"NÃO\"),\"NÃO\")","v":"NÃO"},{"$f":"IF(AND(S$8>=$M30,S$8<=$N30),IF($F30=\"Trimestral\",IF(R94=\"NÃO\",$D30,IF(MOD(COUNT($Q94:R94)+1,3)=0,(R94*$E30)+R94,R94)),\"NÃO\"),\"NÃO\")","v":"NÃO"},{"$f":"IF(AND(T$8>=$M30,T$8<=$N30),IF($F30=\"Trimestral\",IF(S94=\"NÃO\",$D30,IF(MOD(COUNT($Q94:S94)+1,3)=0,(S94*$E30)+S94,S94)),\"NÃO\"),\"NÃO\")","v":"NÃO"},{"$f":"IF(AND(U$8>=$M30,U$8<=$N30),IF($F30=\"Trimestral\",IF(T94=\"NÃO\",$D30,IF(MOD(COUNT($Q94:T94)+1,3)=0,(T94*$E30)+T94,T94)),\"NÃO\"),\"NÃO\")","v":"NÃO"},{"$f":"IF(AND(V$8>=$M30,V$8<=$N30),IF($F30=\"Trimestral\",IF(U94=\"NÃO\",$D30,IF(MOD(COUNT($Q94:U94)+1,3)=0,(U94*$E30)+U94,U94)),\"NÃO\"),\"NÃO\")","v":"NÃO"},{"$f":"IF(AND(W$8>=$M30,W$8<=$N30),IF($F30=\"Trimestral\",IF(V94=\"NÃO\",$D30,IF(MOD(COUNT($Q94:V94)+1,3)=0,(V94*$E30)+V94,V94)),\"NÃO\"),\"NÃO\")","v":"NÃO"},{"$f":"IF(AND(X$8>=$M30,X$8<=$N30),IF($F30=\"Trimestral\",IF(W94=\"NÃO\",$D30,IF(MOD(COUNT($Q94:W94)+1,3)=0,(W94*$E30)+W94,W94)),\"NÃO\"),\"NÃO\")","v":"NÃO"},{"$f":"IF(AND(Y$8>=$M30,Y$8<=$N30),IF($F30=\"Trimestral\",IF(X94=\"NÃO\",$D30,IF(MOD(COUNT($Q94:X94)+1,3)=0,(X94*$E30)+X94,X94)),\"NÃO\"),\"NÃO\")","v":"NÃO"},{"$f":"IF(AND(Z$8>=$M30,Z$8<=$N30),IF($F30=\"Trimestral\",IF(Y94=\"NÃO\",$D30,IF(MOD(COUNT($Q94:Y94)+1,3)=0,(Y94*$E30)+Y94,Y94)),\"NÃO\"),\"NÃO\")","v":"NÃO"},{"$f":"IF(AND(AA$8>=$M30,AA$8<=$N30),IF($F30=\"Trimestral\",IF(Z94=\"NÃO\",$D30,IF(MOD(COUNT($Q94:Z94)+1,3)=0,(Z94*$E30)+Z94,Z94)),\"NÃO\"),\"NÃO\")","v":"NÃO"},{"$f":"IF(AND(AB$8>=$M30,AB$8<=$N30),IF($F30=\"Trimestral\",IF(AA94=\"NÃO\",$D30,IF(MOD(COUNT($Q94:AA94)+1,3)=0,(AA94*$E30)+AA94,AA94)),\"NÃO\"),\"NÃO\")","v":"NÃO"},{"$f":"IF(AND(AC$8>=$M30,AC$8<=$N30),IF($F30=\"Trimestral\",IF(AB94=\"NÃO\",$D30,IF(MOD(COUNT($Q94:AB94)+1,3)=0,(AB94*$E30)+AB94,AB94)),\"NÃO\"),\"NÃO\")","v":"NÃO"},{"$f":"IF(AND(AD$8>=$M30,AD$8<=$N30),IF($F30=\"Trimestral\",IF(AC94=\"NÃO\",$D30,IF(MOD(COUNT($Q94:AC94)+1,3)=0,(AC94*$E30)+AC94,AC94)),\"NÃO\"),\"NÃO\")","v":"NÃO"},{"$f":"IF(AND(AE$8>=$M30,AE$8<=$N30),IF($F30=\"Trimestral\",IF(AD94=\"NÃO\",$D30,IF(MOD(COUNT($Q94:AD94)+1,3)=0,(AD94*$E30)+AD94,AD94)),\"NÃO\"),\"NÃO\")","v":"NÃO"},{"$f":"IF(AND(AF$8>=$M30,AF$8<=$N30),IF($F30=\"Trimestral\",IF(AE94=\"NÃO\",$D30,IF(MOD(COUNT($Q94:AE94)+1,3)=0,(AE94*$E30)+AE94,AE94)),\"NÃO\"),\"NÃO\")","v":"NÃO"},{"$f":"IF(AND(AG$8>=$M30,AG$8<=$N30),IF($F30=\"Trimestral\",IF(AF94=\"NÃO\",$D30,IF(MOD(COUNT($Q94:AF94)+1,3)=0,(AF94*$E30)+AF94,AF94)),\"NÃO\"),\"NÃO\")","v":"NÃO"},{"$f":"IF(AND(AH$8>=$M30,AH$8<=$N30),IF($F30=\"Trimestral\",IF(AG94=\"NÃO\",$D30,IF(MOD(COUNT($Q94:AG94)+1,3)=0,(AG94*$E30)+AG94,AG94)),\"NÃO\"),\"NÃO\")","v":"NÃO"},{"$f":"IF(AND(AI$8>=$M30,AI$8<=$N30),IF($F30=\"Trimestral\",IF(AH94=\"NÃO\",$D30,IF(MOD(COUNT($Q94:AH94)+1,3)=0,(AH94*$E30)+AH94,AH94)),\"NÃO\"),\"NÃO\")","v":"NÃO"},{"$f":"IF(AND(AJ$8>=$M30,AJ$8<=$N30),IF($F30=\"Trimestral\",IF(AI94=\"NÃO\",$D30,IF(MOD(COUNT($Q94:AI94)+1,3)=0,(AI94*$E30)+AI94,AI94)),\"NÃO\"),\"NÃO\")","v":"NÃO"},{"$f":"IF(AND(AK$8>=$M30,AK$8<=$N30),IF($F30=\"Trimestral\",IF(AJ94=\"NÃO\",$D30,IF(MOD(COUNT($Q94:AJ94)+1,3)=0,(AJ94*$E30)+AJ94,AJ94)),\"NÃO\"),\"NÃO\")","v":"NÃO"},{"$f":"IF(AND(AL$8>=$M30,AL$8<=$N30),IF($F30=\"Trimestral\",IF(AK94=\"NÃO\",$D30,IF(MOD(COUNT($Q94:AK94)+1,3)=0,(AK94*$E30)+AK94,AK94)),\"NÃO\"),\"NÃO\")","v":"NÃO"},{"$f":"IF(AND(AM$8>=$M30,AM$8<=$N30),IF($F30=\"Trimestral\",IF(AL94=\"NÃO\",$D30,IF(MOD(COUNT($Q94:AL94)+1,3)=0,(AL94*$E30)+AL94,AL94)),\"NÃO\"),\"NÃO\")","v":"NÃO"},{"$f":"IF(AND(AN$8>=$M30,AN$8<=$N30),IF($F30=\"Trimestral\",IF(AM94=\"NÃO\",$D30,IF(MOD(COUNT($Q94:AM94)+1,3)=0,(AM94*$E30)+AM94,AM94)),\"NÃO\"),\"NÃO\")","v":"NÃO"},{"$f":"IF(AND(AO$8>=$M30,AO$8<=$N30),IF($F30=\"Trimestral\",IF(AN94=\"NÃO\",$D30,IF(MOD(COUNT($Q94:AN94)+1,3)=0,(AN94*$E30)+AN94,AN94)),\"NÃO\"),\"NÃO\")","v":"NÃO"},{"$f":"IF(AND(AP$8>=$M30,AP$8<=$N30),IF($F30=\"Trimestral\",IF(AO94=\"NÃO\",$D30,IF(MOD(COUNT($Q94:AO94)+1,3)=0,(AO94*$E30)+AO94,AO94)),\"NÃO\"),\"NÃO\")","v":"NÃO"},{"$f":"IF(AND(AQ$8>=$M30,AQ$8<=$N30),IF($F30=\"Trimestral\",IF(AP94=\"NÃO\",$D30,IF(MOD(COUNT($Q94:AP94)+1,3)=0,(AP94*$E30)+AP94,AP94)),\"NÃO\"),\"NÃO\")","v":"NÃO"},{"$f":"IF(AND(AR$8>=$M30,AR$8<=$N30),IF($F30=\"Trimestral\",IF(AQ94=\"NÃO\",$D30,IF(MOD(COUNT($Q94:AQ94)+1,3)=0,(AQ94*$E30)+AQ94,AQ94)),\"NÃO\"),\"NÃO\")","v":"NÃO"},{"$f":"IF(AND(AS$8>=$M30,AS$8<=$N30),IF($F30=\"Trimestral\",IF(AR94=\"NÃO\",$D30,IF(MOD(COUNT($Q94:AR94)+1,3)=0,(AR94*$E30)+AR94,AR94)),\"NÃO\"),\"NÃO\")","v":"NÃO"},{"$f":"IF(AND(AT$8>=$M30,AT$8<=$N30),IF($F30=\"Trimestral\",IF(AS94=\"NÃO\",$D30,IF(MOD(COUNT($Q94:AS94)+1,3)=0,(AS94*$E30)+AS94,AS94)),\"NÃO\"),\"NÃO\")","v":"NÃO"},{"$f":"IF(AND(AU$8>=$M30,AU$8<=$N30),IF($F30=\"Trimestral\",IF(AT94=\"NÃO\",$D30,IF(MOD(COUNT($Q94:AT94)+1,3)=0,(AT94*$E30)+AT94,AT94)),\"NÃO\"),\"NÃO\")","v":"NÃO"},{"$f":"IF(AND(AV$8>=$M30,AV$8<=$N30),IF($F30=\"Trimestral\",IF(AU94=\"NÃO\",$D30,IF(MOD(COUNT($Q94:AU94)+1,3)=0,(AU94*$E30)+AU94,AU94)),\"NÃO\"),\"NÃO\")","v":"NÃO"},{"$f":"IF(AND(AW$8>=$M30,AW$8<=$N30),IF($F30=\"Trimestral\",IF(AV94=\"NÃO\",$D30,IF(MOD(COUNT($Q94:AV94)+1,3)=0,(AV94*$E30)+AV94,AV94)),\"NÃO\"),\"NÃO\")","v":"NÃO"},{"$f":"IF(AND(AX$8>=$M30,AX$8<=$N30),IF($F30=\"Trimestral\",IF(AW94=\"NÃO\",$D30,IF(MOD(COUNT($Q94:AW94)+1,3)=0,(AW94*$E30)+AW94,AW94)),\"NÃO\"),\"NÃO\")","v":"NÃO"},{"$f":"IF(AND(AY$8>=$M30,AY$8<=$N30),IF($F30=\"Trimestral\",IF(AX94=\"NÃO\",$D30,IF(MOD(COUNT($Q94:AX94)+1,3)=0,(AX94*$E30)+AX94,AX94)),\"NÃO\"),\"NÃO\")","v":"NÃO"},{"$f":"IF(AND(AZ$8>=$M30,AZ$8<=$N30),IF($F30=\"Trimestral\",IF(AY94=\"NÃO\",$D30,IF(MOD(COUNT($Q94:AY94)+1,3)=0,(AY94*$E30)+AY94,AY94)),\"NÃO\"),\"NÃO\")","v":"NÃO"},{"$f":"IF(AND(BA$8>=$M30,BA$8<=$N30),IF($F30=\"Trimestral\",IF(AZ94=\"NÃO\",$D30,IF(MOD(COUNT($Q94:AZ94)+1,3)=0,(AZ94*$E30)+AZ94,AZ94)),\"NÃO\"),\"NÃO\")","v":"NÃO"},{"$f":"IF(AND(BB$8>=$M30,BB$8<=$N30),IF($F30=\"Trimestral\",IF(BA94=\"NÃO\",$D30,IF(MOD(COUNT($Q94:BA94)+1,3)=0,(BA94*$E30)+BA94,BA94)),\"NÃO\"),\"NÃO\")","v":"NÃO"},{"$f":"IF(AND(BC$8>=$M30,BC$8<=$N30),IF($F30=\"Trimestral\",IF(BB94=\"NÃO\",$D30,IF(MOD(COUNT($Q94:BB94)+1,3)=0,(BB94*$E30)+BB94,BB94)),\"NÃO\"),\"NÃO\")","v":"NÃO"},{"$f":"IF(AND(BD$8>=$M30,BD$8<=$N30),IF($F30=\"Trimestral\",IF(BC94=\"NÃO\",$D30,IF(MOD(COUNT($Q94:BC94)+1,3)=0,(BC94*$E30)+BC94,BC94)),\"NÃO\"),\"NÃO\")","v":"NÃO"},{"$f":"IF(AND(BE$8>=$M30,BE$8<=$N30),IF($F30=\"Trimestral\",IF(BD94=\"NÃO\",$D30,IF(MOD(COUNT($Q94:BD94)+1,3)=0,(BD94*$E30)+BD94,BD94)),\"NÃO\"),\"NÃO\")","v":"NÃO"},{"$f":"IF(AND(BF$8>=$M30,BF$8<=$N30),IF($F30=\"Trimestral\",IF(BE94=\"NÃO\",$D30,IF(MOD(COUNT($Q94:BE94)+1,3)=0,(BE94*$E30)+BE94,BE94)),\"NÃO\"),\"NÃO\")","v":"NÃO"},{"$f":"IF(AND(BG$8>=$M30,BG$8<=$N30),IF($F30=\"Trimestral\",IF(BF94=\"NÃO\",$D30,IF(MOD(COUNT($Q94:BF94)+1,3)=0,(BF94*$E30)+BF94,BF94)),\"NÃO\"),\"NÃO\")","v":"NÃO"},{"$f":"IF(AND(BH$8>=$M30,BH$8<=$N30),IF($F30=\"Trimestral\",IF(BG94=\"NÃO\",$D30,IF(MOD(COUNT($Q94:BG94)+1,3)=0,(BG94*$E30)+BG94,BG94)),\"NÃO\"),\"NÃO\")","v":"NÃO"},{"$f":"IF(AND(BI$8>=$M30,BI$8<=$N30),IF($F30=\"Trimestral\",IF(BH94=\"NÃO\",$D30,IF(MOD(COUNT($Q94:BH94)+1,3)=0,(BH94*$E30)+BH94,BH94)),\"NÃO\"),\"NÃO\")","v":"NÃO"},{"$f":"IF(AND(BJ$8>=$M30,BJ$8<=$N30),IF($F30=\"Trimestral\",IF(BI94=\"NÃO\",$D30,IF(MOD(COUNT($Q94:BI94)+1,3)=0,(BI94*$E30)+BI94,BI94)),\"NÃO\"),\"NÃO\")","v":"NÃO"},{"$f":"IF(AND(BK$8>=$M30,BK$8<=$N30),IF($F30=\"Trimestral\",IF(BJ94=\"NÃO\",$D30,IF(MOD(COUNT($Q94:BJ94)+1,3)=0,(BJ94*$E30)+BJ94,BJ94)),\"NÃO\"),\"NÃO\")","v":"NÃO"},{"$f":"IF(AND(BL$8>=$M30,BL$8<=$N30),IF($F30=\"Trimestral\",IF(BK94=\"NÃO\",$D30,IF(MOD(COUNT($Q94:BK94)+1,3)=0,(BK94*$E30)+BK94,BK94)),\"NÃO\"),\"NÃO\")","v":"NÃO"},{"$f":"IF(AND(BM$8>=$M30,BM$8<=$N30),IF($F30=\"Trimestral\",IF(BL94=\"NÃO\",$D30,IF(MOD(COUNT($Q94:BL94)+1,3)=0,(BL94*$E30)+BL94,BL94)),\"NÃO\"),\"NÃO\")","v":"NÃO"},{"$f":"IF(AND(BN$8>=$M30,BN$8<=$N30),IF($F30=\"Trimestral\",IF(BM94=\"NÃO\",$D30,IF(MOD(COUNT($Q94:BM94)+1,3)=0,(BM94*$E30)+BM94,BM94)),\"NÃO\"),\"NÃO\")","v":"NÃO"},{"$f":"IF(AND(BO$8>=$M30,BO$8<=$N30),IF($F30=\"Trimestral\",IF(BN94=\"NÃO\",$D30,IF(MOD(COUNT($Q94:BN94)+1,3)=0,(BN94*$E30)+BN94,BN94)),\"NÃO\"),\"NÃO\")","v":"NÃO"},{"$f":"IF(AND(BP$8>=$M30,BP$8<=$N30),IF($F30=\"Trimestral\",IF(BO94=\"NÃO\",$D30,IF(MOD(COUNT($Q94:BO94)+1,3)=0,(BO94*$E30)+BO94,BO94)),\"NÃO\"),\"NÃO\")","v":"NÃO"},{"$f":"IF(AND(BQ$8>=$M30,BQ$8<=$N30),IF($F30=\"Trimestral\",IF(BP94=\"NÃO\",$D30,IF(MOD(COUNT($Q94:BP94)+1,3)=0,(BP94*$E30)+BP94,BP94)),\"NÃO\"),\"NÃO\")","v":"NÃO"},{"$f":"IF(AND(BR$8>=$M30,BR$8<=$N30),IF($F30=\"Trimestral\",IF(BQ94=\"NÃO\",$D30,IF(MOD(COUNT($Q94:BQ94)+1,3)=0,(BQ94*$E30)+BQ94,BQ94)),\"NÃO\"),\"NÃO\")","v":"NÃO"},{"$f":"IF(AND(BS$8>=$M30,BS$8<=$N30),IF($F30=\"Trimestral\",IF(BR94=\"NÃO\",$D30,IF(MOD(COUNT($Q94:BR94)+1,3)=0,(BR94*$E30)+BR94,BR94)),\"NÃO\"),\"NÃO\")","v":"NÃO"},{"$f":"IF(AND(BT$8>=$M30,BT$8<=$N30),IF($F30=\"Trimestral\",IF(BS94=\"NÃO\",$D30,IF(MOD(COUNT($Q94:BS94)+1,3)=0,(BS94*$E30)+BS94,BS94)),\"NÃO\"),\"NÃO\")","v":"NÃO"},{"$f":"IF(AND(BU$8>=$M30,BU$8<=$N30),IF($F30=\"Trimestral\",IF(BT94=\"NÃO\",$D30,IF(MOD(COUNT($Q94:BT94)+1,3)=0,(BT94*$E30)+BT94,BT94)),\"NÃO\"),\"NÃO\")","v":"NÃO"},{"$f":"IF(AND(BV$8>=$M30,BV$8<=$N30),IF($F30=\"Trimestral\",IF(BU94=\"NÃO\",$D30,IF(MOD(COUNT($Q94:BU94)+1,3)=0,(BU94*$E30)+BU94,BU94)),\"NÃO\"),\"NÃO\")","v":"NÃO"},{"$f":"IF(AND(BW$8>=$M30,BW$8<=$N30),IF($F30=\"Trimestral\",IF(BV94=\"NÃO\",$D30,IF(MOD(COUNT($Q94:BV94)+1,3)=0,(BV94*$E30)+BV94,BV94)),\"NÃO\"),\"NÃO\")","v":"NÃO"},{"$f":"IF(AND(BX$8>=$M30,BX$8<=$N30),IF($F30=\"Trimestral\",IF(BW94=\"NÃO\",$D30,IF(MOD(COUNT($Q94:BW94)+1,3)=0,(BW94*$E30)+BW94,BW94)),\"NÃO\"),\"NÃO\")","v":"NÃO"},null,null,22]
[null,null,null,null,null,null,null,null,null,null,null,null,null,null,null,23,"NÃO",{"$f":"IF(AND(R$8>=$M31,R$8<=$N31),IF($F31=\"Trimestral\",IF(Q95=\"NÃO\",$D31,IF(MOD(COUNT($Q95:Q95)+1,3)=0,(Q95*$E31)+Q95,Q95)),\"NÃO\"),\"NÃO\")","v":"NÃO"},{"$f":"IF(AND(S$8>=$M31,S$8<=$N31),IF($F31=\"Trimestral\",IF(R95=\"NÃO\",$D31,IF(MOD(COUNT($Q95:R95)+1,3)=0,(R95*$E31)+R95,R95)),\"NÃO\"),\"NÃO\")","v":"NÃO"},{"$f":"IF(AND(T$8>=$M31,T$8<=$N31),IF($F31=\"Trimestral\",IF(S95=\"NÃO\",$D31,IF(MOD(COUNT($Q95:S95)+1,3)=0,(S95*$E31)+S95,S95)),\"NÃO\"),\"NÃO\")","v":"NÃO"},{"$f":"IF(AND(U$8>=$M31,U$8<=$N31),IF($F31=\"Trimestral\",IF(T95=\"NÃO\",$D31,IF(MOD(COUNT($Q95:T95)+1,3)=0,(T95*$E31)+T95,T95)),\"NÃO\"),\"NÃO\")","v":"NÃO"},{"$f":"IF(AND(V$8>=$M31,V$8<=$N31),IF($F31=\"Trimestral\",IF(U95=\"NÃO\",$D31,IF(MOD(COUNT($Q95:U95)+1,3)=0,(U95*$E31)+U95,U95)),\"NÃO\"),\"NÃO\")","v":"NÃO"},{"$f":"IF(AND(W$8>=$M31,W$8<=$N31),IF($F31=\"Trimestral\",IF(V95=\"NÃO\",$D31,IF(MOD(COUNT($Q95:V95)+1,3)=0,(V95*$E31)+V95,V95)),\"NÃO\"),\"NÃO\")","v":"NÃO"},{"$f":"IF(AND(X$8>=$M31,X$8<=$N31),IF($F31=\"Trimestral\",IF(W95=\"NÃO\",$D31,IF(MOD(COUNT($Q95:W95)+1,3)=0,(W95*$E31)+W95,W95)),\"NÃO\"),\"NÃO\")","v":"NÃO"},{"$f":"IF(AND(Y$8>=$M31,Y$8<=$N31),IF($F31=\"Trimestral\",IF(X95=\"NÃO\",$D31,IF(MOD(COUNT($Q95:X95)+1,3)=0,(X95*$E31)+X95,X95)),\"NÃO\"),\"NÃO\")","v":"NÃO"},{"$f":"IF(AND(Z$8>=$M31,Z$8<=$N31),IF($F31=\"Trimestral\",IF(Y95=\"NÃO\",$D31,IF(MOD(COUNT($Q95:Y95)+1,3)=0,(Y95*$E31)+Y95,Y95)),\"NÃO\"),\"NÃO\")","v":"NÃO"},{"$f":"IF(AND(AA$8>=$M31,AA$8<=$N31),IF($F31=\"Trimestral\",IF(Z95=\"NÃO\",$D31,IF(MOD(COUNT($Q95:Z95)+1,3)=0,(Z95*$E31)+Z95,Z95)),\"NÃO\"),\"NÃO\")","v":"NÃO"},{"$f":"IF(AND(AB$8>=$M31,AB$8<=$N31),IF($F31=\"Trimestral\",IF(AA95=\"NÃO\",$D31,IF(MOD(COUNT($Q95:AA95)+1,3)=0,(AA95*$E31)+AA95,AA95)),\"NÃO\"),\"NÃO\")","v":"NÃO"},{"$f":"IF(AND(AC$8>=$M31,AC$8<=$N31),IF($F31=\"Trimestral\",IF(AB95=\"NÃO\",$D31,IF(MOD(COUNT($Q95:AB95)+1,3)=0,(AB95*$E31)+AB95,AB95)),\"NÃO\"),\"NÃO\")","v":"NÃO"},{"$f":"IF(AND(AD$8>=$M31,AD$8<=$N31),IF($F31=\"Trimestral\",IF(AC95=\"NÃO\",$D31,IF(MOD(COUNT($Q95:AC95)+1,3)=0,(AC95*$E31)+AC95,AC95)),\"NÃO\"),\"NÃO\")","v":"NÃO"},{"$f":"IF(AND(AE$8>=$M31,AE$8<=$N31),IF($F31=\"Trimestral\",IF(AD95=\"NÃO\",$D31,IF(MOD(COUNT($Q95:AD95)+1,3)=0,(AD95*$E31)+AD95,AD95)),\"NÃO\"),\"NÃO\")","v":"NÃO"},{"$f":"IF(AND(AF$8>=$M31,AF$8<=$N31),IF($F31=\"Trimestral\",IF(AE95=\"NÃO\",$D31,IF(MOD(COUNT($Q95:AE95)+1,3)=0,(AE95*$E31)+AE95,AE95)),\"NÃO\"),\"NÃO\")","v":"NÃO"},{"$f":"IF(AND(AG$8>=$M31,AG$8<=$N31),IF($F31=\"Trimestral\",IF(AF95=\"NÃO\",$D31,IF(MOD(COUNT($Q95:AF95)+1,3)=0,(AF95*$E31)+AF95,AF95)),\"NÃO\"),\"NÃO\")","v":"NÃO"},{"$f":"IF(AND(AH$8>=$M31,AH$8<=$N31),IF($F31=\"Trimestral\",IF(AG95=\"NÃO\",$D31,IF(MOD(COUNT($Q95:AG95)+1,3)=0,(AG95*$E31)+AG95,AG95)),\"NÃO\"),\"NÃO\")","v":"NÃO"},{"$f":"IF(AND(AI$8>=$M31,AI$8<=$N31),IF($F31=\"Trimestral\",IF(AH95=\"NÃO\",$D31,IF(MOD(COUNT($Q95:AH95)+1,3)=0,(AH95*$E31)+AH95,AH95)),\"NÃO\"),\"NÃO\")","v":"NÃO"},{"$f":"IF(AND(AJ$8>=$M31,AJ$8<=$N31),IF($F31=\"Trimestral\",IF(AI95=\"NÃO\",$D31,IF(MOD(COUNT($Q95:AI95)+1,3)=0,(AI95*$E31)+AI95,AI95)),\"NÃO\"),\"NÃO\")","v":"NÃO"},{"$f":"IF(AND(AK$8>=$M31,AK$8<=$N31),IF($F31=\"Trimestral\",IF(AJ95=\"NÃO\",$D31,IF(MOD(COUNT($Q95:AJ95)+1,3)=0,(AJ95*$E31)+AJ95,AJ95)),\"NÃO\"),\"NÃO\")","v":"NÃO"},{"$f":"IF(AND(AL$8>=$M31,AL$8<=$N31),IF($F31=\"Trimestral\",IF(AK95=\"NÃO\",$D31,IF(MOD(COUNT($Q95:AK95)+1,3)=0,(AK95*$E31)+AK95,AK95)),\"NÃO\"),\"NÃO\")","v":"NÃO"},{"$f":"IF(AND(AM$8>=$M31,AM$8<=$N31),IF($F31=\"Trimestral\",IF(AL95=\"NÃO\",$D31,IF(MOD(COUNT($Q95:AL95)+1,3)=0,(AL95*$E31)+AL95,AL95)),\"NÃO\"),\"NÃO\")","v":"NÃO"},{"$f":"IF(AND(AN$8>=$M31,AN$8<=$N31),IF($F31=\"Trimestral\",IF(AM95=\"NÃO\",$D31,IF(MOD(COUNT($Q95:AM95)+1,3)=0,(AM95*$E31)+AM95,AM95)),\"NÃO\"),\"NÃO\")","v":"NÃO"},{"$f":"IF(AND(AO$8>=$M31,AO$8<=$N31),IF($F31=\"Trimestral\",IF(AN95=\"NÃO\",$D31,IF(MOD(COUNT($Q95:AN95)+1,3)=0,(AN95*$E31)+AN95,AN95)),\"NÃO\"),\"NÃO\")","v":"NÃO"},{"$f":"IF(AND(AP$8>=$M31,AP$8<=$N31),IF($F31=\"Trimestral\",IF(AO95=\"NÃO\",$D31,IF(MOD(COUNT($Q95:AO95)+1,3)=0,(AO95*$E31)+AO95,AO95)),\"NÃO\"),\"NÃO\")","v":"NÃO"},{"$f":"IF(AND(AQ$8>=$M31,AQ$8<=$N31),IF($F31=\"Trimestral\",IF(AP95=\"NÃO\",$D31,IF(MOD(COUNT($Q95:AP95)+1,3)=0,(AP95*$E31)+AP95,AP95)),\"NÃO\"),\"NÃO\")","v":"NÃO"},{"$f":"IF(AND(AR$8>=$M31,AR$8<=$N31),IF($F31=\"Trimestral\",IF(AQ95=\"NÃO\",$D31,IF(MOD(COUNT($Q95:AQ95)+1,3)=0,(AQ95*$E31)+AQ95,AQ95)),\"NÃO\"),\"NÃO\")","v":"NÃO"},{"$f":"IF(AND(AS$8>=$M31,AS$8<=$N31),IF($F31=\"Trimestral\",IF(AR95=\"NÃO\",$D31,IF(MOD(COUNT($Q95:AR95)+1,3)=0,(AR95*$E31)+AR95,AR95)),\"NÃO\"),\"NÃO\")","v":"NÃO"},{"$f":"IF(AND(AT$8>=$M31,AT$8<=$N31),IF($F31=\"Trimestral\",IF(AS95=\"NÃO\",$D31,IF(MOD(COUNT($Q95:AS95)+1,3)=0,(AS95*$E31)+AS95,AS95)),\"NÃO\"),\"NÃO\")","v":"NÃO"},{"$f":"IF(AND(AU$8>=$M31,AU$8<=$N31),IF($F31=\"Trimestral\",IF(AT95=\"NÃO\",$D31,IF(MOD(COUNT($Q95:AT95)+1,3)=0,(AT95*$E31)+AT95,AT95)),\"NÃO\"),\"NÃO\")","v":"NÃO"},{"$f":"IF(AND(AV$8>=$M31,AV$8<=$N31),IF($F31=\"Trimestral\",IF(AU95=\"NÃO\",$D31,IF(MOD(COUNT($Q95:AU95)+1,3)=0,(AU95*$E31)+AU95,AU95)),\"NÃO\"),\"NÃO\")","v":"NÃO"},{"$f":"IF(AND(AW$8>=$M31,AW$8<=$N31),IF($F31=\"Trimestral\",IF(AV95=\"NÃO\",$D31,IF(MOD(COUNT($Q95:AV95)+1,3)=0,(AV95*$E31)+AV95,AV95)),\"NÃO\"),\"NÃO\")","v":"NÃO"},{"$f":"IF(AND(AX$8>=$M31,AX$8<=$N31),IF($F31=\"Trimestral\",IF(AW95=\"NÃO\",$D31,IF(MOD(COUNT($Q95:AW95)+1,3)=0,(AW95*$E31)+AW95,AW95)),\"NÃO\"),\"NÃO\")","v":"NÃO"},{"$f":"IF(AND(AY$8>=$M31,AY$8<=$N31),IF($F31=\"Trimestral\",IF(AX95=\"NÃO\",$D31,IF(MOD(COUNT($Q95:AX95)+1,3)=0,(AX95*$E31)+AX95,AX95)),\"NÃO\"),\"NÃO\")","v":"NÃO"},{"$f":"IF(AND(AZ$8>=$M31,AZ$8<=$N31),IF($F31=\"Trimestral\",IF(AY95=\"NÃO\",$D31,IF(MOD(COUNT($Q95:AY95)+1,3)=0,(AY95*$E31)+AY95,AY95)),\"NÃO\"),\"NÃO\")","v":"NÃO"},{"$f":"IF(AND(BA$8>=$M31,BA$8<=$N31),IF($F31=\"Trimestral\",IF(AZ95=\"NÃO\",$D31,IF(MOD(COUNT($Q95:AZ95)+1,3)=0,(AZ95*$E31)+AZ95,AZ95)),\"NÃO\"),\"NÃO\")","v":"NÃO"},{"$f":"IF(AND(BB$8>=$M31,BB$8<=$N31),IF($F31=\"Trimestral\",IF(BA95=\"NÃO\",$D31,IF(MOD(COUNT($Q95:BA95)+1,3)=0,(BA95*$E31)+BA95,BA95)),\"NÃO\"),\"NÃO\")","v":"NÃO"},{"$f":"IF(AND(BC$8>=$M31,BC$8<=$N31),IF($F31=\"Trimestral\",IF(BB95=\"NÃO\",$D31,IF(MOD(COUNT($Q95:BB95)+1,3)=0,(BB95*$E31)+BB95,BB95)),\"NÃO\"),\"NÃO\")","v":"NÃO"},{"$f":"IF(AND(BD$8>=$M31,BD$8<=$N31),IF($F31=\"Trimestral\",IF(BC95=\"NÃO\",$D31,IF(MOD(COUNT($Q95:BC95)+1,3)=0,(BC95*$E31)+BC95,BC95)),\"NÃO\"),\"NÃO\")","v":"NÃO"},{"$f":"IF(AND(BE$8>=$M31,BE$8<=$N31),IF($F31=\"Trimestral\",IF(BD95=\"NÃO\",$D31,IF(MOD(COUNT($Q95:BD95)+1,3)=0,(BD95*$E31)+BD95,BD95)),\"NÃO\"),\"NÃO\")","v":"NÃO"},{"$f":"IF(AND(BF$8>=$M31,BF$8<=$N31),IF($F31=\"Trimestral\",IF(BE95=\"NÃO\",$D31,IF(MOD(COUNT($Q95:BE95)+1,3)=0,(BE95*$E31)+BE95,BE95)),\"NÃO\"),\"NÃO\")","v":"NÃO"},{"$f":"IF(AND(BG$8>=$M31,BG$8<=$N31),IF($F31=\"Trimestral\",IF(BF95=\"NÃO\",$D31,IF(MOD(COUNT($Q95:BF95)+1,3)=0,(BF95*$E31)+BF95,BF95)),\"NÃO\"),\"NÃO\")","v":"NÃO"},{"$f":"IF(AND(BH$8>=$M31,BH$8<=$N31),IF($F31=\"Trimestral\",IF(BG95=\"NÃO\",$D31,IF(MOD(COUNT($Q95:BG95)+1,3)=0,(BG95*$E31)+BG95,BG95)),\"NÃO\"),\"NÃO\")","v":"NÃO"},{"$f":"IF(AND(BI$8>=$M31,BI$8<=$N31),IF($F31=\"Trimestral\",IF(BH95=\"NÃO\",$D31,IF(MOD(COUNT($Q95:BH95)+1,3)=0,(BH95*$E31)+BH95,BH95)),\"NÃO\"),\"NÃO\")","v":"NÃO"},{"$f":"IF(AND(BJ$8>=$M31,BJ$8<=$N31),IF($F31=\"Trimestral\",IF(BI95=\"NÃO\",$D31,IF(MOD(COUNT($Q95:BI95)+1,3)=0,(BI95*$E31)+BI95,BI95)),\"NÃO\"),\"NÃO\")","v":"NÃO"},{"$f":"IF(AND(BK$8>=$M31,BK$8<=$N31),IF($F31=\"Trimestral\",IF(BJ95=\"NÃO\",$D31,IF(MOD(COUNT($Q95:BJ95)+1,3)=0,(BJ95*$E31)+BJ95,BJ95)),\"NÃO\"),\"NÃO\")","v":"NÃO"},{"$f":"IF(AND(BL$8>=$M31,BL$8<=$N31),IF($F31=\"Trimestral\",IF(BK95=\"NÃO\",$D31,IF(MOD(COUNT($Q95:BK95)+1,3)=0,(BK95*$E31)+BK95,BK95)),\"NÃO\"),\"NÃO\")","v":"NÃO"},{"$f":"IF(AND(BM$8>=$M31,BM$8<=$N31),IF($F31=\"Trimestral\",IF(BL95=\"NÃO\",$D31,IF(MOD(COUNT($Q95:BL95)+1,3)=0,(BL95*$E31)+BL95,BL95)),\"NÃO\"),\"NÃO\")","v":"NÃO"},{"$f":"IF(AND(BN$8>=$M31,BN$8<=$N31),IF($F31=\"Trimestral\",IF(BM95=\"NÃO\",$D31,IF(MOD(COUNT($Q95:BM95)+1,3)=0,(BM95*$E31)+BM95,BM95)),\"NÃO\"),\"NÃO\")","v":"NÃO"},{"$f":"IF(AND(BO$8>=$M31,BO$8<=$N31),IF($F31=\"Trimestral\",IF(BN95=\"NÃO\",$D31,IF(MOD(COUNT($Q95:BN95)+1,3)=0,(BN95*$E31)+BN95,BN95)),\"NÃO\"),\"NÃO\")","v":"NÃO"},{"$f":"IF(AND(BP$8>=$M31,BP$8<=$N31),IF($F31=\"Trimestral\",IF(BO95=\"NÃO\",$D31,IF(MOD(COUNT($Q95:BO95)+1,3)=0,(BO95*$E31)+BO95,BO95)),\"NÃO\"),\"NÃO\")","v":"NÃO"},{"$f":"IF(AND(BQ$8>=$M31,BQ$8<=$N31),IF($F31=\"Trimestral\",IF(BP95=\"NÃO\",$D31,IF(MOD(COUNT($Q95:BP95)+1,3)=0,(BP95*$E31)+BP95,BP95)),\"NÃO\"),\"NÃO\")","v":"NÃO"},{"$f":"IF(AND(BR$8>=$M31,BR$8<=$N31),IF($F31=\"Trimestral\",IF(BQ95=\"NÃO\",$D31,IF(MOD(COUNT($Q95:BQ95)+1,3)=0,(BQ95*$E31)+BQ95,BQ95)),\"NÃO\"),\"NÃO\")","v":"NÃO"},{"$f":"IF(AND(BS$8>=$M31,BS$8<=$N31),IF($F31=\"Trimestral\",IF(BR95=\"NÃO\",$D31,IF(MOD(COUNT($Q95:BR95)+1,3)=0,(BR95*$E31)+BR95,BR95)),\"NÃO\"),\"NÃO\")","v":"NÃO"},{"$f":"IF(AND(BT$8>=$M31,BT$8<=$N31),IF($F31=\"Trimestral\",IF(BS95=\"NÃO\",$D31,IF(MOD(COUNT($Q95:BS95)+1,3)=0,(BS95*$E31)+BS95,BS95)),\"NÃO\"),\"NÃO\")","v":"NÃO"},{"$f":"IF(AND(BU$8>=$M31,BU$8<=$N31),IF($F31=\"Trimestral\",IF(BT95=\"NÃO\",$D31,IF(MOD(COUNT($Q95:BT95)+1,3)=0,(BT95*$E31)+BT95,BT95)),\"NÃO\"),\"NÃO\")","v":"NÃO"},{"$f":"IF(AND(BV$8>=$M31,BV$8<=$N31),IF($F31=\"Trimestral\",IF(BU95=\"NÃO\",$D31,IF(MOD(COUNT($Q95:BU95)+1,3)=0,(BU95*$E31)+BU95,BU95)),\"NÃO\"),\"NÃO\")","v":"NÃO"},{"$f":"IF(AND(BW$8>=$M31,BW$8<=$N31),IF($F31=\"Trimestral\",IF(BV95=\"NÃO\",$D31,IF(MOD(COUNT($Q95:BV95)+1,3)=0,(BV95*$E31)+BV95,BV95)),\"NÃO\"),\"NÃO\")","v":"NÃO"},{"$f":"IF(AND(BX$8>=$M31,BX$8<=$N31),IF($F31=\"Trimestral\",IF(BW95=\"NÃO\",$D31,IF(MOD(COUNT($Q95:BW95)+1,3)=0,(BW95*$E31)+BW95,BW95)),\"NÃO\"),\"NÃO\")","v":"NÃO"},null,null,23]
[null,null,null,null,null,null,null,null,null,null,null,null,null,null,null,24,"NÃO",{"$f":"IF(AND(R$8>=$M32,R$8<=$N32),IF($F32=\"Trimestral\",IF(Q96=\"NÃO\",$D32,IF(MOD(COUNT($Q96:Q96)+1,3)=0,(Q96*$E32)+Q96,Q96)),\"NÃO\"),\"NÃO\")","v":"NÃO"},{"$f":"IF(AND(S$8>=$M32,S$8<=$N32),IF($F32=\"Trimestral\",IF(R96=\"NÃO\",$D32,IF(MOD(COUNT($Q96:R96)+1,3)=0,(R96*$E32)+R96,R96)),\"NÃO\"),\"NÃO\")","v":"NÃO"},{"$f":"IF(AND(T$8>=$M32,T$8<=$N32),IF($F32=\"Trimestral\",IF(S96=\"NÃO\",$D32,IF(MOD(COUNT($Q96:S96)+1,3)=0,(S96*$E32)+S96,S96)),\"NÃO\"),\"NÃO\")","v":"NÃO"},{"$f":"IF(AND(U$8>=$M32,U$8<=$N32),IF($F32=\"Trimestral\",IF(T96=\"NÃO\",$D32,IF(MOD(COUNT($Q96:T96)+1,3)=0,(T96*$E32)+T96,T96)),\"NÃO\"),\"NÃO\")","v":"NÃO"},{"$f":"IF(AND(V$8>=$M32,V$8<=$N32),IF($F32=\"Trimestral\",IF(U96=\"NÃO\",$D32,IF(MOD(COUNT($Q96:U96)+1,3)=0,(U96*$E32)+U96,U96)),\"NÃO\"),\"NÃO\")","v":"NÃO"},{"$f":"IF(AND(W$8>=$M32,W$8<=$N32),IF($F32=\"Trimestral\",IF(V96=\"NÃO\",$D32,IF(MOD(COUNT($Q96:V96)+1,3)=0,(V96*$E32)+V96,V96)),\"NÃO\"),\"NÃO\")","v":"NÃO"},{"$f":"IF(AND(X$8>=$M32,X$8<=$N32),IF($F32=\"Trimestral\",IF(W96=\"NÃO\",$D32,IF(MOD(COUNT($Q96:W96)+1,3)=0,(W96*$E32)+W96,W96)),\"NÃO\"),\"NÃO\")","v":"NÃO"},{"$f":"IF(AND(Y$8>=$M32,Y$8<=$N32),IF($F32=\"Trimestral\",IF(X96=\"NÃO\",$D32,IF(MOD(COUNT($Q96:X96)+1,3)=0,(X96*$E32)+X96,X96)),\"NÃO\"),\"NÃO\")","v":"NÃO"},{"$f":"IF(AND(Z$8>=$M32,Z$8<=$N32),IF($F32=\"Trimestral\",IF(Y96=\"NÃO\",$D32,IF(MOD(COUNT($Q96:Y96)+1,3)=0,(Y96*$E32)+Y96,Y96)),\"NÃO\"),\"NÃO\")","v":"NÃO"},{"$f":"IF(AND(AA$8>=$M32,AA$8<=$N32),IF($F32=\"Trimestral\",IF(Z96=\"NÃO\",$D32,IF(MOD(COUNT($Q96:Z96)+1,3)=0,(Z96*$E32)+Z96,Z96)),\"NÃO\"),\"NÃO\")","v":"NÃO"},{"$f":"IF(AND(AB$8>=$M32,AB$8<=$N32),IF($F32=\"Trimestral\",IF(AA96=\"NÃO\",$D32,IF(MOD(COUNT($Q96:AA96)+1,3)=0,(AA96*$E32)+AA96,AA96)),\"NÃO\"),\"NÃO\")","v":"NÃO"},{"$f":"IF(AND(AC$8>=$M32,AC$8<=$N32),IF($F32=\"Trimestral\",IF(AB96=\"NÃO\",$D32,IF(MOD(COUNT($Q96:AB96)+1,3)=0,(AB96*$E32)+AB96,AB96)),\"NÃO\"),\"NÃO\")","v":"NÃO"},{"$f":"IF(AND(AD$8>=$M32,AD$8<=$N32),IF($F32=\"Trimestral\",IF(AC96=\"NÃO\",$D32,IF(MOD(COUNT($Q96:AC96)+1,3)=0,(AC96*$E32)+AC96,AC96)),\"NÃO\"),\"NÃO\")","v":"NÃO"},{"$f":"IF(AND(AE$8>=$M32,AE$8<=$N32),IF($F32=\"Trimestral\",IF(AD96=\"NÃO\",$D32,IF(MOD(COUNT($Q96:AD96)+1,3)=0,(AD96*$E32)+AD96,AD96)),\"NÃO\"),\"NÃO\")","v":"NÃO"},{"$f":"IF(AND(AF$8>=$M32,AF$8<=$N32),IF($F32=\"Trimestral\",IF(AE96=\"NÃO\",$D32,IF(MOD(COUNT($Q96:AE96)+1,3)=0,(AE96*$E32)+AE96,AE96)),\"NÃO\"),\"NÃO\")","v":"NÃO"},{"$f":"IF(AND(AG$8>=$M32,AG$8<=$N32),IF($F32=\"Trimestral\",IF(AF96=\"NÃO\",$D32,IF(MOD(COUNT($Q96:AF96)+1,3)=0,(AF96*$E32)+AF96,AF96)),\"NÃO\"),\"NÃO\")","v":"NÃO"},{"$f":"IF(AND(AH$8>=$M32,AH$8<=$N32),IF($F32=\"Trimestral\",IF(AG96=\"NÃO\",$D32,IF(MOD(COUNT($Q96:AG96)+1,3)=0,(AG96*$E32)+AG96,AG96)),\"NÃO\"),\"NÃO\")","v":"NÃO"},{"$f":"IF(AND(AI$8>=$M32,AI$8<=$N32),IF($F32=\"Trimestral\",IF(AH96=\"NÃO\",$D32,IF(MOD(COUNT($Q96:AH96)+1,3)=0,(AH96*$E32)+AH96,AH96)),\"NÃO\"),\"NÃO\")","v":"NÃO"},{"$f":"IF(AND(AJ$8>=$M32,AJ$8<=$N32),IF($F32=\"Trimestral\",IF(AI96=\"NÃO\",$D32,IF(MOD(COUNT($Q96:AI96)+1,3)=0,(AI96*$E32)+AI96,AI96)),\"NÃO\"),\"NÃO\")","v":"NÃO"},{"$f":"IF(AND(AK$8>=$M32,AK$8<=$N32),IF($F32=\"Trimestral\",IF(AJ96=\"NÃO\",$D32,IF(MOD(COUNT($Q96:AJ96)+1,3)=0,(AJ96*$E32)+AJ96,AJ96)),\"NÃO\"),\"NÃO\")","v":"NÃO"},{"$f":"IF(AND(AL$8>=$M32,AL$8<=$N32),IF($F32=\"Trimestral\",IF(AK96=\"NÃO\",$D32,IF(MOD(COUNT($Q96:AK96)+1,3)=0,(AK96*$E32)+AK96,AK96)),\"NÃO\"),\"NÃO\")","v":"NÃO"},{"$f":"IF(AND(AM$8>=$M32,AM$8<=$N32),IF($F32=\"Trimestral\",IF(AL96=\"NÃO\",$D32,IF(MOD(COUNT($Q96:AL96)+1,3)=0,(AL96*$E32)+AL96,AL96)),\"NÃO\"),\"NÃO\")","v":"NÃO"},{"$f":"IF(AND(AN$8>=$M32,AN$8<=$N32),IF($F32=\"Trimestral\",IF(AM96=\"NÃO\",$D32,IF(MOD(COUNT($Q96:AM96)+1,3)=0,(AM96*$E32)+AM96,AM96)),\"NÃO\"),\"NÃO\")","v":"NÃO"},{"$f":"IF(AND(AO$8>=$M32,AO$8<=$N32),IF($F32=\"Trimestral\",IF(AN96=\"NÃO\",$D32,IF(MOD(COUNT($Q96:AN96)+1,3)=0,(AN96*$E32)+AN96,AN96)),\"NÃO\"),\"NÃO\")","v":"NÃO"},{"$f":"IF(AND(AP$8>=$M32,AP$8<=$N32),IF($F32=\"Trimestral\",IF(AO96=\"NÃO\",$D32,IF(MOD(COUNT($Q96:AO96)+1,3)=0,(AO96*$E32)+AO96,AO96)),\"NÃO\"),\"NÃO\")","v":"NÃO"},{"$f":"IF(AND(AQ$8>=$M32,AQ$8<=$N32),IF($F32=\"Trimestral\",IF(AP96=\"NÃO\",$D32,IF(MOD(COUNT($Q96:AP96)+1,3)=0,(AP96*$E32)+AP96,AP96)),\"NÃO\"),\"NÃO\")","v":"NÃO"},{"$f":"IF(AND(AR$8>=$M32,AR$8<=$N32),IF($F32=\"Trimestral\",IF(AQ96=\"NÃO\",$D32,IF(MOD(COUNT($Q96:AQ96)+1,3)=0,(AQ96*$E32)+AQ96,AQ96)),\"NÃO\"),\"NÃO\")","v":"NÃO"},{"$f":"IF(AND(AS$8>=$M32,AS$8<=$N32),IF($F32=\"Trimestral\",IF(AR96=\"NÃO\",$D32,IF(MOD(COUNT($Q96:AR96)+1,3)=0,(AR96*$E32)+AR96,AR96)),\"NÃO\"),\"NÃO\")","v":"NÃO"},{"$f":"IF(AND(AT$8>=$M32,AT$8<=$N32),IF($F32=\"Trimestral\",IF(AS96=\"NÃO\",$D32,IF(MOD(COUNT($Q96:AS96)+1,3)=0,(AS96*$E32)+AS96,AS96)),\"NÃO\"),\"NÃO\")","v":"NÃO"},{"$f":"IF(AND(AU$8>=$M32,AU$8<=$N32),IF($F32=\"Trimestral\",IF(AT96=\"NÃO\",$D32,IF(MOD(COUNT($Q96:AT96)+1,3)=0,(AT96*$E32)+AT96,AT96)),\"NÃO\"),\"NÃO\")","v":"NÃO"},{"$f":"IF(AND(AV$8>=$M32,AV$8<=$N32),IF($F32=\"Trimestral\",IF(AU96=\"NÃO\",$D32,IF(MOD(COUNT($Q96:AU96)+1,3)=0,(AU96*$E32)+AU96,AU96)),\"NÃO\"),\"NÃO\")","v":"NÃO"},{"$f":"IF(AND(AW$8>=$M32,AW$8<=$N32),IF($F32=\"Trimestral\",IF(AV96=\"NÃO\",$D32,IF(MOD(COUNT($Q96:AV96)+1,3)=0,(AV96*$E32)+AV96,AV96)),\"NÃO\"),\"NÃO\")","v":"NÃO"},{"$f":"IF(AND(AX$8>=$M32,AX$8<=$N32),IF($F32=\"Trimestral\",IF(AW96=\"NÃO\",$D32,IF(MOD(COUNT($Q96:AW96)+1,3)=0,(AW96*$E32)+AW96,AW96)),\"NÃO\"),\"NÃO\")","v":"NÃO"},{"$f":"IF(AND(AY$8>=$M32,AY$8<=$N32),IF($F32=\"Trimestral\",IF(AX96=\"NÃO\",$D32,IF(MOD(COUNT($Q96:AX96)+1,3)=0,(AX96*$E32)+AX96,AX96)),\"NÃO\"),\"NÃO\")","v":"NÃO"},{"$f":"IF(AND(AZ$8>=$M32,AZ$8<=$N32),IF($F32=\"Trimestral\",IF(AY96=\"NÃO\",$D32,IF(MOD(COUNT($Q96:AY96)+1,3)=0,(AY96*$E32)+AY96,AY96)),\"NÃO\"),\"NÃO\")","v":"NÃO"},{"$f":"IF(AND(BA$8>=$M32,BA$8<=$N32),IF($F32=\"Trimestral\",IF(AZ96=\"NÃO\",$D32,IF(MOD(COUNT($Q96:AZ96)+1,3)=0,(AZ96*$E32)+AZ96,AZ96)),\"NÃO\"),\"NÃO\")","v":"NÃO"},{"$f":"IF(AND(BB$8>=$M32,BB$8<=$N32),IF($F32=\"Trimestral\",IF(BA96=\"NÃO\",$D32,IF(MOD(COUNT($Q96:BA96)+1,3)=0,(BA96*$E32)+BA96,BA96)),\"NÃO\"),\"NÃO\")","v":"NÃO"},{"$f":"IF(AND(BC$8>=$M32,BC$8<=$N32),IF($F32=\"Trimestral\",IF(BB96=\"NÃO\",$D32,IF(MOD(COUNT($Q96:BB96)+1,3)=0,(BB96*$E32)+BB96,BB96)),\"NÃO\"),\"NÃO\")","v":"NÃO"},{"$f":"IF(AND(BD$8>=$M32,BD$8<=$N32),IF($F32=\"Trimestral\",IF(BC96=\"NÃO\",$D32,IF(MOD(COUNT($Q96:BC96)+1,3)=0,(BC96*$E32)+BC96,BC96)),\"NÃO\"),\"NÃO\")","v":"NÃO"},{"$f":"IF(AND(BE$8>=$M32,BE$8<=$N32),IF($F32=\"Trimestral\",IF(BD96=\"NÃO\",$D32,IF(MOD(COUNT($Q96:BD96)+1,3)=0,(BD96*$E32)+BD96,BD96)),\"NÃO\"),\"NÃO\")","v":"NÃO"},{"$f":"IF(AND(BF$8>=$M32,BF$8<=$N32),IF($F32=\"Trimestral\",IF(BE96=\"NÃO\",$D32,IF(MOD(COUNT($Q96:BE96)+1,3)=0,(BE96*$E32)+BE96,BE96)),\"NÃO\"),\"NÃO\")","v":"NÃO"},{"$f":"IF(AND(BG$8>=$M32,BG$8<=$N32),IF($F32=\"Trimestral\",IF(BF96=\"NÃO\",$D32,IF(MOD(COUNT($Q96:BF96)+1,3)=0,(BF96*$E32)+BF96,BF96)),\"NÃO\"),\"NÃO\")","v":"NÃO"},{"$f":"IF(AND(BH$8>=$M32,BH$8<=$N32),IF($F32=\"Trimestral\",IF(BG96=\"NÃO\",$D32,IF(MOD(COUNT($Q96:BG96)+1,3)=0,(BG96*$E32)+BG96,BG96)),\"NÃO\"),\"NÃO\")","v":"NÃO"},{"$f":"IF(AND(BI$8>=$M32,BI$8<=$N32),IF($F32=\"Trimestral\",IF(BH96=\"NÃO\",$D32,IF(MOD(COUNT($Q96:BH96)+1,3)=0,(BH96*$E32)+BH96,BH96)),\"NÃO\"),\"NÃO\")","v":"NÃO"},{"$f":"IF(AND(BJ$8>=$M32,BJ$8<=$N32),IF($F32=\"Trimestral\",IF(BI96=\"NÃO\",$D32,IF(MOD(COUNT($Q96:BI96)+1,3)=0,(BI96*$E32)+BI96,BI96)),\"NÃO\"),\"NÃO\")","v":"NÃO"},{"$f":"IF(AND(BK$8>=$M32,BK$8<=$N32),IF($F32=\"Trimestral\",IF(BJ96=\"NÃO\",$D32,IF(MOD(COUNT($Q96:BJ96)+1,3)=0,(BJ96*$E32)+BJ96,BJ96)),\"NÃO\"),\"NÃO\")","v":"NÃO"},{"$f":"IF(AND(BL$8>=$M32,BL$8<=$N32),IF($F32=\"Trimestral\",IF(BK96=\"NÃO\",$D32,IF(MOD(COUNT($Q96:BK96)+1,3)=0,(BK96*$E32)+BK96,BK96)),\"NÃO\"),\"NÃO\")","v":"NÃO"},{"$f":"IF(AND(BM$8>=$M32,BM$8<=$N32),IF($F32=\"Trimestral\",IF(BL96=\"NÃO\",$D32,IF(MOD(COUNT($Q96:BL96)+1,3)=0,(BL96*$E32)+BL96,BL96)),\"NÃO\"),\"NÃO\")","v":"NÃO"},{"$f":"IF(AND(BN$8>=$M32,BN$8<=$N32),IF($F32=\"Trimestral\",IF(BM96=\"NÃO\",$D32,IF(MOD(COUNT($Q96:BM96)+1,3)=0,(BM96*$E32)+BM96,BM96)),\"NÃO\"),\"NÃO\")","v":"NÃO"},{"$f":"IF(AND(BO$8>=$M32,BO$8<=$N32),IF($F32=\"Trimestral\",IF(BN96=\"NÃO\",$D32,IF(MOD(COUNT($Q96:BN96)+1,3)=0,(BN96*$E32)+BN96,BN96)),\"NÃO\"),\"NÃO\")","v":"NÃO"},{"$f":"IF(AND(BP$8>=$M32,BP$8<=$N32),IF($F32=\"Trimestral\",IF(BO96=\"NÃO\",$D32,IF(MOD(COUNT($Q96:BO96)+1,3)=0,(BO96*$E32)+BO96,BO96)),\"NÃO\"),\"NÃO\")","v":"NÃO"},{"$f":"IF(AND(BQ$8>=$M32,BQ$8<=$N32),IF($F32=\"Trimestral\",IF(BP96=\"NÃO\",$D32,IF(MOD(COUNT($Q96:BP96)+1,3)=0,(BP96*$E32)+BP96,BP96)),\"NÃO\"),\"NÃO\")","v":"NÃO"},{"$f":"IF(AND(BR$8>=$M32,BR$8<=$N32),IF($F32=\"Trimestral\",IF(BQ96=\"NÃO\",$D32,IF(MOD(COUNT($Q96:BQ96)+1,3)=0,(BQ96*$E32)+BQ96,BQ96)),\"NÃO\"),\"NÃO\")","v":"NÃO"},{"$f":"IF(AND(BS$8>=$M32,BS$8<=$N32),IF($F32=\"Trimestral\",IF(BR96=\"NÃO\",$D32,IF(MOD(COUNT($Q96:BR96)+1,3)=0,(BR96*$E32)+BR96,BR96)),\"NÃO\"),\"NÃO\")","v":"NÃO"},{"$f":"IF(AND(BT$8>=$M32,BT$8<=$N32),IF($F32=\"Trimestral\",IF(BS96=\"NÃO\",$D32,IF(MOD(COUNT($Q96:BS96)+1,3)=0,(BS96*$E32)+BS96,BS96)),\"NÃO\"),\"NÃO\")","v":"NÃO"},{"$f":"IF(AND(BU$8>=$M32,BU$8<=$N32),IF($F32=\"Trimestral\",IF(BT96=\"NÃO\",$D32,IF(MOD(COUNT($Q96:BT96)+1,3)=0,(BT96*$E32)+BT96,BT96)),\"NÃO\"),\"NÃO\")","v":"NÃO"},{"$f":"IF(AND(BV$8>=$M32,BV$8<=$N32),IF($F32=\"Trimestral\",IF(BU96=\"NÃO\",$D32,IF(MOD(COUNT($Q96:BU96)+1,3)=0,(BU96*$E32)+BU96,BU96)),\"NÃO\"),\"NÃO\")","v":"NÃO"},{"$f":"IF(AND(BW$8>=$M32,BW$8<=$N32),IF($F32=\"Trimestral\",IF(BV96=\"NÃO\",$D32,IF(MOD(COUNT($Q96:BV96)+1,3)=0,(BV96*$E32)+BV96,BV96)),\"NÃO\"),\"NÃO\")","v":"NÃO"},{"$f":"IF(AND(BX$8>=$M32,BX$8<=$N32),IF($F32=\"Trimestral\",IF(BW96=\"NÃO\",$D32,IF(MOD(COUNT($Q96:BW96)+1,3)=0,(BW96*$E32)+BW96,BW96)),\"NÃO\"),\"NÃO\")","v":"NÃO"},null,null,24]
[null,null,null,null,null,null,null,null,null,null,null,null,null,null,null,25,"NÃO",{"$f":"IF(AND(R$8>=$M33,R$8<=$N33),IF($F33=\"Trimestral\",IF(Q97=\"NÃO\",$D33,IF(MOD(COUNT($Q97:Q97)+1,3)=0,(Q97*$E33)+Q97,Q97)),\"NÃO\"),\"NÃO\")","v":"NÃO"},{"$f":"IF(AND(S$8>=$M33,S$8<=$N33),IF($F33=\"Trimestral\",IF(R97=\"NÃO\",$D33,IF(MOD(COUNT($Q97:R97)+1,3)=0,(R97*$E33)+R97,R97)),\"NÃO\"),\"NÃO\")","v":"NÃO"},{"$f":"IF(AND(T$8>=$M33,T$8<=$N33),IF($F33=\"Trimestral\",IF(S97=\"NÃO\",$D33,IF(MOD(COUNT($Q97:S97)+1,3)=0,(S97*$E33)+S97,S97)),\"NÃO\"),\"NÃO\")","v":"NÃO"},{"$f":"IF(AND(U$8>=$M33,U$8<=$N33),IF($F33=\"Trimestral\",IF(T97=\"NÃO\",$D33,IF(MOD(COUNT($Q97:T97)+1,3)=0,(T97*$E33)+T97,T97)),\"NÃO\"),\"NÃO\")","v":"NÃO"},{"$f":"IF(AND(V$8>=$M33,V$8<=$N33),IF($F33=\"Trimestral\",IF(U97=\"NÃO\",$D33,IF(MOD(COUNT($Q97:U97)+1,3)=0,(U97*$E33)+U97,U97)),\"NÃO\"),\"NÃO\")","v":"NÃO"},{"$f":"IF(AND(W$8>=$M33,W$8<=$N33),IF($F33=\"Trimestral\",IF(V97=\"NÃO\",$D33,IF(MOD(COUNT($Q97:V97)+1,3)=0,(V97*$E33)+V97,V97)),\"NÃO\"),\"NÃO\")","v":"NÃO"},{"$f":"IF(AND(X$8>=$M33,X$8<=$N33),IF($F33=\"Trimestral\",IF(W97=\"NÃO\",$D33,IF(MOD(COUNT($Q97:W97)+1,3)=0,(W97*$E33)+W97,W97)),\"NÃO\"),\"NÃO\")","v":"NÃO"},{"$f":"IF(AND(Y$8>=$M33,Y$8<=$N33),IF($F33=\"Trimestral\",IF(X97=\"NÃO\",$D33,IF(MOD(COUNT($Q97:X97)+1,3)=0,(X97*$E33)+X97,X97)),\"NÃO\"),\"NÃO\")","v":"NÃO"},{"$f":"IF(AND(Z$8>=$M33,Z$8<=$N33),IF($F33=\"Trimestral\",IF(Y97=\"NÃO\",$D33,IF(MOD(COUNT($Q97:Y97)+1,3)=0,(Y97*$E33)+Y97,Y97)),\"NÃO\"),\"NÃO\")","v":"NÃO"},{"$f":"IF(AND(AA$8>=$M33,AA$8<=$N33),IF($F33=\"Trimestral\",IF(Z97=\"NÃO\",$D33,IF(MOD(COUNT($Q97:Z97)+1,3)=0,(Z97*$E33)+Z97,Z97)),\"NÃO\"),\"NÃO\")","v":"NÃO"},{"$f":"IF(AND(AB$8>=$M33,AB$8<=$N33),IF($F33=\"Trimestral\",IF(AA97=\"NÃO\",$D33,IF(MOD(COUNT($Q97:AA97)+1,3)=0,(AA97*$E33)+AA97,AA97)),\"NÃO\"),\"NÃO\")","v":"NÃO"},{"$f":"IF(AND(AC$8>=$M33,AC$8<=$N33),IF($F33=\"Trimestral\",IF(AB97=\"NÃO\",$D33,IF(MOD(COUNT($Q97:AB97)+1,3)=0,(AB97*$E33)+AB97,AB97)),\"NÃO\"),\"NÃO\")","v":"NÃO"},{"$f":"IF(AND(AD$8>=$M33,AD$8<=$N33),IF($F33=\"Trimestral\",IF(AC97=\"NÃO\",$D33,IF(MOD(COUNT($Q97:AC97)+1,3)=0,(AC97*$E33)+AC97,AC97)),\"NÃO\"),\"NÃO\")","v":"NÃO"},{"$f":"IF(AND(AE$8>=$M33,AE$8<=$N33),IF($F33=\"Trimestral\",IF(AD97=\"NÃO\",$D33,IF(MOD(COUNT($Q97:AD97)+1,3)=0,(AD97*$E33)+AD97,AD97)),\"NÃO\"),\"NÃO\")","v":"NÃO"},{"$f":"IF(AND(AF$8>=$M33,AF$8<=$N33),IF($F33=\"Trimestral\",IF(AE97=\"NÃO\",$D33,IF(MOD(COUNT($Q97:AE97)+1,3)=0,(AE97*$E33)+AE97,AE97)),\"NÃO\"),\"NÃO\")","v":"NÃO"},{"$f":"IF(AND(AG$8>=$M33,AG$8<=$N33),IF($F33=\"Trimestral\",IF(AF97=\"NÃO\",$D33,IF(MOD(COUNT($Q97:AF97)+1,3)=0,(AF97*$E33)+AF97,AF97)),\"NÃO\"),\"NÃO\")","v":"NÃO"},{"$f":"IF(AND(AH$8>=$M33,AH$8<=$N33),IF($F33=\"Trimestral\",IF(AG97=\"NÃO\",$D33,IF(MOD(COUNT($Q97:AG97)+1,3)=0,(AG97*$E33)+AG97,AG97)),\"NÃO\"),\"NÃO\")","v":"NÃO"},{"$f":"IF(AND(AI$8>=$M33,AI$8<=$N33),IF($F33=\"Trimestral\",IF(AH97=\"NÃO\",$D33,IF(MOD(COUNT($Q97:AH97)+1,3)=0,(AH97*$E33)+AH97,AH97)),\"NÃO\"),\"NÃO\")","v":"NÃO"},{"$f":"IF(AND(AJ$8>=$M33,AJ$8<=$N33),IF($F33=\"Trimestral\",IF(AI97=\"NÃO\",$D33,IF(MOD(COUNT($Q97:AI97)+1,3)=0,(AI97*$E33)+AI97,AI97)),\"NÃO\"),\"NÃO\")","v":"NÃO"},{"$f":"IF(AND(AK$8>=$M33,AK$8<=$N33),IF($F33=\"Trimestral\",IF(AJ97=\"NÃO\",$D33,IF(MOD(COUNT($Q97:AJ97)+1,3)=0,(AJ97*$E33)+AJ97,AJ97)),\"NÃO\"),\"NÃO\")","v":"NÃO"},{"$f":"IF(AND(AL$8>=$M33,AL$8<=$N33),IF($F33=\"Trimestral\",IF(AK97=\"NÃO\",$D33,IF(MOD(COUNT($Q97:AK97)+1,3)=0,(AK97*$E33)+AK97,AK97)),\"NÃO\"),\"NÃO\")","v":"NÃO"},{"$f":"IF(AND(AM$8>=$M33,AM$8<=$N33),IF($F33=\"Trimestral\",IF(AL97=\"NÃO\",$D33,IF(MOD(COUNT($Q97:AL97)+1,3)=0,(AL97*$E33)+AL97,AL97)),\"NÃO\"),\"NÃO\")","v":"NÃO"},{"$f":"IF(AND(AN$8>=$M33,AN$8<=$N33),IF($F33=\"Trimestral\",IF(AM97=\"NÃO\",$D33,IF(MOD(COUNT($Q97:AM97)+1,3)=0,(AM97*$E33)+AM97,AM97)),\"NÃO\"),\"NÃO\")","v":"NÃO"},{"$f":"IF(AND(AO$8>=$M33,AO$8<=$N33),IF($F33=\"Trimestral\",IF(AN97=\"NÃO\",$D33,IF(MOD(COUNT($Q97:AN97)+1,3)=0,(AN97*$E33)+AN97,AN97)),\"NÃO\"),\"NÃO\")","v":"NÃO"},{"$f":"IF(AND(AP$8>=$M33,AP$8<=$N33),IF($F33=\"Trimestral\",IF(AO97=\"NÃO\",$D33,IF(MOD(COUNT($Q97:AO97)+1,3)=0,(AO97*$E33)+AO97,AO97)),\"NÃO\"),\"NÃO\")","v":"NÃO"},{"$f":"IF(AND(AQ$8>=$M33,AQ$8<=$N33),IF($F33=\"Trimestral\",IF(AP97=\"NÃO\",$D33,IF(MOD(COUNT($Q97:AP97)+1,3)=0,(AP97*$E33)+AP97,AP97)),\"NÃO\"),\"NÃO\")","v":"NÃO"},{"$f":"IF(AND(AR$8>=$M33,AR$8<=$N33),IF($F33=\"Trimestral\",IF(AQ97=\"NÃO\",$D33,IF(MOD(COUNT($Q97:AQ97)+1,3)=0,(AQ97*$E33)+AQ97,AQ97)),\"NÃO\"),\"NÃO\")","v":"NÃO"},{"$f":"IF(AND(AS$8>=$M33,AS$8<=$N33),IF($F33=\"Trimestral\",IF(AR97=\"NÃO\",$D33,IF(MOD(COUNT($Q97:AR97)+1,3)=0,(AR97*$E33)+AR97,AR97)),\"NÃO\"),\"NÃO\")","v":"NÃO"},{"$f":"IF(AND(AT$8>=$M33,AT$8<=$N33),IF($F33=\"Trimestral\",IF(AS97=\"NÃO\",$D33,IF(MOD(COUNT($Q97:AS97)+1,3)=0,(AS97*$E33)+AS97,AS97)),\"NÃO\"),\"NÃO\")","v":"NÃO"},{"$f":"IF(AND(AU$8>=$M33,AU$8<=$N33),IF($F33=\"Trimestral\",IF(AT97=\"NÃO\",$D33,IF(MOD(COUNT($Q97:AT97)+1,3)=0,(AT97*$E33)+AT97,AT97)),\"NÃO\"),\"NÃO\")","v":"NÃO"},{"$f":"IF(AND(AV$8>=$M33,AV$8<=$N33),IF($F33=\"Trimestral\",IF(AU97=\"NÃO\",$D33,IF(MOD(COUNT($Q97:AU97)+1,3)=0,(AU97*$E33)+AU97,AU97)),\"NÃO\"),\"NÃO\")","v":"NÃO"},{"$f":"IF(AND(AW$8>=$M33,AW$8<=$N33),IF($F33=\"Trimestral\",IF(AV97=\"NÃO\",$D33,IF(MOD(COUNT($Q97:AV97)+1,3)=0,(AV97*$E33)+AV97,AV97)),\"NÃO\"),\"NÃO\")","v":"NÃO"},{"$f":"IF(AND(AX$8>=$M33,AX$8<=$N33),IF($F33=\"Trimestral\",IF(AW97=\"NÃO\",$D33,IF(MOD(COUNT($Q97:AW97)+1,3)=0,(AW97*$E33)+AW97,AW97)),\"NÃO\"),\"NÃO\")","v":"NÃO"},{"$f":"IF(AND(AY$8>=$M33,AY$8<=$N33),IF($F33=\"Trimestral\",IF(AX97=\"NÃO\",$D33,IF(MOD(COUNT($Q97:AX97)+1,3)=0,(AX97*$E33)+AX97,AX97)),\"NÃO\"),\"NÃO\")","v":"NÃO"},{"$f":"IF(AND(AZ$8>=$M33,AZ$8<=$N33),IF($F33=\"Trimestral\",IF(AY97=\"NÃO\",$D33,IF(MOD(COUNT($Q97:AY97)+1,3)=0,(AY97*$E33)+AY97,AY97)),\"NÃO\"),\"NÃO\")","v":"NÃO"},{"$f":"IF(AND(BA$8>=$M33,BA$8<=$N33),IF($F33=\"Trimestral\",IF(AZ97=\"NÃO\",$D33,IF(MOD(COUNT($Q97:AZ97)+1,3)=0,(AZ97*$E33)+AZ97,AZ97)),\"NÃO\"),\"NÃO\")","v":"NÃO"},{"$f":"IF(AND(BB$8>=$M33,BB$8<=$N33),IF($F33=\"Trimestral\",IF(BA97=\"NÃO\",$D33,IF(MOD(COUNT($Q97:BA97)+1,3)=0,(BA97*$E33)+BA97,BA97)),\"NÃO\"),\"NÃO\")","v":"NÃO"},{"$f":"IF(AND(BC$8>=$M33,BC$8<=$N33),IF($F33=\"Trimestral\",IF(BB97=\"NÃO\",$D33,IF(MOD(COUNT($Q97:BB97)+1,3)=0,(BB97*$E33)+BB97,BB97)),\"NÃO\"),\"NÃO\")","v":"NÃO"},{"$f":"IF(AND(BD$8>=$M33,BD$8<=$N33),IF($F33=\"Trimestral\",IF(BC97=\"NÃO\",$D33,IF(MOD(COUNT($Q97:BC97)+1,3)=0,(BC97*$E33)+BC97,BC97)),\"NÃO\"),\"NÃO\")","v":"NÃO"},{"$f":"IF(AND(BE$8>=$M33,BE$8<=$N33),IF($F33=\"Trimestral\",IF(BD97=\"NÃO\",$D33,IF(MOD(COUNT($Q97:BD97)+1,3)=0,(BD97*$E33)+BD97,BD97)),\"NÃO\"),\"NÃO\")","v":"NÃO"},{"$f":"IF(AND(BF$8>=$M33,BF$8<=$N33),IF($F33=\"Trimestral\",IF(BE97=\"NÃO\",$D33,IF(MOD(COUNT($Q97:BE97)+1,3)=0,(BE97*$E33)+BE97,BE97)),\"NÃO\"),\"NÃO\")","v":"NÃO"},{"$f":"IF(AND(BG$8>=$M33,BG$8<=$N33),IF($F33=\"Trimestral\",IF(BF97=\"NÃO\",$D33,IF(MOD(COUNT($Q97:BF97)+1,3)=0,(BF97*$E33)+BF97,BF97)),\"NÃO\"),\"NÃO\")","v":"NÃO"},{"$f":"IF(AND(BH$8>=$M33,BH$8<=$N33),IF($F33=\"Trimestral\",IF(BG97=\"NÃO\",$D33,IF(MOD(COUNT($Q97:BG97)+1,3)=0,(BG97*$E33)+BG97,BG97)),\"NÃO\"),\"NÃO\")","v":"NÃO"},{"$f":"IF(AND(BI$8>=$M33,BI$8<=$N33),IF($F33=\"Trimestral\",IF(BH97=\"NÃO\",$D33,IF(MOD(COUNT($Q97:BH97)+1,3)=0,(BH97*$E33)+BH97,BH97)),\"NÃO\"),\"NÃO\")","v":"NÃO"},{"$f":"IF(AND(BJ$8>=$M33,BJ$8<=$N33),IF($F33=\"Trimestral\",IF(BI97=\"NÃO\",$D33,IF(MOD(COUNT($Q97:BI97)+1,3)=0,(BI97*$E33)+BI97,BI97)),\"NÃO\"),\"NÃO\")","v":"NÃO"},{"$f":"IF(AND(BK$8>=$M33,BK$8<=$N33),IF($F33=\"Trimestral\",IF(BJ97=\"NÃO\",$D33,IF(MOD(COUNT($Q97:BJ97)+1,3)=0,(BJ97*$E33)+BJ97,BJ97)),\"NÃO\"),\"NÃO\")","v":"NÃO"},{"$f":"IF(AND(BL$8>=$M33,BL$8<=$N33),IF($F33=\"Trimestral\",IF(BK97=\"NÃO\",$D33,IF(MOD(COUNT($Q97:BK97)+1,3)=0,(BK97*$E33)+BK97,BK97)),\"NÃO\"),\"NÃO\")","v":"NÃO"},{"$f":"IF(AND(BM$8>=$M33,BM$8<=$N33),IF($F33=\"Trimestral\",IF(BL97=\"NÃO\",$D33,IF(MOD(COUNT($Q97:BL97)+1,3)=0,(BL97*$E33)+BL97,BL97)),\"NÃO\"),\"NÃO\")","v":"NÃO"},{"$f":"IF(AND(BN$8>=$M33,BN$8<=$N33),IF($F33=\"Trimestral\",IF(BM97=\"NÃO\",$D33,IF(MOD(COUNT($Q97:BM97)+1,3)=0,(BM97*$E33)+BM97,BM97)),\"NÃO\"),\"NÃO\")","v":"NÃO"},{"$f":"IF(AND(BO$8>=$M33,BO$8<=$N33),IF($F33=\"Trimestral\",IF(BN97=\"NÃO\",$D33,IF(MOD(COUNT($Q97:BN97)+1,3)=0,(BN97*$E33)+BN97,BN97)),\"NÃO\"),\"NÃO\")","v":"NÃO"},{"$f":"IF(AND(BP$8>=$M33,BP$8<=$N33),IF($F33=\"Trimestral\",IF(BO97=\"NÃO\",$D33,IF(MOD(COUNT($Q97:BO97)+1,3)=0,(BO97*$E33)+BO97,BO97)),\"NÃO\"),\"NÃO\")","v":"NÃO"},{"$f":"IF(AND(BQ$8>=$M33,BQ$8<=$N33),IF($F33=\"Trimestral\",IF(BP97=\"NÃO\",$D33,IF(MOD(COUNT($Q97:BP97)+1,3)=0,(BP97*$E33)+BP97,BP97)),\"NÃO\"),\"NÃO\")","v":"NÃO"},{"$f":"IF(AND(BR$8>=$M33,BR$8<=$N33),IF($F33=\"Trimestral\",IF(BQ97=\"NÃO\",$D33,IF(MOD(COUNT($Q97:BQ97)+1,3)=0,(BQ97*$E33)+BQ97,BQ97)),\"NÃO\"),\"NÃO\")","v":"NÃO"},{"$f":"IF(AND(BS$8>=$M33,BS$8<=$N33),IF($F33=\"Trimestral\",IF(BR97=\"NÃO\",$D33,IF(MOD(COUNT($Q97:BR97)+1,3)=0,(BR97*$E33)+BR97,BR97)),\"NÃO\"),\"NÃO\")","v":"NÃO"},{"$f":"IF(AND(BT$8>=$M33,BT$8<=$N33),IF($F33=\"Trimestral\",IF(BS97=\"NÃO\",$D33,IF(MOD(COUNT($Q97:BS97)+1,3)=0,(BS97*$E33)+BS97,BS97)),\"NÃO\"),\"NÃO\")","v":"NÃO"},{"$f":"IF(AND(BU$8>=$M33,BU$8<=$N33),IF($F33=\"Trimestral\",IF(BT97=\"NÃO\",$D33,IF(MOD(COUNT($Q97:BT97)+1,3)=0,(BT97*$E33)+BT97,BT97)),\"NÃO\"),\"NÃO\")","v":"NÃO"},{"$f":"IF(AND(BV$8>=$M33,BV$8<=$N33),IF($F33=\"Trimestral\",IF(BU97=\"NÃO\",$D33,IF(MOD(COUNT($Q97:BU97)+1,3)=0,(BU97*$E33)+BU97,BU97)),\"NÃO\"),\"NÃO\")","v":"NÃO"},{"$f":"IF(AND(BW$8>=$M33,BW$8<=$N33),IF($F33=\"Trimestral\",IF(BV97=\"NÃO\",$D33,IF(MOD(COUNT($Q97:BV97)+1,3)=0,(BV97*$E33)+BV97,BV97)),\"NÃO\"),\"NÃO\")","v":"NÃO"},{"$f":"IF(AND(BX$8>=$M33,BX$8<=$N33),IF($F33=\"Trimestral\",IF(BW97=\"NÃO\",$D33,IF(MOD(COUNT($Q97:BW97)+1,3)=0,(BW97*$E33)+BW97,BW97)),\"NÃO\"),\"NÃO\")","v":"NÃO"},null,null,25]
[null,null,null,null,null,null,null,null,null,null,null,null,null,null,null,26,"NÃO",{"$f":"IF(AND(R$8>=$M34,R$8<=$N34),IF($F34=\"Trimestral\",IF(Q98=\"NÃO\",$D34,IF(MOD(COUNT($Q98:Q98)+1,3)=0,(Q98*$E34)+Q98,Q98)),\"NÃO\"),\"NÃO\")","v":"NÃO"},{"$f":"IF(AND(S$8>=$M34,S$8<=$N34),IF($F34=\"Trimestral\",IF(R98=\"NÃO\",$D34,IF(MOD(COUNT($Q98:R98)+1,3)=0,(R98*$E34)+R98,R98)),\"NÃO\"),\"NÃO\")","v":"NÃO"},{"$f":"IF(AND(T$8>=$M34,T$8<=$N34),IF($F34=\"Trimestral\",IF(S98=\"NÃO\",$D34,IF(MOD(COUNT($Q98:S98)+1,3)=0,(S98*$E34)+S98,S98)),\"NÃO\"),\"NÃO\")","v":"NÃO"},{"$f":"IF(AND(U$8>=$M34,U$8<=$N34),IF($F34=\"Trimestral\",IF(T98=\"NÃO\",$D34,IF(MOD(COUNT($Q98:T98)+1,3)=0,(T98*$E34)+T98,T98)),\"NÃO\"),\"NÃO\")","v":"NÃO"},{"$f":"IF(AND(V$8>=$M34,V$8<=$N34),IF($F34=\"Trimestral\",IF(U98=\"NÃO\",$D34,IF(MOD(COUNT($Q98:U98)+1,3)=0,(U98*$E34)+U98,U98)),\"NÃO\"),\"NÃO\")","v":"NÃO"},{"$f":"IF(AND(W$8>=$M34,W$8<=$N34),IF($F34=\"Trimestral\",IF(V98=\"NÃO\",$D34,IF(MOD(COUNT($Q98:V98)+1,3)=0,(V98*$E34)+V98,V98)),\"NÃO\"),\"NÃO\")","v":"NÃO"},{"$f":"IF(AND(X$8>=$M34,X$8<=$N34),IF($F34=\"Trimestral\",IF(W98=\"NÃO\",$D34,IF(MOD(COUNT($Q98:W98)+1,3)=0,(W98*$E34)+W98,W98)),\"NÃO\"),\"NÃO\")","v":"NÃO"},{"$f":"IF(AND(Y$8>=$M34,Y$8<=$N34),IF($F34=\"Trimestral\",IF(X98=\"NÃO\",$D34,IF(MOD(COUNT($Q98:X98)+1,3)=0,(X98*$E34)+X98,X98)),\"NÃO\"),\"NÃO\")","v":"NÃO"},{"$f":"IF(AND(Z$8>=$M34,Z$8<=$N34),IF($F34=\"Trimestral\",IF(Y98=\"NÃO\",$D34,IF(MOD(COUNT($Q98:Y98)+1,3)=0,(Y98*$E34)+Y98,Y98)),\"NÃO\"),\"NÃO\")","v":"NÃO"},{"$f":"IF(AND(AA$8>=$M34,AA$8<=$N34),IF($F34=\"Trimestral\",IF(Z98=\"NÃO\",$D34,IF(MOD(COUNT($Q98:Z98)+1,3)=0,(Z98*$E34)+Z98,Z98)),\"NÃO\"),\"NÃO\")","v":"NÃO"},{"$f":"IF(AND(AB$8>=$M34,AB$8<=$N34),IF($F34=\"Trimestral\",IF(AA98=\"NÃO\",$D34,IF(MOD(COUNT($Q98:AA98)+1,3)=0,(AA98*$E34)+AA98,AA98)),\"NÃO\"),\"NÃO\")","v":"NÃO"},{"$f":"IF(AND(AC$8>=$M34,AC$8<=$N34),IF($F34=\"Trimestral\",IF(AB98=\"NÃO\",$D34,IF(MOD(COUNT($Q98:AB98)+1,3)=0,(AB98*$E34)+AB98,AB98)),\"NÃO\"),\"NÃO\")","v":"NÃO"},{"$f":"IF(AND(AD$8>=$M34,AD$8<=$N34),IF($F34=\"Trimestral\",IF(AC98=\"NÃO\",$D34,IF(MOD(COUNT($Q98:AC98)+1,3)=0,(AC98*$E34)+AC98,AC98)),\"NÃO\"),\"NÃO\")","v":"NÃO"},{"$f":"IF(AND(AE$8>=$M34,AE$8<=$N34),IF($F34=\"Trimestral\",IF(AD98=\"NÃO\",$D34,IF(MOD(COUNT($Q98:AD98)+1,3)=0,(AD98*$E34)+AD98,AD98)),\"NÃO\"),\"NÃO\")","v":"NÃO"},{"$f":"IF(AND(AF$8>=$M34,AF$8<=$N34),IF($F34=\"Trimestral\",IF(AE98=\"NÃO\",$D34,IF(MOD(COUNT($Q98:AE98)+1,3)=0,(AE98*$E34)+AE98,AE98)),\"NÃO\"),\"NÃO\")","v":"NÃO"},{"$f":"IF(AND(AG$8>=$M34,AG$8<=$N34),IF($F34=\"Trimestral\",IF(AF98=\"NÃO\",$D34,IF(MOD(COUNT($Q98:AF98)+1,3)=0,(AF98*$E34)+AF98,AF98)),\"NÃO\"),\"NÃO\")","v":"NÃO"},{"$f":"IF(AND(AH$8>=$M34,AH$8<=$N34),IF($F34=\"Trimestral\",IF(AG98=\"NÃO\",$D34,IF(MOD(COUNT($Q98:AG98)+1,3)=0,(AG98*$E34)+AG98,AG98)),\"NÃO\"),\"NÃO\")","v":"NÃO"},{"$f":"IF(AND(AI$8>=$M34,AI$8<=$N34),IF($F34=\"Trimestral\",IF(AH98=\"NÃO\",$D34,IF(MOD(COUNT($Q98:AH98)+1,3)=0,(AH98*$E34)+AH98,AH98)),\"NÃO\"),\"NÃO\")","v":"NÃO"},{"$f":"IF(AND(AJ$8>=$M34,AJ$8<=$N34),IF($F34=\"Trimestral\",IF(AI98=\"NÃO\",$D34,IF(MOD(COUNT($Q98:AI98)+1,3)=0,(AI98*$E34)+AI98,AI98)),\"NÃO\"),\"NÃO\")","v":"NÃO"},{"$f":"IF(AND(AK$8>=$M34,AK$8<=$N34),IF($F34=\"Trimestral\",IF(AJ98=\"NÃO\",$D34,IF(MOD(COUNT($Q98:AJ98)+1,3)=0,(AJ98*$E34)+AJ98,AJ98)),\"NÃO\"),\"NÃO\")","v":"NÃO"},{"$f":"IF(AND(AL$8>=$M34,AL$8<=$N34),IF($F34=\"Trimestral\",IF(AK98=\"NÃO\",$D34,IF(MOD(COUNT($Q98:AK98)+1,3)=0,(AK98*$E34)+AK98,AK98)),\"NÃO\"),\"NÃO\")","v":"NÃO"},{"$f":"IF(AND(AM$8>=$M34,AM$8<=$N34),IF($F34=\"Trimestral\",IF(AL98=\"NÃO\",$D34,IF(MOD(COUNT($Q98:AL98)+1,3)=0,(AL98*$E34)+AL98,AL98)),\"NÃO\"),\"NÃO\")","v":"NÃO"},{"$f":"IF(AND(AN$8>=$M34,AN$8<=$N34),IF($F34=\"Trimestral\",IF(AM98=\"NÃO\",$D34,IF(MOD(COUNT($Q98:AM98)+1,3)=0,(AM98*$E34)+AM98,AM98)),\"NÃO\"),\"NÃO\")","v":"NÃO"},{"$f":"IF(AND(AO$8>=$M34,AO$8<=$N34),IF($F34=\"Trimestral\",IF(AN98=\"NÃO\",$D34,IF(MOD(COUNT($Q98:AN98)+1,3)=0,(AN98*$E34)+AN98,AN98)),\"NÃO\"),\"NÃO\")","v":"NÃO"},{"$f":"IF(AND(AP$8>=$M34,AP$8<=$N34),IF($F34=\"Trimestral\",IF(AO98=\"NÃO\",$D34,IF(MOD(COUNT($Q98:AO98)+1,3)=0,(AO98*$E34)+AO98,AO98)),\"NÃO\"),\"NÃO\")","v":"NÃO"},{"$f":"IF(AND(AQ$8>=$M34,AQ$8<=$N34),IF($F34=\"Trimestral\",IF(AP98=\"NÃO\",$D34,IF(MOD(COUNT($Q98:AP98)+1,3)=0,(AP98*$E34)+AP98,AP98)),\"NÃO\"),\"NÃO\")","v":"NÃO"},{"$f":"IF(AND(AR$8>=$M34,AR$8<=$N34),IF($F34=\"Trimestral\",IF(AQ98=\"NÃO\",$D34,IF(MOD(COUNT($Q98:AQ98)+1,3)=0,(AQ98*$E34)+AQ98,AQ98)),\"NÃO\"),\"NÃO\")","v":"NÃO"},{"$f":"IF(AND(AS$8>=$M34,AS$8<=$N34),IF($F34=\"Trimestral\",IF(AR98=\"NÃO\",$D34,IF(MOD(COUNT($Q98:AR98)+1,3)=0,(AR98*$E34)+AR98,AR98)),\"NÃO\"),\"NÃO\")","v":"NÃO"},{"$f":"IF(AND(AT$8>=$M34,AT$8<=$N34),IF($F34=\"Trimestral\",IF(AS98=\"NÃO\",$D34,IF(MOD(COUNT($Q98:AS98)+1,3)=0,(AS98*$E34)+AS98,AS98)),\"NÃO\"),\"NÃO\")","v":"NÃO"},{"$f":"IF(AND(AU$8>=$M34,AU$8<=$N34),IF($F34=\"Trimestral\",IF(AT98=\"NÃO\",$D34,IF(MOD(COUNT($Q98:AT98)+1,3)=0,(AT98*$E34)+AT98,AT98)),\"NÃO\"),\"NÃO\")","v":"NÃO"},{"$f":"IF(AND(AV$8>=$M34,AV$8<=$N34),IF($F34=\"Trimestral\",IF(AU98=\"NÃO\",$D34,IF(MOD(COUNT($Q98:AU98)+1,3)=0,(AU98*$E34)+AU98,AU98)),\"NÃO\"),\"NÃO\")","v":"NÃO"},{"$f":"IF(AND(AW$8>=$M34,AW$8<=$N34),IF($F34=\"Trimestral\",IF(AV98=\"NÃO\",$D34,IF(MOD(COUNT($Q98:AV98)+1,3)=0,(AV98*$E34)+AV98,AV98)),\"NÃO\"),\"NÃO\")","v":"NÃO"},{"$f":"IF(AND(AX$8>=$M34,AX$8<=$N34),IF($F34=\"Trimestral\",IF(AW98=\"NÃO\",$D34,IF(MOD(COUNT($Q98:AW98)+1,3)=0,(AW98*$E34)+AW98,AW98)),\"NÃO\"),\"NÃO\")","v":"NÃO"},{"$f":"IF(AND(AY$8>=$M34,AY$8<=$N34),IF($F34=\"Trimestral\",IF(AX98=\"NÃO\",$D34,IF(MOD(COUNT($Q98:AX98)+1,3)=0,(AX98*$E34)+AX98,AX98)),\"NÃO\"),\"NÃO\")","v":"NÃO"},{"$f":"IF(AND(AZ$8>=$M34,AZ$8<=$N34),IF($F34=\"Trimestral\",IF(AY98=\"NÃO\",$D34,IF(MOD(COUNT($Q98:AY98)+1,3)=0,(AY98*$E34)+AY98,AY98)),\"NÃO\"),\"NÃO\")","v":"NÃO"},{"$f":"IF(AND(BA$8>=$M34,BA$8<=$N34),IF($F34=\"Trimestral\",IF(AZ98=\"NÃO\",$D34,IF(MOD(COUNT($Q98:AZ98)+1,3)=0,(AZ98*$E34)+AZ98,AZ98)),\"NÃO\"),\"NÃO\")","v":"NÃO"},{"$f":"IF(AND(BB$8>=$M34,BB$8<=$N34),IF($F34=\"Trimestral\",IF(BA98=\"NÃO\",$D34,IF(MOD(COUNT($Q98:BA98)+1,3)=0,(BA98*$E34)+BA98,BA98)),\"NÃO\"),\"NÃO\")","v":"NÃO"},{"$f":"IF(AND(BC$8>=$M34,BC$8<=$N34),IF($F34=\"Trimestral\",IF(BB98=\"NÃO\",$D34,IF(MOD(COUNT($Q98:BB98)+1,3)=0,(BB98*$E34)+BB98,BB98)),\"NÃO\"),\"NÃO\")","v":"NÃO"},{"$f":"IF(AND(BD$8>=$M34,BD$8<=$N34),IF($F34=\"Trimestral\",IF(BC98=\"NÃO\",$D34,IF(MOD(COUNT($Q98:BC98)+1,3)=0,(BC98*$E34)+BC98,BC98)),\"NÃO\"),\"NÃO\")","v":"NÃO"},{"$f":"IF(AND(BE$8>=$M34,BE$8<=$N34),IF($F34=\"Trimestral\",IF(BD98=\"NÃO\",$D34,IF(MOD(COUNT($Q98:BD98)+1,3)=0,(BD98*$E34)+BD98,BD98)),\"NÃO\"),\"NÃO\")","v":"NÃO"},{"$f":"IF(AND(BF$8>=$M34,BF$8<=$N34),IF($F34=\"Trimestral\",IF(BE98=\"NÃO\",$D34,IF(MOD(COUNT($Q98:BE98)+1,3)=0,(BE98*$E34)+BE98,BE98)),\"NÃO\"),\"NÃO\")","v":"NÃO"},{"$f":"IF(AND(BG$8>=$M34,BG$8<=$N34),IF($F34=\"Trimestral\",IF(BF98=\"NÃO\",$D34,IF(MOD(COUNT($Q98:BF98)+1,3)=0,(BF98*$E34)+BF98,BF98)),\"NÃO\"),\"NÃO\")","v":"NÃO"},{"$f":"IF(AND(BH$8>=$M34,BH$8<=$N34),IF($F34=\"Trimestral\",IF(BG98=\"NÃO\",$D34,IF(MOD(COUNT($Q98:BG98)+1,3)=0,(BG98*$E34)+BG98,BG98)),\"NÃO\"),\"NÃO\")","v":"NÃO"},{"$f":"IF(AND(BI$8>=$M34,BI$8<=$N34),IF($F34=\"Trimestral\",IF(BH98=\"NÃO\",$D34,IF(MOD(COUNT($Q98:BH98)+1,3)=0,(BH98*$E34)+BH98,BH98)),\"NÃO\"),\"NÃO\")","v":"NÃO"},{"$f":"IF(AND(BJ$8>=$M34,BJ$8<=$N34),IF($F34=\"Trimestral\",IF(BI98=\"NÃO\",$D34,IF(MOD(COUNT($Q98:BI98)+1,3)=0,(BI98*$E34)+BI98,BI98)),\"NÃO\"),\"NÃO\")","v":"NÃO"},{"$f":"IF(AND(BK$8>=$M34,BK$8<=$N34),IF($F34=\"Trimestral\",IF(BJ98=\"NÃO\",$D34,IF(MOD(COUNT($Q98:BJ98)+1,3)=0,(BJ98*$E34)+BJ98,BJ98)),\"NÃO\"),\"NÃO\")","v":"NÃO"},{"$f":"IF(AND(BL$8>=$M34,BL$8<=$N34),IF($F34=\"Trimestral\",IF(BK98=\"NÃO\",$D34,IF(MOD(COUNT($Q98:BK98)+1,3)=0,(BK98*$E34)+BK98,BK98)),\"NÃO\"),\"NÃO\")","v":"NÃO"},{"$f":"IF(AND(BM$8>=$M34,BM$8<=$N34),IF($F34=\"Trimestral\",IF(BL98=\"NÃO\",$D34,IF(MOD(COUNT($Q98:BL98)+1,3)=0,(BL98*$E34)+BL98,BL98)),\"NÃO\"),\"NÃO\")","v":"NÃO"},{"$f":"IF(AND(BN$8>=$M34,BN$8<=$N34),IF($F34=\"Trimestral\",IF(BM98=\"NÃO\",$D34,IF(MOD(COUNT($Q98:BM98)+1,3)=0,(BM98*$E34)+BM98,BM98)),\"NÃO\"),\"NÃO\")","v":"NÃO"},{"$f":"IF(AND(BO$8>=$M34,BO$8<=$N34),IF($F34=\"Trimestral\",IF(BN98=\"NÃO\",$D34,IF(MOD(COUNT($Q98:BN98)+1,3)=0,(BN98*$E34)+BN98,BN98)),\"NÃO\"),\"NÃO\")","v":"NÃO"},{"$f":"IF(AND(BP$8>=$M34,BP$8<=$N34),IF($F34=\"Trimestral\",IF(BO98=\"NÃO\",$D34,IF(MOD(COUNT($Q98:BO98)+1,3)=0,(BO98*$E34)+BO98,BO98)),\"NÃO\"),\"NÃO\")","v":"NÃO"},{"$f":"IF(AND(BQ$8>=$M34,BQ$8<=$N34),IF($F34=\"Trimestral\",IF(BP98=\"NÃO\",$D34,IF(MOD(COUNT($Q98:BP98)+1,3)=0,(BP98*$E34)+BP98,BP98)),\"NÃO\"),\"NÃO\")","v":"NÃO"},{"$f":"IF(AND(BR$8>=$M34,BR$8<=$N34),IF($F34=\"Trimestral\",IF(BQ98=\"NÃO\",$D34,IF(MOD(COUNT($Q98:BQ98)+1,3)=0,(BQ98*$E34)+BQ98,BQ98)),\"NÃO\"),\"NÃO\")","v":"NÃO"},{"$f":"IF(AND(BS$8>=$M34,BS$8<=$N34),IF($F34=\"Trimestral\",IF(BR98=\"NÃO\",$D34,IF(MOD(COUNT($Q98:BR98)+1,3)=0,(BR98*$E34)+BR98,BR98)),\"NÃO\"),\"NÃO\")","v":"NÃO"},{"$f":"IF(AND(BT$8>=$M34,BT$8<=$N34),IF($F34=\"Trimestral\",IF(BS98=\"NÃO\",$D34,IF(MOD(COUNT($Q98:BS98)+1,3)=0,(BS98*$E34)+BS98,BS98)),\"NÃO\"),\"NÃO\")","v":"NÃO"},{"$f":"IF(AND(BU$8>=$M34,BU$8<=$N34),IF($F34=\"Trimestral\",IF(BT98=\"NÃO\",$D34,IF(MOD(COUNT($Q98:BT98)+1,3)=0,(BT98*$E34)+BT98,BT98)),\"NÃO\"),\"NÃO\")","v":"NÃO"},{"$f":"IF(AND(BV$8>=$M34,BV$8<=$N34),IF($F34=\"Trimestral\",IF(BU98=\"NÃO\",$D34,IF(MOD(COUNT($Q98:BU98)+1,3)=0,(BU98*$E34)+BU98,BU98)),\"NÃO\"),\"NÃO\")","v":"NÃO"},{"$f":"IF(AND(BW$8>=$M34,BW$8<=$N34),IF($F34=\"Trimestral\",IF(BV98=\"NÃO\",$D34,IF(MOD(COUNT($Q98:BV98)+1,3)=0,(BV98*$E34)+BV98,BV98)),\"NÃO\"),\"NÃO\")","v":"NÃO"},{"$f":"IF(AND(BX$8>=$M34,BX$8<=$N34),IF($F34=\"Trimestral\",IF(BW98=\"NÃO\",$D34,IF(MOD(COUNT($Q98:BW98)+1,3)=0,(BW98*$E34)+BW98,BW98)),\"NÃO\"),\"NÃO\")","v":"NÃO"},null,null,26]
[null,null,null,null,null,null,null,null,null,null,null,null,null,null,null,27,"NÃO",{"$f":"IF(AND(R$8>=$M35,R$8<=$N35),IF($F35=\"Trimestral\",IF(Q99=\"NÃO\",$D35,IF(MOD(COUNT($Q99:Q99)+1,3)=0,(Q99*$E35)+Q99,Q99)),\"NÃO\"),\"NÃO\")","v":"NÃO"},{"$f":"IF(AND(S$8>=$M35,S$8<=$N35),IF($F35=\"Trimestral\",IF(R99=\"NÃO\",$D35,IF(MOD(COUNT($Q99:R99)+1,3)=0,(R99*$E35)+R99,R99)),\"NÃO\"),\"NÃO\")","v":"NÃO"},{"$f":"IF(AND(T$8>=$M35,T$8<=$N35),IF($F35=\"Trimestral\",IF(S99=\"NÃO\",$D35,IF(MOD(COUNT($Q99:S99)+1,3)=0,(S99*$E35)+S99,S99)),\"NÃO\"),\"NÃO\")","v":"NÃO"},{"$f":"IF(AND(U$8>=$M35,U$8<=$N35),IF($F35=\"Trimestral\",IF(T99=\"NÃO\",$D35,IF(MOD(COUNT($Q99:T99)+1,3)=0,(T99*$E35)+T99,T99)),\"NÃO\"),\"NÃO\")","v":"NÃO"},{"$f":"IF(AND(V$8>=$M35,V$8<=$N35),IF($F35=\"Trimestral\",IF(U99=\"NÃO\",$D35,IF(MOD(COUNT($Q99:U99)+1,3)=0,(U99*$E35)+U99,U99)),\"NÃO\"),\"NÃO\")","v":"NÃO"},{"$f":"IF(AND(W$8>=$M35,W$8<=$N35),IF($F35=\"Trimestral\",IF(V99=\"NÃO\",$D35,IF(MOD(COUNT($Q99:V99)+1,3)=0,(V99*$E35)+V99,V99)),\"NÃO\"),\"NÃO\")","v":"NÃO"},{"$f":"IF(AND(X$8>=$M35,X$8<=$N35),IF($F35=\"Trimestral\",IF(W99=\"NÃO\",$D35,IF(MOD(COUNT($Q99:W99)+1,3)=0,(W99*$E35)+W99,W99)),\"NÃO\"),\"NÃO\")","v":"NÃO"},{"$f":"IF(AND(Y$8>=$M35,Y$8<=$N35),IF($F35=\"Trimestral\",IF(X99=\"NÃO\",$D35,IF(MOD(COUNT($Q99:X99)+1,3)=0,(X99*$E35)+X99,X99)),\"NÃO\"),\"NÃO\")","v":"NÃO"},{"$f":"IF(AND(Z$8>=$M35,Z$8<=$N35),IF($F35=\"Trimestral\",IF(Y99=\"NÃO\",$D35,IF(MOD(COUNT($Q99:Y99)+1,3)=0,(Y99*$E35)+Y99,Y99)),\"NÃO\"),\"NÃO\")","v":"NÃO"},{"$f":"IF(AND(AA$8>=$M35,AA$8<=$N35),IF($F35=\"Trimestral\",IF(Z99=\"NÃO\",$D35,IF(MOD(COUNT($Q99:Z99)+1,3)=0,(Z99*$E35)+Z99,Z99)),\"NÃO\"),\"NÃO\")","v":"NÃO"},{"$f":"IF(AND(AB$8>=$M35,AB$8<=$N35),IF($F35=\"Trimestral\",IF(AA99=\"NÃO\",$D35,IF(MOD(COUNT($Q99:AA99)+1,3)=0,(AA99*$E35)+AA99,AA99)),\"NÃO\"),\"NÃO\")","v":"NÃO"},{"$f":"IF(AND(AC$8>=$M35,AC$8<=$N35),IF($F35=\"Trimestral\",IF(AB99=\"NÃO\",$D35,IF(MOD(COUNT($Q99:AB99)+1,3)=0,(AB99*$E35)+AB99,AB99)),\"NÃO\"),\"NÃO\")","v":"NÃO"},{"$f":"IF(AND(AD$8>=$M35,AD$8<=$N35),IF($F35=\"Trimestral\",IF(AC99=\"NÃO\",$D35,IF(MOD(COUNT($Q99:AC99)+1,3)=0,(AC99*$E35)+AC99,AC99)),\"NÃO\"),\"NÃO\")","v":"NÃO"},{"$f":"IF(AND(AE$8>=$M35,AE$8<=$N35),IF($F35=\"Trimestral\",IF(AD99=\"NÃO\",$D35,IF(MOD(COUNT($Q99:AD99)+1,3)=0,(AD99*$E35)+AD99,AD99)),\"NÃO\"),\"NÃO\")","v":"NÃO"},{"$f":"IF(AND(AF$8>=$M35,AF$8<=$N35),IF($F35=\"Trimestral\",IF(AE99=\"NÃO\",$D35,IF(MOD(COUNT($Q99:AE99)+1,3)=0,(AE99*$E35)+AE99,AE99)),\"NÃO\"),\"NÃO\")","v":"NÃO"},{"$f":"IF(AND(AG$8>=$M35,AG$8<=$N35),IF($F35=\"Trimestral\",IF(AF99=\"NÃO\",$D35,IF(MOD(COUNT($Q99:AF99)+1,3)=0,(AF99*$E35)+AF99,AF99)),\"NÃO\"),\"NÃO\")","v":"NÃO"},{"$f":"IF(AND(AH$8>=$M35,AH$8<=$N35),IF($F35=\"Trimestral\",IF(AG99=\"NÃO\",$D35,IF(MOD(COUNT($Q99:AG99)+1,3)=0,(AG99*$E35)+AG99,AG99)),\"NÃO\"),\"NÃO\")","v":"NÃO"},{"$f":"IF(AND(AI$8>=$M35,AI$8<=$N35),IF($F35=\"Trimestral\",IF(AH99=\"NÃO\",$D35,IF(MOD(COUNT($Q99:AH99)+1,3)=0,(AH99*$E35)+AH99,AH99)),\"NÃO\"),\"NÃO\")","v":"NÃO"},{"$f":"IF(AND(AJ$8>=$M35,AJ$8<=$N35),IF($F35=\"Trimestral\",IF(AI99=\"NÃO\",$D35,IF(MOD(COUNT($Q99:AI99)+1,3)=0,(AI99*$E35)+AI99,AI99)),\"NÃO\"),\"NÃO\")","v":"NÃO"},{"$f":"IF(AND(AK$8>=$M35,AK$8<=$N35),IF($F35=\"Trimestral\",IF(AJ99=\"NÃO\",$D35,IF(MOD(COUNT($Q99:AJ99)+1,3)=0,(AJ99*$E35)+AJ99,AJ99)),\"NÃO\"),\"NÃO\")","v":"NÃO"},{"$f":"IF(AND(AL$8>=$M35,AL$8<=$N35),IF($F35=\"Trimestral\",IF(AK99=\"NÃO\",$D35,IF(MOD(COUNT($Q99:AK99)+1,3)=0,(AK99*$E35)+AK99,AK99)),\"NÃO\"),\"NÃO\")","v":"NÃO"},{"$f":"IF(AND(AM$8>=$M35,AM$8<=$N35),IF($F35=\"Trimestral\",IF(AL99=\"NÃO\",$D35,IF(MOD(COUNT($Q99:AL99)+1,3)=0,(AL99*$E35)+AL99,AL99)),\"NÃO\"),\"NÃO\")","v":"NÃO"},{"$f":"IF(AND(AN$8>=$M35,AN$8<=$N35),IF($F35=\"Trimestral\",IF(AM99=\"NÃO\",$D35,IF(MOD(COUNT($Q99:AM99)+1,3)=0,(AM99*$E35)+AM99,AM99)),\"NÃO\"),\"NÃO\")","v":"NÃO"},{"$f":"IF(AND(AO$8>=$M35,AO$8<=$N35),IF($F35=\"Trimestral\",IF(AN99=\"NÃO\",$D35,IF(MOD(COUNT($Q99:AN99)+1,3)=0,(AN99*$E35)+AN99,AN99)),\"NÃO\"),\"NÃO\")","v":"NÃO"},{"$f":"IF(AND(AP$8>=$M35,AP$8<=$N35),IF($F35=\"Trimestral\",IF(AO99=\"NÃO\",$D35,IF(MOD(COUNT($Q99:AO99)+1,3)=0,(AO99*$E35)+AO99,AO99)),\"NÃO\"),\"NÃO\")","v":"NÃO"},{"$f":"IF(AND(AQ$8>=$M35,AQ$8<=$N35),IF($F35=\"Trimestral\",IF(AP99=\"NÃO\",$D35,IF(MOD(COUNT($Q99:AP99)+1,3)=0,(AP99*$E35)+AP99,AP99)),\"NÃO\"),\"NÃO\")","v":"NÃO"},{"$f":"IF(AND(AR$8>=$M35,AR$8<=$N35),IF($F35=\"Trimestral\",IF(AQ99=\"NÃO\",$D35,IF(MOD(COUNT($Q99:AQ99)+1,3)=0,(AQ99*$E35)+AQ99,AQ99)),\"NÃO\"),\"NÃO\")","v":"NÃO"},{"$f":"IF(AND(AS$8>=$M35,AS$8<=$N35),IF($F35=\"Trimestral\",IF(AR99=\"NÃO\",$D35,IF(MOD(COUNT($Q99:AR99)+1,3)=0,(AR99*$E35)+AR99,AR99)),\"NÃO\"),\"NÃO\")","v":"NÃO"},{"$f":"IF(AND(AT$8>=$M35,AT$8<=$N35),IF($F35=\"Trimestral\",IF(AS99=\"NÃO\",$D35,IF(MOD(COUNT($Q99:AS99)+1,3)=0,(AS99*$E35)+AS99,AS99)),\"NÃO\"),\"NÃO\")","v":"NÃO"},{"$f":"IF(AND(AU$8>=$M35,AU$8<=$N35),IF($F35=\"Trimestral\",IF(AT99=\"NÃO\",$D35,IF(MOD(COUNT($Q99:AT99)+1,3)=0,(AT99*$E35)+AT99,AT99)),\"NÃO\"),\"NÃO\")","v":"NÃO"},{"$f":"IF(AND(AV$8>=$M35,AV$8<=$N35),IF($F35=\"Trimestral\",IF(AU99=\"NÃO\",$D35,IF(MOD(COUNT($Q99:AU99)+1,3)=0,(AU99*$E35)+AU99,AU99)),\"NÃO\"),\"NÃO\")","v":"NÃO"},{"$f":"IF(AND(AW$8>=$M35,AW$8<=$N35),IF($F35=\"Trimestral\",IF(AV99=\"NÃO\",$D35,IF(MOD(COUNT($Q99:AV99)+1,3)=0,(AV99*$E35)+AV99,AV99)),\"NÃO\"),\"NÃO\")","v":"NÃO"},{"$f":"IF(AND(AX$8>=$M35,AX$8<=$N35),IF($F35=\"Trimestral\",IF(AW99=\"NÃO\",$D35,IF(MOD(COUNT($Q99:AW99)+1,3)=0,(AW99*$E35)+AW99,AW99)),\"NÃO\"),\"NÃO\")","v":"NÃO"},{"$f":"IF(AND(AY$8>=$M35,AY$8<=$N35),IF($F35=\"Trimestral\",IF(AX99=\"NÃO\",$D35,IF(MOD(COUNT($Q99:AX99)+1,3)=0,(AX99*$E35)+AX99,AX99)),\"NÃO\"),\"NÃO\")","v":"NÃO"},{"$f":"IF(AND(AZ$8>=$M35,AZ$8<=$N35),IF($F35=\"Trimestral\",IF(AY99=\"NÃO\",$D35,IF(MOD(COUNT($Q99:AY99)+1,3)=0,(AY99*$E35)+AY99,AY99)),\"NÃO\"),\"NÃO\")","v":"NÃO"},{"$f":"IF(AND(BA$8>=$M35,BA$8<=$N35),IF($F35=\"Trimestral\",IF(AZ99=\"NÃO\",$D35,IF(MOD(COUNT($Q99:AZ99)+1,3)=0,(AZ99*$E35)+AZ99,AZ99)),\"NÃO\"),\"NÃO\")","v":"NÃO"},{"$f":"IF(AND(BB$8>=$M35,BB$8<=$N35),IF($F35=\"Trimestral\",IF(BA99=\"NÃO\",$D35,IF(MOD(COUNT($Q99:BA99)+1,3)=0,(BA99*$E35)+BA99,BA99)),\"NÃO\"),\"NÃO\")","v":"NÃO"},{"$f":"IF(AND(BC$8>=$M35,BC$8<=$N35),IF($F35=\"Trimestral\",IF(BB99=\"NÃO\",$D35,IF(MOD(COUNT($Q99:BB99)+1,3)=0,(BB99*$E35)+BB99,BB99)),\"NÃO\"),\"NÃO\")","v":"NÃO"},{"$f":"IF(AND(BD$8>=$M35,BD$8<=$N35),IF($F35=\"Trimestral\",IF(BC99=\"NÃO\",$D35,IF(MOD(COUNT($Q99:BC99)+1,3)=0,(BC99*$E35)+BC99,BC99)),\"NÃO\"),\"NÃO\")","v":"NÃO"},{"$f":"IF(AND(BE$8>=$M35,BE$8<=$N35),IF($F35=\"Trimestral\",IF(BD99=\"NÃO\",$D35,IF(MOD(COUNT($Q99:BD99)+1,3)=0,(BD99*$E35)+BD99,BD99)),\"NÃO\"),\"NÃO\")","v":"NÃO"},{"$f":"IF(AND(BF$8>=$M35,BF$8<=$N35),IF($F35=\"Trimestral\",IF(BE99=\"NÃO\",$D35,IF(MOD(COUNT($Q99:BE99)+1,3)=0,(BE99*$E35)+BE99,BE99)),\"NÃO\"),\"NÃO\")","v":"NÃO"},{"$f":"IF(AND(BG$8>=$M35,BG$8<=$N35),IF($F35=\"Trimestral\",IF(BF99=\"NÃO\",$D35,IF(MOD(COUNT($Q99:BF99)+1,3)=0,(BF99*$E35)+BF99,BF99)),\"NÃO\"),\"NÃO\")","v":"NÃO"},{"$f":"IF(AND(BH$8>=$M35,BH$8<=$N35),IF($F35=\"Trimestral\",IF(BG99=\"NÃO\",$D35,IF(MOD(COUNT($Q99:BG99)+1,3)=0,(BG99*$E35)+BG99,BG99)),\"NÃO\"),\"NÃO\")","v":"NÃO"},{"$f":"IF(AND(BI$8>=$M35,BI$8<=$N35),IF($F35=\"Trimestral\",IF(BH99=\"NÃO\",$D35,IF(MOD(COUNT($Q99:BH99)+1,3)=0,(BH99*$E35)+BH99,BH99)),\"NÃO\"),\"NÃO\")","v":"NÃO"},{"$f":"IF(AND(BJ$8>=$M35,BJ$8<=$N35),IF($F35=\"Trimestral\",IF(BI99=\"NÃO\",$D35,IF(MOD(COUNT($Q99:BI99)+1,3)=0,(BI99*$E35)+BI99,BI99)),\"NÃO\"),\"NÃO\")","v":"NÃO"},{"$f":"IF(AND(BK$8>=$M35,BK$8<=$N35),IF($F35=\"Trimestral\",IF(BJ99=\"NÃO\",$D35,IF(MOD(COUNT($Q99:BJ99)+1,3)=0,(BJ99*$E35)+BJ99,BJ99)),\"NÃO\"),\"NÃO\")","v":"NÃO"},{"$f":"IF(AND(BL$8>=$M35,BL$8<=$N35),IF($F35=\"Trimestral\",IF(BK99=\"NÃO\",$D35,IF(MOD(COUNT($Q99:BK99)+1,3)=0,(BK99*$E35)+BK99,BK99)),\"NÃO\"),\"NÃO\")","v":"NÃO"},{"$f":"IF(AND(BM$8>=$M35,BM$8<=$N35),IF($F35=\"Trimestral\",IF(BL99=\"NÃO\",$D35,IF(MOD(COUNT($Q99:BL99)+1,3)=0,(BL99*$E35)+BL99,BL99)),\"NÃO\"),\"NÃO\")","v":"NÃO"},{"$f":"IF(AND(BN$8>=$M35,BN$8<=$N35),IF($F35=\"Trimestral\",IF(BM99=\"NÃO\",$D35,IF(MOD(COUNT($Q99:BM99)+1,3)=0,(BM99*$E35)+BM99,BM99)),\"NÃO\"),\"NÃO\")","v":"NÃO"},{"$f":"IF(AND(BO$8>=$M35,BO$8<=$N35),IF($F35=\"Trimestral\",IF(BN99=\"NÃO\",$D35,IF(MOD(COUNT($Q99:BN99)+1,3)=0,(BN99*$E35)+BN99,BN99)),\"NÃO\"),\"NÃO\")","v":"NÃO"},{"$f":"IF(AND(BP$8>=$M35,BP$8<=$N35),IF($F35=\"Trimestral\",IF(BO99=\"NÃO\",$D35,IF(MOD(COUNT($Q99:BO99)+1,3)=0,(BO99*$E35)+BO99,BO99)),\"NÃO\"),\"NÃO\")","v":"NÃO"},{"$f":"IF(AND(BQ$8>=$M35,BQ$8<=$N35),IF($F35=\"Trimestral\",IF(BP99=\"NÃO\",$D35,IF(MOD(COUNT($Q99:BP99)+1,3)=0,(BP99*$E35)+BP99,BP99)),\"NÃO\"),\"NÃO\")","v":"NÃO"},{"$f":"IF(AND(BR$8>=$M35,BR$8<=$N35),IF($F35=\"Trimestral\",IF(BQ99=\"NÃO\",$D35,IF(MOD(COUNT($Q99:BQ99)+1,3)=0,(BQ99*$E35)+BQ99,BQ99)),\"NÃO\"),\"NÃO\")","v":"NÃO"},{"$f":"IF(AND(BS$8>=$M35,BS$8<=$N35),IF($F35=\"Trimestral\",IF(BR99=\"NÃO\",$D35,IF(MOD(COUNT($Q99:BR99)+1,3)=0,(BR99*$E35)+BR99,BR99)),\"NÃO\"),\"NÃO\")","v":"NÃO"},{"$f":"IF(AND(BT$8>=$M35,BT$8<=$N35),IF($F35=\"Trimestral\",IF(BS99=\"NÃO\",$D35,IF(MOD(COUNT($Q99:BS99)+1,3)=0,(BS99*$E35)+BS99,BS99)),\"NÃO\"),\"NÃO\")","v":"NÃO"},{"$f":"IF(AND(BU$8>=$M35,BU$8<=$N35),IF($F35=\"Trimestral\",IF(BT99=\"NÃO\",$D35,IF(MOD(COUNT($Q99:BT99)+1,3)=0,(BT99*$E35)+BT99,BT99)),\"NÃO\"),\"NÃO\")","v":"NÃO"},{"$f":"IF(AND(BV$8>=$M35,BV$8<=$N35),IF($F35=\"Trimestral\",IF(BU99=\"NÃO\",$D35,IF(MOD(COUNT($Q99:BU99)+1,3)=0,(BU99*$E35)+BU99,BU99)),\"NÃO\"),\"NÃO\")","v":"NÃO"},{"$f":"IF(AND(BW$8>=$M35,BW$8<=$N35),IF($F35=\"Trimestral\",IF(BV99=\"NÃO\",$D35,IF(MOD(COUNT($Q99:BV99)+1,3)=0,(BV99*$E35)+BV99,BV99)),\"NÃO\"),\"NÃO\")","v":"NÃO"},{"$f":"IF(AND(BX$8>=$M35,BX$8<=$N35),IF($F35=\"Trimestral\",IF(BW99=\"NÃO\",$D35,IF(MOD(COUNT($Q99:BW99)+1,3)=0,(BW99*$E35)+BW99,BW99)),\"NÃO\"),\"NÃO\")","v":"NÃO"},null,null,27]
[null,null,null,null,null,null,null,null,null,null,null,null,null,null,null,28,"NÃO",{"$f":"IF(AND(R$8>=$M36,R$8<=$N36),IF($F36=\"Trimestral\",IF(Q100=\"NÃO\",$D36,IF(MOD(COUNT($Q100:Q100)+1,3)=0,(Q100*$E36)+Q100,Q100)),\"NÃO\"),\"NÃO\")","v":"NÃO"},{"$f":"IF(AND(S$8>=$M36,S$8<=$N36),IF($F36=\"Trimestral\",IF(R100=\"NÃO\",$D36,IF(MOD(COUNT($Q100:R100)+1,3)=0,(R100*$E36)+R100,R100)),\"NÃO\"),\"NÃO\")","v":"NÃO"},{"$f":"IF(AND(T$8>=$M36,T$8<=$N36),IF($F36=\"Trimestral\",IF(S100=\"NÃO\",$D36,IF(MOD(COUNT($Q100:S100)+1,3)=0,(S100*$E36)+S100,S100)),\"NÃO\"),\"NÃO\")","v":"NÃO"},{"$f":"IF(AND(U$8>=$M36,U$8<=$N36),IF($F36=\"Trimestral\",IF(T100=\"NÃO\",$D36,IF(MOD(COUNT($Q100:T100)+1,3)=0,(T100*$E36)+T100,T100)),\"NÃO\"),\"NÃO\")","v":"NÃO"},{"$f":"IF(AND(V$8>=$M36,V$8<=$N36),IF($F36=\"Trimestral\",IF(U100=\"NÃO\",$D36,IF(MOD(COUNT($Q100:U100)+1,3)=0,(U100*$E36)+U100,U100)),\"NÃO\"),\"NÃO\")","v":"NÃO"},{"$f":"IF(AND(W$8>=$M36,W$8<=$N36),IF($F36=\"Trimestral\",IF(V100=\"NÃO\",$D36,IF(MOD(COUNT($Q100:V100)+1,3)=0,(V100*$E36)+V100,V100)),\"NÃO\"),\"NÃO\")","v":"NÃO"},{"$f":"IF(AND(X$8>=$M36,X$8<=$N36),IF($F36=\"Trimestral\",IF(W100=\"NÃO\",$D36,IF(MOD(COUNT($Q100:W100)+1,3)=0,(W100*$E36)+W100,W100)),\"NÃO\"),\"NÃO\")","v":"NÃO"},{"$f":"IF(AND(Y$8>=$M36,Y$8<=$N36),IF($F36=\"Trimestral\",IF(X100=\"NÃO\",$D36,IF(MOD(COUNT($Q100:X100)+1,3)=0,(X100*$E36)+X100,X100)),\"NÃO\"),\"NÃO\")","v":"NÃO"},{"$f":"IF(AND(Z$8>=$M36,Z$8<=$N36),IF($F36=\"Trimestral\",IF(Y100=\"NÃO\",$D36,IF(MOD(COUNT($Q100:Y100)+1,3)=0,(Y100*$E36)+Y100,Y100)),\"NÃO\"),\"NÃO\")","v":"NÃO"},{"$f":"IF(AND(AA$8>=$M36,AA$8<=$N36),IF($F36=\"Trimestral\",IF(Z100=\"NÃO\",$D36,IF(MOD(COUNT($Q100:Z100)+1,3)=0,(Z100*$E36)+Z100,Z100)),\"NÃO\"),\"NÃO\")","v":"NÃO"},{"$f":"IF(AND(AB$8>=$M36,AB$8<=$N36),IF($F36=\"Trimestral\",IF(AA100=\"NÃO\",$D36,IF(MOD(COUNT($Q100:AA100)+1,3)=0,(AA100*$E36)+AA100,AA100)),\"NÃO\"),\"NÃO\")","v":"NÃO"},{"$f":"IF(AND(AC$8>=$M36,AC$8<=$N36),IF($F36=\"Trimestral\",IF(AB100=\"NÃO\",$D36,IF(MOD(COUNT($Q100:AB100)+1,3)=0,(AB100*$E36)+AB100,AB100)),\"NÃO\"),\"NÃO\")","v":"NÃO"},{"$f":"IF(AND(AD$8>=$M36,AD$8<=$N36),IF($F36=\"Trimestral\",IF(AC100=\"NÃO\",$D36,IF(MOD(COUNT($Q100:AC100)+1,3)=0,(AC100*$E36)+AC100,AC100)),\"NÃO\"),\"NÃO\")","v":"NÃO"},{"$f":"IF(AND(AE$8>=$M36,AE$8<=$N36),IF($F36=\"Trimestral\",IF(AD100=\"NÃO\",$D36,IF(MOD(COUNT($Q100:AD100)+1,3)=0,(AD100*$E36)+AD100,AD100)),\"NÃO\"),\"NÃO\")","v":"NÃO"},{"$f":"IF(AND(AF$8>=$M36,AF$8<=$N36),IF($F36=\"Trimestral\",IF(AE100=\"NÃO\",$D36,IF(MOD(COUNT($Q100:AE100)+1,3)=0,(AE100*$E36)+AE100,AE100)),\"NÃO\"),\"NÃO\")","v":"NÃO"},{"$f":"IF(AND(AG$8>=$M36,AG$8<=$N36),IF($F36=\"Trimestral\",IF(AF100=\"NÃO\",$D36,IF(MOD(COUNT($Q100:AF100)+1,3)=0,(AF100*$E36)+AF100,AF100)),\"NÃO\"),\"NÃO\")","v":"NÃO"},{"$f":"IF(AND(AH$8>=$M36,AH$8<=$N36),IF($F36=\"Trimestral\",IF(AG100=\"NÃO\",$D36,IF(MOD(COUNT($Q100:AG100)+1,3)=0,(AG100*$E36)+AG100,AG100)),\"NÃO\"),\"NÃO\")","v":"NÃO"},{"$f":"IF(AND(AI$8>=$M36,AI$8<=$N36),IF($F36=\"Trimestral\",IF(AH100=\"NÃO\",$D36,IF(MOD(COUNT($Q100:AH100)+1,3)=0,(AH100*$E36)+AH100,AH100)),\"NÃO\"),\"NÃO\")","v":"NÃO"},{"$f":"IF(AND(AJ$8>=$M36,AJ$8<=$N36),IF($F36=\"Trimestral\",IF(AI100=\"NÃO\",$D36,IF(MOD(COUNT($Q100:AI100)+1,3)=0,(AI100*$E36)+AI100,AI100)),\"NÃO\"),\"NÃO\")","v":"NÃO"},{"$f":"IF(AND(AK$8>=$M36,AK$8<=$N36),IF($F36=\"Trimestral\",IF(AJ100=\"NÃO\",$D36,IF(MOD(COUNT($Q100:AJ100)+1,3)=0,(AJ100*$E36)+AJ100,AJ100)),\"NÃO\"),\"NÃO\")","v":"NÃO"},{"$f":"IF(AND(AL$8>=$M36,AL$8<=$N36),IF($F36=\"Trimestral\",IF(AK100=\"NÃO\",$D36,IF(MOD(COUNT($Q100:AK100)+1,3)=0,(AK100*$E36)+AK100,AK100)),\"NÃO\"),\"NÃO\")","v":"NÃO"},{"$f":"IF(AND(AM$8>=$M36,AM$8<=$N36),IF($F36=\"Trimestral\",IF(AL100=\"NÃO\",$D36,IF(MOD(COUNT($Q100:AL100)+1,3)=0,(AL100*$E36)+AL100,AL100)),\"NÃO\"),\"NÃO\")","v":"NÃO"},{"$f":"IF(AND(AN$8>=$M36,AN$8<=$N36),IF($F36=\"Trimestral\",IF(AM100=\"NÃO\",$D36,IF(MOD(COUNT($Q100:AM100)+1,3)=0,(AM100*$E36)+AM100,AM100)),\"NÃO\"),\"NÃO\")","v":"NÃO"},{"$f":"IF(AND(AO$8>=$M36,AO$8<=$N36),IF($F36=\"Trimestral\",IF(AN100=\"NÃO\",$D36,IF(MOD(COUNT($Q100:AN100)+1,3)=0,(AN100*$E36)+AN100,AN100)),\"NÃO\"),\"NÃO\")","v":"NÃO"},{"$f":"IF(AND(AP$8>=$M36,AP$8<=$N36),IF($F36=\"Trimestral\",IF(AO100=\"NÃO\",$D36,IF(MOD(COUNT($Q100:AO100)+1,3)=0,(AO100*$E36)+AO100,AO100)),\"NÃO\"),\"NÃO\")","v":"NÃO"},{"$f":"IF(AND(AQ$8>=$M36,AQ$8<=$N36),IF($F36=\"Trimestral\",IF(AP100=\"NÃO\",$D36,IF(MOD(COUNT($Q100:AP100)+1,3)=0,(AP100*$E36)+AP100,AP100)),\"NÃO\"),\"NÃO\")","v":"NÃO"},{"$f":"IF(AND(AR$8>=$M36,AR$8<=$N36),IF($F36=\"Trimestral\",IF(AQ100=\"NÃO\",$D36,IF(MOD(COUNT($Q100:AQ100)+1,3)=0,(AQ100*$E36)+AQ100,AQ100)),\"NÃO\"),\"NÃO\")","v":"NÃO"},{"$f":"IF(AND(AS$8>=$M36,AS$8<=$N36),IF($F36=\"Trimestral\",IF(AR100=\"NÃO\",$D36,IF(MOD(COUNT($Q100:AR100)+1,3)=0,(AR100*$E36)+AR100,AR100)),\"NÃO\"),\"NÃO\")","v":"NÃO"},{"$f":"IF(AND(AT$8>=$M36,AT$8<=$N36),IF($F36=\"Trimestral\",IF(AS100=\"NÃO\",$D36,IF(MOD(COUNT($Q100:AS100)+1,3)=0,(AS100*$E36)+AS100,AS100)),\"NÃO\"),\"NÃO\")","v":"NÃO"},{"$f":"IF(AND(AU$8>=$M36,AU$8<=$N36),IF($F36=\"Trimestral\",IF(AT100=\"NÃO\",$D36,IF(MOD(COUNT($Q100:AT100)+1,3)=0,(AT100*$E36)+AT100,AT100)),\"NÃO\"),\"NÃO\")","v":"NÃO"},{"$f":"IF(AND(AV$8>=$M36,AV$8<=$N36),IF($F36=\"Trimestral\",IF(AU100=\"NÃO\",$D36,IF(MOD(COUNT($Q100:AU100)+1,3)=0,(AU100*$E36)+AU100,AU100)),\"NÃO\"),\"NÃO\")","v":"NÃO"},{"$f":"IF(AND(AW$8>=$M36,AW$8<=$N36),IF($F36=\"Trimestral\",IF(AV100=\"NÃO\",$D36,IF(MOD(COUNT($Q100:AV100)+1,3)=0,(AV100*$E36)+AV100,AV100)),\"NÃO\"),\"NÃO\")","v":"NÃO"},{"$f":"IF(AND(AX$8>=$M36,AX$8<=$N36),IF($F36=\"Trimestral\",IF(AW100=\"NÃO\",$D36,IF(MOD(COUNT($Q100:AW100)+1,3)=0,(AW100*$E36)+AW100,AW100)),\"NÃO\"),\"NÃO\")","v":"NÃO"},{"$f":"IF(AND(AY$8>=$M36,AY$8<=$N36),IF($F36=\"Trimestral\",IF(AX100=\"NÃO\",$D36,IF(MOD(COUNT($Q100:AX100)+1,3)=0,(AX100*$E36)+AX100,AX100)),\"NÃO\"),\"NÃO\")","v":"NÃO"},{"$f":"IF(AND(AZ$8>=$M36,AZ$8<=$N36),IF($F36=\"Trimestral\",IF(AY100=\"NÃO\",$D36,IF(MOD(COUNT($Q100:AY100)+1,3)=0,(AY100*$E36)+AY100,AY100)),\"NÃO\"),\"NÃO\")","v":"NÃO"},{"$f":"IF(AND(BA$8>=$M36,BA$8<=$N36),IF($F36=\"Trimestral\",IF(AZ100=\"NÃO\",$D36,IF(MOD(COUNT($Q100:AZ100)+1,3)=0,(AZ100*$E36)+AZ100,AZ100)),\"NÃO\"),\"NÃO\")","v":"NÃO"},{"$f":"IF(AND(BB$8>=$M36,BB$8<=$N36),IF($F36=\"Trimestral\",IF(BA100=\"NÃO\",$D36,IF(MOD(COUNT($Q100:BA100)+1,3)=0,(BA100*$E36)+BA100,BA100)),\"NÃO\"),\"NÃO\")","v":"NÃO"},{"$f":"IF(AND(BC$8>=$M36,BC$8<=$N36),IF($F36=\"Trimestral\",IF(BB100=\"NÃO\",$D36,IF(MOD(COUNT($Q100:BB100)+1,3)=0,(BB100*$E36)+BB100,BB100)),\"NÃO\"),\"NÃO\")","v":"NÃO"},{"$f":"IF(AND(BD$8>=$M36,BD$8<=$N36),IF($F36=\"Trimestral\",IF(BC100=\"NÃO\",$D36,IF(MOD(COUNT($Q100:BC100)+1,3)=0,(BC100*$E36)+BC100,BC100)),\"NÃO\"),\"NÃO\")","v":"NÃO"},{"$f":"IF(AND(BE$8>=$M36,BE$8<=$N36),IF($F36=\"Trimestral\",IF(BD100=\"NÃO\",$D36,IF(MOD(COUNT($Q100:BD100)+1,3)=0,(BD100*$E36)+BD100,BD100)),\"NÃO\"),\"NÃO\")","v":"NÃO"},{"$f":"IF(AND(BF$8>=$M36,BF$8<=$N36),IF($F36=\"Trimestral\",IF(BE100=\"NÃO\",$D36,IF(MOD(COUNT($Q100:BE100)+1,3)=0,(BE100*$E36)+BE100,BE100)),\"NÃO\"),\"NÃO\")","v":"NÃO"},{"$f":"IF(AND(BG$8>=$M36,BG$8<=$N36),IF($F36=\"Trimestral\",IF(BF100=\"NÃO\",$D36,IF(MOD(COUNT($Q100:BF100)+1,3)=0,(BF100*$E36)+BF100,BF100)),\"NÃO\"),\"NÃO\")","v":"NÃO"},{"$f":"IF(AND(BH$8>=$M36,BH$8<=$N36),IF($F36=\"Trimestral\",IF(BG100=\"NÃO\",$D36,IF(MOD(COUNT($Q100:BG100)+1,3)=0,(BG100*$E36)+BG100,BG100)),\"NÃO\"),\"NÃO\")","v":"NÃO"},{"$f":"IF(AND(BI$8>=$M36,BI$8<=$N36),IF($F36=\"Trimestral\",IF(BH100=\"NÃO\",$D36,IF(MOD(COUNT($Q100:BH100)+1,3)=0,(BH100*$E36)+BH100,BH100)),\"NÃO\"),\"NÃO\")","v":"NÃO"},{"$f":"IF(AND(BJ$8>=$M36,BJ$8<=$N36),IF($F36=\"Trimestral\",IF(BI100=\"NÃO\",$D36,IF(MOD(COUNT($Q100:BI100)+1,3)=0,(BI100*$E36)+BI100,BI100)),\"NÃO\"),\"NÃO\")","v":"NÃO"},{"$f":"IF(AND(BK$8>=$M36,BK$8<=$N36),IF($F36=\"Trimestral\",IF(BJ100=\"NÃO\",$D36,IF(MOD(COUNT($Q100:BJ100)+1,3)=0,(BJ100*$E36)+BJ100,BJ100)),\"NÃO\"),\"NÃO\")","v":"NÃO"},{"$f":"IF(AND(BL$8>=$M36,BL$8<=$N36),IF($F36=\"Trimestral\",IF(BK100=\"NÃO\",$D36,IF(MOD(COUNT($Q100:BK100)+1,3)=0,(BK100*$E36)+BK100,BK100)),\"NÃO\"),\"NÃO\")","v":"NÃO"},{"$f":"IF(AND(BM$8>=$M36,BM$8<=$N36),IF($F36=\"Trimestral\",IF(BL100=\"NÃO\",$D36,IF(MOD(COUNT($Q100:BL100)+1,3)=0,(BL100*$E36)+BL100,BL100)),\"NÃO\"),\"NÃO\")","v":"NÃO"},{"$f":"IF(AND(BN$8>=$M36,BN$8<=$N36),IF($F36=\"Trimestral\",IF(BM100=\"NÃO\",$D36,IF(MOD(COUNT($Q100:BM100)+1,3)=0,(BM100*$E36)+BM100,BM100)),\"NÃO\"),\"NÃO\")","v":"NÃO"},{"$f":"IF(AND(BO$8>=$M36,BO$8<=$N36),IF($F36=\"Trimestral\",IF(BN100=\"NÃO\",$D36,IF(MOD(COUNT($Q100:BN100)+1,3)=0,(BN100*$E36)+BN100,BN100)),\"NÃO\"),\"NÃO\")","v":"NÃO"},{"$f":"IF(AND(BP$8>=$M36,BP$8<=$N36),IF($F36=\"Trimestral\",IF(BO100=\"NÃO\",$D36,IF(MOD(COUNT($Q100:BO100)+1,3)=0,(BO100*$E36)+BO100,BO100)),\"NÃO\"),\"NÃO\")","v":"NÃO"},{"$f":"IF(AND(BQ$8>=$M36,BQ$8<=$N36),IF($F36=\"Trimestral\",IF(BP100=\"NÃO\",$D36,IF(MOD(COUNT($Q100:BP100)+1,3)=0,(BP100*$E36)+BP100,BP100)),\"NÃO\"),\"NÃO\")","v":"NÃO"},{"$f":"IF(AND(BR$8>=$M36,BR$8<=$N36),IF($F36=\"Trimestral\",IF(BQ100=\"NÃO\",$D36,IF(MOD(COUNT($Q100:BQ100)+1,3)=0,(BQ100*$E36)+BQ100,BQ100)),\"NÃO\"),\"NÃO\")","v":"NÃO"},{"$f":"IF(AND(BS$8>=$M36,BS$8<=$N36),IF($F36=\"Trimestral\",IF(BR100=\"NÃO\",$D36,IF(MOD(COUNT($Q100:BR100)+1,3)=0,(BR100*$E36)+BR100,BR100)),\"NÃO\"),\"NÃO\")","v":"NÃO"},{"$f":"IF(AND(BT$8>=$M36,BT$8<=$N36),IF($F36=\"Trimestral\",IF(BS100=\"NÃO\",$D36,IF(MOD(COUNT($Q100:BS100)+1,3)=0,(BS100*$E36)+BS100,BS100)),\"NÃO\"),\"NÃO\")","v":"NÃO"},{"$f":"IF(AND(BU$8>=$M36,BU$8<=$N36),IF($F36=\"Trimestral\",IF(BT100=\"NÃO\",$D36,IF(MOD(COUNT($Q100:BT100)+1,3)=0,(BT100*$E36)+BT100,BT100)),\"NÃO\"),\"NÃO\")","v":"NÃO"},{"$f":"IF(AND(BV$8>=$M36,BV$8<=$N36),IF($F36=\"Trimestral\",IF(BU100=\"NÃO\",$D36,IF(MOD(COUNT($Q100:BU100)+1,3)=0,(BU100*$E36)+BU100,BU100)),\"NÃO\"),\"NÃO\")","v":"NÃO"},{"$f":"IF(AND(BW$8>=$M36,BW$8<=$N36),IF($F36=\"Trimestral\",IF(BV100=\"NÃO\",$D36,IF(MOD(COUNT($Q100:BV100)+1,3)=0,(BV100*$E36)+BV100,BV100)),\"NÃO\"),\"NÃO\")","v":"NÃO"},{"$f":"IF(AND(BX$8>=$M36,BX$8<=$N36),IF($F36=\"Trimestral\",IF(BW100=\"NÃO\",$D36,IF(MOD(COUNT($Q100:BW100)+1,3)=0,(BW100*$E36)+BW100,BW100)),\"NÃO\"),\"NÃO\")","v":"NÃO"},null,null,28]
[null,null,null,null,null,null,null,null,null,null,null,null,null,null,null,29,"NÃO",{"$f":"IF(AND(R$8>=$M37,R$8<=$N37),IF($F37=\"Trimestral\",IF(Q101=\"NÃO\",$D37,IF(MOD(COUNT($Q101:Q101)+1,3)=0,(Q101*$E37)+Q101,Q101)),\"NÃO\"),\"NÃO\")","v":"NÃO"},{"$f":"IF(AND(S$8>=$M37,S$8<=$N37),IF($F37=\"Trimestral\",IF(R101=\"NÃO\",$D37,IF(MOD(COUNT($Q101:R101)+1,3)=0,(R101*$E37)+R101,R101)),\"NÃO\"),\"NÃO\")","v":"NÃO"},{"$f":"IF(AND(T$8>=$M37,T$8<=$N37),IF($F37=\"Trimestral\",IF(S101=\"NÃO\",$D37,IF(MOD(COUNT($Q101:S101)+1,3)=0,(S101*$E37)+S101,S101)),\"NÃO\"),\"NÃO\")","v":"NÃO"},{"$f":"IF(AND(U$8>=$M37,U$8<=$N37),IF($F37=\"Trimestral\",IF(T101=\"NÃO\",$D37,IF(MOD(COUNT($Q101:T101)+1,3)=0,(T101*$E37)+T101,T101)),\"NÃO\"),\"NÃO\")","v":"NÃO"},{"$f":"IF(AND(V$8>=$M37,V$8<=$N37),IF($F37=\"Trimestral\",IF(U101=\"NÃO\",$D37,IF(MOD(COUNT($Q101:U101)+1,3)=0,(U101*$E37)+U101,U101)),\"NÃO\"),\"NÃO\")","v":"NÃO"},{"$f":"IF(AND(W$8>=$M37,W$8<=$N37),IF($F37=\"Trimestral\",IF(V101=\"NÃO\",$D37,IF(MOD(COUNT($Q101:V101)+1,3)=0,(V101*$E37)+V101,V101)),\"NÃO\"),\"NÃO\")","v":"NÃO"},{"$f":"IF(AND(X$8>=$M37,X$8<=$N37),IF($F37=\"Trimestral\",IF(W101=\"NÃO\",$D37,IF(MOD(COUNT($Q101:W101)+1,3)=0,(W101*$E37)+W101,W101)),\"NÃO\"),\"NÃO\")","v":"NÃO"},{"$f":"IF(AND(Y$8>=$M37,Y$8<=$N37),IF($F37=\"Trimestral\",IF(X101=\"NÃO\",$D37,IF(MOD(COUNT($Q101:X101)+1,3)=0,(X101*$E37)+X101,X101)),\"NÃO\"),\"NÃO\")","v":"NÃO"},{"$f":"IF(AND(Z$8>=$M37,Z$8<=$N37),IF($F37=\"Trimestral\",IF(Y101=\"NÃO\",$D37,IF(MOD(COUNT($Q101:Y101)+1,3)=0,(Y101*$E37)+Y101,Y101)),\"NÃO\"),\"NÃO\")","v":"NÃO"},{"$f":"IF(AND(AA$8>=$M37,AA$8<=$N37),IF($F37=\"Trimestral\",IF(Z101=\"NÃO\",$D37,IF(MOD(COUNT($Q101:Z101)+1,3)=0,(Z101*$E37)+Z101,Z101)),\"NÃO\"),\"NÃO\")","v":"NÃO"},{"$f":"IF(AND(AB$8>=$M37,AB$8<=$N37),IF($F37=\"Trimestral\",IF(AA101=\"NÃO\",$D37,IF(MOD(COUNT($Q101:AA101)+1,3)=0,(AA101*$E37)+AA101,AA101)),\"NÃO\"),\"NÃO\")","v":"NÃO"},{"$f":"IF(AND(AC$8>=$M37,AC$8<=$N37),IF($F37=\"Trimestral\",IF(AB101=\"NÃO\",$D37,IF(MOD(COUNT($Q101:AB101)+1,3)=0,(AB101*$E37)+AB101,AB101)),\"NÃO\"),\"NÃO\")","v":"NÃO"},{"$f":"IF(AND(AD$8>=$M37,AD$8<=$N37),IF($F37=\"Trimestral\",IF(AC101=\"NÃO\",$D37,IF(MOD(COUNT($Q101:AC101)+1,3)=0,(AC101*$E37)+AC101,AC101)),\"NÃO\"),\"NÃO\")","v":"NÃO"},{"$f":"IF(AND(AE$8>=$M37,AE$8<=$N37),IF($F37=\"Trimestral\",IF(AD101=\"NÃO\",$D37,IF(MOD(COUNT($Q101:AD101)+1,3)=0,(AD101*$E37)+AD101,AD101)),\"NÃO\"),\"NÃO\")","v":"NÃO"},{"$f":"IF(AND(AF$8>=$M37,AF$8<=$N37),IF($F37=\"Trimestral\",IF(AE101=\"NÃO\",$D37,IF(MOD(COUNT($Q101:AE101)+1,3)=0,(AE101*$E37)+AE101,AE101)),\"NÃO\"),\"NÃO\")","v":"NÃO"},{"$f":"IF(AND(AG$8>=$M37,AG$8<=$N37),IF($F37=\"Trimestral\",IF(AF101=\"NÃO\",$D37,IF(MOD(COUNT($Q101:AF101)+1,3)=0,(AF101*$E37)+AF101,AF101)),\"NÃO\"),\"NÃO\")","v":"NÃO"},{"$f":"IF(AND(AH$8>=$M37,AH$8<=$N37),IF($F37=\"Trimestral\",IF(AG101=\"NÃO\",$D37,IF(MOD(COUNT($Q101:AG101)+1,3)=0,(AG101*$E37)+AG101,AG101)),\"NÃO\"),\"NÃO\")","v":"NÃO"},{"$f":"IF(AND(AI$8>=$M37,AI$8<=$N37),IF($F37=\"Trimestral\",IF(AH101=\"NÃO\",$D37,IF(MOD(COUNT($Q101:AH101)+1,3)=0,(AH101*$E37)+AH101,AH101)),\"NÃO\"),\"NÃO\")","v":"NÃO"},{"$f":"IF(AND(AJ$8>=$M37,AJ$8<=$N37),IF($F37=\"Trimestral\",IF(AI101=\"NÃO\",$D37,IF(MOD(COUNT($Q101:AI101)+1,3)=0,(AI101*$E37)+AI101,AI101)),\"NÃO\"),\"NÃO\")","v":"NÃO"},{"$f":"IF(AND(AK$8>=$M37,AK$8<=$N37),IF($F37=\"Trimestral\",IF(AJ101=\"NÃO\",$D37,IF(MOD(COUNT($Q101:AJ101)+1,3)=0,(AJ101*$E37)+AJ101,AJ101)),\"NÃO\"),\"NÃO\")","v":"NÃO"},{"$f":"IF(AND(AL$8>=$M37,AL$8<=$N37),IF($F37=\"Trimestral\",IF(AK101=\"NÃO\",$D37,IF(MOD(COUNT($Q101:AK101)+1,3)=0,(AK101*$E37)+AK101,AK101)),\"NÃO\"),\"NÃO\")","v":"NÃO"},{"$f":"IF(AND(AM$8>=$M37,AM$8<=$N37),IF($F37=\"Trimestral\",IF(AL101=\"NÃO\",$D37,IF(MOD(COUNT($Q101:AL101)+1,3)=0,(AL101*$E37)+AL101,AL101)),\"NÃO\"),\"NÃO\")","v":"NÃO"},{"$f":"IF(AND(AN$8>=$M37,AN$8<=$N37),IF($F37=\"Trimestral\",IF(AM101=\"NÃO\",$D37,IF(MOD(COUNT($Q101:AM101)+1,3)=0,(AM101*$E37)+AM101,AM101)),\"NÃO\"),\"NÃO\")","v":"NÃO"},{"$f":"IF(AND(AO$8>=$M37,AO$8<=$N37),IF($F37=\"Trimestral\",IF(AN101=\"NÃO\",$D37,IF(MOD(COUNT($Q101:AN101)+1,3)=0,(AN101*$E37)+AN101,AN101)),\"NÃO\"),\"NÃO\")","v":"NÃO"},{"$f":"IF(AND(AP$8>=$M37,AP$8<=$N37),IF($F37=\"Trimestral\",IF(AO101=\"NÃO\",$D37,IF(MOD(COUNT($Q101:AO101)+1,3)=0,(AO101*$E37)+AO101,AO101)),\"NÃO\"),\"NÃO\")","v":"NÃO"},{"$f":"IF(AND(AQ$8>=$M37,AQ$8<=$N37),IF($F37=\"Trimestral\",IF(AP101=\"NÃO\",$D37,IF(MOD(COUNT($Q101:AP101)+1,3)=0,(AP101*$E37)+AP101,AP101)),\"NÃO\"),\"NÃO\")","v":"NÃO"},{"$f":"IF(AND(AR$8>=$M37,AR$8<=$N37),IF($F37=\"Trimestral\",IF(AQ101=\"NÃO\",$D37,IF(MOD(COUNT($Q101:AQ101)+1,3)=0,(AQ101*$E37)+AQ101,AQ101)),\"NÃO\"),\"NÃO\")","v":"NÃO"},{"$f":"IF(AND(AS$8>=$M37,AS$8<=$N37),IF($F37=\"Trimestral\",IF(AR101=\"NÃO\",$D37,IF(MOD(COUNT($Q101:AR101)+1,3)=0,(AR101*$E37)+AR101,AR101)),\"NÃO\"),\"NÃO\")","v":"NÃO"},{"$f":"IF(AND(AT$8>=$M37,AT$8<=$N37),IF($F37=\"Trimestral\",IF(AS101=\"NÃO\",$D37,IF(MOD(COUNT($Q101:AS101)+1,3)=0,(AS101*$E37)+AS101,AS101)),\"NÃO\"),\"NÃO\")","v":"NÃO"},{"$f":"IF(AND(AU$8>=$M37,AU$8<=$N37),IF($F37=\"Trimestral\",IF(AT101=\"NÃO\",$D37,IF(MOD(COUNT($Q101:AT101)+1,3)=0,(AT101*$E37)+AT101,AT101)),\"NÃO\"),\"NÃO\")","v":"NÃO"},{"$f":"IF(AND(AV$8>=$M37,AV$8<=$N37),IF($F37=\"Trimestral\",IF(AU101=\"NÃO\",$D37,IF(MOD(COUNT($Q101:AU101)+1,3)=0,(AU101*$E37)+AU101,AU101)),\"NÃO\"),\"NÃO\")","v":"NÃO"},{"$f":"IF(AND(AW$8>=$M37,AW$8<=$N37),IF($F37=\"Trimestral\",IF(AV101=\"NÃO\",$D37,IF(MOD(COUNT($Q101:AV101)+1,3)=0,(AV101*$E37)+AV101,AV101)),\"NÃO\"),\"NÃO\")","v":"NÃO"},{"$f":"IF(AND(AX$8>=$M37,AX$8<=$N37),IF($F37=\"Trimestral\",IF(AW101=\"NÃO\",$D37,IF(MOD(COUNT($Q101:AW101)+1,3)=0,(AW101*$E37)+AW101,AW101)),\"NÃO\"),\"NÃO\")","v":"NÃO"},{"$f":"IF(AND(AY$8>=$M37,AY$8<=$N37),IF($F37=\"Trimestral\",IF(AX101=\"NÃO\",$D37,IF(MOD(COUNT($Q101:AX101)+1,3)=0,(AX101*$E37)+AX101,AX101)),\"NÃO\"),\"NÃO\")","v":"NÃO"},{"$f":"IF(AND(AZ$8>=$M37,AZ$8<=$N37),IF($F37=\"Trimestral\",IF(AY101=\"NÃO\",$D37,IF(MOD(COUNT($Q101:AY101)+1,3)=0,(AY101*$E37)+AY101,AY101)),\"NÃO\"),\"NÃO\")","v":"NÃO"},{"$f":"IF(AND(BA$8>=$M37,BA$8<=$N37),IF($F37=\"Trimestral\",IF(AZ101=\"NÃO\",$D37,IF(MOD(COUNT($Q101:AZ101)+1,3)=0,(AZ101*$E37)+AZ101,AZ101)),\"NÃO\"),\"NÃO\")","v":"NÃO"},{"$f":"IF(AND(BB$8>=$M37,BB$8<=$N37),IF($F37=\"Trimestral\",IF(BA101=\"NÃO\",$D37,IF(MOD(COUNT($Q101:BA101)+1,3)=0,(BA101*$E37)+BA101,BA101)),\"NÃO\"),\"NÃO\")","v":"NÃO"},{"$f":"IF(AND(BC$8>=$M37,BC$8<=$N37),IF($F37=\"Trimestral\",IF(BB101=\"NÃO\",$D37,IF(MOD(COUNT($Q101:BB101)+1,3)=0,(BB101*$E37)+BB101,BB101)),\"NÃO\"),\"NÃO\")","v":"NÃO"},{"$f":"IF(AND(BD$8>=$M37,BD$8<=$N37),IF($F37=\"Trimestral\",IF(BC101=\"NÃO\",$D37,IF(MOD(COUNT($Q101:BC101)+1,3)=0,(BC101*$E37)+BC101,BC101)),\"NÃO\"),\"NÃO\")","v":"NÃO"},{"$f":"IF(AND(BE$8>=$M37,BE$8<=$N37),IF($F37=\"Trimestral\",IF(BD101=\"NÃO\",$D37,IF(MOD(COUNT($Q101:BD101)+1,3)=0,(BD101*$E37)+BD101,BD101)),\"NÃO\"),\"NÃO\")","v":"NÃO"},{"$f":"IF(AND(BF$8>=$M37,BF$8<=$N37),IF($F37=\"Trimestral\",IF(BE101=\"NÃO\",$D37,IF(MOD(COUNT($Q101:BE101)+1,3)=0,(BE101*$E37)+BE101,BE101)),\"NÃO\"),\"NÃO\")","v":"NÃO"},{"$f":"IF(AND(BG$8>=$M37,BG$8<=$N37),IF($F37=\"Trimestral\",IF(BF101=\"NÃO\",$D37,IF(MOD(COUNT($Q101:BF101)+1,3)=0,(BF101*$E37)+BF101,BF101)),\"NÃO\"),\"NÃO\")","v":"NÃO"},{"$f":"IF(AND(BH$8>=$M37,BH$8<=$N37),IF($F37=\"Trimestral\",IF(BG101=\"NÃO\",$D37,IF(MOD(COUNT($Q101:BG101)+1,3)=0,(BG101*$E37)+BG101,BG101)),\"NÃO\"),\"NÃO\")","v":"NÃO"},{"$f":"IF(AND(BI$8>=$M37,BI$8<=$N37),IF($F37=\"Trimestral\",IF(BH101=\"NÃO\",$D37,IF(MOD(COUNT($Q101:BH101)+1,3)=0,(BH101*$E37)+BH101,BH101)),\"NÃO\"),\"NÃO\")","v":"NÃO"},{"$f":"IF(AND(BJ$8>=$M37,BJ$8<=$N37),IF($F37=\"Trimestral\",IF(BI101=\"NÃO\",$D37,IF(MOD(COUNT($Q101:BI101)+1,3)=0,(BI101*$E37)+BI101,BI101)),\"NÃO\"),\"NÃO\")","v":"NÃO"},{"$f":"IF(AND(BK$8>=$M37,BK$8<=$N37),IF($F37=\"Trimestral\",IF(BJ101=\"NÃO\",$D37,IF(MOD(COUNT($Q101:BJ101)+1,3)=0,(BJ101*$E37)+BJ101,BJ101)),\"NÃO\"),\"NÃO\")","v":"NÃO"},{"$f":"IF(AND(BL$8>=$M37,BL$8<=$N37),IF($F37=\"Trimestral\",IF(BK101=\"NÃO\",$D37,IF(MOD(COUNT($Q101:BK101)+1,3)=0,(BK101*$E37)+BK101,BK101)),\"NÃO\"),\"NÃO\")","v":"NÃO"},{"$f":"IF(AND(BM$8>=$M37,BM$8<=$N37),IF($F37=\"Trimestral\",IF(BL101=\"NÃO\",$D37,IF(MOD(COUNT($Q101:BL101)+1,3)=0,(BL101*$E37)+BL101,BL101)),\"NÃO\"),\"NÃO\")","v":"NÃO"},{"$f":"IF(AND(BN$8>=$M37,BN$8<=$N37),IF($F37=\"Trimestral\",IF(BM101=\"NÃO\",$D37,IF(MOD(COUNT($Q101:BM101)+1,3)=0,(BM101*$E37)+BM101,BM101)),\"NÃO\"),\"NÃO\")","v":"NÃO"},{"$f":"IF(AND(BO$8>=$M37,BO$8<=$N37),IF($F37=\"Trimestral\",IF(BN101=\"NÃO\",$D37,IF(MOD(COUNT($Q101:BN101)+1,3)=0,(BN101*$E37)+BN101,BN101)),\"NÃO\"),\"NÃO\")","v":"NÃO"},{"$f":"IF(AND(BP$8>=$M37,BP$8<=$N37),IF($F37=\"Trimestral\",IF(BO101=\"NÃO\",$D37,IF(MOD(COUNT($Q101:BO101)+1,3)=0,(BO101*$E37)+BO101,BO101)),\"NÃO\"),\"NÃO\")","v":"NÃO"},{"$f":"IF(AND(BQ$8>=$M37,BQ$8<=$N37),IF($F37=\"Trimestral\",IF(BP101=\"NÃO\",$D37,IF(MOD(COUNT($Q101:BP101)+1,3)=0,(BP101*$E37)+BP101,BP101)),\"NÃO\"),\"NÃO\")","v":"NÃO"},{"$f":"IF(AND(BR$8>=$M37,BR$8<=$N37),IF($F37=\"Trimestral\",IF(BQ101=\"NÃO\",$D37,IF(MOD(COUNT($Q101:BQ101)+1,3)=0,(BQ101*$E37)+BQ101,BQ101)),\"NÃO\"),\"NÃO\")","v":"NÃO"},{"$f":"IF(AND(BS$8>=$M37,BS$8<=$N37),IF($F37=\"Trimestral\",IF(BR101=\"NÃO\",$D37,IF(MOD(COUNT($Q101:BR101)+1,3)=0,(BR101*$E37)+BR101,BR101)),\"NÃO\"),\"NÃO\")","v":"NÃO"},{"$f":"IF(AND(BT$8>=$M37,BT$8<=$N37),IF($F37=\"Trimestral\",IF(BS101=\"NÃO\",$D37,IF(MOD(COUNT($Q101:BS101)+1,3)=0,(BS101*$E37)+BS101,BS101)),\"NÃO\"),\"NÃO\")","v":"NÃO"},{"$f":"IF(AND(BU$8>=$M37,BU$8<=$N37),IF($F37=\"Trimestral\",IF(BT101=\"NÃO\",$D37,IF(MOD(COUNT($Q101:BT101)+1,3)=0,(BT101*$E37)+BT101,BT101)),\"NÃO\"),\"NÃO\")","v":"NÃO"},{"$f":"IF(AND(BV$8>=$M37,BV$8<=$N37),IF($F37=\"Trimestral\",IF(BU101=\"NÃO\",$D37,IF(MOD(COUNT($Q101:BU101)+1,3)=0,(BU101*$E37)+BU101,BU101)),\"NÃO\"),\"NÃO\")","v":"NÃO"},{"$f":"IF(AND(BW$8>=$M37,BW$8<=$N37),IF($F37=\"Trimestral\",IF(BV101=\"NÃO\",$D37,IF(MOD(COUNT($Q101:BV101)+1,3)=0,(BV101*$E37)+BV101,BV101)),\"NÃO\"),\"NÃO\")","v":"NÃO"},{"$f":"IF(AND(BX$8>=$M37,BX$8<=$N37),IF($F37=\"Trimestral\",IF(BW101=\"NÃO\",$D37,IF(MOD(COUNT($Q101:BW101)+1,3)=0,(BW101*$E37)+BW101,BW101)),\"NÃO\"),\"NÃO\")","v":"NÃO"},null,null,29]
[null,null,null,null,null,null,null,null,null,null,null,null,null,null,null,30,"NÃO",{"$f":"IF(AND(R$8>=$M38,R$8<=$N38),IF($F38=\"Trimestral\",IF(Q102=\"NÃO\",$D38,IF(MOD(COUNT($Q102:Q102)+1,3)=0,(Q102*$E38)+Q102,Q102)),\"NÃO\"),\"NÃO\")","v":"NÃO"},{"$f":"IF(AND(S$8>=$M38,S$8<=$N38),IF($F38=\"Trimestral\",IF(R102=\"NÃO\",$D38,IF(MOD(COUNT($Q102:R102)+1,3)=0,(R102*$E38)+R102,R102)),\"NÃO\"),\"NÃO\")","v":"NÃO"},{"$f":"IF(AND(T$8>=$M38,T$8<=$N38),IF($F38=\"Trimestral\",IF(S102=\"NÃO\",$D38,IF(MOD(COUNT($Q102:S102)+1,3)=0,(S102*$E38)+S102,S102)),\"NÃO\"),\"NÃO\")","v":"NÃO"},{"$f":"IF(AND(U$8>=$M38,U$8<=$N38),IF($F38=\"Trimestral\",IF(T102=\"NÃO\",$D38,IF(MOD(COUNT($Q102:T102)+1,3)=0,(T102*$E38)+T102,T102)),\"NÃO\"),\"NÃO\")","v":"NÃO"},{"$f":"IF(AND(V$8>=$M38,V$8<=$N38),IF($F38=\"Trimestral\",IF(U102=\"NÃO\",$D38,IF(MOD(COUNT($Q102:U102)+1,3)=0,(U102*$E38)+U102,U102)),\"NÃO\"),\"NÃO\")","v":"NÃO"},{"$f":"IF(AND(W$8>=$M38,W$8<=$N38),IF($F38=\"Trimestral\",IF(V102=\"NÃO\",$D38,IF(MOD(COUNT($Q102:V102)+1,3)=0,(V102*$E38)+V102,V102)),\"NÃO\"),\"NÃO\")","v":"NÃO"},{"$f":"IF(AND(X$8>=$M38,X$8<=$N38),IF($F38=\"Trimestral\",IF(W102=\"NÃO\",$D38,IF(MOD(COUNT($Q102:W102)+1,3)=0,(W102*$E38)+W102,W102)),\"NÃO\"),\"NÃO\")","v":"NÃO"},{"$f":"IF(AND(Y$8>=$M38,Y$8<=$N38),IF($F38=\"Trimestral\",IF(X102=\"NÃO\",$D38,IF(MOD(COUNT($Q102:X102)+1,3)=0,(X102*$E38)+X102,X102)),\"NÃO\"),\"NÃO\")","v":"NÃO"},{"$f":"IF(AND(Z$8>=$M38,Z$8<=$N38),IF($F38=\"Trimestral\",IF(Y102=\"NÃO\",$D38,IF(MOD(COUNT($Q102:Y102)+1,3)=0,(Y102*$E38)+Y102,Y102)),\"NÃO\"),\"NÃO\")","v":"NÃO"},{"$f":"IF(AND(AA$8>=$M38,AA$8<=$N38),IF($F38=\"Trimestral\",IF(Z102=\"NÃO\",$D38,IF(MOD(COUNT($Q102:Z102)+1,3)=0,(Z102*$E38)+Z102,Z102)),\"NÃO\"),\"NÃO\")","v":"NÃO"},{"$f":"IF(AND(AB$8>=$M38,AB$8<=$N38),IF($F38=\"Trimestral\",IF(AA102=\"NÃO\",$D38,IF(MOD(COUNT($Q102:AA102)+1,3)=0,(AA102*$E38)+AA102,AA102)),\"NÃO\"),\"NÃO\")","v":"NÃO"},{"$f":"IF(AND(AC$8>=$M38,AC$8<=$N38),IF($F38=\"Trimestral\",IF(AB102=\"NÃO\",$D38,IF(MOD(COUNT($Q102:AB102)+1,3)=0,(AB102*$E38)+AB102,AB102)),\"NÃO\"),\"NÃO\")","v":"NÃO"},{"$f":"IF(AND(AD$8>=$M38,AD$8<=$N38),IF($F38=\"Trimestral\",IF(AC102=\"NÃO\",$D38,IF(MOD(COUNT($Q102:AC102)+1,3)=0,(AC102*$E38)+AC102,AC102)),\"NÃO\"),\"NÃO\")","v":"NÃO"},{"$f":"IF(AND(AE$8>=$M38,AE$8<=$N38),IF($F38=\"Trimestral\",IF(AD102=\"NÃO\",$D38,IF(MOD(COUNT($Q102:AD102)+1,3)=0,(AD102*$E38)+AD102,AD102)),\"NÃO\"),\"NÃO\")","v":"NÃO"},{"$f":"IF(AND(AF$8>=$M38,AF$8<=$N38),IF($F38=\"Trimestral\",IF(AE102=\"NÃO\",$D38,IF(MOD(COUNT($Q102:AE102)+1,3)=0,(AE102*$E38)+AE102,AE102)),\"NÃO\"),\"NÃO\")","v":"NÃO"},{"$f":"IF(AND(AG$8>=$M38,AG$8<=$N38),IF($F38=\"Trimestral\",IF(AF102=\"NÃO\",$D38,IF(MOD(COUNT($Q102:AF102)+1,3)=0,(AF102*$E38)+AF102,AF102)),\"NÃO\"),\"NÃO\")","v":"NÃO"},{"$f":"IF(AND(AH$8>=$M38,AH$8<=$N38),IF($F38=\"Trimestral\",IF(AG102=\"NÃO\",$D38,IF(MOD(COUNT($Q102:AG102)+1,3)=0,(AG102*$E38)+AG102,AG102)),\"NÃO\"),\"NÃO\")","v":"NÃO"},{"$f":"IF(AND(AI$8>=$M38,AI$8<=$N38),IF($F38=\"Trimestral\",IF(AH102=\"NÃO\",$D38,IF(MOD(COUNT($Q102:AH102)+1,3)=0,(AH102*$E38)+AH102,AH102)),\"NÃO\"),\"NÃO\")","v":"NÃO"},{"$f":"IF(AND(AJ$8>=$M38,AJ$8<=$N38),IF($F38=\"Trimestral\",IF(AI102=\"NÃO\",$D38,IF(MOD(COUNT($Q102:AI102)+1,3)=0,(AI102*$E38)+AI102,AI102)),\"NÃO\"),\"NÃO\")","v":"NÃO"},{"$f":"IF(AND(AK$8>=$M38,AK$8<=$N38),IF($F38=\"Trimestral\",IF(AJ102=\"NÃO\",$D38,IF(MOD(COUNT($Q102:AJ102)+1,3)=0,(AJ102*$E38)+AJ102,AJ102)),\"NÃO\"),\"NÃO\")","v":"NÃO"},{"$f":"IF(AND(AL$8>=$M38,AL$8<=$N38),IF($F38=\"Trimestral\",IF(AK102=\"NÃO\",$D38,IF(MOD(COUNT($Q102:AK102)+1,3)=0,(AK102*$E38)+AK102,AK102)),\"NÃO\"),\"NÃO\")","v":"NÃO"},{"$f":"IF(AND(AM$8>=$M38,AM$8<=$N38),IF($F38=\"Trimestral\",IF(AL102=\"NÃO\",$D38,IF(MOD(COUNT($Q102:AL102)+1,3)=0,(AL102*$E38)+AL102,AL102)),\"NÃO\"),\"NÃO\")","v":"NÃO"},{"$f":"IF(AND(AN$8>=$M38,AN$8<=$N38),IF($F38=\"Trimestral\",IF(AM102=\"NÃO\",$D38,IF(MOD(COUNT($Q102:AM102)+1,3)=0,(AM102*$E38)+AM102,AM102)),\"NÃO\"),\"NÃO\")","v":"NÃO"},{"$f":"IF(AND(AO$8>=$M38,AO$8<=$N38),IF($F38=\"Trimestral\",IF(AN102=\"NÃO\",$D38,IF(MOD(COUNT($Q102:AN102)+1,3)=0,(AN102*$E38)+AN102,AN102)),\"NÃO\"),\"NÃO\")","v":"NÃO"},{"$f":"IF(AND(AP$8>=$M38,AP$8<=$N38),IF($F38=\"Trimestral\",IF(AO102=\"NÃO\",$D38,IF(MOD(COUNT($Q102:AO102)+1,3)=0,(AO102*$E38)+AO102,AO102)),\"NÃO\"),\"NÃO\")","v":"NÃO"},{"$f":"IF(AND(AQ$8>=$M38,AQ$8<=$N38),IF($F38=\"Trimestral\",IF(AP102=\"NÃO\",$D38,IF(MOD(COUNT($Q102:AP102)+1,3)=0,(AP102*$E38)+AP102,AP102)),\"NÃO\"),\"NÃO\")","v":"NÃO"},{"$f":"IF(AND(AR$8>=$M38,AR$8<=$N38),IF($F38=\"Trimestral\",IF(AQ102=\"NÃO\",$D38,IF(MOD(COUNT($Q102:AQ102)+1,3)=0,(AQ102*$E38)+AQ102,AQ102)),\"NÃO\"),\"NÃO\")","v":"NÃO"},{"$f":"IF(AND(AS$8>=$M38,AS$8<=$N38),IF($F38=\"Trimestral\",IF(AR102=\"NÃO\",$D38,IF(MOD(COUNT($Q102:AR102)+1,3)=0,(AR102*$E38)+AR102,AR102)),\"NÃO\"),\"NÃO\")","v":"NÃO"},{"$f":"IF(AND(AT$8>=$M38,AT$8<=$N38),IF($F38=\"Trimestral\",IF(AS102=\"NÃO\",$D38,IF(MOD(COUNT($Q102:AS102)+1,3)=0,(AS102*$E38)+AS102,AS102)),\"NÃO\"),\"NÃO\")","v":"NÃO"},{"$f":"IF(AND(AU$8>=$M38,AU$8<=$N38),IF($F38=\"Trimestral\",IF(AT102=\"NÃO\",$D38,IF(MOD(COUNT($Q102:AT102)+1,3)=0,(AT102*$E38)+AT102,AT102)),\"NÃO\"),\"NÃO\")","v":"NÃO"},{"$f":"IF(AND(AV$8>=$M38,AV$8<=$N38),IF($F38=\"Trimestral\",IF(AU102=\"NÃO\",$D38,IF(MOD(COUNT($Q102:AU102)+1,3)=0,(AU102*$E38)+AU102,AU102)),\"NÃO\"),\"NÃO\")","v":"NÃO"},{"$f":"IF(AND(AW$8>=$M38,AW$8<=$N38),IF($F38=\"Trimestral\",IF(AV102=\"NÃO\",$D38,IF(MOD(COUNT($Q102:AV102)+1,3)=0,(AV102*$E38)+AV102,AV102)),\"NÃO\"),\"NÃO\")","v":"NÃO"},{"$f":"IF(AND(AX$8>=$M38,AX$8<=$N38),IF($F38=\"Trimestral\",IF(AW102=\"NÃO\",$D38,IF(MOD(COUNT($Q102:AW102)+1,3)=0,(AW102*$E38)+AW102,AW102)),\"NÃO\"),\"NÃO\")","v":"NÃO"},{"$f":"IF(AND(AY$8>=$M38,AY$8<=$N38),IF($F38=\"Trimestral\",IF(AX102=\"NÃO\",$D38,IF(MOD(COUNT($Q102:AX102)+1,3)=0,(AX102*$E38)+AX102,AX102)),\"NÃO\"),\"NÃO\")","v":"NÃO"},{"$f":"IF(AND(AZ$8>=$M38,AZ$8<=$N38),IF($F38=\"Trimestral\",IF(AY102=\"NÃO\",$D38,IF(MOD(COUNT($Q102:AY102)+1,3)=0,(AY102*$E38)+AY102,AY102)),\"NÃO\"),\"NÃO\")","v":"NÃO"},{"$f":"IF(AND(BA$8>=$M38,BA$8<=$N38),IF($F38=\"Trimestral\",IF(AZ102=\"NÃO\",$D38,IF(MOD(COUNT($Q102:AZ102)+1,3)=0,(AZ102*$E38)+AZ102,AZ102)),\"NÃO\"),\"NÃO\")","v":"NÃO"},{"$f":"IF(AND(BB$8>=$M38,BB$8<=$N38),IF($F38=\"Trimestral\",IF(BA102=\"NÃO\",$D38,IF(MOD(COUNT($Q102:BA102)+1,3)=0,(BA102*$E38)+BA102,BA102)),\"NÃO\"),\"NÃO\")","v":"NÃO"},{"$f":"IF(AND(BC$8>=$M38,BC$8<=$N38),IF($F38=\"Trimestral\",IF(BB102=\"NÃO\",$D38,IF(MOD(COUNT($Q102:BB102)+1,3)=0,(BB102*$E38)+BB102,BB102)),\"NÃO\"),\"NÃO\")","v":"NÃO"},{"$f":"IF(AND(BD$8>=$M38,BD$8<=$N38),IF($F38=\"Trimestral\",IF(BC102=\"NÃO\",$D38,IF(MOD(COUNT($Q102:BC102)+1,3)=0,(BC102*$E38)+BC102,BC102)),\"NÃO\"),\"NÃO\")","v":"NÃO"},{"$f":"IF(AND(BE$8>=$M38,BE$8<=$N38),IF($F38=\"Trimestral\",IF(BD102=\"NÃO\",$D38,IF(MOD(COUNT($Q102:BD102)+1,3)=0,(BD102*$E38)+BD102,BD102)),\"NÃO\"),\"NÃO\")","v":"NÃO"},{"$f":"IF(AND(BF$8>=$M38,BF$8<=$N38),IF($F38=\"Trimestral\",IF(BE102=\"NÃO\",$D38,IF(MOD(COUNT($Q102:BE102)+1,3)=0,(BE102*$E38)+BE102,BE102)),\"NÃO\"),\"NÃO\")","v":"NÃO"},{"$f":"IF(AND(BG$8>=$M38,BG$8<=$N38),IF($F38=\"Trimestral\",IF(BF102=\"NÃO\",$D38,IF(MOD(COUNT($Q102:BF102)+1,3)=0,(BF102*$E38)+BF102,BF102)),\"NÃO\"),\"NÃO\")","v":"NÃO"},{"$f":"IF(AND(BH$8>=$M38,BH$8<=$N38),IF($F38=\"Trimestral\",IF(BG102=\"NÃO\",$D38,IF(MOD(COUNT($Q102:BG102)+1,3)=0,(BG102*$E38)+BG102,BG102)),\"NÃO\"),\"NÃO\")","v":"NÃO"},{"$f":"IF(AND(BI$8>=$M38,BI$8<=$N38),IF($F38=\"Trimestral\",IF(BH102=\"NÃO\",$D38,IF(MOD(COUNT($Q102:BH102)+1,3)=0,(BH102*$E38)+BH102,BH102)),\"NÃO\"),\"NÃO\")","v":"NÃO"},{"$f":"IF(AND(BJ$8>=$M38,BJ$8<=$N38),IF($F38=\"Trimestral\",IF(BI102=\"NÃO\",$D38,IF(MOD(COUNT($Q102:BI102)+1,3)=0,(BI102*$E38)+BI102,BI102)),\"NÃO\"),\"NÃO\")","v":"NÃO"},{"$f":"IF(AND(BK$8>=$M38,BK$8<=$N38),IF($F38=\"Trimestral\",IF(BJ102=\"NÃO\",$D38,IF(MOD(COUNT($Q102:BJ102)+1,3)=0,(BJ102*$E38)+BJ102,BJ102)),\"NÃO\"),\"NÃO\")","v":"NÃO"},{"$f":"IF(AND(BL$8>=$M38,BL$8<=$N38),IF($F38=\"Trimestral\",IF(BK102=\"NÃO\",$D38,IF(MOD(COUNT($Q102:BK102)+1,3)=0,(BK102*$E38)+BK102,BK102)),\"NÃO\"),\"NÃO\")","v":"NÃO"},{"$f":"IF(AND(BM$8>=$M38,BM$8<=$N38),IF($F38=\"Trimestral\",IF(BL102=\"NÃO\",$D38,IF(MOD(COUNT($Q102:BL102)+1,3)=0,(BL102*$E38)+BL102,BL102)),\"NÃO\"),\"NÃO\")","v":"NÃO"},{"$f":"IF(AND(BN$8>=$M38,BN$8<=$N38),IF($F38=\"Trimestral\",IF(BM102=\"NÃO\",$D38,IF(MOD(COUNT($Q102:BM102)+1,3)=0,(BM102*$E38)+BM102,BM102)),\"NÃO\"),\"NÃO\")","v":"NÃO"},{"$f":"IF(AND(BO$8>=$M38,BO$8<=$N38),IF($F38=\"Trimestral\",IF(BN102=\"NÃO\",$D38,IF(MOD(COUNT($Q102:BN102)+1,3)=0,(BN102*$E38)+BN102,BN102)),\"NÃO\"),\"NÃO\")","v":"NÃO"},{"$f":"IF(AND(BP$8>=$M38,BP$8<=$N38),IF($F38=\"Trimestral\",IF(BO102=\"NÃO\",$D38,IF(MOD(COUNT($Q102:BO102)+1,3)=0,(BO102*$E38)+BO102,BO102)),\"NÃO\"),\"NÃO\")","v":"NÃO"},{"$f":"IF(AND(BQ$8>=$M38,BQ$8<=$N38),IF($F38=\"Trimestral\",IF(BP102=\"NÃO\",$D38,IF(MOD(COUNT($Q102:BP102)+1,3)=0,(BP102*$E38)+BP102,BP102)),\"NÃO\"),\"NÃO\")","v":"NÃO"},{"$f":"IF(AND(BR$8>=$M38,BR$8<=$N38),IF($F38=\"Trimestral\",IF(BQ102=\"NÃO\",$D38,IF(MOD(COUNT($Q102:BQ102)+1,3)=0,(BQ102*$E38)+BQ102,BQ102)),\"NÃO\"),\"NÃO\")","v":"NÃO"},{"$f":"IF(AND(BS$8>=$M38,BS$8<=$N38),IF($F38=\"Trimestral\",IF(BR102=\"NÃO\",$D38,IF(MOD(COUNT($Q102:BR102)+1,3)=0,(BR102*$E38)+BR102,BR102)),\"NÃO\"),\"NÃO\")","v":"NÃO"},{"$f":"IF(AND(BT$8>=$M38,BT$8<=$N38),IF($F38=\"Trimestral\",IF(BS102=\"NÃO\",$D38,IF(MOD(COUNT($Q102:BS102)+1,3)=0,(BS102*$E38)+BS102,BS102)),\"NÃO\"),\"NÃO\")","v":"NÃO"},{"$f":"IF(AND(BU$8>=$M38,BU$8<=$N38),IF($F38=\"Trimestral\",IF(BT102=\"NÃO\",$D38,IF(MOD(COUNT($Q102:BT102)+1,3)=0,(BT102*$E38)+BT102,BT102)),\"NÃO\"),\"NÃO\")","v":"NÃO"},{"$f":"IF(AND(BV$8>=$M38,BV$8<=$N38),IF($F38=\"Trimestral\",IF(BU102=\"NÃO\",$D38,IF(MOD(COUNT($Q102:BU102)+1,3)=0,(BU102*$E38)+BU102,BU102)),\"NÃO\"),\"NÃO\")","v":"NÃO"},{"$f":"IF(AND(BW$8>=$M38,BW$8<=$N38),IF($F38=\"Trimestral\",IF(BV102=\"NÃO\",$D38,IF(MOD(COUNT($Q102:BV102)+1,3)=0,(BV102*$E38)+BV102,BV102)),\"NÃO\"),\"NÃO\")","v":"NÃO"},{"$f":"IF(AND(BX$8>=$M38,BX$8<=$N38),IF($F38=\"Trimestral\",IF(BW102=\"NÃO\",$D38,IF(MOD(COUNT($Q102:BW102)+1,3)=0,(BW102*$E38)+BW102,BW102)),\"NÃO\"),\"NÃO\")","v":"NÃO"},null,null,30]
[null,null,null,null,null,null,null,null,null,null,null,null,null,null,null,null,"la","la","la","la","la","la","la","la","la","la","la","la","la","la","la","la","la","la","la","la","la","la","la","la","la","la","la","la","la","la","la","la","la","la","la","la","la","la","la","la","la","la","la","la","la","la","la","la","la","la","la","la","la","la","la","la","la","la","la","la"]
[null,null,null,null,null,null,null,null,null,null,null,null,null,null,null,"semestral",1,2,3,4,5,6,7,8,9,10,11,12,13,14,15,16,17,18,19,20,21,22,23,24,25,26,27,28,29,30,31,32,33,34,35,36,37,38,39,40,41,42,43,44,45,46,47,48,49,50,51,52,53,54,55,56,57,58,59,60]
[null,null,null,null,null,null,null,null,null,null,null,null,null,null,null,1,{"$f":"IF(AND(Q$8>=$M9,Q$8<=$N9),IF($F9=\"SEMESTRAL\",$D9,\"NÃO\"),\"NÃO\")","v":"NÃO"},{"$f":"IF(AND(R$8>=$M9,R$8<=$N9),IF($F9=\"SEMESTRAL\",IF(Q105=\"NÃO\",$D9,IF(MOD(COUNT($Q105:Q105)+1,6)=0,(Q105*$E9)+Q105,Q105)),\"NÃO\"),\"NÃO\")","v":"NÃO"},{"$f":"IF(AND(S$8>=$M9,S$8<=$N9),IF($F9=\"SEMESTRAL\",IF(R105=\"NÃO\",$D9,IF(MOD(COUNT($Q105:R105)+1,6)=0,(R105*$E9)+R105,R105)),\"NÃO\"),\"NÃO\")","v":"NÃO"},{"$f":"IF(AND(T$8>=$M9,T$8<=$N9),IF($F9=\"SEMESTRAL\",IF(S105=\"NÃO\",$D9,IF(MOD(COUNT($Q105:S105)+1,6)=0,(S105*$E9)+S105,S105)),\"NÃO\"),\"NÃO\")","v":"NÃO"},{"$f":"IF(AND(U$8>=$M9,U$8<=$N9),IF($F9=\"SEMESTRAL\",IF(T105=\"NÃO\",$D9,IF(MOD(COUNT($Q105:T105)+1,6)=0,(T105*$E9)+T105,T105)),\"NÃO\"),\"NÃO\")","v":"NÃO"},{"$f":"IF(AND(V$8>=$M9,V$8<=$N9),IF($F9=\"SEMESTRAL\",IF(U105=\"NÃO\",$D9,IF(MOD(COUNT($Q105:U105)+1,6)=0,(U105*$E9)+U105,U105)),\"NÃO\"),\"NÃO\")","v":"NÃO"},{"$f":"IF(AND(W$8>=$M9,W$8<=$N9),IF($F9=\"SEMESTRAL\",IF(V105=\"NÃO\",$D9,IF(MOD(COUNT($Q105:V105)+1,6)=0,(V105*$E9)+V105,V105)),\"NÃO\"),\"NÃO\")","v":"NÃO"},{"$f":"IF(AND(X$8>=$M9,X$8<=$N9),IF($F9=\"SEMESTRAL\",IF(W105=\"NÃO\",$D9,IF(MOD(COUNT($Q105:W105)+1,6)=0,(W105*$E9)+W105,W105)),\"NÃO\"),\"NÃO\")","v":"NÃO"},{"$f":"IF(AND(Y$8>=$M9,Y$8<=$N9),IF($F9=\"SEMESTRAL\",IF(X105=\"NÃO\",$D9,IF(MOD(COUNT($Q105:X105)+1,6)=0,(X105*$E9)+X105,X105)),\"NÃO\"),\"NÃO\")","v":"NÃO"},{"$f":"IF(AND(Z$8>=$M9,Z$8<=$N9),IF($F9=\"SEMESTRAL\",IF(Y105=\"NÃO\",$D9,IF(MOD(COUNT($Q105:Y105)+1,6)=0,(Y105*$E9)+Y105,Y105)),\"NÃO\"),\"NÃO\")","v":"NÃO"},{"$f":"IF(AND(AA$8>=$M9,AA$8<=$N9),IF($F9=\"SEMESTRAL\",IF(Z105=\"NÃO\",$D9,IF(MOD(COUNT($Q105:Z105)+1,6)=0,(Z105*$E9)+Z105,Z105)),\"NÃO\"),\"NÃO\")","v":"NÃO"},{"$f":"IF(AND(AB$8>=$M9,AB$8<=$N9),IF($F9=\"SEMESTRAL\",IF(AA105=\"NÃO\",$D9,IF(MOD(COUNT($Q105:AA105)+1,6)=0,(AA105*$E9)+AA105,AA105)),\"NÃO\"),\"NÃO\")","v":"NÃO"},{"$f":"IF(AND(AC$8>=$M9,AC$8<=$N9),IF($F9=\"SEMESTRAL\",IF(AB105=\"NÃO\",$D9,IF(MOD(COUNT($Q105:AB105)+1,6)=0,(AB105*$E9)+AB105,AB105)),\"NÃO\"),\"NÃO\")","v":"NÃO"},{"$f":"IF(AND(AD$8>=$M9,AD$8<=$N9),IF($F9=\"SEMESTRAL\",IF(AC105=\"NÃO\",$D9,IF(MOD(COUNT($Q105:AC105)+1,6)=0,(AC105*$E9)+AC105,AC105)),\"NÃO\"),\"NÃO\")","v":"NÃO"},{"$f":"IF(AND(AE$8>=$M9,AE$8<=$N9),IF($F9=\"SEMESTRAL\",IF(AD105=\"NÃO\",$D9,IF(MOD(COUNT($Q105:AD105)+1,6)=0,(AD105*$E9)+AD105,AD105)),\"NÃO\"),\"NÃO\")","v":"NÃO"},{"$f":"IF(AND(AF$8>=$M9,AF$8<=$N9),IF($F9=\"SEMESTRAL\",IF(AE105=\"NÃO\",$D9,IF(MOD(COUNT($Q105:AE105)+1,6)=0,(AE105*$E9)+AE105,AE105)),\"NÃO\"),\"NÃO\")","v":"NÃO"},{"$f":"IF(AND(AG$8>=$M9,AG$8<=$N9),IF($F9=\"SEMESTRAL\",IF(AF105=\"NÃO\",$D9,IF(MOD(COUNT($Q105:AF105)+1,6)=0,(AF105*$E9)+AF105,AF105)),\"NÃO\"),\"NÃO\")","v":"NÃO"},{"$f":"IF(AND(AH$8>=$M9,AH$8<=$N9),IF($F9=\"SEMESTRAL\",IF(AG105=\"NÃO\",$D9,IF(MOD(COUNT($Q105:AG105)+1,6)=0,(AG105*$E9)+AG105,AG105)),\"NÃO\"),\"NÃO\")","v":"NÃO"},{"$f":"IF(AND(AI$8>=$M9,AI$8<=$N9),IF($F9=\"SEMESTRAL\",IF(AH105=\"NÃO\",$D9,IF(MOD(COUNT($Q105:AH105)+1,6)=0,(AH105*$E9)+AH105,AH105)),\"NÃO\"),\"NÃO\")","v":"NÃO"},{"$f":"IF(AND(AJ$8>=$M9,AJ$8<=$N9),IF($F9=\"SEMESTRAL\",IF(AI105=\"NÃO\",$D9,IF(MOD(COUNT($Q105:AI105)+1,6)=0,(AI105*$E9)+AI105,AI105)),\"NÃO\"),\"NÃO\")","v":"NÃO"},{"$f":"IF(AND(AK$8>=$M9,AK$8<=$N9),IF($F9=\"SEMESTRAL\",IF(AJ105=\"NÃO\",$D9,IF(MOD(COUNT($Q105:AJ105)+1,6)=0,(AJ105*$E9)+AJ105,AJ105)),\"NÃO\"),\"NÃO\")","v":"NÃO"},{"$f":"IF(AND(AL$8>=$M9,AL$8<=$N9),IF($F9=\"SEMESTRAL\",IF(AK105=\"NÃO\",$D9,IF(MOD(COUNT($Q105:AK105)+1,6)=0,(AK105*$E9)+AK105,AK105)),\"NÃO\"),\"NÃO\")","v":"NÃO"},{"$f":"IF(AND(AM$8>=$M9,AM$8<=$N9),IF($F9=\"SEMESTRAL\",IF(AL105=\"NÃO\",$D9,IF(MOD(COUNT($Q105:AL105)+1,6)=0,(AL105*$E9)+AL105,AL105)),\"NÃO\"),\"NÃO\")","v":"NÃO"},{"$f":"IF(AND(AN$8>=$M9,AN$8<=$N9),IF($F9=\"SEMESTRAL\",IF(AM105=\"NÃO\",$D9,IF(MOD(COUNT($Q105:AM105)+1,6)=0,(AM105*$E9)+AM105,AM105)),\"NÃO\"),\"NÃO\")","v":"NÃO"},{"$f":"IF(AND(AO$8>=$M9,AO$8<=$N9),IF($F9=\"SEMESTRAL\",IF(AN105=\"NÃO\",$D9,IF(MOD(COUNT($Q105:AN105)+1,6)=0,(AN105*$E9)+AN105,AN105)),\"NÃO\"),\"NÃO\")","v":"NÃO"},{"$f":"IF(AND(AP$8>=$M9,AP$8<=$N9),IF($F9=\"SEMESTRAL\",IF(AO105=\"NÃO\",$D9,IF(MOD(COUNT($Q105:AO105)+1,6)=0,(AO105*$E9)+AO105,AO105)),\"NÃO\"),\"NÃO\")","v":"NÃO"},{"$f":"IF(AND(AQ$8>=$M9,AQ$8<=$N9),IF($F9=\"SEMESTRAL\",IF(AP105=\"NÃO\",$D9,IF(MOD(COUNT($Q105:AP105)+1,6)=0,(AP105*$E9)+AP105,AP105)),\"NÃO\"),\"NÃO\")","v":"NÃO"},{"$f":"IF(AND(AR$8>=$M9,AR$8<=$N9),IF($F9=\"SEMESTRAL\",IF(AQ105=\"NÃO\",$D9,IF(MOD(COUNT($Q105:AQ105)+1,6)=0,(AQ105*$E9)+AQ105,AQ105)),\"NÃO\"),\"NÃO\")","v":"NÃO"},{"$f":"IF(AND(AS$8>=$M9,AS$8<=$N9),IF($F9=\"SEMESTRAL\",IF(AR105=\"NÃO\",$D9,IF(MOD(COUNT($Q105:AR105)+1,6)=0,(AR105*$E9)+AR105,AR105)),\"NÃO\"),\"NÃO\")","v":"NÃO"},{"$f":"IF(AND(AT$8>=$M9,AT$8<=$N9),IF($F9=\"SEMESTRAL\",IF(AS105=\"NÃO\",$D9,IF(MOD(COUNT($Q105:AS105)+1,6)=0,(AS105*$E9)+AS105,AS105)),\"NÃO\"),\"NÃO\")","v":"NÃO"},{"$f":"IF(AND(AU$8>=$M9,AU$8<=$N9),IF($F9=\"SEMESTRAL\",IF(AT105=\"NÃO\",$D9,IF(MOD(COUNT($Q105:AT105)+1,6)=0,(AT105*$E9)+AT105,AT105)),\"NÃO\"),\"NÃO\")","v":"NÃO"},{"$f":"IF(AND(AV$8>=$M9,AV$8<=$N9),IF($F9=\"SEMESTRAL\",IF(AU105=\"NÃO\",$D9,IF(MOD(COUNT($Q105:AU105)+1,6)=0,(AU105*$E9)+AU105,AU105)),\"NÃO\"),\"NÃO\")","v":"NÃO"},{"$f":"IF(AND(AW$8>=$M9,AW$8<=$N9),IF($F9=\"SEMESTRAL\",IF(AV105=\"NÃO\",$D9,IF(MOD(COUNT($Q105:AV105)+1,6)=0,(AV105*$E9)+AV105,AV105)),\"NÃO\"),\"NÃO\")","v":"NÃO"},{"$f":"IF(AND(AX$8>=$M9,AX$8<=$N9),IF($F9=\"SEMESTRAL\",IF(AW105=\"NÃO\",$D9,IF(MOD(COUNT($Q105:AW105)+1,6)=0,(AW105*$E9)+AW105,AW105)),\"NÃO\"),\"NÃO\")","v":"NÃO"},{"$f":"IF(AND(AY$8>=$M9,AY$8<=$N9),IF($F9=\"SEMESTRAL\",IF(AX105=\"NÃO\",$D9,IF(MOD(COUNT($Q105:AX105)+1,6)=0,(AX105*$E9)+AX105,AX105)),\"NÃO\"),\"NÃO\")","v":"NÃO"},{"$f":"IF(AND(AZ$8>=$M9,AZ$8<=$N9),IF($F9=\"SEMESTRAL\",IF(AY105=\"NÃO\",$D9,IF(MOD(COUNT($Q105:AY105)+1,6)=0,(AY105*$E9)+AY105,AY105)),\"NÃO\"),\"NÃO\")","v":"NÃO"},{"$f":"IF(AND(BA$8>=$M9,BA$8<=$N9),IF($F9=\"SEMESTRAL\",IF(AZ105=\"NÃO\",$D9,IF(MOD(COUNT($Q105:AZ105)+1,6)=0,(AZ105*$E9)+AZ105,AZ105)),\"NÃO\"),\"NÃO\")","v":"NÃO"},{"$f":"IF(AND(BB$8>=$M9,BB$8<=$N9),IF($F9=\"SEMESTRAL\",IF(BA105=\"NÃO\",$D9,IF(MOD(COUNT($Q105:BA105)+1,6)=0,(BA105*$E9)+BA105,BA105)),\"NÃO\"),\"NÃO\")","v":"NÃO"},{"$f":"IF(AND(BC$8>=$M9,BC$8<=$N9),IF($F9=\"SEMESTRAL\",IF(BB105=\"NÃO\",$D9,IF(MOD(COUNT($Q105:BB105)+1,6)=0,(BB105*$E9)+BB105,BB105)),\"NÃO\"),\"NÃO\")","v":"NÃO"},{"$f":"IF(AND(BD$8>=$M9,BD$8<=$N9),IF($F9=\"SEMESTRAL\",IF(BC105=\"NÃO\",$D9,IF(MOD(COUNT($Q105:BC105)+1,6)=0,(BC105*$E9)+BC105,BC105)),\"NÃO\"),\"NÃO\")","v":"NÃO"},{"$f":"IF(AND(BE$8>=$M9,BE$8<=$N9),IF($F9=\"SEMESTRAL\",IF(BD105=\"NÃO\",$D9,IF(MOD(COUNT($Q105:BD105)+1,6)=0,(BD105*$E9)+BD105,BD105)),\"NÃO\"),\"NÃO\")","v":"NÃO"},{"$f":"IF(AND(BF$8>=$M9,BF$8<=$N9),IF($F9=\"SEMESTRAL\",IF(BE105=\"NÃO\",$D9,IF(MOD(COUNT($Q105:BE105)+1,6)=0,(BE105*$E9)+BE105,BE105)),\"NÃO\"),\"NÃO\")","v":"NÃO"},{"$f":"IF(AND(BG$8>=$M9,BG$8<=$N9),IF($F9=\"SEMESTRAL\",IF(BF105=\"NÃO\",$D9,IF(MOD(COUNT($Q105:BF105)+1,6)=0,(BF105*$E9)+BF105,BF105)),\"NÃO\"),\"NÃO\")","v":"NÃO"},{"$f":"IF(AND(BH$8>=$M9,BH$8<=$N9),IF($F9=\"SEMESTRAL\",IF(BG105=\"NÃO\",$D9,IF(MOD(COUNT($Q105:BG105)+1,6)=0,(BG105*$E9)+BG105,BG105)),\"NÃO\"),\"NÃO\")","v":"NÃO"},{"$f":"IF(AND(BI$8>=$M9,BI$8<=$N9),IF($F9=\"SEMESTRAL\",IF(BH105=\"NÃO\",$D9,IF(MOD(COUNT($Q105:BH105)+1,6)=0,(BH105*$E9)+BH105,BH105)),\"NÃO\"),\"NÃO\")","v":"NÃO"},{"$f":"IF(AND(BJ$8>=$M9,BJ$8<=$N9),IF($F9=\"SEMESTRAL\",IF(BI105=\"NÃO\",$D9,IF(MOD(COUNT($Q105:BI105)+1,6)=0,(BI105*$E9)+BI105,BI105)),\"NÃO\"),\"NÃO\")","v":"NÃO"},{"$f":"IF(AND(BK$8>=$M9,BK$8<=$N9),IF($F9=\"SEMESTRAL\",IF(BJ105=\"NÃO\",$D9,IF(MOD(COUNT($Q105:BJ105)+1,6)=0,(BJ105*$E9)+BJ105,BJ105)),\"NÃO\"),\"NÃO\")","v":"NÃO"},{"$f":"IF(AND(BL$8>=$M9,BL$8<=$N9),IF($F9=\"SEMESTRAL\",IF(BK105=\"NÃO\",$D9,IF(MOD(COUNT($Q105:BK105)+1,6)=0,(BK105*$E9)+BK105,BK105)),\"NÃO\"),\"NÃO\")","v":"NÃO"},{"$f":"IF(AND(BM$8>=$M9,BM$8<=$N9),IF($F9=\"SEMESTRAL\",IF(BL105=\"NÃO\",$D9,IF(MOD(COUNT($Q105:BL105)+1,6)=0,(BL105*$E9)+BL105,BL105)),\"NÃO\"),\"NÃO\")","v":"NÃO"},{"$f":"IF(AND(BN$8>=$M9,BN$8<=$N9),IF($F9=\"SEMESTRAL\",IF(BM105=\"NÃO\",$D9,IF(MOD(COUNT($Q105:BM105)+1,6)=0,(BM105*$E9)+BM105,BM105)),\"NÃO\"),\"NÃO\")","v":"NÃO"},{"$f":"IF(AND(BO$8>=$M9,BO$8<=$N9),IF($F9=\"SEMESTRAL\",IF(BN105=\"NÃO\",$D9,IF(MOD(COUNT($Q105:BN105)+1,6)=0,(BN105*$E9)+BN105,BN105)),\"NÃO\"),\"NÃO\")","v":"NÃO"},{"$f":"IF(AND(BP$8>=$M9,BP$8<=$N9),IF($F9=\"SEMESTRAL\",IF(BO105=\"NÃO\",$D9,IF(MOD(COUNT($Q105:BO105)+1,6)=0,(BO105*$E9)+BO105,BO105)),\"NÃO\"),\"NÃO\")","v":"NÃO"},{"$f":"IF(AND(BQ$8>=$M9,BQ$8<=$N9),IF($F9=\"SEMESTRAL\",IF(BP105=\"NÃO\",$D9,IF(MOD(COUNT($Q105:BP105)+1,6)=0,(BP105*$E9)+BP105,BP105)),\"NÃO\"),\"NÃO\")","v":"NÃO"},{"$f":"IF(AND(BR$8>=$M9,BR$8<=$N9),IF($F9=\"SEMESTRAL\",IF(BQ105=\"NÃO\",$D9,IF(MOD(COUNT($Q105:BQ105)+1,6)=0,(BQ105*$E9)+BQ105,BQ105)),\"NÃO\"),\"NÃO\")","v":"NÃO"},{"$f":"IF(AND(BS$8>=$M9,BS$8<=$N9),IF($F9=\"SEMESTRAL\",IF(BR105=\"NÃO\",$D9,IF(MOD(COUNT($Q105:BR105)+1,6)=0,(BR105*$E9)+BR105,BR105)),\"NÃO\"),\"NÃO\")","v":"NÃO"},{"$f":"IF(AND(BT$8>=$M9,BT$8<=$N9),IF($F9=\"SEMESTRAL\",IF(BS105=\"NÃO\",$D9,IF(MOD(COUNT($Q105:BS105)+1,6)=0,(BS105*$E9)+BS105,BS105)),\"NÃO\"),\"NÃO\")","v":"NÃO"},{"$f":"IF(AND(BU$8>=$M9,BU$8<=$N9),IF($F9=\"SEMESTRAL\",IF(BT105=\"NÃO\",$D9,IF(MOD(COUNT($Q105:BT105)+1,6)=0,(BT105*$E9)+BT105,BT105)),\"NÃO\"),\"NÃO\")","v":"NÃO"},{"$f":"IF(AND(BV$8>=$M9,BV$8<=$N9),IF($F9=\"SEMESTRAL\",IF(BU105=\"NÃO\",$D9,IF(MOD(COUNT($Q105:BU105)+1,6)=0,(BU105*$E9)+BU105,BU105)),\"NÃO\"),\"NÃO\")","v":"NÃO"},{"$f":"IF(AND(BW$8>=$M9,BW$8<=$N9),IF($F9=\"SEMESTRAL\",IF(BV105=\"NÃO\",$D9,IF(MOD(COUNT($Q105:BV105)+1,6)=0,(BV105*$E9)+BV105,BV105)),\"NÃO\"),\"NÃO\")","v":"NÃO"},{"$f":"IF(AND(BX$8>=$M9,BX$8<=$N9),IF($F9=\"SEMESTRAL\",IF(BW105=\"NÃO\",$D9,IF(MOD(COUNT($Q105:BW105)+1,6)=0,(BW105*$E9)+BW105,BW105)),\"NÃO\"),\"NÃO\")","v":"NÃO"}]
[null,null,null,null,null,null,null,null,null,null,null,null,null,null,null,2,{"$f":"IF(AND(Q$8>=$M10,Q$8<=$N10),IF($F10=\"SEMESTRAL\",$D10,\"NÃO\"),\"NÃO\")","v":"NÃO"},{"$f":"IF(AND(R$8>=$M10,R$8<=$N10),IF($F10=\"SEMESTRAL\",IF(Q106=\"NÃO\",$D10,IF(MOD(COUNT($Q106:Q106)+1,6)=0,(Q106*$E10)+Q106,Q106)),\"NÃO\"),\"NÃO\")","v":"NÃO"},{"$f":"IF(AND(S$8>=$M10,S$8<=$N10),IF($F10=\"SEMESTRAL\",IF(R106=\"NÃO\",$D10,IF(MOD(COUNT($Q106:R106)+1,6)=0,(R106*$E10)+R106,R106)),\"NÃO\"),\"NÃO\")","v":"NÃO"},{"$f":"IF(AND(T$8>=$M10,T$8<=$N10),IF($F10=\"SEMESTRAL\",IF(S106=\"NÃO\",$D10,IF(MOD(COUNT($Q106:S106)+1,6)=0,(S106*$E10)+S106,S106)),\"NÃO\"),\"NÃO\")","v":"NÃO"},{"$f":"IF(AND(U$8>=$M10,U$8<=$N10),IF($F10=\"SEMESTRAL\",IF(T106=\"NÃO\",$D10,IF(MOD(COUNT($Q106:T106)+1,6)=0,(T106*$E10)+T106,T106)),\"NÃO\"),\"NÃO\")","v":"NÃO"},{"$f":"IF(AND(V$8>=$M10,V$8<=$N10),IF($F10=\"SEMESTRAL\",IF(U106=\"NÃO\",$D10,IF(MOD(COUNT($Q106:U106)+1,6)=0,(U106*$E10)+U106,U106)),\"NÃO\"),\"NÃO\")","v":"NÃO"},{"$f":"IF(AND(W$8>=$M10,W$8<=$N10),IF($F10=\"SEMESTRAL\",IF(V106=\"NÃO\",$D10,IF(MOD(COUNT($Q106:V106)+1,6)=0,(V106*$E10)+V106,V106)),\"NÃO\"),\"NÃO\")","v":"NÃO"},{"$f":"IF(AND(X$8>=$M10,X$8<=$N10),IF($F10=\"SEMESTRAL\",IF(W106=\"NÃO\",$D10,IF(MOD(COUNT($Q106:W106)+1,6)=0,(W106*$E10)+W106,W106)),\"NÃO\"),\"NÃO\")","v":"NÃO"},{"$f":"IF(AND(Y$8>=$M10,Y$8<=$N10),IF($F10=\"SEMESTRAL\",IF(X106=\"NÃO\",$D10,IF(MOD(COUNT($Q106:X106)+1,6)=0,(X106*$E10)+X106,X106)),\"NÃO\"),\"NÃO\")","v":"NÃO"},{"$f":"IF(AND(Z$8>=$M10,Z$8<=$N10),IF($F10=\"SEMESTRAL\",IF(Y106=\"NÃO\",$D10,IF(MOD(COUNT($Q106:Y106)+1,6)=0,(Y106*$E10)+Y106,Y106)),\"NÃO\"),\"NÃO\")","v":"NÃO"},{"$f":"IF(AND(AA$8>=$M10,AA$8<=$N10),IF($F10=\"SEMESTRAL\",IF(Z106=\"NÃO\",$D10,IF(MOD(COUNT($Q106:Z106)+1,6)=0,(Z106*$E10)+Z106,Z106)),\"NÃO\"),\"NÃO\")","v":"NÃO"},{"$f":"IF(AND(AB$8>=$M10,AB$8<=$N10),IF($F10=\"SEMESTRAL\",IF(AA106=\"NÃO\",$D10,IF(MOD(COUNT($Q106:AA106)+1,6)=0,(AA106*$E10)+AA106,AA106)),\"NÃO\"),\"NÃO\")","v":"NÃO"},{"$f":"IF(AND(AC$8>=$M10,AC$8<=$N10),IF($F10=\"SEMESTRAL\",IF(AB106=\"NÃO\",$D10,IF(MOD(COUNT($Q106:AB106)+1,6)=0,(AB106*$E10)+AB106,AB106)),\"NÃO\"),\"NÃO\")","v":"NÃO"},{"$f":"IF(AND(AD$8>=$M10,AD$8<=$N10),IF($F10=\"SEMESTRAL\",IF(AC106=\"NÃO\",$D10,IF(MOD(COUNT($Q106:AC106)+1,6)=0,(AC106*$E10)+AC106,AC106)),\"NÃO\"),\"NÃO\")","v":"NÃO"},{"$f":"IF(AND(AE$8>=$M10,AE$8<=$N10),IF($F10=\"SEMESTRAL\",IF(AD106=\"NÃO\",$D10,IF(MOD(COUNT($Q106:AD106)+1,6)=0,(AD106*$E10)+AD106,AD106)),\"NÃO\"),\"NÃO\")","v":"NÃO"},{"$f":"IF(AND(AF$8>=$M10,AF$8<=$N10),IF($F10=\"SEMESTRAL\",IF(AE106=\"NÃO\",$D10,IF(MOD(COUNT($Q106:AE106)+1,6)=0,(AE106*$E10)+AE106,AE106)),\"NÃO\"),\"NÃO\")","v":"NÃO"},{"$f":"IF(AND(AG$8>=$M10,AG$8<=$N10),IF($F10=\"SEMESTRAL\",IF(AF106=\"NÃO\",$D10,IF(MOD(COUNT($Q106:AF106)+1,6)=0,(AF106*$E10)+AF106,AF106)),\"NÃO\"),\"NÃO\")","v":"NÃO"},{"$f":"IF(AND(AH$8>=$M10,AH$8<=$N10),IF($F10=\"SEMESTRAL\",IF(AG106=\"NÃO\",$D10,IF(MOD(COUNT($Q106:AG106)+1,6)=0,(AG106*$E10)+AG106,AG106)),\"NÃO\"),\"NÃO\")","v":"NÃO"},{"$f":"IF(AND(AI$8>=$M10,AI$8<=$N10),IF($F10=\"SEMESTRAL\",IF(AH106=\"NÃO\",$D10,IF(MOD(COUNT($Q106:AH106)+1,6)=0,(AH106*$E10)+AH106,AH106)),\"NÃO\"),\"NÃO\")","v":"NÃO"},{"$f":"IF(AND(AJ$8>=$M10,AJ$8<=$N10),IF($F10=\"SEMESTRAL\",IF(AI106=\"NÃO\",$D10,IF(MOD(COUNT($Q106:AI106)+1,6)=0,(AI106*$E10)+AI106,AI106)),\"NÃO\"),\"NÃO\")","v":"NÃO"},{"$f":"IF(AND(AK$8>=$M10,AK$8<=$N10),IF($F10=\"SEMESTRAL\",IF(AJ106=\"NÃO\",$D10,IF(MOD(COUNT($Q106:AJ106)+1,6)=0,(AJ106*$E10)+AJ106,AJ106)),\"NÃO\"),\"NÃO\")","v":"NÃO"},{"$f":"IF(AND(AL$8>=$M10,AL$8<=$N10),IF($F10=\"SEMESTRAL\",IF(AK106=\"NÃO\",$D10,IF(MOD(COUNT($Q106:AK106)+1,6)=0,(AK106*$E10)+AK106,AK106)),\"NÃO\"),\"NÃO\")","v":"NÃO"},{"$f":"IF(AND(AM$8>=$M10,AM$8<=$N10),IF($F10=\"SEMESTRAL\",IF(AL106=\"NÃO\",$D10,IF(MOD(COUNT($Q106:AL106)+1,6)=0,(AL106*$E10)+AL106,AL106)),\"NÃO\"),\"NÃO\")","v":"NÃO"},{"$f":"IF(AND(AN$8>=$M10,AN$8<=$N10),IF($F10=\"SEMESTRAL\",IF(AM106=\"NÃO\",$D10,IF(MOD(COUNT($Q106:AM106)+1,6)=0,(AM106*$E10)+AM106,AM106)),\"NÃO\"),\"NÃO\")","v":"NÃO"},{"$f":"IF(AND(AO$8>=$M10,AO$8<=$N10),IF($F10=\"SEMESTRAL\",IF(AN106=\"NÃO\",$D10,IF(MOD(COUNT($Q106:AN106)+1,6)=0,(AN106*$E10)+AN106,AN106)),\"NÃO\"),\"NÃO\")","v":"NÃO"},{"$f":"IF(AND(AP$8>=$M10,AP$8<=$N10),IF($F10=\"SEMESTRAL\",IF(AO106=\"NÃO\",$D10,IF(MOD(COUNT($Q106:AO106)+1,6)=0,(AO106*$E10)+AO106,AO106)),\"NÃO\"),\"NÃO\")","v":"NÃO"},{"$f":"IF(AND(AQ$8>=$M10,AQ$8<=$N10),IF($F10=\"SEMESTRAL\",IF(AP106=\"NÃO\",$D10,IF(MOD(COUNT($Q106:AP106)+1,6)=0,(AP106*$E10)+AP106,AP106)),\"NÃO\"),\"NÃO\")","v":"NÃO"},{"$f":"IF(AND(AR$8>=$M10,AR$8<=$N10),IF($F10=\"SEMESTRAL\",IF(AQ106=\"NÃO\",$D10,IF(MOD(COUNT($Q106:AQ106)+1,6)=0,(AQ106*$E10)+AQ106,AQ106)),\"NÃO\"),\"NÃO\")","v":"NÃO"},{"$f":"IF(AND(AS$8>=$M10,AS$8<=$N10),IF($F10=\"SEMESTRAL\",IF(AR106=\"NÃO\",$D10,IF(MOD(COUNT($Q106:AR106)+1,6)=0,(AR106*$E10)+AR106,AR106)),\"NÃO\"),\"NÃO\")","v":"NÃO"},{"$f":"IF(AND(AT$8>=$M10,AT$8<=$N10),IF($F10=\"SEMESTRAL\",IF(AS106=\"NÃO\",$D10,IF(MOD(COUNT($Q106:AS106)+1,6)=0,(AS106*$E10)+AS106,AS106)),\"NÃO\"),\"NÃO\")","v":"NÃO"},{"$f":"IF(AND(AU$8>=$M10,AU$8<=$N10),IF($F10=\"SEMESTRAL\",IF(AT106=\"NÃO\",$D10,IF(MOD(COUNT($Q106:AT106)+1,6)=0,(AT106*$E10)+AT106,AT106)),\"NÃO\"),\"NÃO\")","v":"NÃO"},{"$f":"IF(AND(AV$8>=$M10,AV$8<=$N10),IF($F10=\"SEMESTRAL\",IF(AU106=\"NÃO\",$D10,IF(MOD(COUNT($Q106:AU106)+1,6)=0,(AU106*$E10)+AU106,AU106)),\"NÃO\"),\"NÃO\")","v":"NÃO"},{"$f":"IF(AND(AW$8>=$M10,AW$8<=$N10),IF($F10=\"SEMESTRAL\",IF(AV106=\"NÃO\",$D10,IF(MOD(COUNT($Q106:AV106)+1,6)=0,(AV106*$E10)+AV106,AV106)),\"NÃO\"),\"NÃO\")","v":"NÃO"},{"$f":"IF(AND(AX$8>=$M10,AX$8<=$N10),IF($F10=\"SEMESTRAL\",IF(AW106=\"NÃO\",$D10,IF(MOD(COUNT($Q106:AW106)+1,6)=0,(AW106*$E10)+AW106,AW106)),\"NÃO\"),\"NÃO\")","v":"NÃO"},{"$f":"IF(AND(AY$8>=$M10,AY$8<=$N10),IF($F10=\"SEMESTRAL\",IF(AX106=\"NÃO\",$D10,IF(MOD(COUNT($Q106:AX106)+1,6)=0,(AX106*$E10)+AX106,AX106)),\"NÃO\"),\"NÃO\")","v":"NÃO"},{"$f":"IF(AND(AZ$8>=$M10,AZ$8<=$N10),IF($F10=\"SEMESTRAL\",IF(AY106=\"NÃO\",$D10,IF(MOD(COUNT($Q106:AY106)+1,6)=0,(AY106*$E10)+AY106,AY106)),\"NÃO\"),\"NÃO\")","v":"NÃO"},{"$f":"IF(AND(BA$8>=$M10,BA$8<=$N10),IF($F10=\"SEMESTRAL\",IF(AZ106=\"NÃO\",$D10,IF(MOD(COUNT($Q106:AZ106)+1,6)=0,(AZ106*$E10)+AZ106,AZ106)),\"NÃO\"),\"NÃO\")","v":"NÃO"},{"$f":"IF(AND(BB$8>=$M10,BB$8<=$N10),IF($F10=\"SEMESTRAL\",IF(BA106=\"NÃO\",$D10,IF(MOD(COUNT($Q106:BA106)+1,6)=0,(BA106*$E10)+BA106,BA106)),\"NÃO\"),\"NÃO\")","v":"NÃO"},{"$f":"IF(AND(BC$8>=$M10,BC$8<=$N10),IF($F10=\"SEMESTRAL\",IF(BB106=\"NÃO\",$D10,IF(MOD(COUNT($Q106:BB106)+1,6)=0,(BB106*$E10)+BB106,BB106)),\"NÃO\"),\"NÃO\")","v":"NÃO"},{"$f":"IF(AND(BD$8>=$M10,BD$8<=$N10),IF($F10=\"SEMESTRAL\",IF(BC106=\"NÃO\",$D10,IF(MOD(COUNT($Q106:BC106)+1,6)=0,(BC106*$E10)+BC106,BC106)),\"NÃO\"),\"NÃO\")","v":"NÃO"},{"$f":"IF(AND(BE$8>=$M10,BE$8<=$N10),IF($F10=\"SEMESTRAL\",IF(BD106=\"NÃO\",$D10,IF(MOD(COUNT($Q106:BD106)+1,6)=0,(BD106*$E10)+BD106,BD106)),\"NÃO\"),\"NÃO\")","v":"NÃO"},{"$f":"IF(AND(BF$8>=$M10,BF$8<=$N10),IF($F10=\"SEMESTRAL\",IF(BE106=\"NÃO\",$D10,IF(MOD(COUNT($Q106:BE106)+1,6)=0,(BE106*$E10)+BE106,BE106)),\"NÃO\"),\"NÃO\")","v":"NÃO"},{"$f":"IF(AND(BG$8>=$M10,BG$8<=$N10),IF($F10=\"SEMESTRAL\",IF(BF106=\"NÃO\",$D10,IF(MOD(COUNT($Q106:BF106)+1,6)=0,(BF106*$E10)+BF106,BF106)),\"NÃO\"),\"NÃO\")","v":"NÃO"},{"$f":"IF(AND(BH$8>=$M10,BH$8<=$N10),IF($F10=\"SEMESTRAL\",IF(BG106=\"NÃO\",$D10,IF(MOD(COUNT($Q106:BG106)+1,6)=0,(BG106*$E10)+BG106,BG106)),\"NÃO\"),\"NÃO\")","v":"NÃO"},{"$f":"IF(AND(BI$8>=$M10,BI$8<=$N10),IF($F10=\"SEMESTRAL\",IF(BH106=\"NÃO\",$D10,IF(MOD(COUNT($Q106:BH106)+1,6)=0,(BH106*$E10)+BH106,BH106)),\"NÃO\"),\"NÃO\")","v":"NÃO"},{"$f":"IF(AND(BJ$8>=$M10,BJ$8<=$N10),IF($F10=\"SEMESTRAL\",IF(BI106=\"NÃO\",$D10,IF(MOD(COUNT($Q106:BI106)+1,6)=0,(BI106*$E10)+BI106,BI106)),\"NÃO\"),\"NÃO\")","v":"NÃO"},{"$f":"IF(AND(BK$8>=$M10,BK$8<=$N10),IF($F10=\"SEMESTRAL\",IF(BJ106=\"NÃO\",$D10,IF(MOD(COUNT($Q106:BJ106)+1,6)=0,(BJ106*$E10)+BJ106,BJ106)),\"NÃO\"),\"NÃO\")","v":"NÃO"},{"$f":"IF(AND(BL$8>=$M10,BL$8<=$N10),IF($F10=\"SEMESTRAL\",IF(BK106=\"NÃO\",$D10,IF(MOD(COUNT($Q106:BK106)+1,6)=0,(BK106*$E10)+BK106,BK106)),\"NÃO\"),\"NÃO\")","v":"NÃO"},{"$f":"IF(AND(BM$8>=$M10,BM$8<=$N10),IF($F10=\"SEMESTRAL\",IF(BL106=\"NÃO\",$D10,IF(MOD(COUNT($Q106:BL106)+1,6)=0,(BL106*$E10)+BL106,BL106)),\"NÃO\"),\"NÃO\")","v":"NÃO"},{"$f":"IF(AND(BN$8>=$M10,BN$8<=$N10),IF($F10=\"SEMESTRAL\",IF(BM106=\"NÃO\",$D10,IF(MOD(COUNT($Q106:BM106)+1,6)=0,(BM106*$E10)+BM106,BM106)),\"NÃO\"),\"NÃO\")","v":"NÃO"},{"$f":"IF(AND(BO$8>=$M10,BO$8<=$N10),IF($F10=\"SEMESTRAL\",IF(BN106=\"NÃO\",$D10,IF(MOD(COUNT($Q106:BN106)+1,6)=0,(BN106*$E10)+BN106,BN106)),\"NÃO\"),\"NÃO\")","v":"NÃO"},{"$f":"IF(AND(BP$8>=$M10,BP$8<=$N10),IF($F10=\"SEMESTRAL\",IF(BO106=\"NÃO\",$D10,IF(MOD(COUNT($Q106:BO106)+1,6)=0,(BO106*$E10)+BO106,BO106)),\"NÃO\"),\"NÃO\")","v":"NÃO"},{"$f":"IF(AND(BQ$8>=$M10,BQ$8<=$N10),IF($F10=\"SEMESTRAL\",IF(BP106=\"NÃO\",$D10,IF(MOD(COUNT($Q106:BP106)+1,6)=0,(BP106*$E10)+BP106,BP106)),\"NÃO\"),\"NÃO\")","v":"NÃO"},{"$f":"IF(AND(BR$8>=$M10,BR$8<=$N10),IF($F10=\"SEMESTRAL\",IF(BQ106=\"NÃO\",$D10,IF(MOD(COUNT($Q106:BQ106)+1,6)=0,(BQ106*$E10)+BQ106,BQ106)),\"NÃO\"),\"NÃO\")","v":"NÃO"},{"$f":"IF(AND(BS$8>=$M10,BS$8<=$N10),IF($F10=\"SEMESTRAL\",IF(BR106=\"NÃO\",$D10,IF(MOD(COUNT($Q106:BR106)+1,6)=0,(BR106*$E10)+BR106,BR106)),\"NÃO\"),\"NÃO\")","v":"NÃO"},{"$f":"IF(AND(BT$8>=$M10,BT$8<=$N10),IF($F10=\"SEMESTRAL\",IF(BS106=\"NÃO\",$D10,IF(MOD(COUNT($Q106:BS106)+1,6)=0,(BS106*$E10)+BS106,BS106)),\"NÃO\"),\"NÃO\")","v":"NÃO"},{"$f":"IF(AND(BU$8>=$M10,BU$8<=$N10),IF($F10=\"SEMESTRAL\",IF(BT106=\"NÃO\",$D10,IF(MOD(COUNT($Q106:BT106)+1,6)=0,(BT106*$E10)+BT106,BT106)),\"NÃO\"),\"NÃO\")","v":"NÃO"},{"$f":"IF(AND(BV$8>=$M10,BV$8<=$N10),IF($F10=\"SEMESTRAL\",IF(BU106=\"NÃO\",$D10,IF(MOD(COUNT($Q106:BU106)+1,6)=0,(BU106*$E10)+BU106,BU106)),\"NÃO\"),\"NÃO\")","v":"NÃO"},{"$f":"IF(AND(BW$8>=$M10,BW$8<=$N10),IF($F10=\"SEMESTRAL\",IF(BV106=\"NÃO\",$D10,IF(MOD(COUNT($Q106:BV106)+1,6)=0,(BV106*$E10)+BV106,BV106)),\"NÃO\"),\"NÃO\")","v":"NÃO"},{"$f":"IF(AND(BX$8>=$M10,BX$8<=$N10),IF($F10=\"SEMESTRAL\",IF(BW106=\"NÃO\",$D10,IF(MOD(COUNT($Q106:BW106)+1,6)=0,(BW106*$E10)+BW106,BW106)),\"NÃO\"),\"NÃO\")","v":"NÃO"}]
[null,null,null,null,null,null,null,null,null,null,null,null,null,null,null,3,"NÃO",{"$f":"IF(AND(R$8>=$M11,R$8<=$N11),IF($F11=\"SEMESTRAL\",IF(Q107=\"NÃO\",$D11,IF(MOD(COUNT($Q107:Q107)+1,6)=0,(Q107*$E11)+Q107,Q107)),\"NÃO\"),\"NÃO\")","v":"NÃO"},{"$f":"IF(AND(S$8>=$M11,S$8<=$N11),IF($F11=\"SEMESTRAL\",IF(R107=\"NÃO\",$D11,IF(MOD(COUNT($Q107:R107)+1,6)=0,(R107*$E11)+R107,R107)),\"NÃO\"),\"NÃO\")","v":"NÃO"},{"$f":"IF(AND(T$8>=$M11,T$8<=$N11),IF($F11=\"SEMESTRAL\",IF(S107=\"NÃO\",$D11,IF(MOD(COUNT($Q107:S107)+1,6)=0,(S107*$E11)+S107,S107)),\"NÃO\"),\"NÃO\")","v":"NÃO"},{"$f":"IF(AND(U$8>=$M11,U$8<=$N11),IF($F11=\"SEMESTRAL\",IF(T107=\"NÃO\",$D11,IF(MOD(COUNT($Q107:T107)+1,6)=0,(T107*$E11)+T107,T107)),\"NÃO\"),\"NÃO\")","v":"NÃO"},{"$f":"IF(AND(V$8>=$M11,V$8<=$N11),IF($F11=\"SEMESTRAL\",IF(U107=\"NÃO\",$D11,IF(MOD(COUNT($Q107:U107)+1,6)=0,(U107*$E11)+U107,U107)),\"NÃO\"),\"NÃO\")","v":"NÃO"},{"$f":"IF(AND(W$8>=$M11,W$8<=$N11),IF($F11=\"SEMESTRAL\",IF(V107=\"NÃO\",$D11,IF(MOD(COUNT($Q107:V107)+1,6)=0,(V107*$E11)+V107,V107)),\"NÃO\"),\"NÃO\")","v":"NÃO"},{"$f":"IF(AND(X$8>=$M11,X$8<=$N11),IF($F11=\"SEMESTRAL\",IF(W107=\"NÃO\",$D11,IF(MOD(COUNT($Q107:W107)+1,6)=0,(W107*$E11)+W107,W107)),\"NÃO\"),\"NÃO\")","v":"NÃO"},{"$f":"IF(AND(Y$8>=$M11,Y$8<=$N11),IF($F11=\"SEMESTRAL\",IF(X107=\"NÃO\",$D11,IF(MOD(COUNT($Q107:X107)+1,6)=0,(X107*$E11)+X107,X107)),\"NÃO\"),\"NÃO\")","v":"NÃO"},{"$f":"IF(AND(Z$8>=$M11,Z$8<=$N11),IF($F11=\"SEMESTRAL\",IF(Y107=\"NÃO\",$D11,IF(MOD(COUNT($Q107:Y107)+1,6)=0,(Y107*$E11)+Y107,Y107)),\"NÃO\"),\"NÃO\")","v":"NÃO"},{"$f":"IF(AND(AA$8>=$M11,AA$8<=$N11),IF($F11=\"SEMESTRAL\",IF(Z107=\"NÃO\",$D11,IF(MOD(COUNT($Q107:Z107)+1,6)=0,(Z107*$E11)+Z107,Z107)),\"NÃO\"),\"NÃO\")","v":"NÃO"},{"$f":"IF(AND(AB$8>=$M11,AB$8<=$N11),IF($F11=\"SEMESTRAL\",IF(AA107=\"NÃO\",$D11,IF(MOD(COUNT($Q107:AA107)+1,6)=0,(AA107*$E11)+AA107,AA107)),\"NÃO\"),\"NÃO\")","v":"NÃO"},{"$f":"IF(AND(AC$8>=$M11,AC$8<=$N11),IF($F11=\"SEMESTRAL\",IF(AB107=\"NÃO\",$D11,IF(MOD(COUNT($Q107:AB107)+1,6)=0,(AB107*$E11)+AB107,AB107)),\"NÃO\"),\"NÃO\")","v":"NÃO"},{"$f":"IF(AND(AD$8>=$M11,AD$8<=$N11),IF($F11=\"SEMESTRAL\",IF(AC107=\"NÃO\",$D11,IF(MOD(COUNT($Q107:AC107)+1,6)=0,(AC107*$E11)+AC107,AC107)),\"NÃO\"),\"NÃO\")","v":"NÃO"},{"$f":"IF(AND(AE$8>=$M11,AE$8<=$N11),IF($F11=\"SEMESTRAL\",IF(AD107=\"NÃO\",$D11,IF(MOD(COUNT($Q107:AD107)+1,6)=0,(AD107*$E11)+AD107,AD107)),\"NÃO\"),\"NÃO\")","v":"NÃO"},{"$f":"IF(AND(AF$8>=$M11,AF$8<=$N11),IF($F11=\"SEMESTRAL\",IF(AE107=\"NÃO\",$D11,IF(MOD(COUNT($Q107:AE107)+1,6)=0,(AE107*$E11)+AE107,AE107)),\"NÃO\"),\"NÃO\")","v":"NÃO"},{"$f":"IF(AND(AG$8>=$M11,AG$8<=$N11),IF($F11=\"SEMESTRAL\",IF(AF107=\"NÃO\",$D11,IF(MOD(COUNT($Q107:AF107)+1,6)=0,(AF107*$E11)+AF107,AF107)),\"NÃO\"),\"NÃO\")","v":"NÃO"},{"$f":"IF(AND(AH$8>=$M11,AH$8<=$N11),IF($F11=\"SEMESTRAL\",IF(AG107=\"NÃO\",$D11,IF(MOD(COUNT($Q107:AG107)+1,6)=0,(AG107*$E11)+AG107,AG107)),\"NÃO\"),\"NÃO\")","v":"NÃO"},{"$f":"IF(AND(AI$8>=$M11,AI$8<=$N11),IF($F11=\"SEMESTRAL\",IF(AH107=\"NÃO\",$D11,IF(MOD(COUNT($Q107:AH107)+1,6)=0,(AH107*$E11)+AH107,AH107)),\"NÃO\"),\"NÃO\")","v":"NÃO"},{"$f":"IF(AND(AJ$8>=$M11,AJ$8<=$N11),IF($F11=\"SEMESTRAL\",IF(AI107=\"NÃO\",$D11,IF(MOD(COUNT($Q107:AI107)+1,6)=0,(AI107*$E11)+AI107,AI107)),\"NÃO\"),\"NÃO\")","v":"NÃO"},{"$f":"IF(AND(AK$8>=$M11,AK$8<=$N11),IF($F11=\"SEMESTRAL\",IF(AJ107=\"NÃO\",$D11,IF(MOD(COUNT($Q107:AJ107)+1,6)=0,(AJ107*$E11)+AJ107,AJ107)),\"NÃO\"),\"NÃO\")","v":"NÃO"},{"$f":"IF(AND(AL$8>=$M11,AL$8<=$N11),IF($F11=\"SEMESTRAL\",IF(AK107=\"NÃO\",$D11,IF(MOD(COUNT($Q107:AK107)+1,6)=0,(AK107*$E11)+AK107,AK107)),\"NÃO\"),\"NÃO\")","v":"NÃO"},{"$f":"IF(AND(AM$8>=$M11,AM$8<=$N11),IF($F11=\"SEMESTRAL\",IF(AL107=\"NÃO\",$D11,IF(MOD(COUNT($Q107:AL107)+1,6)=0,(AL107*$E11)+AL107,AL107)),\"NÃO\"),\"NÃO\")","v":"NÃO"},{"$f":"IF(AND(AN$8>=$M11,AN$8<=$N11),IF($F11=\"SEMESTRAL\",IF(AM107=\"NÃO\",$D11,IF(MOD(COUNT($Q107:AM107)+1,6)=0,(AM107*$E11)+AM107,AM107)),\"NÃO\"),\"NÃO\")","v":"NÃO"},{"$f":"IF(AND(AO$8>=$M11,AO$8<=$N11),IF($F11=\"SEMESTRAL\",IF(AN107=\"NÃO\",$D11,IF(MOD(COUNT($Q107:AN107)+1,6)=0,(AN107*$E11)+AN107,AN107)),\"NÃO\"),\"NÃO\")","v":"NÃO"},{"$f":"IF(AND(AP$8>=$M11,AP$8<=$N11),IF($F11=\"SEMESTRAL\",IF(AO107=\"NÃO\",$D11,IF(MOD(COUNT($Q107:AO107)+1,6)=0,(AO107*$E11)+AO107,AO107)),\"NÃO\"),\"NÃO\")","v":"NÃO"},{"$f":"IF(AND(AQ$8>=$M11,AQ$8<=$N11),IF($F11=\"SEMESTRAL\",IF(AP107=\"NÃO\",$D11,IF(MOD(COUNT($Q107:AP107)+1,6)=0,(AP107*$E11)+AP107,AP107)),\"NÃO\"),\"NÃO\")","v":"NÃO"},{"$f":"IF(AND(AR$8>=$M11,AR$8<=$N11),IF($F11=\"SEMESTRAL\",IF(AQ107=\"NÃO\",$D11,IF(MOD(COUNT($Q107:AQ107)+1,6)=0,(AQ107*$E11)+AQ107,AQ107)),\"NÃO\"),\"NÃO\")","v":"NÃO"},{"$f":"IF(AND(AS$8>=$M11,AS$8<=$N11),IF($F11=\"SEMESTRAL\",IF(AR107=\"NÃO\",$D11,IF(MOD(COUNT($Q107:AR107)+1,6)=0,(AR107*$E11)+AR107,AR107)),\"NÃO\"),\"NÃO\")","v":"NÃO"},{"$f":"IF(AND(AT$8>=$M11,AT$8<=$N11),IF($F11=\"SEMESTRAL\",IF(AS107=\"NÃO\",$D11,IF(MOD(COUNT($Q107:AS107)+1,6)=0,(AS107*$E11)+AS107,AS107)),\"NÃO\"),\"NÃO\")","v":"NÃO"},{"$f":"IF(AND(AU$8>=$M11,AU$8<=$N11),IF($F11=\"SEMESTRAL\",IF(AT107=\"NÃO\",$D11,IF(MOD(COUNT($Q107:AT107)+1,6)=0,(AT107*$E11)+AT107,AT107)),\"NÃO\"),\"NÃO\")","v":"NÃO"},{"$f":"IF(AND(AV$8>=$M11,AV$8<=$N11),IF($F11=\"SEMESTRAL\",IF(AU107=\"NÃO\",$D11,IF(MOD(COUNT($Q107:AU107)+1,6)=0,(AU107*$E11)+AU107,AU107)),\"NÃO\"),\"NÃO\")","v":"NÃO"},{"$f":"IF(AND(AW$8>=$M11,AW$8<=$N11),IF($F11=\"SEMESTRAL\",IF(AV107=\"NÃO\",$D11,IF(MOD(COUNT($Q107:AV107)+1,6)=0,(AV107*$E11)+AV107,AV107)),\"NÃO\"),\"NÃO\")","v":"NÃO"},{"$f":"IF(AND(AX$8>=$M11,AX$8<=$N11),IF($F11=\"SEMESTRAL\",IF(AW107=\"NÃO\",$D11,IF(MOD(COUNT($Q107:AW107)+1,6)=0,(AW107*$E11)+AW107,AW107)),\"NÃO\"),\"NÃO\")","v":"NÃO"},{"$f":"IF(AND(AY$8>=$M11,AY$8<=$N11),IF($F11=\"SEMESTRAL\",IF(AX107=\"NÃO\",$D11,IF(MOD(COUNT($Q107:AX107)+1,6)=0,(AX107*$E11)+AX107,AX107)),\"NÃO\"),\"NÃO\")","v":"NÃO"},{"$f":"IF(AND(AZ$8>=$M11,AZ$8<=$N11),IF($F11=\"SEMESTRAL\",IF(AY107=\"NÃO\",$D11,IF(MOD(COUNT($Q107:AY107)+1,6)=0,(AY107*$E11)+AY107,AY107)),\"NÃO\"),\"NÃO\")","v":"NÃO"},{"$f":"IF(AND(BA$8>=$M11,BA$8<=$N11),IF($F11=\"SEMESTRAL\",IF(AZ107=\"NÃO\",$D11,IF(MOD(COUNT($Q107:AZ107)+1,6)=0,(AZ107*$E11)+AZ107,AZ107)),\"NÃO\"),\"NÃO\")","v":"NÃO"},{"$f":"IF(AND(BB$8>=$M11,BB$8<=$N11),IF($F11=\"SEMESTRAL\",IF(BA107=\"NÃO\",$D11,IF(MOD(COUNT($Q107:BA107)+1,6)=0,(BA107*$E11)+BA107,BA107)),\"NÃO\"),\"NÃO\")","v":"NÃO"},{"$f":"IF(AND(BC$8>=$M11,BC$8<=$N11),IF($F11=\"SEMESTRAL\",IF(BB107=\"NÃO\",$D11,IF(MOD(COUNT($Q107:BB107)+1,6)=0,(BB107*$E11)+BB107,BB107)),\"NÃO\"),\"NÃO\")","v":"NÃO"},{"$f":"IF(AND(BD$8>=$M11,BD$8<=$N11),IF($F11=\"SEMESTRAL\",IF(BC107=\"NÃO\",$D11,IF(MOD(COUNT($Q107:BC107)+1,6)=0,(BC107*$E11)+BC107,BC107)),\"NÃO\"),\"NÃO\")","v":"NÃO"},{"$f":"IF(AND(BE$8>=$M11,BE$8<=$N11),IF($F11=\"SEMESTRAL\",IF(BD107=\"NÃO\",$D11,IF(MOD(COUNT($Q107:BD107)+1,6)=0,(BD107*$E11)+BD107,BD107)),\"NÃO\"),\"NÃO\")","v":"NÃO"},{"$f":"IF(AND(BF$8>=$M11,BF$8<=$N11),IF($F11=\"SEMESTRAL\",IF(BE107=\"NÃO\",$D11,IF(MOD(COUNT($Q107:BE107)+1,6)=0,(BE107*$E11)+BE107,BE107)),\"NÃO\"),\"NÃO\")","v":"NÃO"},{"$f":"IF(AND(BG$8>=$M11,BG$8<=$N11),IF($F11=\"SEMESTRAL\",IF(BF107=\"NÃO\",$D11,IF(MOD(COUNT($Q107:BF107)+1,6)=0,(BF107*$E11)+BF107,BF107)),\"NÃO\"),\"NÃO\")","v":"NÃO"},{"$f":"IF(AND(BH$8>=$M11,BH$8<=$N11),IF($F11=\"SEMESTRAL\",IF(BG107=\"NÃO\",$D11,IF(MOD(COUNT($Q107:BG107)+1,6)=0,(BG107*$E11)+BG107,BG107)),\"NÃO\"),\"NÃO\")","v":"NÃO"},{"$f":"IF(AND(BI$8>=$M11,BI$8<=$N11),IF($F11=\"SEMESTRAL\",IF(BH107=\"NÃO\",$D11,IF(MOD(COUNT($Q107:BH107)+1,6)=0,(BH107*$E11)+BH107,BH107)),\"NÃO\"),\"NÃO\")","v":"NÃO"},{"$f":"IF(AND(BJ$8>=$M11,BJ$8<=$N11),IF($F11=\"SEMESTRAL\",IF(BI107=\"NÃO\",$D11,IF(MOD(COUNT($Q107:BI107)+1,6)=0,(BI107*$E11)+BI107,BI107)),\"NÃO\"),\"NÃO\")","v":"NÃO"},{"$f":"IF(AND(BK$8>=$M11,BK$8<=$N11),IF($F11=\"SEMESTRAL\",IF(BJ107=\"NÃO\",$D11,IF(MOD(COUNT($Q107:BJ107)+1,6)=0,(BJ107*$E11)+BJ107,BJ107)),\"NÃO\"),\"NÃO\")","v":"NÃO"},{"$f":"IF(AND(BL$8>=$M11,BL$8<=$N11),IF($F11=\"SEMESTRAL\",IF(BK107=\"NÃO\",$D11,IF(MOD(COUNT($Q107:BK107)+1,6)=0,(BK107*$E11)+BK107,BK107)),\"NÃO\"),\"NÃO\")","v":"NÃO"},{"$f":"IF(AND(BM$8>=$M11,BM$8<=$N11),IF($F11=\"SEMESTRAL\",IF(BL107=\"NÃO\",$D11,IF(MOD(COUNT($Q107:BL107)+1,6)=0,(BL107*$E11)+BL107,BL107)),\"NÃO\"),\"NÃO\")","v":"NÃO"},{"$f":"IF(AND(BN$8>=$M11,BN$8<=$N11),IF($F11=\"SEMESTRAL\",IF(BM107=\"NÃO\",$D11,IF(MOD(COUNT($Q107:BM107)+1,6)=0,(BM107*$E11)+BM107,BM107)),\"NÃO\"),\"NÃO\")","v":"NÃO"},{"$f":"IF(AND(BO$8>=$M11,BO$8<=$N11),IF($F11=\"SEMESTRAL\",IF(BN107=\"NÃO\",$D11,IF(MOD(COUNT($Q107:BN107)+1,6)=0,(BN107*$E11)+BN107,BN107)),\"NÃO\"),\"NÃO\")","v":"NÃO"},{"$f":"IF(AND(BP$8>=$M11,BP$8<=$N11),IF($F11=\"SEMESTRAL\",IF(BO107=\"NÃO\",$D11,IF(MOD(COUNT($Q107:BO107)+1,6)=0,(BO107*$E11)+BO107,BO107)),\"NÃO\"),\"NÃO\")","v":"NÃO"},{"$f":"IF(AND(BQ$8>=$M11,BQ$8<=$N11),IF($F11=\"SEMESTRAL\",IF(BP107=\"NÃO\",$D11,IF(MOD(COUNT($Q107:BP107)+1,6)=0,(BP107*$E11)+BP107,BP107)),\"NÃO\"),\"NÃO\")","v":"NÃO"},{"$f":"IF(AND(BR$8>=$M11,BR$8<=$N11),IF($F11=\"SEMESTRAL\",IF(BQ107=\"NÃO\",$D11,IF(MOD(COUNT($Q107:BQ107)+1,6)=0,(BQ107*$E11)+BQ107,BQ107)),\"NÃO\"),\"NÃO\")","v":"NÃO"},{"$f":"IF(AND(BS$8>=$M11,BS$8<=$N11),IF($F11=\"SEMESTRAL\",IF(BR107=\"NÃO\",$D11,IF(MOD(COUNT($Q107:BR107)+1,6)=0,(BR107*$E11)+BR107,BR107)),\"NÃO\"),\"NÃO\")","v":"NÃO"},{"$f":"IF(AND(BT$8>=$M11,BT$8<=$N11),IF($F11=\"SEMESTRAL\",IF(BS107=\"NÃO\",$D11,IF(MOD(COUNT($Q107:BS107)+1,6)=0,(BS107*$E11)+BS107,BS107)),\"NÃO\"),\"NÃO\")","v":"NÃO"},{"$f":"IF(AND(BU$8>=$M11,BU$8<=$N11),IF($F11=\"SEMESTRAL\",IF(BT107=\"NÃO\",$D11,IF(MOD(COUNT($Q107:BT107)+1,6)=0,(BT107*$E11)+BT107,BT107)),\"NÃO\"),\"NÃO\")","v":"NÃO"},{"$f":"IF(AND(BV$8>=$M11,BV$8<=$N11),IF($F11=\"SEMESTRAL\",IF(BU107=\"NÃO\",$D11,IF(MOD(COUNT($Q107:BU107)+1,6)=0,(BU107*$E11)+BU107,BU107)),\"NÃO\"),\"NÃO\")","v":"NÃO"},{"$f":"IF(AND(BW$8>=$M11,BW$8<=$N11),IF($F11=\"SEMESTRAL\",IF(BV107=\"NÃO\",$D11,IF(MOD(COUNT($Q107:BV107)+1,6)=0,(BV107*$E11)+BV107,BV107)),\"NÃO\"),\"NÃO\")","v":"NÃO"},{"$f":"IF(AND(BX$8>=$M11,BX$8<=$N11),IF($F11=\"SEMESTRAL\",IF(BW107=\"NÃO\",$D11,IF(MOD(COUNT($Q107:BW107)+1,6)=0,(BW107*$E11)+BW107,BW107)),\"NÃO\"),\"NÃO\")","v":"NÃO"}]
[null,null,null,null,null,null,null,null,null,null,null,null,null,null,null,4,"NÃO",{"$f":"IF(AND(R$8>=$M12,R$8<=$N12),IF($F12=\"SEMESTRAL\",IF(Q108=\"NÃO\",$D12,IF(MOD(COUNT($Q108:Q108)+1,6)=0,(Q108*$E12)+Q108,Q108)),\"NÃO\"),\"NÃO\")","v":"NÃO"},{"$f":"IF(AND(S$8>=$M12,S$8<=$N12),IF($F12=\"SEMESTRAL\",IF(R108=\"NÃO\",$D12,IF(MOD(COUNT($Q108:R108)+1,6)=0,(R108*$E12)+R108,R108)),\"NÃO\"),\"NÃO\")","v":"NÃO"},{"$f":"IF(AND(T$8>=$M12,T$8<=$N12),IF($F12=\"SEMESTRAL\",IF(S108=\"NÃO\",$D12,IF(MOD(COUNT($Q108:S108)+1,6)=0,(S108*$E12)+S108,S108)),\"NÃO\"),\"NÃO\")","v":"NÃO"},{"$f":"IF(AND(U$8>=$M12,U$8<=$N12),IF($F12=\"SEMESTRAL\",IF(T108=\"NÃO\",$D12,IF(MOD(COUNT($Q108:T108)+1,6)=0,(T108*$E12)+T108,T108)),\"NÃO\"),\"NÃO\")","v":"NÃO"},{"$f":"IF(AND(V$8>=$M12,V$8<=$N12),IF($F12=\"SEMESTRAL\",IF(U108=\"NÃO\",$D12,IF(MOD(COUNT($Q108:U108)+1,6)=0,(U108*$E12)+U108,U108)),\"NÃO\"),\"NÃO\")","v":"NÃO"},{"$f":"IF(AND(W$8>=$M12,W$8<=$N12),IF($F12=\"SEMESTRAL\",IF(V108=\"NÃO\",$D12,IF(MOD(COUNT($Q108:V108)+1,6)=0,(V108*$E12)+V108,V108)),\"NÃO\"),\"NÃO\")","v":"NÃO"},{"$f":"IF(AND(X$8>=$M12,X$8<=$N12),IF($F12=\"SEMESTRAL\",IF(W108=\"NÃO\",$D12,IF(MOD(COUNT($Q108:W108)+1,6)=0,(W108*$E12)+W108,W108)),\"NÃO\"),\"NÃO\")","v":"NÃO"},{"$f":"IF(AND(Y$8>=$M12,Y$8<=$N12),IF($F12=\"SEMESTRAL\",IF(X108=\"NÃO\",$D12,IF(MOD(COUNT($Q108:X108)+1,6)=0,(X108*$E12)+X108,X108)),\"NÃO\"),\"NÃO\")","v":"NÃO"},{"$f":"IF(AND(Z$8>=$M12,Z$8<=$N12),IF($F12=\"SEMESTRAL\",IF(Y108=\"NÃO\",$D12,IF(MOD(COUNT($Q108:Y108)+1,6)=0,(Y108*$E12)+Y108,Y108)),\"NÃO\"),\"NÃO\")","v":"NÃO"},{"$f":"IF(AND(AA$8>=$M12,AA$8<=$N12),IF($F12=\"SEMESTRAL\",IF(Z108=\"NÃO\",$D12,IF(MOD(COUNT($Q108:Z108)+1,6)=0,(Z108*$E12)+Z108,Z108)),\"NÃO\"),\"NÃO\")","v":"NÃO"},{"$f":"IF(AND(AB$8>=$M12,AB$8<=$N12),IF($F12=\"SEMESTRAL\",IF(AA108=\"NÃO\",$D12,IF(MOD(COUNT($Q108:AA108)+1,6)=0,(AA108*$E12)+AA108,AA108)),\"NÃO\"),\"NÃO\")","v":"NÃO"},{"$f":"IF(AND(AC$8>=$M12,AC$8<=$N12),IF($F12=\"SEMESTRAL\",IF(AB108=\"NÃO\",$D12,IF(MOD(COUNT($Q108:AB108)+1,6)=0,(AB108*$E12)+AB108,AB108)),\"NÃO\"),\"NÃO\")","v":"NÃO"},{"$f":"IF(AND(AD$8>=$M12,AD$8<=$N12),IF($F12=\"SEMESTRAL\",IF(AC108=\"NÃO\",$D12,IF(MOD(COUNT($Q108:AC108)+1,6)=0,(AC108*$E12)+AC108,AC108)),\"NÃO\"),\"NÃO\")","v":"NÃO"},{"$f":"IF(AND(AE$8>=$M12,AE$8<=$N12),IF($F12=\"SEMESTRAL\",IF(AD108=\"NÃO\",$D12,IF(MOD(COUNT($Q108:AD108)+1,6)=0,(AD108*$E12)+AD108,AD108)),\"NÃO\"),\"NÃO\")","v":"NÃO"},{"$f":"IF(AND(AF$8>=$M12,AF$8<=$N12),IF($F12=\"SEMESTRAL\",IF(AE108=\"NÃO\",$D12,IF(MOD(COUNT($Q108:AE108)+1,6)=0,(AE108*$E12)+AE108,AE108)),\"NÃO\"),\"NÃO\")","v":"NÃO"},{"$f":"IF(AND(AG$8>=$M12,AG$8<=$N12),IF($F12=\"SEMESTRAL\",IF(AF108=\"NÃO\",$D12,IF(MOD(COUNT($Q108:AF108)+1,6)=0,(AF108*$E12)+AF108,AF108)),\"NÃO\"),\"NÃO\")","v":"NÃO"},{"$f":"IF(AND(AH$8>=$M12,AH$8<=$N12),IF($F12=\"SEMESTRAL\",IF(AG108=\"NÃO\",$D12,IF(MOD(COUNT($Q108:AG108)+1,6)=0,(AG108*$E12)+AG108,AG108)),\"NÃO\"),\"NÃO\")","v":"NÃO"},{"$f":"IF(AND(AI$8>=$M12,AI$8<=$N12),IF($F12=\"SEMESTRAL\",IF(AH108=\"NÃO\",$D12,IF(MOD(COUNT($Q108:AH108)+1,6)=0,(AH108*$E12)+AH108,AH108)),\"NÃO\"),\"NÃO\")","v":"NÃO"},{"$f":"IF(AND(AJ$8>=$M12,AJ$8<=$N12),IF($F12=\"SEMESTRAL\",IF(AI108=\"NÃO\",$D12,IF(MOD(COUNT($Q108:AI108)+1,6)=0,(AI108*$E12)+AI108,AI108)),\"NÃO\"),\"NÃO\")","v":"NÃO"},{"$f":"IF(AND(AK$8>=$M12,AK$8<=$N12),IF($F12=\"SEMESTRAL\",IF(AJ108=\"NÃO\",$D12,IF(MOD(COUNT($Q108:AJ108)+1,6)=0,(AJ108*$E12)+AJ108,AJ108)),\"NÃO\"),\"NÃO\")","v":"NÃO"},{"$f":"IF(AND(AL$8>=$M12,AL$8<=$N12),IF($F12=\"SEMESTRAL\",IF(AK108=\"NÃO\",$D12,IF(MOD(COUNT($Q108:AK108)+1,6)=0,(AK108*$E12)+AK108,AK108)),\"NÃO\"),\"NÃO\")","v":"NÃO"},{"$f":"IF(AND(AM$8>=$M12,AM$8<=$N12),IF($F12=\"SEMESTRAL\",IF(AL108=\"NÃO\",$D12,IF(MOD(COUNT($Q108:AL108)+1,6)=0,(AL108*$E12)+AL108,AL108)),\"NÃO\"),\"NÃO\")","v":"NÃO"},{"$f":"IF(AND(AN$8>=$M12,AN$8<=$N12),IF($F12=\"SEMESTRAL\",IF(AM108=\"NÃO\",$D12,IF(MOD(COUNT($Q108:AM108)+1,6)=0,(AM108*$E12)+AM108,AM108)),\"NÃO\"),\"NÃO\")","v":"NÃO"},{"$f":"IF(AND(AO$8>=$M12,AO$8<=$N12),IF($F12=\"SEMESTRAL\",IF(AN108=\"NÃO\",$D12,IF(MOD(COUNT($Q108:AN108)+1,6)=0,(AN108*$E12)+AN108,AN108)),\"NÃO\"),\"NÃO\")","v":"NÃO"},{"$f":"IF(AND(AP$8>=$M12,AP$8<=$N12),IF($F12=\"SEMESTRAL\",IF(AO108=\"NÃO\",$D12,IF(MOD(COUNT($Q108:AO108)+1,6)=0,(AO108*$E12)+AO108,AO108)),\"NÃO\"),\"NÃO\")","v":"NÃO"},{"$f":"IF(AND(AQ$8>=$M12,AQ$8<=$N12),IF($F12=\"SEMESTRAL\",IF(AP108=\"NÃO\",$D12,IF(MOD(COUNT($Q108:AP108)+1,6)=0,(AP108*$E12)+AP108,AP108)),\"NÃO\"),\"NÃO\")","v":"NÃO"},{"$f":"IF(AND(AR$8>=$M12,AR$8<=$N12),IF($F12=\"SEMESTRAL\",IF(AQ108=\"NÃO\",$D12,IF(MOD(COUNT($Q108:AQ108)+1,6)=0,(AQ108*$E12)+AQ108,AQ108)),\"NÃO\"),\"NÃO\")","v":"NÃO"},{"$f":"IF(AND(AS$8>=$M12,AS$8<=$N12),IF($F12=\"SEMESTRAL\",IF(AR108=\"NÃO\",$D12,IF(MOD(COUNT($Q108:AR108)+1,6)=0,(AR108*$E12)+AR108,AR108)),\"NÃO\"),\"NÃO\")","v":"NÃO"},{"$f":"IF(AND(AT$8>=$M12,AT$8<=$N12),IF($F12=\"SEMESTRAL\",IF(AS108=\"NÃO\",$D12,IF(MOD(COUNT($Q108:AS108)+1,6)=0,(AS108*$E12)+AS108,AS108)),\"NÃO\"),\"NÃO\")","v":"NÃO"},{"$f":"IF(AND(AU$8>=$M12,AU$8<=$N12),IF($F12=\"SEMESTRAL\",IF(AT108=\"NÃO\",$D12,IF(MOD(COUNT($Q108:AT108)+1,6)=0,(AT108*$E12)+AT108,AT108)),\"NÃO\"),\"NÃO\")","v":"NÃO"},{"$f":"IF(AND(AV$8>=$M12,AV$8<=$N12),IF($F12=\"SEMESTRAL\",IF(AU108=\"NÃO\",$D12,IF(MOD(COUNT($Q108:AU108)+1,6)=0,(AU108*$E12)+AU108,AU108)),\"NÃO\"),\"NÃO\")","v":"NÃO"},{"$f":"IF(AND(AW$8>=$M12,AW$8<=$N12),IF($F12=\"SEMESTRAL\",IF(AV108=\"NÃO\",$D12,IF(MOD(COUNT($Q108:AV108)+1,6)=0,(AV108*$E12)+AV108,AV108)),\"NÃO\"),\"NÃO\")","v":"NÃO"},{"$f":"IF(AND(AX$8>=$M12,AX$8<=$N12),IF($F12=\"SEMESTRAL\",IF(AW108=\"NÃO\",$D12,IF(MOD(COUNT($Q108:AW108)+1,6)=0,(AW108*$E12)+AW108,AW108)),\"NÃO\"),\"NÃO\")","v":"NÃO"},{"$f":"IF(AND(AY$8>=$M12,AY$8<=$N12),IF($F12=\"SEMESTRAL\",IF(AX108=\"NÃO\",$D12,IF(MOD(COUNT($Q108:AX108)+1,6)=0,(AX108*$E12)+AX108,AX108)),\"NÃO\"),\"NÃO\")","v":"NÃO"},{"$f":"IF(AND(AZ$8>=$M12,AZ$8<=$N12),IF($F12=\"SEMESTRAL\",IF(AY108=\"NÃO\",$D12,IF(MOD(COUNT($Q108:AY108)+1,6)=0,(AY108*$E12)+AY108,AY108)),\"NÃO\"),\"NÃO\")","v":"NÃO"},{"$f":"IF(AND(BA$8>=$M12,BA$8<=$N12),IF($F12=\"SEMESTRAL\",IF(AZ108=\"NÃO\",$D12,IF(MOD(COUNT($Q108:AZ108)+1,6)=0,(AZ108*$E12)+AZ108,AZ108)),\"NÃO\"),\"NÃO\")","v":"NÃO"},{"$f":"IF(AND(BB$8>=$M12,BB$8<=$N12),IF($F12=\"SEMESTRAL\",IF(BA108=\"NÃO\",$D12,IF(MOD(COUNT($Q108:BA108)+1,6)=0,(BA108*$E12)+BA108,BA108)),\"NÃO\"),\"NÃO\")","v":"NÃO"},{"$f":"IF(AND(BC$8>=$M12,BC$8<=$N12),IF($F12=\"SEMESTRAL\",IF(BB108=\"NÃO\",$D12,IF(MOD(COUNT($Q108:BB108)+1,6)=0,(BB108*$E12)+BB108,BB108)),\"NÃO\"),\"NÃO\")","v":"NÃO"},{"$f":"IF(AND(BD$8>=$M12,BD$8<=$N12),IF($F12=\"SEMESTRAL\",IF(BC108=\"NÃO\",$D12,IF(MOD(COUNT($Q108:BC108)+1,6)=0,(BC108*$E12)+BC108,BC108)),\"NÃO\"),\"NÃO\")","v":"NÃO"},{"$f":"IF(AND(BE$8>=$M12,BE$8<=$N12),IF($F12=\"SEMESTRAL\",IF(BD108=\"NÃO\",$D12,IF(MOD(COUNT($Q108:BD108)+1,6)=0,(BD108*$E12)+BD108,BD108)),\"NÃO\"),\"NÃO\")","v":"NÃO"},{"$f":"IF(AND(BF$8>=$M12,BF$8<=$N12),IF($F12=\"SEMESTRAL\",IF(BE108=\"NÃO\",$D12,IF(MOD(COUNT($Q108:BE108)+1,6)=0,(BE108*$E12)+BE108,BE108)),\"NÃO\"),\"NÃO\")","v":"NÃO"},{"$f":"IF(AND(BG$8>=$M12,BG$8<=$N12),IF($F12=\"SEMESTRAL\",IF(BF108=\"NÃO\",$D12,IF(MOD(COUNT($Q108:BF108)+1,6)=0,(BF108*$E12)+BF108,BF108)),\"NÃO\"),\"NÃO\")","v":"NÃO"},{"$f":"IF(AND(BH$8>=$M12,BH$8<=$N12),IF($F12=\"SEMESTRAL\",IF(BG108=\"NÃO\",$D12,IF(MOD(COUNT($Q108:BG108)+1,6)=0,(BG108*$E12)+BG108,BG108)),\"NÃO\"),\"NÃO\")","v":"NÃO"},{"$f":"IF(AND(BI$8>=$M12,BI$8<=$N12),IF($F12=\"SEMESTRAL\",IF(BH108=\"NÃO\",$D12,IF(MOD(COUNT($Q108:BH108)+1,6)=0,(BH108*$E12)+BH108,BH108)),\"NÃO\"),\"NÃO\")","v":"NÃO"},{"$f":"IF(AND(BJ$8>=$M12,BJ$8<=$N12),IF($F12=\"SEMESTRAL\",IF(BI108=\"NÃO\",$D12,IF(MOD(COUNT($Q108:BI108)+1,6)=0,(BI108*$E12)+BI108,BI108)),\"NÃO\"),\"NÃO\")","v":"NÃO"},{"$f":"IF(AND(BK$8>=$M12,BK$8<=$N12),IF($F12=\"SEMESTRAL\",IF(BJ108=\"NÃO\",$D12,IF(MOD(COUNT($Q108:BJ108)+1,6)=0,(BJ108*$E12)+BJ108,BJ108)),\"NÃO\"),\"NÃO\")","v":"NÃO"},{"$f":"IF(AND(BL$8>=$M12,BL$8<=$N12),IF($F12=\"SEMESTRAL\",IF(BK108=\"NÃO\",$D12,IF(MOD(COUNT($Q108:BK108)+1,6)=0,(BK108*$E12)+BK108,BK108)),\"NÃO\"),\"NÃO\")","v":"NÃO"},{"$f":"IF(AND(BM$8>=$M12,BM$8<=$N12),IF($F12=\"SEMESTRAL\",IF(BL108=\"NÃO\",$D12,IF(MOD(COUNT($Q108:BL108)+1,6)=0,(BL108*$E12)+BL108,BL108)),\"NÃO\"),\"NÃO\")","v":"NÃO"},{"$f":"IF(AND(BN$8>=$M12,BN$8<=$N12),IF($F12=\"SEMESTRAL\",IF(BM108=\"NÃO\",$D12,IF(MOD(COUNT($Q108:BM108)+1,6)=0,(BM108*$E12)+BM108,BM108)),\"NÃO\"),\"NÃO\")","v":"NÃO"},{"$f":"IF(AND(BO$8>=$M12,BO$8<=$N12),IF($F12=\"SEMESTRAL\",IF(BN108=\"NÃO\",$D12,IF(MOD(COUNT($Q108:BN108)+1,6)=0,(BN108*$E12)+BN108,BN108)),\"NÃO\"),\"NÃO\")","v":"NÃO"},{"$f":"IF(AND(BP$8>=$M12,BP$8<=$N12),IF($F12=\"SEMESTRAL\",IF(BO108=\"NÃO\",$D12,IF(MOD(COUNT($Q108:BO108)+1,6)=0,(BO108*$E12)+BO108,BO108)),\"NÃO\"),\"NÃO\")","v":"NÃO"},{"$f":"IF(AND(BQ$8>=$M12,BQ$8<=$N12),IF($F12=\"SEMESTRAL\",IF(BP108=\"NÃO\",$D12,IF(MOD(COUNT($Q108:BP108)+1,6)=0,(BP108*$E12)+BP108,BP108)),\"NÃO\"),\"NÃO\")","v":"NÃO"},{"$f":"IF(AND(BR$8>=$M12,BR$8<=$N12),IF($F12=\"SEMESTRAL\",IF(BQ108=\"NÃO\",$D12,IF(MOD(COUNT($Q108:BQ108)+1,6)=0,(BQ108*$E12)+BQ108,BQ108)),\"NÃO\"),\"NÃO\")","v":"NÃO"},{"$f":"IF(AND(BS$8>=$M12,BS$8<=$N12),IF($F12=\"SEMESTRAL\",IF(BR108=\"NÃO\",$D12,IF(MOD(COUNT($Q108:BR108)+1,6)=0,(BR108*$E12)+BR108,BR108)),\"NÃO\"),\"NÃO\")","v":"NÃO"},{"$f":"IF(AND(BT$8>=$M12,BT$8<=$N12),IF($F12=\"SEMESTRAL\",IF(BS108=\"NÃO\",$D12,IF(MOD(COUNT($Q108:BS108)+1,6)=0,(BS108*$E12)+BS108,BS108)),\"NÃO\"),\"NÃO\")","v":"NÃO"},{"$f":"IF(AND(BU$8>=$M12,BU$8<=$N12),IF($F12=\"SEMESTRAL\",IF(BT108=\"NÃO\",$D12,IF(MOD(COUNT($Q108:BT108)+1,6)=0,(BT108*$E12)+BT108,BT108)),\"NÃO\"),\"NÃO\")","v":"NÃO"},{"$f":"IF(AND(BV$8>=$M12,BV$8<=$N12),IF($F12=\"SEMESTRAL\",IF(BU108=\"NÃO\",$D12,IF(MOD(COUNT($Q108:BU108)+1,6)=0,(BU108*$E12)+BU108,BU108)),\"NÃO\"),\"NÃO\")","v":"NÃO"},{"$f":"IF(AND(BW$8>=$M12,BW$8<=$N12),IF($F12=\"SEMESTRAL\",IF(BV108=\"NÃO\",$D12,IF(MOD(COUNT($Q108:BV108)+1,6)=0,(BV108*$E12)+BV108,BV108)),\"NÃO\"),\"NÃO\")","v":"NÃO"},{"$f":"IF(AND(BX$8>=$M12,BX$8<=$N12),IF($F12=\"SEMESTRAL\",IF(BW108=\"NÃO\",$D12,IF(MOD(COUNT($Q108:BW108)+1,6)=0,(BW108*$E12)+BW108,BW108)),\"NÃO\"),\"NÃO\")","v":"NÃO"}]
[null,null,null,null,null,null,null,null,null,null,null,null,null,null,null,5,"NÃO",{"$f":"IF(AND(R$8>=$M13,R$8<=$N13),IF($F13=\"SEMESTRAL\",IF(Q109=\"NÃO\",$D13,IF(MOD(COUNT($Q109:Q109)+1,6)=0,(Q109*$E13)+Q109,Q109)),\"NÃO\"),\"NÃO\")","v":"NÃO"},{"$f":"IF(AND(S$8>=$M13,S$8<=$N13),IF($F13=\"SEMESTRAL\",IF(R109=\"NÃO\",$D13,IF(MOD(COUNT($Q109:R109)+1,6)=0,(R109*$E13)+R109,R109)),\"NÃO\"),\"NÃO\")","v":"NÃO"},{"$f":"IF(AND(T$8>=$M13,T$8<=$N13),IF($F13=\"SEMESTRAL\",IF(S109=\"NÃO\",$D13,IF(MOD(COUNT($Q109:S109)+1,6)=0,(S109*$E13)+S109,S109)),\"NÃO\"),\"NÃO\")","v":"NÃO"},{"$f":"IF(AND(U$8>=$M13,U$8<=$N13),IF($F13=\"SEMESTRAL\",IF(T109=\"NÃO\",$D13,IF(MOD(COUNT($Q109:T109)+1,6)=0,(T109*$E13)+T109,T109)),\"NÃO\"),\"NÃO\")","v":"NÃO"},{"$f":"IF(AND(V$8>=$M13,V$8<=$N13),IF($F13=\"SEMESTRAL\",IF(U109=\"NÃO\",$D13,IF(MOD(COUNT($Q109:U109)+1,6)=0,(U109*$E13)+U109,U109)),\"NÃO\"),\"NÃO\")","v":"NÃO"},{"$f":"IF(AND(W$8>=$M13,W$8<=$N13),IF($F13=\"SEMESTRAL\",IF(V109=\"NÃO\",$D13,IF(MOD(COUNT($Q109:V109)+1,6)=0,(V109*$E13)+V109,V109)),\"NÃO\"),\"NÃO\")","v":"NÃO"},{"$f":"IF(AND(X$8>=$M13,X$8<=$N13),IF($F13=\"SEMESTRAL\",IF(W109=\"NÃO\",$D13,IF(MOD(COUNT($Q109:W109)+1,6)=0,(W109*$E13)+W109,W109)),\"NÃO\"),\"NÃO\")","v":"NÃO"},{"$f":"IF(AND(Y$8>=$M13,Y$8<=$N13),IF($F13=\"SEMESTRAL\",IF(X109=\"NÃO\",$D13,IF(MOD(COUNT($Q109:X109)+1,6)=0,(X109*$E13)+X109,X109)),\"NÃO\"),\"NÃO\")","v":"NÃO"},{"$f":"IF(AND(Z$8>=$M13,Z$8<=$N13),IF($F13=\"SEMESTRAL\",IF(Y109=\"NÃO\",$D13,IF(MOD(COUNT($Q109:Y109)+1,6)=0,(Y109*$E13)+Y109,Y109)),\"NÃO\"),\"NÃO\")","v":"NÃO"},{"$f":"IF(AND(AA$8>=$M13,AA$8<=$N13),IF($F13=\"SEMESTRAL\",IF(Z109=\"NÃO\",$D13,IF(MOD(COUNT($Q109:Z109)+1,6)=0,(Z109*$E13)+Z109,Z109)),\"NÃO\"),\"NÃO\")","v":"NÃO"},{"$f":"IF(AND(AB$8>=$M13,AB$8<=$N13),IF($F13=\"SEMESTRAL\",IF(AA109=\"NÃO\",$D13,IF(MOD(COUNT($Q109:AA109)+1,6)=0,(AA109*$E13)+AA109,AA109)),\"NÃO\"),\"NÃO\")","v":"NÃO"},{"$f":"IF(AND(AC$8>=$M13,AC$8<=$N13),IF($F13=\"SEMESTRAL\",IF(AB109=\"NÃO\",$D13,IF(MOD(COUNT($Q109:AB109)+1,6)=0,(AB109*$E13)+AB109,AB109)),\"NÃO\"),\"NÃO\")","v":"NÃO"},{"$f":"IF(AND(AD$8>=$M13,AD$8<=$N13),IF($F13=\"SEMESTRAL\",IF(AC109=\"NÃO\",$D13,IF(MOD(COUNT($Q109:AC109)+1,6)=0,(AC109*$E13)+AC109,AC109)),\"NÃO\"),\"NÃO\")","v":"NÃO"},{"$f":"IF(AND(AE$8>=$M13,AE$8<=$N13),IF($F13=\"SEMESTRAL\",IF(AD109=\"NÃO\",$D13,IF(MOD(COUNT($Q109:AD109)+1,6)=0,(AD109*$E13)+AD109,AD109)),\"NÃO\"),\"NÃO\")","v":"NÃO"},{"$f":"IF(AND(AF$8>=$M13,AF$8<=$N13),IF($F13=\"SEMESTRAL\",IF(AE109=\"NÃO\",$D13,IF(MOD(COUNT($Q109:AE109)+1,6)=0,(AE109*$E13)+AE109,AE109)),\"NÃO\"),\"NÃO\")","v":"NÃO"},{"$f":"IF(AND(AG$8>=$M13,AG$8<=$N13),IF($F13=\"SEMESTRAL\",IF(AF109=\"NÃO\",$D13,IF(MOD(COUNT($Q109:AF109)+1,6)=0,(AF109*$E13)+AF109,AF109)),\"NÃO\"),\"NÃO\")","v":"NÃO"},{"$f":"IF(AND(AH$8>=$M13,AH$8<=$N13),IF($F13=\"SEMESTRAL\",IF(AG109=\"NÃO\",$D13,IF(MOD(COUNT($Q109:AG109)+1,6)=0,(AG109*$E13)+AG109,AG109)),\"NÃO\"),\"NÃO\")","v":"NÃO"},{"$f":"IF(AND(AI$8>=$M13,AI$8<=$N13),IF($F13=\"SEMESTRAL\",IF(AH109=\"NÃO\",$D13,IF(MOD(COUNT($Q109:AH109)+1,6)=0,(AH109*$E13)+AH109,AH109)),\"NÃO\"),\"NÃO\")","v":"NÃO"},{"$f":"IF(AND(AJ$8>=$M13,AJ$8<=$N13),IF($F13=\"SEMESTRAL\",IF(AI109=\"NÃO\",$D13,IF(MOD(COUNT($Q109:AI109)+1,6)=0,(AI109*$E13)+AI109,AI109)),\"NÃO\"),\"NÃO\")","v":"NÃO"},{"$f":"IF(AND(AK$8>=$M13,AK$8<=$N13),IF($F13=\"SEMESTRAL\",IF(AJ109=\"NÃO\",$D13,IF(MOD(COUNT($Q109:AJ109)+1,6)=0,(AJ109*$E13)+AJ109,AJ109)),\"NÃO\"),\"NÃO\")","v":"NÃO"},{"$f":"IF(AND(AL$8>=$M13,AL$8<=$N13),IF($F13=\"SEMESTRAL\",IF(AK109=\"NÃO\",$D13,IF(MOD(COUNT($Q109:AK109)+1,6)=0,(AK109*$E13)+AK109,AK109)),\"NÃO\"),\"NÃO\")","v":"NÃO"},{"$f":"IF(AND(AM$8>=$M13,AM$8<=$N13),IF($F13=\"SEMESTRAL\",IF(AL109=\"NÃO\",$D13,IF(MOD(COUNT($Q109:AL109)+1,6)=0,(AL109*$E13)+AL109,AL109)),\"NÃO\"),\"NÃO\")","v":"NÃO"},{"$f":"IF(AND(AN$8>=$M13,AN$8<=$N13),IF($F13=\"SEMESTRAL\",IF(AM109=\"NÃO\",$D13,IF(MOD(COUNT($Q109:AM109)+1,6)=0,(AM109*$E13)+AM109,AM109)),\"NÃO\"),\"NÃO\")","v":"NÃO"},{"$f":"IF(AND(AO$8>=$M13,AO$8<=$N13),IF($F13=\"SEMESTRAL\",IF(AN109=\"NÃO\",$D13,IF(MOD(COUNT($Q109:AN109)+1,6)=0,(AN109*$E13)+AN109,AN109)),\"NÃO\"),\"NÃO\")","v":"NÃO"},{"$f":"IF(AND(AP$8>=$M13,AP$8<=$N13),IF($F13=\"SEMESTRAL\",IF(AO109=\"NÃO\",$D13,IF(MOD(COUNT($Q109:AO109)+1,6)=0,(AO109*$E13)+AO109,AO109)),\"NÃO\"),\"NÃO\")","v":"NÃO"},{"$f":"IF(AND(AQ$8>=$M13,AQ$8<=$N13),IF($F13=\"SEMESTRAL\",IF(AP109=\"NÃO\",$D13,IF(MOD(COUNT($Q109:AP109)+1,6)=0,(AP109*$E13)+AP109,AP109)),\"NÃO\"),\"NÃO\")","v":"NÃO"},{"$f":"IF(AND(AR$8>=$M13,AR$8<=$N13),IF($F13=\"SEMESTRAL\",IF(AQ109=\"NÃO\",$D13,IF(MOD(COUNT($Q109:AQ109)+1,6)=0,(AQ109*$E13)+AQ109,AQ109)),\"NÃO\"),\"NÃO\")","v":"NÃO"},{"$f":"IF(AND(AS$8>=$M13,AS$8<=$N13),IF($F13=\"SEMESTRAL\",IF(AR109=\"NÃO\",$D13,IF(MOD(COUNT($Q109:AR109)+1,6)=0,(AR109*$E13)+AR109,AR109)),\"NÃO\"),\"NÃO\")","v":"NÃO"},{"$f":"IF(AND(AT$8>=$M13,AT$8<=$N13),IF($F13=\"SEMESTRAL\",IF(AS109=\"NÃO\",$D13,IF(MOD(COUNT($Q109:AS109)+1,6)=0,(AS109*$E13)+AS109,AS109)),\"NÃO\"),\"NÃO\")","v":"NÃO"},{"$f":"IF(AND(AU$8>=$M13,AU$8<=$N13),IF($F13=\"SEMESTRAL\",IF(AT109=\"NÃO\",$D13,IF(MOD(COUNT($Q109:AT109)+1,6)=0,(AT109*$E13)+AT109,AT109)),\"NÃO\"),\"NÃO\")","v":"NÃO"},{"$f":"IF(AND(AV$8>=$M13,AV$8<=$N13),IF($F13=\"SEMESTRAL\",IF(AU109=\"NÃO\",$D13,IF(MOD(COUNT($Q109:AU109)+1,6)=0,(AU109*$E13)+AU109,AU109)),\"NÃO\"),\"NÃO\")","v":"NÃO"},{"$f":"IF(AND(AW$8>=$M13,AW$8<=$N13),IF($F13=\"SEMESTRAL\",IF(AV109=\"NÃO\",$D13,IF(MOD(COUNT($Q109:AV109)+1,6)=0,(AV109*$E13)+AV109,AV109)),\"NÃO\"),\"NÃO\")","v":"NÃO"},{"$f":"IF(AND(AX$8>=$M13,AX$8<=$N13),IF($F13=\"SEMESTRAL\",IF(AW109=\"NÃO\",$D13,IF(MOD(COUNT($Q109:AW109)+1,6)=0,(AW109*$E13)+AW109,AW109)),\"NÃO\"),\"NÃO\")","v":"NÃO"},{"$f":"IF(AND(AY$8>=$M13,AY$8<=$N13),IF($F13=\"SEMESTRAL\",IF(AX109=\"NÃO\",$D13,IF(MOD(COUNT($Q109:AX109)+1,6)=0,(AX109*$E13)+AX109,AX109)),\"NÃO\"),\"NÃO\")","v":"NÃO"},{"$f":"IF(AND(AZ$8>=$M13,AZ$8<=$N13),IF($F13=\"SEMESTRAL\",IF(AY109=\"NÃO\",$D13,IF(MOD(COUNT($Q109:AY109)+1,6)=0,(AY109*$E13)+AY109,AY109)),\"NÃO\"),\"NÃO\")","v":"NÃO"},{"$f":"IF(AND(BA$8>=$M13,BA$8<=$N13),IF($F13=\"SEMESTRAL\",IF(AZ109=\"NÃO\",$D13,IF(MOD(COUNT($Q109:AZ109)+1,6)=0,(AZ109*$E13)+AZ109,AZ109)),\"NÃO\"),\"NÃO\")","v":"NÃO"},{"$f":"IF(AND(BB$8>=$M13,BB$8<=$N13),IF($F13=\"SEMESTRAL\",IF(BA109=\"NÃO\",$D13,IF(MOD(COUNT($Q109:BA109)+1,6)=0,(BA109*$E13)+BA109,BA109)),\"NÃO\"),\"NÃO\")","v":"NÃO"},{"$f":"IF(AND(BC$8>=$M13,BC$8<=$N13),IF($F13=\"SEMESTRAL\",IF(BB109=\"NÃO\",$D13,IF(MOD(COUNT($Q109:BB109)+1,6)=0,(BB109*$E13)+BB109,BB109)),\"NÃO\"),\"NÃO\")","v":"NÃO"},{"$f":"IF(AND(BD$8>=$M13,BD$8<=$N13),IF($F13=\"SEMESTRAL\",IF(BC109=\"NÃO\",$D13,IF(MOD(COUNT($Q109:BC109)+1,6)=0,(BC109*$E13)+BC109,BC109)),\"NÃO\"),\"NÃO\")","v":"NÃO"},{"$f":"IF(AND(BE$8>=$M13,BE$8<=$N13),IF($F13=\"SEMESTRAL\",IF(BD109=\"NÃO\",$D13,IF(MOD(COUNT($Q109:BD109)+1,6)=0,(BD109*$E13)+BD109,BD109)),\"NÃO\"),\"NÃO\")","v":"NÃO"},{"$f":"IF(AND(BF$8>=$M13,BF$8<=$N13),IF($F13=\"SEMESTRAL\",IF(BE109=\"NÃO\",$D13,IF(MOD(COUNT($Q109:BE109)+1,6)=0,(BE109*$E13)+BE109,BE109)),\"NÃO\"),\"NÃO\")","v":"NÃO"},{"$f":"IF(AND(BG$8>=$M13,BG$8<=$N13),IF($F13=\"SEMESTRAL\",IF(BF109=\"NÃO\",$D13,IF(MOD(COUNT($Q109:BF109)+1,6)=0,(BF109*$E13)+BF109,BF109)),\"NÃO\"),\"NÃO\")","v":"NÃO"},{"$f":"IF(AND(BH$8>=$M13,BH$8<=$N13),IF($F13=\"SEMESTRAL\",IF(BG109=\"NÃO\",$D13,IF(MOD(COUNT($Q109:BG109)+1,6)=0,(BG109*$E13)+BG109,BG109)),\"NÃO\"),\"NÃO\")","v":"NÃO"},{"$f":"IF(AND(BI$8>=$M13,BI$8<=$N13),IF($F13=\"SEMESTRAL\",IF(BH109=\"NÃO\",$D13,IF(MOD(COUNT($Q109:BH109)+1,6)=0,(BH109*$E13)+BH109,BH109)),\"NÃO\"),\"NÃO\")","v":"NÃO"},{"$f":"IF(AND(BJ$8>=$M13,BJ$8<=$N13),IF($F13=\"SEMESTRAL\",IF(BI109=\"NÃO\",$D13,IF(MOD(COUNT($Q109:BI109)+1,6)=0,(BI109*$E13)+BI109,BI109)),\"NÃO\"),\"NÃO\")","v":"NÃO"},{"$f":"IF(AND(BK$8>=$M13,BK$8<=$N13),IF($F13=\"SEMESTRAL\",IF(BJ109=\"NÃO\",$D13,IF(MOD(COUNT($Q109:BJ109)+1,6)=0,(BJ109*$E13)+BJ109,BJ109)),\"NÃO\"),\"NÃO\")","v":"NÃO"},{"$f":"IF(AND(BL$8>=$M13,BL$8<=$N13),IF($F13=\"SEMESTRAL\",IF(BK109=\"NÃO\",$D13,IF(MOD(COUNT($Q109:BK109)+1,6)=0,(BK109*$E13)+BK109,BK109)),\"NÃO\"),\"NÃO\")","v":"NÃO"},{"$f":"IF(AND(BM$8>=$M13,BM$8<=$N13),IF($F13=\"SEMESTRAL\",IF(BL109=\"NÃO\",$D13,IF(MOD(COUNT($Q109:BL109)+1,6)=0,(BL109*$E13)+BL109,BL109)),\"NÃO\"),\"NÃO\")","v":"NÃO"},{"$f":"IF(AND(BN$8>=$M13,BN$8<=$N13),IF($F13=\"SEMESTRAL\",IF(BM109=\"NÃO\",$D13,IF(MOD(COUNT($Q109:BM109)+1,6)=0,(BM109*$E13)+BM109,BM109)),\"NÃO\"),\"NÃO\")","v":"NÃO"},{"$f":"IF(AND(BO$8>=$M13,BO$8<=$N13),IF($F13=\"SEMESTRAL\",IF(BN109=\"NÃO\",$D13,IF(MOD(COUNT($Q109:BN109)+1,6)=0,(BN109*$E13)+BN109,BN109)),\"NÃO\"),\"NÃO\")","v":"NÃO"},{"$f":"IF(AND(BP$8>=$M13,BP$8<=$N13),IF($F13=\"SEMESTRAL\",IF(BO109=\"NÃO\",$D13,IF(MOD(COUNT($Q109:BO109)+1,6)=0,(BO109*$E13)+BO109,BO109)),\"NÃO\"),\"NÃO\")","v":"NÃO"},{"$f":"IF(AND(BQ$8>=$M13,BQ$8<=$N13),IF($F13=\"SEMESTRAL\",IF(BP109=\"NÃO\",$D13,IF(MOD(COUNT($Q109:BP109)+1,6)=0,(BP109*$E13)+BP109,BP109)),\"NÃO\"),\"NÃO\")","v":"NÃO"},{"$f":"IF(AND(BR$8>=$M13,BR$8<=$N13),IF($F13=\"SEMESTRAL\",IF(BQ109=\"NÃO\",$D13,IF(MOD(COUNT($Q109:BQ109)+1,6)=0,(BQ109*$E13)+BQ109,BQ109)),\"NÃO\"),\"NÃO\")","v":"NÃO"},{"$f":"IF(AND(BS$8>=$M13,BS$8<=$N13),IF($F13=\"SEMESTRAL\",IF(BR109=\"NÃO\",$D13,IF(MOD(COUNT($Q109:BR109)+1,6)=0,(BR109*$E13)+BR109,BR109)),\"NÃO\"),\"NÃO\")","v":"NÃO"},{"$f":"IF(AND(BT$8>=$M13,BT$8<=$N13),IF($F13=\"SEMESTRAL\",IF(BS109=\"NÃO\",$D13,IF(MOD(COUNT($Q109:BS109)+1,6)=0,(BS109*$E13)+BS109,BS109)),\"NÃO\"),\"NÃO\")","v":"NÃO"},{"$f":"IF(AND(BU$8>=$M13,BU$8<=$N13),IF($F13=\"SEMESTRAL\",IF(BT109=\"NÃO\",$D13,IF(MOD(COUNT($Q109:BT109)+1,6)=0,(BT109*$E13)+BT109,BT109)),\"NÃO\"),\"NÃO\")","v":"NÃO"},{"$f":"IF(AND(BV$8>=$M13,BV$8<=$N13),IF($F13=\"SEMESTRAL\",IF(BU109=\"NÃO\",$D13,IF(MOD(COUNT($Q109:BU109)+1,6)=0,(BU109*$E13)+BU109,BU109)),\"NÃO\"),\"NÃO\")","v":"NÃO"},{"$f":"IF(AND(BW$8>=$M13,BW$8<=$N13),IF($F13=\"SEMESTRAL\",IF(BV109=\"NÃO\",$D13,IF(MOD(COUNT($Q109:BV109)+1,6)=0,(BV109*$E13)+BV109,BV109)),\"NÃO\"),\"NÃO\")","v":"NÃO"},{"$f":"IF(AND(BX$8>=$M13,BX$8<=$N13),IF($F13=\"SEMESTRAL\",IF(BW109=\"NÃO\",$D13,IF(MOD(COUNT($Q109:BW109)+1,6)=0,(BW109*$E13)+BW109,BW109)),\"NÃO\"),\"NÃO\")","v":"NÃO"}]
[null,null,null,null,null,null,null,null,null,null,null,null,null,null,null,6,"NÃO",{"$f":"IF(AND(R$8>=$M14,R$8<=$N14),IF($F14=\"SEMESTRAL\",IF(Q110=\"NÃO\",$D14,IF(MOD(COUNT($Q110:Q110)+1,6)=0,(Q110*$E14)+Q110,Q110)),\"NÃO\"),\"NÃO\")","v":"NÃO"},{"$f":"IF(AND(S$8>=$M14,S$8<=$N14),IF($F14=\"SEMESTRAL\",IF(R110=\"NÃO\",$D14,IF(MOD(COUNT($Q110:R110)+1,6)=0,(R110*$E14)+R110,R110)),\"NÃO\"),\"NÃO\")","v":"NÃO"},{"$f":"IF(AND(T$8>=$M14,T$8<=$N14),IF($F14=\"SEMESTRAL\",IF(S110=\"NÃO\",$D14,IF(MOD(COUNT($Q110:S110)+1,6)=0,(S110*$E14)+S110,S110)),\"NÃO\"),\"NÃO\")","v":"NÃO"},{"$f":"IF(AND(U$8>=$M14,U$8<=$N14),IF($F14=\"SEMESTRAL\",IF(T110=\"NÃO\",$D14,IF(MOD(COUNT($Q110:T110)+1,6)=0,(T110*$E14)+T110,T110)),\"NÃO\"),\"NÃO\")","v":"NÃO"},{"$f":"IF(AND(V$8>=$M14,V$8<=$N14),IF($F14=\"SEMESTRAL\",IF(U110=\"NÃO\",$D14,IF(MOD(COUNT($Q110:U110)+1,6)=0,(U110*$E14)+U110,U110)),\"NÃO\"),\"NÃO\")","v":"NÃO"},{"$f":"IF(AND(W$8>=$M14,W$8<=$N14),IF($F14=\"SEMESTRAL\",IF(V110=\"NÃO\",$D14,IF(MOD(COUNT($Q110:V110)+1,6)=0,(V110*$E14)+V110,V110)),\"NÃO\"),\"NÃO\")","v":"NÃO"},{"$f":"IF(AND(X$8>=$M14,X$8<=$N14),IF($F14=\"SEMESTRAL\",IF(W110=\"NÃO\",$D14,IF(MOD(COUNT($Q110:W110)+1,6)=0,(W110*$E14)+W110,W110)),\"NÃO\"),\"NÃO\")","v":"NÃO"},{"$f":"IF(AND(Y$8>=$M14,Y$8<=$N14),IF($F14=\"SEMESTRAL\",IF(X110=\"NÃO\",$D14,IF(MOD(COUNT($Q110:X110)+1,6)=0,(X110*$E14)+X110,X110)),\"NÃO\"),\"NÃO\")","v":"NÃO"},{"$f":"IF(AND(Z$8>=$M14,Z$8<=$N14),IF($F14=\"SEMESTRAL\",IF(Y110=\"NÃO\",$D14,IF(MOD(COUNT($Q110:Y110)+1,6)=0,(Y110*$E14)+Y110,Y110)),\"NÃO\"),\"NÃO\")","v":"NÃO"},{"$f":"IF(AND(AA$8>=$M14,AA$8<=$N14),IF($F14=\"SEMESTRAL\",IF(Z110=\"NÃO\",$D14,IF(MOD(COUNT($Q110:Z110)+1,6)=0,(Z110*$E14)+Z110,Z110)),\"NÃO\"),\"NÃO\")","v":"NÃO"},{"$f":"IF(AND(AB$8>=$M14,AB$8<=$N14),IF($F14=\"SEMESTRAL\",IF(AA110=\"NÃO\",$D14,IF(MOD(COUNT($Q110:AA110)+1,6)=0,(AA110*$E14)+AA110,AA110)),\"NÃO\"),\"NÃO\")","v":"NÃO"},{"$f":"IF(AND(AC$8>=$M14,AC$8<=$N14),IF($F14=\"SEMESTRAL\",IF(AB110=\"NÃO\",$D14,IF(MOD(COUNT($Q110:AB110)+1,6)=0,(AB110*$E14)+AB110,AB110)),\"NÃO\"),\"NÃO\")","v":"NÃO"},{"$f":"IF(AND(AD$8>=$M14,AD$8<=$N14),IF($F14=\"SEMESTRAL\",IF(AC110=\"NÃO\",$D14,IF(MOD(COUNT($Q110:AC110)+1,6)=0,(AC110*$E14)+AC110,AC110)),\"NÃO\"),\"NÃO\")","v":"NÃO"},{"$f":"IF(AND(AE$8>=$M14,AE$8<=$N14),IF($F14=\"SEMESTRAL\",IF(AD110=\"NÃO\",$D14,IF(MOD(COUNT($Q110:AD110)+1,6)=0,(AD110*$E14)+AD110,AD110)),\"NÃO\"),\"NÃO\")","v":"NÃO"},{"$f":"IF(AND(AF$8>=$M14,AF$8<=$N14),IF($F14=\"SEMESTRAL\",IF(AE110=\"NÃO\",$D14,IF(MOD(COUNT($Q110:AE110)+1,6)=0,(AE110*$E14)+AE110,AE110)),\"NÃO\"),\"NÃO\")","v":"NÃO"},{"$f":"IF(AND(AG$8>=$M14,AG$8<=$N14),IF($F14=\"SEMESTRAL\",IF(AF110=\"NÃO\",$D14,IF(MOD(COUNT($Q110:AF110)+1,6)=0,(AF110*$E14)+AF110,AF110)),\"NÃO\"),\"NÃO\")","v":"NÃO"},{"$f":"IF(AND(AH$8>=$M14,AH$8<=$N14),IF($F14=\"SEMESTRAL\",IF(AG110=\"NÃO\",$D14,IF(MOD(COUNT($Q110:AG110)+1,6)=0,(AG110*$E14)+AG110,AG110)),\"NÃO\"),\"NÃO\")","v":"NÃO"},{"$f":"IF(AND(AI$8>=$M14,AI$8<=$N14),IF($F14=\"SEMESTRAL\",IF(AH110=\"NÃO\",$D14,IF(MOD(COUNT($Q110:AH110)+1,6)=0,(AH110*$E14)+AH110,AH110)),\"NÃO\"),\"NÃO\")","v":"NÃO"},{"$f":"IF(AND(AJ$8>=$M14,AJ$8<=$N14),IF($F14=\"SEMESTRAL\",IF(AI110=\"NÃO\",$D14,IF(MOD(COUNT($Q110:AI110)+1,6)=0,(AI110*$E14)+AI110,AI110)),\"NÃO\"),\"NÃO\")","v":"NÃO"},{"$f":"IF(AND(AK$8>=$M14,AK$8<=$N14),IF($F14=\"SEMESTRAL\",IF(AJ110=\"NÃO\",$D14,IF(MOD(COUNT($Q110:AJ110)+1,6)=0,(AJ110*$E14)+AJ110,AJ110)),\"NÃO\"),\"NÃO\")","v":"NÃO"},{"$f":"IF(AND(AL$8>=$M14,AL$8<=$N14),IF($F14=\"SEMESTRAL\",IF(AK110=\"NÃO\",$D14,IF(MOD(COUNT($Q110:AK110)+1,6)=0,(AK110*$E14)+AK110,AK110)),\"NÃO\"),\"NÃO\")","v":"NÃO"},{"$f":"IF(AND(AM$8>=$M14,AM$8<=$N14),IF($F14=\"SEMESTRAL\",IF(AL110=\"NÃO\",$D14,IF(MOD(COUNT($Q110:AL110)+1,6)=0,(AL110*$E14)+AL110,AL110)),\"NÃO\"),\"NÃO\")","v":"NÃO"},{"$f":"IF(AND(AN$8>=$M14,AN$8<=$N14),IF($F14=\"SEMESTRAL\",IF(AM110=\"NÃO\",$D14,IF(MOD(COUNT($Q110:AM110)+1,6)=0,(AM110*$E14)+AM110,AM110)),\"NÃO\"),\"NÃO\")","v":"NÃO"},{"$f":"IF(AND(AO$8>=$M14,AO$8<=$N14),IF($F14=\"SEMESTRAL\",IF(AN110=\"NÃO\",$D14,IF(MOD(COUNT($Q110:AN110)+1,6)=0,(AN110*$E14)+AN110,AN110)),\"NÃO\"),\"NÃO\")","v":"NÃO"},{"$f":"IF(AND(AP$8>=$M14,AP$8<=$N14),IF($F14=\"SEMESTRAL\",IF(AO110=\"NÃO\",$D14,IF(MOD(COUNT($Q110:AO110)+1,6)=0,(AO110*$E14)+AO110,AO110)),\"NÃO\"),\"NÃO\")","v":"NÃO"},{"$f":"IF(AND(AQ$8>=$M14,AQ$8<=$N14),IF($F14=\"SEMESTRAL\",IF(AP110=\"NÃO\",$D14,IF(MOD(COUNT($Q110:AP110)+1,6)=0,(AP110*$E14)+AP110,AP110)),\"NÃO\"),\"NÃO\")","v":"NÃO"},{"$f":"IF(AND(AR$8>=$M14,AR$8<=$N14),IF($F14=\"SEMESTRAL\",IF(AQ110=\"NÃO\",$D14,IF(MOD(COUNT($Q110:AQ110)+1,6)=0,(AQ110*$E14)+AQ110,AQ110)),\"NÃO\"),\"NÃO\")","v":"NÃO"},{"$f":"IF(AND(AS$8>=$M14,AS$8<=$N14),IF($F14=\"SEMESTRAL\",IF(AR110=\"NÃO\",$D14,IF(MOD(COUNT($Q110:AR110)+1,6)=0,(AR110*$E14)+AR110,AR110)),\"NÃO\"),\"NÃO\")","v":"NÃO"},{"$f":"IF(AND(AT$8>=$M14,AT$8<=$N14),IF($F14=\"SEMESTRAL\",IF(AS110=\"NÃO\",$D14,IF(MOD(COUNT($Q110:AS110)+1,6)=0,(AS110*$E14)+AS110,AS110)),\"NÃO\"),\"NÃO\")","v":"NÃO"},{"$f":"IF(AND(AU$8>=$M14,AU$8<=$N14),IF($F14=\"SEMESTRAL\",IF(AT110=\"NÃO\",$D14,IF(MOD(COUNT($Q110:AT110)+1,6)=0,(AT110*$E14)+AT110,AT110)),\"NÃO\"),\"NÃO\")","v":"NÃO"},{"$f":"IF(AND(AV$8>=$M14,AV$8<=$N14),IF($F14=\"SEMESTRAL\",IF(AU110=\"NÃO\",$D14,IF(MOD(COUNT($Q110:AU110)+1,6)=0,(AU110*$E14)+AU110,AU110)),\"NÃO\"),\"NÃO\")","v":"NÃO"},{"$f":"IF(AND(AW$8>=$M14,AW$8<=$N14),IF($F14=\"SEMESTRAL\",IF(AV110=\"NÃO\",$D14,IF(MOD(COUNT($Q110:AV110)+1,6)=0,(AV110*$E14)+AV110,AV110)),\"NÃO\"),\"NÃO\")","v":"NÃO"},{"$f":"IF(AND(AX$8>=$M14,AX$8<=$N14),IF($F14=\"SEMESTRAL\",IF(AW110=\"NÃO\",$D14,IF(MOD(COUNT($Q110:AW110)+1,6)=0,(AW110*$E14)+AW110,AW110)),\"NÃO\"),\"NÃO\")","v":"NÃO"},{"$f":"IF(AND(AY$8>=$M14,AY$8<=$N14),IF($F14=\"SEMESTRAL\",IF(AX110=\"NÃO\",$D14,IF(MOD(COUNT($Q110:AX110)+1,6)=0,(AX110*$E14)+AX110,AX110)),\"NÃO\"),\"NÃO\")","v":"NÃO"},{"$f":"IF(AND(AZ$8>=$M14,AZ$8<=$N14),IF($F14=\"SEMESTRAL\",IF(AY110=\"NÃO\",$D14,IF(MOD(COUNT($Q110:AY110)+1,6)=0,(AY110*$E14)+AY110,AY110)),\"NÃO\"),\"NÃO\")","v":"NÃO"},{"$f":"IF(AND(BA$8>=$M14,BA$8<=$N14),IF($F14=\"SEMESTRAL\",IF(AZ110=\"NÃO\",$D14,IF(MOD(COUNT($Q110:AZ110)+1,6)=0,(AZ110*$E14)+AZ110,AZ110)),\"NÃO\"),\"NÃO\")","v":"NÃO"},{"$f":"IF(AND(BB$8>=$M14,BB$8<=$N14),IF($F14=\"SEMESTRAL\",IF(BA110=\"NÃO\",$D14,IF(MOD(COUNT($Q110:BA110)+1,6)=0,(BA110*$E14)+BA110,BA110)),\"NÃO\"),\"NÃO\")","v":"NÃO"},{"$f":"IF(AND(BC$8>=$M14,BC$8<=$N14),IF($F14=\"SEMESTRAL\",IF(BB110=\"NÃO\",$D14,IF(MOD(COUNT($Q110:BB110)+1,6)=0,(BB110*$E14)+BB110,BB110)),\"NÃO\"),\"NÃO\")","v":"NÃO"},{"$f":"IF(AND(BD$8>=$M14,BD$8<=$N14),IF($F14=\"SEMESTRAL\",IF(BC110=\"NÃO\",$D14,IF(MOD(COUNT($Q110:BC110)+1,6)=0,(BC110*$E14)+BC110,BC110)),\"NÃO\"),\"NÃO\")","v":"NÃO"},{"$f":"IF(AND(BE$8>=$M14,BE$8<=$N14),IF($F14=\"SEMESTRAL\",IF(BD110=\"NÃO\",$D14,IF(MOD(COUNT($Q110:BD110)+1,6)=0,(BD110*$E14)+BD110,BD110)),\"NÃO\"),\"NÃO\")","v":"NÃO"},{"$f":"IF(AND(BF$8>=$M14,BF$8<=$N14),IF($F14=\"SEMESTRAL\",IF(BE110=\"NÃO\",$D14,IF(MOD(COUNT($Q110:BE110)+1,6)=0,(BE110*$E14)+BE110,BE110)),\"NÃO\"),\"NÃO\")","v":"NÃO"},{"$f":"IF(AND(BG$8>=$M14,BG$8<=$N14),IF($F14=\"SEMESTRAL\",IF(BF110=\"NÃO\",$D14,IF(MOD(COUNT($Q110:BF110)+1,6)=0,(BF110*$E14)+BF110,BF110)),\"NÃO\"),\"NÃO\")","v":"NÃO"},{"$f":"IF(AND(BH$8>=$M14,BH$8<=$N14),IF($F14=\"SEMESTRAL\",IF(BG110=\"NÃO\",$D14,IF(MOD(COUNT($Q110:BG110)+1,6)=0,(BG110*$E14)+BG110,BG110)),\"NÃO\"),\"NÃO\")","v":"NÃO"},{"$f":"IF(AND(BI$8>=$M14,BI$8<=$N14),IF($F14=\"SEMESTRAL\",IF(BH110=\"NÃO\",$D14,IF(MOD(COUNT($Q110:BH110)+1,6)=0,(BH110*$E14)+BH110,BH110)),\"NÃO\"),\"NÃO\")","v":"NÃO"},{"$f":"IF(AND(BJ$8>=$M14,BJ$8<=$N14),IF($F14=\"SEMESTRAL\",IF(BI110=\"NÃO\",$D14,IF(MOD(COUNT($Q110:BI110)+1,6)=0,(BI110*$E14)+BI110,BI110)),\"NÃO\"),\"NÃO\")","v":"NÃO"},{"$f":"IF(AND(BK$8>=$M14,BK$8<=$N14),IF($F14=\"SEMESTRAL\",IF(BJ110=\"NÃO\",$D14,IF(MOD(COUNT($Q110:BJ110)+1,6)=0,(BJ110*$E14)+BJ110,BJ110)),\"NÃO\"),\"NÃO\")","v":"NÃO"},{"$f":"IF(AND(BL$8>=$M14,BL$8<=$N14),IF($F14=\"SEMESTRAL\",IF(BK110=\"NÃO\",$D14,IF(MOD(COUNT($Q110:BK110)+1,6)=0,(BK110*$E14)+BK110,BK110)),\"NÃO\"),\"NÃO\")","v":"NÃO"},{"$f":"IF(AND(BM$8>=$M14,BM$8<=$N14),IF($F14=\"SEMESTRAL\",IF(BL110=\"NÃO\",$D14,IF(MOD(COUNT($Q110:BL110)+1,6)=0,(BL110*$E14)+BL110,BL110)),\"NÃO\"),\"NÃO\")","v":"NÃO"},{"$f":"IF(AND(BN$8>=$M14,BN$8<=$N14),IF($F14=\"SEMESTRAL\",IF(BM110=\"NÃO\",$D14,IF(MOD(COUNT($Q110:BM110)+1,6)=0,(BM110*$E14)+BM110,BM110)),\"NÃO\"),\"NÃO\")","v":"NÃO"},{"$f":"IF(AND(BO$8>=$M14,BO$8<=$N14),IF($F14=\"SEMESTRAL\",IF(BN110=\"NÃO\",$D14,IF(MOD(COUNT($Q110:BN110)+1,6)=0,(BN110*$E14)+BN110,BN110)),\"NÃO\"),\"NÃO\")","v":"NÃO"},{"$f":"IF(AND(BP$8>=$M14,BP$8<=$N14),IF($F14=\"SEMESTRAL\",IF(BO110=\"NÃO\",$D14,IF(MOD(COUNT($Q110:BO110)+1,6)=0,(BO110*$E14)+BO110,BO110)),\"NÃO\"),\"NÃO\")","v":"NÃO"},{"$f":"IF(AND(BQ$8>=$M14,BQ$8<=$N14),IF($F14=\"SEMESTRAL\",IF(BP110=\"NÃO\",$D14,IF(MOD(COUNT($Q110:BP110)+1,6)=0,(BP110*$E14)+BP110,BP110)),\"NÃO\"),\"NÃO\")","v":"NÃO"},{"$f":"IF(AND(BR$8>=$M14,BR$8<=$N14),IF($F14=\"SEMESTRAL\",IF(BQ110=\"NÃO\",$D14,IF(MOD(COUNT($Q110:BQ110)+1,6)=0,(BQ110*$E14)+BQ110,BQ110)),\"NÃO\"),\"NÃO\")","v":"NÃO"},{"$f":"IF(AND(BS$8>=$M14,BS$8<=$N14),IF($F14=\"SEMESTRAL\",IF(BR110=\"NÃO\",$D14,IF(MOD(COUNT($Q110:BR110)+1,6)=0,(BR110*$E14)+BR110,BR110)),\"NÃO\"),\"NÃO\")","v":"NÃO"},{"$f":"IF(AND(BT$8>=$M14,BT$8<=$N14),IF($F14=\"SEMESTRAL\",IF(BS110=\"NÃO\",$D14,IF(MOD(COUNT($Q110:BS110)+1,6)=0,(BS110*$E14)+BS110,BS110)),\"NÃO\"),\"NÃO\")","v":"NÃO"},{"$f":"IF(AND(BU$8>=$M14,BU$8<=$N14),IF($F14=\"SEMESTRAL\",IF(BT110=\"NÃO\",$D14,IF(MOD(COUNT($Q110:BT110)+1,6)=0,(BT110*$E14)+BT110,BT110)),\"NÃO\"),\"NÃO\")","v":"NÃO"},{"$f":"IF(AND(BV$8>=$M14,BV$8<=$N14),IF($F14=\"SEMESTRAL\",IF(BU110=\"NÃO\",$D14,IF(MOD(COUNT($Q110:BU110)+1,6)=0,(BU110*$E14)+BU110,BU110)),\"NÃO\"),\"NÃO\")","v":"NÃO"},{"$f":"IF(AND(BW$8>=$M14,BW$8<=$N14),IF($F14=\"SEMESTRAL\",IF(BV110=\"NÃO\",$D14,IF(MOD(COUNT($Q110:BV110)+1,6)=0,(BV110*$E14)+BV110,BV110)),\"NÃO\"),\"NÃO\")","v":"NÃO"},{"$f":"IF(AND(BX$8>=$M14,BX$8<=$N14),IF($F14=\"SEMESTRAL\",IF(BW110=\"NÃO\",$D14,IF(MOD(COUNT($Q110:BW110)+1,6)=0,(BW110*$E14)+BW110,BW110)),\"NÃO\"),\"NÃO\")","v":"NÃO"}]
[null,null,null,null,null,null,null,null,null,null,null,null,null,null,null,7,"NÃO",{"$f":"IF(AND(R$8>=$M15,R$8<=$N15),IF($F15=\"SEMESTRAL\",IF(Q111=\"NÃO\",$D15,IF(MOD(COUNT($Q111:Q111)+1,6)=0,(Q111*$E15)+Q111,Q111)),\"NÃO\"),\"NÃO\")","v":"NÃO"},{"$f":"IF(AND(S$8>=$M15,S$8<=$N15),IF($F15=\"SEMESTRAL\",IF(R111=\"NÃO\",$D15,IF(MOD(COUNT($Q111:R111)+1,6)=0,(R111*$E15)+R111,R111)),\"NÃO\"),\"NÃO\")","v":"NÃO"},{"$f":"IF(AND(T$8>=$M15,T$8<=$N15),IF($F15=\"SEMESTRAL\",IF(S111=\"NÃO\",$D15,IF(MOD(COUNT($Q111:S111)+1,6)=0,(S111*$E15)+S111,S111)),\"NÃO\"),\"NÃO\")","v":"NÃO"},{"$f":"IF(AND(U$8>=$M15,U$8<=$N15),IF($F15=\"SEMESTRAL\",IF(T111=\"NÃO\",$D15,IF(MOD(COUNT($Q111:T111)+1,6)=0,(T111*$E15)+T111,T111)),\"NÃO\"),\"NÃO\")","v":"NÃO"},{"$f":"IF(AND(V$8>=$M15,V$8<=$N15),IF($F15=\"SEMESTRAL\",IF(U111=\"NÃO\",$D15,IF(MOD(COUNT($Q111:U111)+1,6)=0,(U111*$E15)+U111,U111)),\"NÃO\"),\"NÃO\")","v":"NÃO"},{"$f":"IF(AND(W$8>=$M15,W$8<=$N15),IF($F15=\"SEMESTRAL\",IF(V111=\"NÃO\",$D15,IF(MOD(COUNT($Q111:V111)+1,6)=0,(V111*$E15)+V111,V111)),\"NÃO\"),\"NÃO\")","v":"NÃO"},{"$f":"IF(AND(X$8>=$M15,X$8<=$N15),IF($F15=\"SEMESTRAL\",IF(W111=\"NÃO\",$D15,IF(MOD(COUNT($Q111:W111)+1,6)=0,(W111*$E15)+W111,W111)),\"NÃO\"),\"NÃO\")","v":"NÃO"},{"$f":"IF(AND(Y$8>=$M15,Y$8<=$N15),IF($F15=\"SEMESTRAL\",IF(X111=\"NÃO\",$D15,IF(MOD(COUNT($Q111:X111)+1,6)=0,(X111*$E15)+X111,X111)),\"NÃO\"),\"NÃO\")","v":"NÃO"},{"$f":"IF(AND(Z$8>=$M15,Z$8<=$N15),IF($F15=\"SEMESTRAL\",IF(Y111=\"NÃO\",$D15,IF(MOD(COUNT($Q111:Y111)+1,6)=0,(Y111*$E15)+Y111,Y111)),\"NÃO\"),\"NÃO\")","v":"NÃO"},{"$f":"IF(AND(AA$8>=$M15,AA$8<=$N15),IF($F15=\"SEMESTRAL\",IF(Z111=\"NÃO\",$D15,IF(MOD(COUNT($Q111:Z111)+1,6)=0,(Z111*$E15)+Z111,Z111)),\"NÃO\"),\"NÃO\")","v":"NÃO"},{"$f":"IF(AND(AB$8>=$M15,AB$8<=$N15),IF($F15=\"SEMESTRAL\",IF(AA111=\"NÃO\",$D15,IF(MOD(COUNT($Q111:AA111)+1,6)=0,(AA111*$E15)+AA111,AA111)),\"NÃO\"),\"NÃO\")","v":"NÃO"},{"$f":"IF(AND(AC$8>=$M15,AC$8<=$N15),IF($F15=\"SEMESTRAL\",IF(AB111=\"NÃO\",$D15,IF(MOD(COUNT($Q111:AB111)+1,6)=0,(AB111*$E15)+AB111,AB111)),\"NÃO\"),\"NÃO\")","v":"NÃO"},{"$f":"IF(AND(AD$8>=$M15,AD$8<=$N15),IF($F15=\"SEMESTRAL\",IF(AC111=\"NÃO\",$D15,IF(MOD(COUNT($Q111:AC111)+1,6)=0,(AC111*$E15)+AC111,AC111)),\"NÃO\"),\"NÃO\")","v":"NÃO"},{"$f":"IF(AND(AE$8>=$M15,AE$8<=$N15),IF($F15=\"SEMESTRAL\",IF(AD111=\"NÃO\",$D15,IF(MOD(COUNT($Q111:AD111)+1,6)=0,(AD111*$E15)+AD111,AD111)),\"NÃO\"),\"NÃO\")","v":"NÃO"},{"$f":"IF(AND(AF$8>=$M15,AF$8<=$N15),IF($F15=\"SEMESTRAL\",IF(AE111=\"NÃO\",$D15,IF(MOD(COUNT($Q111:AE111)+1,6)=0,(AE111*$E15)+AE111,AE111)),\"NÃO\"),\"NÃO\")","v":"NÃO"},{"$f":"IF(AND(AG$8>=$M15,AG$8<=$N15),IF($F15=\"SEMESTRAL\",IF(AF111=\"NÃO\",$D15,IF(MOD(COUNT($Q111:AF111)+1,6)=0,(AF111*$E15)+AF111,AF111)),\"NÃO\"),\"NÃO\")","v":"NÃO"},{"$f":"IF(AND(AH$8>=$M15,AH$8<=$N15),IF($F15=\"SEMESTRAL\",IF(AG111=\"NÃO\",$D15,IF(MOD(COUNT($Q111:AG111)+1,6)=0,(AG111*$E15)+AG111,AG111)),\"NÃO\"),\"NÃO\")","v":"NÃO"},{"$f":"IF(AND(AI$8>=$M15,AI$8<=$N15),IF($F15=\"SEMESTRAL\",IF(AH111=\"NÃO\",$D15,IF(MOD(COUNT($Q111:AH111)+1,6)=0,(AH111*$E15)+AH111,AH111)),\"NÃO\"),\"NÃO\")","v":"NÃO"},{"$f":"IF(AND(AJ$8>=$M15,AJ$8<=$N15),IF($F15=\"SEMESTRAL\",IF(AI111=\"NÃO\",$D15,IF(MOD(COUNT($Q111:AI111)+1,6)=0,(AI111*$E15)+AI111,AI111)),\"NÃO\"),\"NÃO\")","v":"NÃO"},{"$f":"IF(AND(AK$8>=$M15,AK$8<=$N15),IF($F15=\"SEMESTRAL\",IF(AJ111=\"NÃO\",$D15,IF(MOD(COUNT($Q111:AJ111)+1,6)=0,(AJ111*$E15)+AJ111,AJ111)),\"NÃO\"),\"NÃO\")","v":"NÃO"},{"$f":"IF(AND(AL$8>=$M15,AL$8<=$N15),IF($F15=\"SEMESTRAL\",IF(AK111=\"NÃO\",$D15,IF(MOD(COUNT($Q111:AK111)+1,6)=0,(AK111*$E15)+AK111,AK111)),\"NÃO\"),\"NÃO\")","v":"NÃO"},{"$f":"IF(AND(AM$8>=$M15,AM$8<=$N15),IF($F15=\"SEMESTRAL\",IF(AL111=\"NÃO\",$D15,IF(MOD(COUNT($Q111:AL111)+1,6)=0,(AL111*$E15)+AL111,AL111)),\"NÃO\"),\"NÃO\")","v":"NÃO"},{"$f":"IF(AND(AN$8>=$M15,AN$8<=$N15),IF($F15=\"SEMESTRAL\",IF(AM111=\"NÃO\",$D15,IF(MOD(COUNT($Q111:AM111)+1,6)=0,(AM111*$E15)+AM111,AM111)),\"NÃO\"),\"NÃO\")","v":"NÃO"},{"$f":"IF(AND(AO$8>=$M15,AO$8<=$N15),IF($F15=\"SEMESTRAL\",IF(AN111=\"NÃO\",$D15,IF(MOD(COUNT($Q111:AN111)+1,6)=0,(AN111*$E15)+AN111,AN111)),\"NÃO\"),\"NÃO\")","v":"NÃO"},{"$f":"IF(AND(AP$8>=$M15,AP$8<=$N15),IF($F15=\"SEMESTRAL\",IF(AO111=\"NÃO\",$D15,IF(MOD(COUNT($Q111:AO111)+1,6)=0,(AO111*$E15)+AO111,AO111)),\"NÃO\"),\"NÃO\")","v":"NÃO"},{"$f":"IF(AND(AQ$8>=$M15,AQ$8<=$N15),IF($F15=\"SEMESTRAL\",IF(AP111=\"NÃO\",$D15,IF(MOD(COUNT($Q111:AP111)+1,6)=0,(AP111*$E15)+AP111,AP111)),\"NÃO\"),\"NÃO\")","v":"NÃO"},{"$f":"IF(AND(AR$8>=$M15,AR$8<=$N15),IF($F15=\"SEMESTRAL\",IF(AQ111=\"NÃO\",$D15,IF(MOD(COUNT($Q111:AQ111)+1,6)=0,(AQ111*$E15)+AQ111,AQ111)),\"NÃO\"),\"NÃO\")","v":"NÃO"},{"$f":"IF(AND(AS$8>=$M15,AS$8<=$N15),IF($F15=\"SEMESTRAL\",IF(AR111=\"NÃO\",$D15,IF(MOD(COUNT($Q111:AR111)+1,6)=0,(AR111*$E15)+AR111,AR111)),\"NÃO\"),\"NÃO\")","v":"NÃO"},{"$f":"IF(AND(AT$8>=$M15,AT$8<=$N15),IF($F15=\"SEMESTRAL\",IF(AS111=\"NÃO\",$D15,IF(MOD(COUNT($Q111:AS111)+1,6)=0,(AS111*$E15)+AS111,AS111)),\"NÃO\"),\"NÃO\")","v":"NÃO"},{"$f":"IF(AND(AU$8>=$M15,AU$8<=$N15),IF($F15=\"SEMESTRAL\",IF(AT111=\"NÃO\",$D15,IF(MOD(COUNT($Q111:AT111)+1,6)=0,(AT111*$E15)+AT111,AT111)),\"NÃO\"),\"NÃO\")","v":"NÃO"},{"$f":"IF(AND(AV$8>=$M15,AV$8<=$N15),IF($F15=\"SEMESTRAL\",IF(AU111=\"NÃO\",$D15,IF(MOD(COUNT($Q111:AU111)+1,6)=0,(AU111*$E15)+AU111,AU111)),\"NÃO\"),\"NÃO\")","v":"NÃO"},{"$f":"IF(AND(AW$8>=$M15,AW$8<=$N15),IF($F15=\"SEMESTRAL\",IF(AV111=\"NÃO\",$D15,IF(MOD(COUNT($Q111:AV111)+1,6)=0,(AV111*$E15)+AV111,AV111)),\"NÃO\"),\"NÃO\")","v":"NÃO"},{"$f":"IF(AND(AX$8>=$M15,AX$8<=$N15),IF($F15=\"SEMESTRAL\",IF(AW111=\"NÃO\",$D15,IF(MOD(COUNT($Q111:AW111)+1,6)=0,(AW111*$E15)+AW111,AW111)),\"NÃO\"),\"NÃO\")","v":"NÃO"},{"$f":"IF(AND(AY$8>=$M15,AY$8<=$N15),IF($F15=\"SEMESTRAL\",IF(AX111=\"NÃO\",$D15,IF(MOD(COUNT($Q111:AX111)+1,6)=0,(AX111*$E15)+AX111,AX111)),\"NÃO\"),\"NÃO\")","v":"NÃO"},{"$f":"IF(AND(AZ$8>=$M15,AZ$8<=$N15),IF($F15=\"SEMESTRAL\",IF(AY111=\"NÃO\",$D15,IF(MOD(COUNT($Q111:AY111)+1,6)=0,(AY111*$E15)+AY111,AY111)),\"NÃO\"),\"NÃO\")","v":"NÃO"},{"$f":"IF(AND(BA$8>=$M15,BA$8<=$N15),IF($F15=\"SEMESTRAL\",IF(AZ111=\"NÃO\",$D15,IF(MOD(COUNT($Q111:AZ111)+1,6)=0,(AZ111*$E15)+AZ111,AZ111)),\"NÃO\"),\"NÃO\")","v":"NÃO"},{"$f":"IF(AND(BB$8>=$M15,BB$8<=$N15),IF($F15=\"SEMESTRAL\",IF(BA111=\"NÃO\",$D15,IF(MOD(COUNT($Q111:BA111)+1,6)=0,(BA111*$E15)+BA111,BA111)),\"NÃO\"),\"NÃO\")","v":"NÃO"},{"$f":"IF(AND(BC$8>=$M15,BC$8<=$N15),IF($F15=\"SEMESTRAL\",IF(BB111=\"NÃO\",$D15,IF(MOD(COUNT($Q111:BB111)+1,6)=0,(BB111*$E15)+BB111,BB111)),\"NÃO\"),\"NÃO\")","v":"NÃO"},{"$f":"IF(AND(BD$8>=$M15,BD$8<=$N15),IF($F15=\"SEMESTRAL\",IF(BC111=\"NÃO\",$D15,IF(MOD(COUNT($Q111:BC111)+1,6)=0,(BC111*$E15)+BC111,BC111)),\"NÃO\"),\"NÃO\")","v":"NÃO"},{"$f":"IF(AND(BE$8>=$M15,BE$8<=$N15),IF($F15=\"SEMESTRAL\",IF(BD111=\"NÃO\",$D15,IF(MOD(COUNT($Q111:BD111)+1,6)=0,(BD111*$E15)+BD111,BD111)),\"NÃO\"),\"NÃO\")","v":"NÃO"},{"$f":"IF(AND(BF$8>=$M15,BF$8<=$N15),IF($F15=\"SEMESTRAL\",IF(BE111=\"NÃO\",$D15,IF(MOD(COUNT($Q111:BE111)+1,6)=0,(BE111*$E15)+BE111,BE111)),\"NÃO\"),\"NÃO\")","v":"NÃO"},{"$f":"IF(AND(BG$8>=$M15,BG$8<=$N15),IF($F15=\"SEMESTRAL\",IF(BF111=\"NÃO\",$D15,IF(MOD(COUNT($Q111:BF111)+1,6)=0,(BF111*$E15)+BF111,BF111)),\"NÃO\"),\"NÃO\")","v":"NÃO"},{"$f":"IF(AND(BH$8>=$M15,BH$8<=$N15),IF($F15=\"SEMESTRAL\",IF(BG111=\"NÃO\",$D15,IF(MOD(COUNT($Q111:BG111)+1,6)=0,(BG111*$E15)+BG111,BG111)),\"NÃO\"),\"NÃO\")","v":"NÃO"},{"$f":"IF(AND(BI$8>=$M15,BI$8<=$N15),IF($F15=\"SEMESTRAL\",IF(BH111=\"NÃO\",$D15,IF(MOD(COUNT($Q111:BH111)+1,6)=0,(BH111*$E15)+BH111,BH111)),\"NÃO\"),\"NÃO\")","v":"NÃO"},{"$f":"IF(AND(BJ$8>=$M15,BJ$8<=$N15),IF($F15=\"SEMESTRAL\",IF(BI111=\"NÃO\",$D15,IF(MOD(COUNT($Q111:BI111)+1,6)=0,(BI111*$E15)+BI111,BI111)),\"NÃO\"),\"NÃO\")","v":"NÃO"},{"$f":"IF(AND(BK$8>=$M15,BK$8<=$N15),IF($F15=\"SEMESTRAL\",IF(BJ111=\"NÃO\",$D15,IF(MOD(COUNT($Q111:BJ111)+1,6)=0,(BJ111*$E15)+BJ111,BJ111)),\"NÃO\"),\"NÃO\")","v":"NÃO"},{"$f":"IF(AND(BL$8>=$M15,BL$8<=$N15),IF($F15=\"SEMESTRAL\",IF(BK111=\"NÃO\",$D15,IF(MOD(COUNT($Q111:BK111)+1,6)=0,(BK111*$E15)+BK111,BK111)),\"NÃO\"),\"NÃO\")","v":"NÃO"},{"$f":"IF(AND(BM$8>=$M15,BM$8<=$N15),IF($F15=\"SEMESTRAL\",IF(BL111=\"NÃO\",$D15,IF(MOD(COUNT($Q111:BL111)+1,6)=0,(BL111*$E15)+BL111,BL111)),\"NÃO\"),\"NÃO\")","v":"NÃO"},{"$f":"IF(AND(BN$8>=$M15,BN$8<=$N15),IF($F15=\"SEMESTRAL\",IF(BM111=\"NÃO\",$D15,IF(MOD(COUNT($Q111:BM111)+1,6)=0,(BM111*$E15)+BM111,BM111)),\"NÃO\"),\"NÃO\")","v":"NÃO"},{"$f":"IF(AND(BO$8>=$M15,BO$8<=$N15),IF($F15=\"SEMESTRAL\",IF(BN111=\"NÃO\",$D15,IF(MOD(COUNT($Q111:BN111)+1,6)=0,(BN111*$E15)+BN111,BN111)),\"NÃO\"),\"NÃO\")","v":"NÃO"},{"$f":"IF(AND(BP$8>=$M15,BP$8<=$N15),IF($F15=\"SEMESTRAL\",IF(BO111=\"NÃO\",$D15,IF(MOD(COUNT($Q111:BO111)+1,6)=0,(BO111*$E15)+BO111,BO111)),\"NÃO\"),\"NÃO\")","v":"NÃO"},{"$f":"IF(AND(BQ$8>=$M15,BQ$8<=$N15),IF($F15=\"SEMESTRAL\",IF(BP111=\"NÃO\",$D15,IF(MOD(COUNT($Q111:BP111)+1,6)=0,(BP111*$E15)+BP111,BP111)),\"NÃO\"),\"NÃO\")","v":"NÃO"},{"$f":"IF(AND(BR$8>=$M15,BR$8<=$N15),IF($F15=\"SEMESTRAL\",IF(BQ111=\"NÃO\",$D15,IF(MOD(COUNT($Q111:BQ111)+1,6)=0,(BQ111*$E15)+BQ111,BQ111)),\"NÃO\"),\"NÃO\")","v":"NÃO"},{"$f":"IF(AND(BS$8>=$M15,BS$8<=$N15),IF($F15=\"SEMESTRAL\",IF(BR111=\"NÃO\",$D15,IF(MOD(COUNT($Q111:BR111)+1,6)=0,(BR111*$E15)+BR111,BR111)),\"NÃO\"),\"NÃO\")","v":"NÃO"},{"$f":"IF(AND(BT$8>=$M15,BT$8<=$N15),IF($F15=\"SEMESTRAL\",IF(BS111=\"NÃO\",$D15,IF(MOD(COUNT($Q111:BS111)+1,6)=0,(BS111*$E15)+BS111,BS111)),\"NÃO\"),\"NÃO\")","v":"NÃO"},{"$f":"IF(AND(BU$8>=$M15,BU$8<=$N15),IF($F15=\"SEMESTRAL\",IF(BT111=\"NÃO\",$D15,IF(MOD(COUNT($Q111:BT111)+1,6)=0,(BT111*$E15)+BT111,BT111)),\"NÃO\"),\"NÃO\")","v":"NÃO"},{"$f":"IF(AND(BV$8>=$M15,BV$8<=$N15),IF($F15=\"SEMESTRAL\",IF(BU111=\"NÃO\",$D15,IF(MOD(COUNT($Q111:BU111)+1,6)=0,(BU111*$E15)+BU111,BU111)),\"NÃO\"),\"NÃO\")","v":"NÃO"},{"$f":"IF(AND(BW$8>=$M15,BW$8<=$N15),IF($F15=\"SEMESTRAL\",IF(BV111=\"NÃO\",$D15,IF(MOD(COUNT($Q111:BV111)+1,6)=0,(BV111*$E15)+BV111,BV111)),\"NÃO\"),\"NÃO\")","v":"NÃO"},{"$f":"IF(AND(BX$8>=$M15,BX$8<=$N15),IF($F15=\"SEMESTRAL\",IF(BW111=\"NÃO\",$D15,IF(MOD(COUNT($Q111:BW111)+1,6)=0,(BW111*$E15)+BW111,BW111)),\"NÃO\"),\"NÃO\")","v":"NÃO"}]
[null,null,null,null,null,null,null,null,null,null,null,null,null,null,null,8,"NÃO",{"$f":"IF(AND(R$8>=$M16,R$8<=$N16),IF($F16=\"SEMESTRAL\",IF(Q112=\"NÃO\",$D16,IF(MOD(COUNT($Q112:Q112)+1,6)=0,(Q112*$E16)+Q112,Q112)),\"NÃO\"),\"NÃO\")","v":"NÃO"},{"$f":"IF(AND(S$8>=$M16,S$8<=$N16),IF($F16=\"SEMESTRAL\",IF(R112=\"NÃO\",$D16,IF(MOD(COUNT($Q112:R112)+1,6)=0,(R112*$E16)+R112,R112)),\"NÃO\"),\"NÃO\")","v":"NÃO"},{"$f":"IF(AND(T$8>=$M16,T$8<=$N16),IF($F16=\"SEMESTRAL\",IF(S112=\"NÃO\",$D16,IF(MOD(COUNT($Q112:S112)+1,6)=0,(S112*$E16)+S112,S112)),\"NÃO\"),\"NÃO\")","v":"NÃO"},{"$f":"IF(AND(U$8>=$M16,U$8<=$N16),IF($F16=\"SEMESTRAL\",IF(T112=\"NÃO\",$D16,IF(MOD(COUNT($Q112:T112)+1,6)=0,(T112*$E16)+T112,T112)),\"NÃO\"),\"NÃO\")","v":"NÃO"},{"$f":"IF(AND(V$8>=$M16,V$8<=$N16),IF($F16=\"SEMESTRAL\",IF(U112=\"NÃO\",$D16,IF(MOD(COUNT($Q112:U112)+1,6)=0,(U112*$E16)+U112,U112)),\"NÃO\"),\"NÃO\")","v":"NÃO"},{"$f":"IF(AND(W$8>=$M16,W$8<=$N16),IF($F16=\"SEMESTRAL\",IF(V112=\"NÃO\",$D16,IF(MOD(COUNT($Q112:V112)+1,6)=0,(V112*$E16)+V112,V112)),\"NÃO\"),\"NÃO\")","v":"NÃO"},{"$f":"IF(AND(X$8>=$M16,X$8<=$N16),IF($F16=\"SEMESTRAL\",IF(W112=\"NÃO\",$D16,IF(MOD(COUNT($Q112:W112)+1,6)=0,(W112*$E16)+W112,W112)),\"NÃO\"),\"NÃO\")","v":"NÃO"},{"$f":"IF(AND(Y$8>=$M16,Y$8<=$N16),IF($F16=\"SEMESTRAL\",IF(X112=\"NÃO\",$D16,IF(MOD(COUNT($Q112:X112)+1,6)=0,(X112*$E16)+X112,X112)),\"NÃO\"),\"NÃO\")","v":"NÃO"},{"$f":"IF(AND(Z$8>=$M16,Z$8<=$N16),IF($F16=\"SEMESTRAL\",IF(Y112=\"NÃO\",$D16,IF(MOD(COUNT($Q112:Y112)+1,6)=0,(Y112*$E16)+Y112,Y112)),\"NÃO\"),\"NÃO\")","v":"NÃO"},{"$f":"IF(AND(AA$8>=$M16,AA$8<=$N16),IF($F16=\"SEMESTRAL\",IF(Z112=\"NÃO\",$D16,IF(MOD(COUNT($Q112:Z112)+1,6)=0,(Z112*$E16)+Z112,Z112)),\"NÃO\"),\"NÃO\")","v":"NÃO"},{"$f":"IF(AND(AB$8>=$M16,AB$8<=$N16),IF($F16=\"SEMESTRAL\",IF(AA112=\"NÃO\",$D16,IF(MOD(COUNT($Q112:AA112)+1,6)=0,(AA112*$E16)+AA112,AA112)),\"NÃO\"),\"NÃO\")","v":"NÃO"},{"$f":"IF(AND(AC$8>=$M16,AC$8<=$N16),IF($F16=\"SEMESTRAL\",IF(AB112=\"NÃO\",$D16,IF(MOD(COUNT($Q112:AB112)+1,6)=0,(AB112*$E16)+AB112,AB112)),\"NÃO\"),\"NÃO\")","v":"NÃO"},{"$f":"IF(AND(AD$8>=$M16,AD$8<=$N16),IF($F16=\"SEMESTRAL\",IF(AC112=\"NÃO\",$D16,IF(MOD(COUNT($Q112:AC112)+1,6)=0,(AC112*$E16)+AC112,AC112)),\"NÃO\"),\"NÃO\")","v":"NÃO"},{"$f":"IF(AND(AE$8>=$M16,AE$8<=$N16),IF($F16=\"SEMESTRAL\",IF(AD112=\"NÃO\",$D16,IF(MOD(COUNT($Q112:AD112)+1,6)=0,(AD112*$E16)+AD112,AD112)),\"NÃO\"),\"NÃO\")","v":"NÃO"},{"$f":"IF(AND(AF$8>=$M16,AF$8<=$N16),IF($F16=\"SEMESTRAL\",IF(AE112=\"NÃO\",$D16,IF(MOD(COUNT($Q112:AE112)+1,6)=0,(AE112*$E16)+AE112,AE112)),\"NÃO\"),\"NÃO\")","v":"NÃO"},{"$f":"IF(AND(AG$8>=$M16,AG$8<=$N16),IF($F16=\"SEMESTRAL\",IF(AF112=\"NÃO\",$D16,IF(MOD(COUNT($Q112:AF112)+1,6)=0,(AF112*$E16)+AF112,AF112)),\"NÃO\"),\"NÃO\")","v":"NÃO"},{"$f":"IF(AND(AH$8>=$M16,AH$8<=$N16),IF($F16=\"SEMESTRAL\",IF(AG112=\"NÃO\",$D16,IF(MOD(COUNT($Q112:AG112)+1,6)=0,(AG112*$E16)+AG112,AG112)),\"NÃO\"),\"NÃO\")","v":"NÃO"},{"$f":"IF(AND(AI$8>=$M16,AI$8<=$N16),IF($F16=\"SEMESTRAL\",IF(AH112=\"NÃO\",$D16,IF(MOD(COUNT($Q112:AH112)+1,6)=0,(AH112*$E16)+AH112,AH112)),\"NÃO\"),\"NÃO\")","v":"NÃO"},{"$f":"IF(AND(AJ$8>=$M16,AJ$8<=$N16),IF($F16=\"SEMESTRAL\",IF(AI112=\"NÃO\",$D16,IF(MOD(COUNT($Q112:AI112)+1,6)=0,(AI112*$E16)+AI112,AI112)),\"NÃO\"),\"NÃO\")","v":"NÃO"},{"$f":"IF(AND(AK$8>=$M16,AK$8<=$N16),IF($F16=\"SEMESTRAL\",IF(AJ112=\"NÃO\",$D16,IF(MOD(COUNT($Q112:AJ112)+1,6)=0,(AJ112*$E16)+AJ112,AJ112)),\"NÃO\"),\"NÃO\")","v":"NÃO"},{"$f":"IF(AND(AL$8>=$M16,AL$8<=$N16),IF($F16=\"SEMESTRAL\",IF(AK112=\"NÃO\",$D16,IF(MOD(COUNT($Q112:AK112)+1,6)=0,(AK112*$E16)+AK112,AK112)),\"NÃO\"),\"NÃO\")","v":"NÃO"},{"$f":"IF(AND(AM$8>=$M16,AM$8<=$N16),IF($F16=\"SEMESTRAL\",IF(AL112=\"NÃO\",$D16,IF(MOD(COUNT($Q112:AL112)+1,6)=0,(AL112*$E16)+AL112,AL112)),\"NÃO\"),\"NÃO\")","v":"NÃO"},{"$f":"IF(AND(AN$8>=$M16,AN$8<=$N16),IF($F16=\"SEMESTRAL\",IF(AM112=\"NÃO\",$D16,IF(MOD(COUNT($Q112:AM112)+1,6)=0,(AM112*$E16)+AM112,AM112)),\"NÃO\"),\"NÃO\")","v":"NÃO"},{"$f":"IF(AND(AO$8>=$M16,AO$8<=$N16),IF($F16=\"SEMESTRAL\",IF(AN112=\"NÃO\",$D16,IF(MOD(COUNT($Q112:AN112)+1,6)=0,(AN112*$E16)+AN112,AN112)),\"NÃO\"),\"NÃO\")","v":"NÃO"},{"$f":"IF(AND(AP$8>=$M16,AP$8<=$N16),IF($F16=\"SEMESTRAL\",IF(AO112=\"NÃO\",$D16,IF(MOD(COUNT($Q112:AO112)+1,6)=0,(AO112*$E16)+AO112,AO112)),\"NÃO\"),\"NÃO\")","v":"NÃO"},{"$f":"IF(AND(AQ$8>=$M16,AQ$8<=$N16),IF($F16=\"SEMESTRAL\",IF(AP112=\"NÃO\",$D16,IF(MOD(COUNT($Q112:AP112)+1,6)=0,(AP112*$E16)+AP112,AP112)),\"NÃO\"),\"NÃO\")","v":"NÃO"},{"$f":"IF(AND(AR$8>=$M16,AR$8<=$N16),IF($F16=\"SEMESTRAL\",IF(AQ112=\"NÃO\",$D16,IF(MOD(COUNT($Q112:AQ112)+1,6)=0,(AQ112*$E16)+AQ112,AQ112)),\"NÃO\"),\"NÃO\")","v":"NÃO"},{"$f":"IF(AND(AS$8>=$M16,AS$8<=$N16),IF($F16=\"SEMESTRAL\",IF(AR112=\"NÃO\",$D16,IF(MOD(COUNT($Q112:AR112)+1,6)=0,(AR112*$E16)+AR112,AR112)),\"NÃO\"),\"NÃO\")","v":"NÃO"},{"$f":"IF(AND(AT$8>=$M16,AT$8<=$N16),IF($F16=\"SEMESTRAL\",IF(AS112=\"NÃO\",$D16,IF(MOD(COUNT($Q112:AS112)+1,6)=0,(AS112*$E16)+AS112,AS112)),\"NÃO\"),\"NÃO\")","v":"NÃO"},{"$f":"IF(AND(AU$8>=$M16,AU$8<=$N16),IF($F16=\"SEMESTRAL\",IF(AT112=\"NÃO\",$D16,IF(MOD(COUNT($Q112:AT112)+1,6)=0,(AT112*$E16)+AT112,AT112)),\"NÃO\"),\"NÃO\")","v":"NÃO"},{"$f":"IF(AND(AV$8>=$M16,AV$8<=$N16),IF($F16=\"SEMESTRAL\",IF(AU112=\"NÃO\",$D16,IF(MOD(COUNT($Q112:AU112)+1,6)=0,(AU112*$E16)+AU112,AU112)),\"NÃO\"),\"NÃO\")","v":"NÃO"},{"$f":"IF(AND(AW$8>=$M16,AW$8<=$N16),IF($F16=\"SEMESTRAL\",IF(AV112=\"NÃO\",$D16,IF(MOD(COUNT($Q112:AV112)+1,6)=0,(AV112*$E16)+AV112,AV112)),\"NÃO\"),\"NÃO\")","v":"NÃO"},{"$f":"IF(AND(AX$8>=$M16,AX$8<=$N16),IF($F16=\"SEMESTRAL\",IF(AW112=\"NÃO\",$D16,IF(MOD(COUNT($Q112:AW112)+1,6)=0,(AW112*$E16)+AW112,AW112)),\"NÃO\"),\"NÃO\")","v":"NÃO"},{"$f":"IF(AND(AY$8>=$M16,AY$8<=$N16),IF($F16=\"SEMESTRAL\",IF(AX112=\"NÃO\",$D16,IF(MOD(COUNT($Q112:AX112)+1,6)=0,(AX112*$E16)+AX112,AX112)),\"NÃO\"),\"NÃO\")","v":"NÃO"},{"$f":"IF(AND(AZ$8>=$M16,AZ$8<=$N16),IF($F16=\"SEMESTRAL\",IF(AY112=\"NÃO\",$D16,IF(MOD(COUNT($Q112:AY112)+1,6)=0,(AY112*$E16)+AY112,AY112)),\"NÃO\"),\"NÃO\")","v":"NÃO"},{"$f":"IF(AND(BA$8>=$M16,BA$8<=$N16),IF($F16=\"SEMESTRAL\",IF(AZ112=\"NÃO\",$D16,IF(MOD(COUNT($Q112:AZ112)+1,6)=0,(AZ112*$E16)+AZ112,AZ112)),\"NÃO\"),\"NÃO\")","v":"NÃO"},{"$f":"IF(AND(BB$8>=$M16,BB$8<=$N16),IF($F16=\"SEMESTRAL\",IF(BA112=\"NÃO\",$D16,IF(MOD(COUNT($Q112:BA112)+1,6)=0,(BA112*$E16)+BA112,BA112)),\"NÃO\"),\"NÃO\")","v":"NÃO"},{"$f":"IF(AND(BC$8>=$M16,BC$8<=$N16),IF($F16=\"SEMESTRAL\",IF(BB112=\"NÃO\",$D16,IF(MOD(COUNT($Q112:BB112)+1,6)=0,(BB112*$E16)+BB112,BB112)),\"NÃO\"),\"NÃO\")","v":"NÃO"},{"$f":"IF(AND(BD$8>=$M16,BD$8<=$N16),IF($F16=\"SEMESTRAL\",IF(BC112=\"NÃO\",$D16,IF(MOD(COUNT($Q112:BC112)+1,6)=0,(BC112*$E16)+BC112,BC112)),\"NÃO\"),\"NÃO\")","v":"NÃO"},{"$f":"IF(AND(BE$8>=$M16,BE$8<=$N16),IF($F16=\"SEMESTRAL\",IF(BD112=\"NÃO\",$D16,IF(MOD(COUNT($Q112:BD112)+1,6)=0,(BD112*$E16)+BD112,BD112)),\"NÃO\"),\"NÃO\")","v":"NÃO"},{"$f":"IF(AND(BF$8>=$M16,BF$8<=$N16),IF($F16=\"SEMESTRAL\",IF(BE112=\"NÃO\",$D16,IF(MOD(COUNT($Q112:BE112)+1,6)=0,(BE112*$E16)+BE112,BE112)),\"NÃO\"),\"NÃO\")","v":"NÃO"},{"$f":"IF(AND(BG$8>=$M16,BG$8<=$N16),IF($F16=\"SEMESTRAL\",IF(BF112=\"NÃO\",$D16,IF(MOD(COUNT($Q112:BF112)+1,6)=0,(BF112*$E16)+BF112,BF112)),\"NÃO\"),\"NÃO\")","v":"NÃO"},{"$f":"IF(AND(BH$8>=$M16,BH$8<=$N16),IF($F16=\"SEMESTRAL\",IF(BG112=\"NÃO\",$D16,IF(MOD(COUNT($Q112:BG112)+1,6)=0,(BG112*$E16)+BG112,BG112)),\"NÃO\"),\"NÃO\")","v":"NÃO"},{"$f":"IF(AND(BI$8>=$M16,BI$8<=$N16),IF($F16=\"SEMESTRAL\",IF(BH112=\"NÃO\",$D16,IF(MOD(COUNT($Q112:BH112)+1,6)=0,(BH112*$E16)+BH112,BH112)),\"NÃO\"),\"NÃO\")","v":"NÃO"},{"$f":"IF(AND(BJ$8>=$M16,BJ$8<=$N16),IF($F16=\"SEMESTRAL\",IF(BI112=\"NÃO\",$D16,IF(MOD(COUNT($Q112:BI112)+1,6)=0,(BI112*$E16)+BI112,BI112)),\"NÃO\"),\"NÃO\")","v":"NÃO"},{"$f":"IF(AND(BK$8>=$M16,BK$8<=$N16),IF($F16=\"SEMESTRAL\",IF(BJ112=\"NÃO\",$D16,IF(MOD(COUNT($Q112:BJ112)+1,6)=0,(BJ112*$E16)+BJ112,BJ112)),\"NÃO\"),\"NÃO\")","v":"NÃO"},{"$f":"IF(AND(BL$8>=$M16,BL$8<=$N16),IF($F16=\"SEMESTRAL\",IF(BK112=\"NÃO\",$D16,IF(MOD(COUNT($Q112:BK112)+1,6)=0,(BK112*$E16)+BK112,BK112)),\"NÃO\"),\"NÃO\")","v":"NÃO"},{"$f":"IF(AND(BM$8>=$M16,BM$8<=$N16),IF($F16=\"SEMESTRAL\",IF(BL112=\"NÃO\",$D16,IF(MOD(COUNT($Q112:BL112)+1,6)=0,(BL112*$E16)+BL112,BL112)),\"NÃO\"),\"NÃO\")","v":"NÃO"},{"$f":"IF(AND(BN$8>=$M16,BN$8<=$N16),IF($F16=\"SEMESTRAL\",IF(BM112=\"NÃO\",$D16,IF(MOD(COUNT($Q112:BM112)+1,6)=0,(BM112*$E16)+BM112,BM112)),\"NÃO\"),\"NÃO\")","v":"NÃO"},{"$f":"IF(AND(BO$8>=$M16,BO$8<=$N16),IF($F16=\"SEMESTRAL\",IF(BN112=\"NÃO\",$D16,IF(MOD(COUNT($Q112:BN112)+1,6)=0,(BN112*$E16)+BN112,BN112)),\"NÃO\"),\"NÃO\")","v":"NÃO"},{"$f":"IF(AND(BP$8>=$M16,BP$8<=$N16),IF($F16=\"SEMESTRAL\",IF(BO112=\"NÃO\",$D16,IF(MOD(COUNT($Q112:BO112)+1,6)=0,(BO112*$E16)+BO112,BO112)),\"NÃO\"),\"NÃO\")","v":"NÃO"},{"$f":"IF(AND(BQ$8>=$M16,BQ$8<=$N16),IF($F16=\"SEMESTRAL\",IF(BP112=\"NÃO\",$D16,IF(MOD(COUNT($Q112:BP112)+1,6)=0,(BP112*$E16)+BP112,BP112)),\"NÃO\"),\"NÃO\")","v":"NÃO"},{"$f":"IF(AND(BR$8>=$M16,BR$8<=$N16),IF($F16=\"SEMESTRAL\",IF(BQ112=\"NÃO\",$D16,IF(MOD(COUNT($Q112:BQ112)+1,6)=0,(BQ112*$E16)+BQ112,BQ112)),\"NÃO\"),\"NÃO\")","v":"NÃO"},{"$f":"IF(AND(BS$8>=$M16,BS$8<=$N16),IF($F16=\"SEMESTRAL\",IF(BR112=\"NÃO\",$D16,IF(MOD(COUNT($Q112:BR112)+1,6)=0,(BR112*$E16)+BR112,BR112)),\"NÃO\"),\"NÃO\")","v":"NÃO"},{"$f":"IF(AND(BT$8>=$M16,BT$8<=$N16),IF($F16=\"SEMESTRAL\",IF(BS112=\"NÃO\",$D16,IF(MOD(COUNT($Q112:BS112)+1,6)=0,(BS112*$E16)+BS112,BS112)),\"NÃO\"),\"NÃO\")","v":"NÃO"},{"$f":"IF(AND(BU$8>=$M16,BU$8<=$N16),IF($F16=\"SEMESTRAL\",IF(BT112=\"NÃO\",$D16,IF(MOD(COUNT($Q112:BT112)+1,6)=0,(BT112*$E16)+BT112,BT112)),\"NÃO\"),\"NÃO\")","v":"NÃO"},{"$f":"IF(AND(BV$8>=$M16,BV$8<=$N16),IF($F16=\"SEMESTRAL\",IF(BU112=\"NÃO\",$D16,IF(MOD(COUNT($Q112:BU112)+1,6)=0,(BU112*$E16)+BU112,BU112)),\"NÃO\"),\"NÃO\")","v":"NÃO"},{"$f":"IF(AND(BW$8>=$M16,BW$8<=$N16),IF($F16=\"SEMESTRAL\",IF(BV112=\"NÃO\",$D16,IF(MOD(COUNT($Q112:BV112)+1,6)=0,(BV112*$E16)+BV112,BV112)),\"NÃO\"),\"NÃO\")","v":"NÃO"},{"$f":"IF(AND(BX$8>=$M16,BX$8<=$N16),IF($F16=\"SEMESTRAL\",IF(BW112=\"NÃO\",$D16,IF(MOD(COUNT($Q112:BW112)+1,6)=0,(BW112*$E16)+BW112,BW112)),\"NÃO\"),\"NÃO\")","v":"NÃO"}]
[null,null,null,null,null,null,null,null,null,null,null,null,null,null,null,9,"NÃO",{"$f":"IF(AND(R$8>=$M17,R$8<=$N17),IF($F17=\"SEMESTRAL\",IF(Q113=\"NÃO\",$D17,IF(MOD(COUNT($Q113:Q113)+1,6)=0,(Q113*$E17)+Q113,Q113)),\"NÃO\"),\"NÃO\")","v":"NÃO"},{"$f":"IF(AND(S$8>=$M17,S$8<=$N17),IF($F17=\"SEMESTRAL\",IF(R113=\"NÃO\",$D17,IF(MOD(COUNT($Q113:R113)+1,6)=0,(R113*$E17)+R113,R113)),\"NÃO\"),\"NÃO\")","v":"NÃO"},{"$f":"IF(AND(T$8>=$M17,T$8<=$N17),IF($F17=\"SEMESTRAL\",IF(S113=\"NÃO\",$D17,IF(MOD(COUNT($Q113:S113)+1,6)=0,(S113*$E17)+S113,S113)),\"NÃO\"),\"NÃO\")","v":"NÃO"},{"$f":"IF(AND(U$8>=$M17,U$8<=$N17),IF($F17=\"SEMESTRAL\",IF(T113=\"NÃO\",$D17,IF(MOD(COUNT($Q113:T113)+1,6)=0,(T113*$E17)+T113,T113)),\"NÃO\"),\"NÃO\")","v":"NÃO"},{"$f":"IF(AND(V$8>=$M17,V$8<=$N17),IF($F17=\"SEMESTRAL\",IF(U113=\"NÃO\",$D17,IF(MOD(COUNT($Q113:U113)+1,6)=0,(U113*$E17)+U113,U113)),\"NÃO\"),\"NÃO\")","v":"NÃO"},{"$f":"IF(AND(W$8>=$M17,W$8<=$N17),IF($F17=\"SEMESTRAL\",IF(V113=\"NÃO\",$D17,IF(MOD(COUNT($Q113:V113)+1,6)=0,(V113*$E17)+V113,V113)),\"NÃO\"),\"NÃO\")","v":"NÃO"},{"$f":"IF(AND(X$8>=$M17,X$8<=$N17),IF($F17=\"SEMESTRAL\",IF(W113=\"NÃO\",$D17,IF(MOD(COUNT($Q113:W113)+1,6)=0,(W113*$E17)+W113,W113)),\"NÃO\"),\"NÃO\")","v":"NÃO"},{"$f":"IF(AND(Y$8>=$M17,Y$8<=$N17),IF($F17=\"SEMESTRAL\",IF(X113=\"NÃO\",$D17,IF(MOD(COUNT($Q113:X113)+1,6)=0,(X113*$E17)+X113,X113)),\"NÃO\"),\"NÃO\")","v":"NÃO"},{"$f":"IF(AND(Z$8>=$M17,Z$8<=$N17),IF($F17=\"SEMESTRAL\",IF(Y113=\"NÃO\",$D17,IF(MOD(COUNT($Q113:Y113)+1,6)=0,(Y113*$E17)+Y113,Y113)),\"NÃO\"),\"NÃO\")","v":"NÃO"},{"$f":"IF(AND(AA$8>=$M17,AA$8<=$N17),IF($F17=\"SEMESTRAL\",IF(Z113=\"NÃO\",$D17,IF(MOD(COUNT($Q113:Z113)+1,6)=0,(Z113*$E17)+Z113,Z113)),\"NÃO\"),\"NÃO\")","v":"NÃO"},{"$f":"IF(AND(AB$8>=$M17,AB$8<=$N17),IF($F17=\"SEMESTRAL\",IF(AA113=\"NÃO\",$D17,IF(MOD(COUNT($Q113:AA113)+1,6)=0,(AA113*$E17)+AA113,AA113)),\"NÃO\"),\"NÃO\")","v":"NÃO"},{"$f":"IF(AND(AC$8>=$M17,AC$8<=$N17),IF($F17=\"SEMESTRAL\",IF(AB113=\"NÃO\",$D17,IF(MOD(COUNT($Q113:AB113)+1,6)=0,(AB113*$E17)+AB113,AB113)),\"NÃO\"),\"NÃO\")","v":"NÃO"},{"$f":"IF(AND(AD$8>=$M17,AD$8<=$N17),IF($F17=\"SEMESTRAL\",IF(AC113=\"NÃO\",$D17,IF(MOD(COUNT($Q113:AC113)+1,6)=0,(AC113*$E17)+AC113,AC113)),\"NÃO\"),\"NÃO\")","v":"NÃO"},{"$f":"IF(AND(AE$8>=$M17,AE$8<=$N17),IF($F17=\"SEMESTRAL\",IF(AD113=\"NÃO\",$D17,IF(MOD(COUNT($Q113:AD113)+1,6)=0,(AD113*$E17)+AD113,AD113)),\"NÃO\"),\"NÃO\")","v":"NÃO"},{"$f":"IF(AND(AF$8>=$M17,AF$8<=$N17),IF($F17=\"SEMESTRAL\",IF(AE113=\"NÃO\",$D17,IF(MOD(COUNT($Q113:AE113)+1,6)=0,(AE113*$E17)+AE113,AE113)),\"NÃO\"),\"NÃO\")","v":"NÃO"},{"$f":"IF(AND(AG$8>=$M17,AG$8<=$N17),IF($F17=\"SEMESTRAL\",IF(AF113=\"NÃO\",$D17,IF(MOD(COUNT($Q113:AF113)+1,6)=0,(AF113*$E17)+AF113,AF113)),\"NÃO\"),\"NÃO\")","v":"NÃO"},{"$f":"IF(AND(AH$8>=$M17,AH$8<=$N17),IF($F17=\"SEMESTRAL\",IF(AG113=\"NÃO\",$D17,IF(MOD(COUNT($Q113:AG113)+1,6)=0,(AG113*$E17)+AG113,AG113)),\"NÃO\"),\"NÃO\")","v":"NÃO"},{"$f":"IF(AND(AI$8>=$M17,AI$8<=$N17),IF($F17=\"SEMESTRAL\",IF(AH113=\"NÃO\",$D17,IF(MOD(COUNT($Q113:AH113)+1,6)=0,(AH113*$E17)+AH113,AH113)),\"NÃO\"),\"NÃO\")","v":"NÃO"},{"$f":"IF(AND(AJ$8>=$M17,AJ$8<=$N17),IF($F17=\"SEMESTRAL\",IF(AI113=\"NÃO\",$D17,IF(MOD(COUNT($Q113:AI113)+1,6)=0,(AI113*$E17)+AI113,AI113)),\"NÃO\"),\"NÃO\")","v":"NÃO"},{"$f":"IF(AND(AK$8>=$M17,AK$8<=$N17),IF($F17=\"SEMESTRAL\",IF(AJ113=\"NÃO\",$D17,IF(MOD(COUNT($Q113:AJ113)+1,6)=0,(AJ113*$E17)+AJ113,AJ113)),\"NÃO\"),\"NÃO\")","v":"NÃO"},{"$f":"IF(AND(AL$8>=$M17,AL$8<=$N17),IF($F17=\"SEMESTRAL\",IF(AK113=\"NÃO\",$D17,IF(MOD(COUNT($Q113:AK113)+1,6)=0,(AK113*$E17)+AK113,AK113)),\"NÃO\"),\"NÃO\")","v":"NÃO"},{"$f":"IF(AND(AM$8>=$M17,AM$8<=$N17),IF($F17=\"SEMESTRAL\",IF(AL113=\"NÃO\",$D17,IF(MOD(COUNT($Q113:AL113)+1,6)=0,(AL113*$E17)+AL113,AL113)),\"NÃO\"),\"NÃO\")","v":"NÃO"},{"$f":"IF(AND(AN$8>=$M17,AN$8<=$N17),IF($F17=\"SEMESTRAL\",IF(AM113=\"NÃO\",$D17,IF(MOD(COUNT($Q113:AM113)+1,6)=0,(AM113*$E17)+AM113,AM113)),\"NÃO\"),\"NÃO\")","v":"NÃO"},{"$f":"IF(AND(AO$8>=$M17,AO$8<=$N17),IF($F17=\"SEMESTRAL\",IF(AN113=\"NÃO\",$D17,IF(MOD(COUNT($Q113:AN113)+1,6)=0,(AN113*$E17)+AN113,AN113)),\"NÃO\"),\"NÃO\")","v":"NÃO"},{"$f":"IF(AND(AP$8>=$M17,AP$8<=$N17),IF($F17=\"SEMESTRAL\",IF(AO113=\"NÃO\",$D17,IF(MOD(COUNT($Q113:AO113)+1,6)=0,(AO113*$E17)+AO113,AO113)),\"NÃO\"),\"NÃO\")","v":"NÃO"},{"$f":"IF(AND(AQ$8>=$M17,AQ$8<=$N17),IF($F17=\"SEMESTRAL\",IF(AP113=\"NÃO\",$D17,IF(MOD(COUNT($Q113:AP113)+1,6)=0,(AP113*$E17)+AP113,AP113)),\"NÃO\"),\"NÃO\")","v":"NÃO"},{"$f":"IF(AND(AR$8>=$M17,AR$8<=$N17),IF($F17=\"SEMESTRAL\",IF(AQ113=\"NÃO\",$D17,IF(MOD(COUNT($Q113:AQ113)+1,6)=0,(AQ113*$E17)+AQ113,AQ113)),\"NÃO\"),\"NÃO\")","v":"NÃO"},{"$f":"IF(AND(AS$8>=$M17,AS$8<=$N17),IF($F17=\"SEMESTRAL\",IF(AR113=\"NÃO\",$D17,IF(MOD(COUNT($Q113:AR113)+1,6)=0,(AR113*$E17)+AR113,AR113)),\"NÃO\"),\"NÃO\")","v":"NÃO"},{"$f":"IF(AND(AT$8>=$M17,AT$8<=$N17),IF($F17=\"SEMESTRAL\",IF(AS113=\"NÃO\",$D17,IF(MOD(COUNT($Q113:AS113)+1,6)=0,(AS113*$E17)+AS113,AS113)),\"NÃO\"),\"NÃO\")","v":"NÃO"},{"$f":"IF(AND(AU$8>=$M17,AU$8<=$N17),IF($F17=\"SEMESTRAL\",IF(AT113=\"NÃO\",$D17,IF(MOD(COUNT($Q113:AT113)+1,6)=0,(AT113*$E17)+AT113,AT113)),\"NÃO\"),\"NÃO\")","v":"NÃO"},{"$f":"IF(AND(AV$8>=$M17,AV$8<=$N17),IF($F17=\"SEMESTRAL\",IF(AU113=\"NÃO\",$D17,IF(MOD(COUNT($Q113:AU113)+1,6)=0,(AU113*$E17)+AU113,AU113)),\"NÃO\"),\"NÃO\")","v":"NÃO"},{"$f":"IF(AND(AW$8>=$M17,AW$8<=$N17),IF($F17=\"SEMESTRAL\",IF(AV113=\"NÃO\",$D17,IF(MOD(COUNT($Q113:AV113)+1,6)=0,(AV113*$E17)+AV113,AV113)),\"NÃO\"),\"NÃO\")","v":"NÃO"},{"$f":"IF(AND(AX$8>=$M17,AX$8<=$N17),IF($F17=\"SEMESTRAL\",IF(AW113=\"NÃO\",$D17,IF(MOD(COUNT($Q113:AW113)+1,6)=0,(AW113*$E17)+AW113,AW113)),\"NÃO\"),\"NÃO\")","v":"NÃO"},{"$f":"IF(AND(AY$8>=$M17,AY$8<=$N17),IF($F17=\"SEMESTRAL\",IF(AX113=\"NÃO\",$D17,IF(MOD(COUNT($Q113:AX113)+1,6)=0,(AX113*$E17)+AX113,AX113)),\"NÃO\"),\"NÃO\")","v":"NÃO"},{"$f":"IF(AND(AZ$8>=$M17,AZ$8<=$N17),IF($F17=\"SEMESTRAL\",IF(AY113=\"NÃO\",$D17,IF(MOD(COUNT($Q113:AY113)+1,6)=0,(AY113*$E17)+AY113,AY113)),\"NÃO\"),\"NÃO\")","v":"NÃO"},{"$f":"IF(AND(BA$8>=$M17,BA$8<=$N17),IF($F17=\"SEMESTRAL\",IF(AZ113=\"NÃO\",$D17,IF(MOD(COUNT($Q113:AZ113)+1,6)=0,(AZ113*$E17)+AZ113,AZ113)),\"NÃO\"),\"NÃO\")","v":"NÃO"},{"$f":"IF(AND(BB$8>=$M17,BB$8<=$N17),IF($F17=\"SEMESTRAL\",IF(BA113=\"NÃO\",$D17,IF(MOD(COUNT($Q113:BA113)+1,6)=0,(BA113*$E17)+BA113,BA113)),\"NÃO\"),\"NÃO\")","v":"NÃO"},{"$f":"IF(AND(BC$8>=$M17,BC$8<=$N17),IF($F17=\"SEMESTRAL\",IF(BB113=\"NÃO\",$D17,IF(MOD(COUNT($Q113:BB113)+1,6)=0,(BB113*$E17)+BB113,BB113)),\"NÃO\"),\"NÃO\")","v":"NÃO"},{"$f":"IF(AND(BD$8>=$M17,BD$8<=$N17),IF($F17=\"SEMESTRAL\",IF(BC113=\"NÃO\",$D17,IF(MOD(COUNT($Q113:BC113)+1,6)=0,(BC113*$E17)+BC113,BC113)),\"NÃO\"),\"NÃO\")","v":"NÃO"},{"$f":"IF(AND(BE$8>=$M17,BE$8<=$N17),IF($F17=\"SEMESTRAL\",IF(BD113=\"NÃO\",$D17,IF(MOD(COUNT($Q113:BD113)+1,6)=0,(BD113*$E17)+BD113,BD113)),\"NÃO\"),\"NÃO\")","v":"NÃO"},{"$f":"IF(AND(BF$8>=$M17,BF$8<=$N17),IF($F17=\"SEMESTRAL\",IF(BE113=\"NÃO\",$D17,IF(MOD(COUNT($Q113:BE113)+1,6)=0,(BE113*$E17)+BE113,BE113)),\"NÃO\"),\"NÃO\")","v":"NÃO"},{"$f":"IF(AND(BG$8>=$M17,BG$8<=$N17),IF($F17=\"SEMESTRAL\",IF(BF113=\"NÃO\",$D17,IF(MOD(COUNT($Q113:BF113)+1,6)=0,(BF113*$E17)+BF113,BF113)),\"NÃO\"),\"NÃO\")","v":"NÃO"},{"$f":"IF(AND(BH$8>=$M17,BH$8<=$N17),IF($F17=\"SEMESTRAL\",IF(BG113=\"NÃO\",$D17,IF(MOD(COUNT($Q113:BG113)+1,6)=0,(BG113*$E17)+BG113,BG113)),\"NÃO\"),\"NÃO\")","v":"NÃO"},{"$f":"IF(AND(BI$8>=$M17,BI$8<=$N17),IF($F17=\"SEMESTRAL\",IF(BH113=\"NÃO\",$D17,IF(MOD(COUNT($Q113:BH113)+1,6)=0,(BH113*$E17)+BH113,BH113)),\"NÃO\"),\"NÃO\")","v":"NÃO"},{"$f":"IF(AND(BJ$8>=$M17,BJ$8<=$N17),IF($F17=\"SEMESTRAL\",IF(BI113=\"NÃO\",$D17,IF(MOD(COUNT($Q113:BI113)+1,6)=0,(BI113*$E17)+BI113,BI113)),\"NÃO\"),\"NÃO\")","v":"NÃO"},{"$f":"IF(AND(BK$8>=$M17,BK$8<=$N17),IF($F17=\"SEMESTRAL\",IF(BJ113=\"NÃO\",$D17,IF(MOD(COUNT($Q113:BJ113)+1,6)=0,(BJ113*$E17)+BJ113,BJ113)),\"NÃO\"),\"NÃO\")","v":"NÃO"},{"$f":"IF(AND(BL$8>=$M17,BL$8<=$N17),IF($F17=\"SEMESTRAL\",IF(BK113=\"NÃO\",$D17,IF(MOD(COUNT($Q113:BK113)+1,6)=0,(BK113*$E17)+BK113,BK113)),\"NÃO\"),\"NÃO\")","v":"NÃO"},{"$f":"IF(AND(BM$8>=$M17,BM$8<=$N17),IF($F17=\"SEMESTRAL\",IF(BL113=\"NÃO\",$D17,IF(MOD(COUNT($Q113:BL113)+1,6)=0,(BL113*$E17)+BL113,BL113)),\"NÃO\"),\"NÃO\")","v":"NÃO"},{"$f":"IF(AND(BN$8>=$M17,BN$8<=$N17),IF($F17=\"SEMESTRAL\",IF(BM113=\"NÃO\",$D17,IF(MOD(COUNT($Q113:BM113)+1,6)=0,(BM113*$E17)+BM113,BM113)),\"NÃO\"),\"NÃO\")","v":"NÃO"},{"$f":"IF(AND(BO$8>=$M17,BO$8<=$N17),IF($F17=\"SEMESTRAL\",IF(BN113=\"NÃO\",$D17,IF(MOD(COUNT($Q113:BN113)+1,6)=0,(BN113*$E17)+BN113,BN113)),\"NÃO\"),\"NÃO\")","v":"NÃO"},{"$f":"IF(AND(BP$8>=$M17,BP$8<=$N17),IF($F17=\"SEMESTRAL\",IF(BO113=\"NÃO\",$D17,IF(MOD(COUNT($Q113:BO113)+1,6)=0,(BO113*$E17)+BO113,BO113)),\"NÃO\"),\"NÃO\")","v":"NÃO"},{"$f":"IF(AND(BQ$8>=$M17,BQ$8<=$N17),IF($F17=\"SEMESTRAL\",IF(BP113=\"NÃO\",$D17,IF(MOD(COUNT($Q113:BP113)+1,6)=0,(BP113*$E17)+BP113,BP113)),\"NÃO\"),\"NÃO\")","v":"NÃO"},{"$f":"IF(AND(BR$8>=$M17,BR$8<=$N17),IF($F17=\"SEMESTRAL\",IF(BQ113=\"NÃO\",$D17,IF(MOD(COUNT($Q113:BQ113)+1,6)=0,(BQ113*$E17)+BQ113,BQ113)),\"NÃO\"),\"NÃO\")","v":"NÃO"},{"$f":"IF(AND(BS$8>=$M17,BS$8<=$N17),IF($F17=\"SEMESTRAL\",IF(BR113=\"NÃO\",$D17,IF(MOD(COUNT($Q113:BR113)+1,6)=0,(BR113*$E17)+BR113,BR113)),\"NÃO\"),\"NÃO\")","v":"NÃO"},{"$f":"IF(AND(BT$8>=$M17,BT$8<=$N17),IF($F17=\"SEMESTRAL\",IF(BS113=\"NÃO\",$D17,IF(MOD(COUNT($Q113:BS113)+1,6)=0,(BS113*$E17)+BS113,BS113)),\"NÃO\"),\"NÃO\")","v":"NÃO"},{"$f":"IF(AND(BU$8>=$M17,BU$8<=$N17),IF($F17=\"SEMESTRAL\",IF(BT113=\"NÃO\",$D17,IF(MOD(COUNT($Q113:BT113)+1,6)=0,(BT113*$E17)+BT113,BT113)),\"NÃO\"),\"NÃO\")","v":"NÃO"},{"$f":"IF(AND(BV$8>=$M17,BV$8<=$N17),IF($F17=\"SEMESTRAL\",IF(BU113=\"NÃO\",$D17,IF(MOD(COUNT($Q113:BU113)+1,6)=0,(BU113*$E17)+BU113,BU113)),\"NÃO\"),\"NÃO\")","v":"NÃO"},{"$f":"IF(AND(BW$8>=$M17,BW$8<=$N17),IF($F17=\"SEMESTRAL\",IF(BV113=\"NÃO\",$D17,IF(MOD(COUNT($Q113:BV113)+1,6)=0,(BV113*$E17)+BV113,BV113)),\"NÃO\"),\"NÃO\")","v":"NÃO"},{"$f":"IF(AND(BX$8>=$M17,BX$8<=$N17),IF($F17=\"SEMESTRAL\",IF(BW113=\"NÃO\",$D17,IF(MOD(COUNT($Q113:BW113)+1,6)=0,(BW113*$E17)+BW113,BW113)),\"NÃO\"),\"NÃO\")","v":"NÃO"}]
[null,null,null,null,null,null,null,null,null,null,null,null,null,null,null,10,"NÃO",{"$f":"IF(AND(R$8>=$M18,R$8<=$N18),IF($F18=\"SEMESTRAL\",IF(Q114=\"NÃO\",$D18,IF(MOD(COUNT($Q114:Q114)+1,6)=0,(Q114*$E18)+Q114,Q114)),\"NÃO\"),\"NÃO\")","v":"NÃO"},{"$f":"IF(AND(S$8>=$M18,S$8<=$N18),IF($F18=\"SEMESTRAL\",IF(R114=\"NÃO\",$D18,IF(MOD(COUNT($Q114:R114)+1,6)=0,(R114*$E18)+R114,R114)),\"NÃO\"),\"NÃO\")","v":"NÃO"},{"$f":"IF(AND(T$8>=$M18,T$8<=$N18),IF($F18=\"SEMESTRAL\",IF(S114=\"NÃO\",$D18,IF(MOD(COUNT($Q114:S114)+1,6)=0,(S114*$E18)+S114,S114)),\"NÃO\"),\"NÃO\")","v":"NÃO"},{"$f":"IF(AND(U$8>=$M18,U$8<=$N18),IF($F18=\"SEMESTRAL\",IF(T114=\"NÃO\",$D18,IF(MOD(COUNT($Q114:T114)+1,6)=0,(T114*$E18)+T114,T114)),\"NÃO\"),\"NÃO\")","v":"NÃO"},{"$f":"IF(AND(V$8>=$M18,V$8<=$N18),IF($F18=\"SEMESTRAL\",IF(U114=\"NÃO\",$D18,IF(MOD(COUNT($Q114:U114)+1,6)=0,(U114*$E18)+U114,U114)),\"NÃO\"),\"NÃO\")","v":"NÃO"},{"$f":"IF(AND(W$8>=$M18,W$8<=$N18),IF($F18=\"SEMESTRAL\",IF(V114=\"NÃO\",$D18,IF(MOD(COUNT($Q114:V114)+1,6)=0,(V114*$E18)+V114,V114)),\"NÃO\"),\"NÃO\")","v":"NÃO"},{"$f":"IF(AND(X$8>=$M18,X$8<=$N18),IF($F18=\"SEMESTRAL\",IF(W114=\"NÃO\",$D18,IF(MOD(COUNT($Q114:W114)+1,6)=0,(W114*$E18)+W114,W114)),\"NÃO\"),\"NÃO\")","v":"NÃO"},{"$f":"IF(AND(Y$8>=$M18,Y$8<=$N18),IF($F18=\"SEMESTRAL\",IF(X114=\"NÃO\",$D18,IF(MOD(COUNT($Q114:X114)+1,6)=0,(X114*$E18)+X114,X114)),\"NÃO\"),\"NÃO\")","v":"NÃO"},{"$f":"IF(AND(Z$8>=$M18,Z$8<=$N18),IF($F18=\"SEMESTRAL\",IF(Y114=\"NÃO\",$D18,IF(MOD(COUNT($Q114:Y114)+1,6)=0,(Y114*$E18)+Y114,Y114)),\"NÃO\"),\"NÃO\")","v":"NÃO"},{"$f":"IF(AND(AA$8>=$M18,AA$8<=$N18),IF($F18=\"SEMESTRAL\",IF(Z114=\"NÃO\",$D18,IF(MOD(COUNT($Q114:Z114)+1,6)=0,(Z114*$E18)+Z114,Z114)),\"NÃO\"),\"NÃO\")","v":"NÃO"},{"$f":"IF(AND(AB$8>=$M18,AB$8<=$N18),IF($F18=\"SEMESTRAL\",IF(AA114=\"NÃO\",$D18,IF(MOD(COUNT($Q114:AA114)+1,6)=0,(AA114*$E18)+AA114,AA114)),\"NÃO\"),\"NÃO\")","v":"NÃO"},{"$f":"IF(AND(AC$8>=$M18,AC$8<=$N18),IF($F18=\"SEMESTRAL\",IF(AB114=\"NÃO\",$D18,IF(MOD(COUNT($Q114:AB114)+1,6)=0,(AB114*$E18)+AB114,AB114)),\"NÃO\"),\"NÃO\")","v":"NÃO"},{"$f":"IF(AND(AD$8>=$M18,AD$8<=$N18),IF($F18=\"SEMESTRAL\",IF(AC114=\"NÃO\",$D18,IF(MOD(COUNT($Q114:AC114)+1,6)=0,(AC114*$E18)+AC114,AC114)),\"NÃO\"),\"NÃO\")","v":"NÃO"},{"$f":"IF(AND(AE$8>=$M18,AE$8<=$N18),IF($F18=\"SEMESTRAL\",IF(AD114=\"NÃO\",$D18,IF(MOD(COUNT($Q114:AD114)+1,6)=0,(AD114*$E18)+AD114,AD114)),\"NÃO\"),\"NÃO\")","v":"NÃO"},{"$f":"IF(AND(AF$8>=$M18,AF$8<=$N18),IF($F18=\"SEMESTRAL\",IF(AE114=\"NÃO\",$D18,IF(MOD(COUNT($Q114:AE114)+1,6)=0,(AE114*$E18)+AE114,AE114)),\"NÃO\"),\"NÃO\")","v":"NÃO"},{"$f":"IF(AND(AG$8>=$M18,AG$8<=$N18),IF($F18=\"SEMESTRAL\",IF(AF114=\"NÃO\",$D18,IF(MOD(COUNT($Q114:AF114)+1,6)=0,(AF114*$E18)+AF114,AF114)),\"NÃO\"),\"NÃO\")","v":"NÃO"},{"$f":"IF(AND(AH$8>=$M18,AH$8<=$N18),IF($F18=\"SEMESTRAL\",IF(AG114=\"NÃO\",$D18,IF(MOD(COUNT($Q114:AG114)+1,6)=0,(AG114*$E18)+AG114,AG114)),\"NÃO\"),\"NÃO\")","v":"NÃO"},{"$f":"IF(AND(AI$8>=$M18,AI$8<=$N18),IF($F18=\"SEMESTRAL\",IF(AH114=\"NÃO\",$D18,IF(MOD(COUNT($Q114:AH114)+1,6)=0,(AH114*$E18)+AH114,AH114)),\"NÃO\"),\"NÃO\")","v":"NÃO"},{"$f":"IF(AND(AJ$8>=$M18,AJ$8<=$N18),IF($F18=\"SEMESTRAL\",IF(AI114=\"NÃO\",$D18,IF(MOD(COUNT($Q114:AI114)+1,6)=0,(AI114*$E18)+AI114,AI114)),\"NÃO\"),\"NÃO\")","v":"NÃO"},{"$f":"IF(AND(AK$8>=$M18,AK$8<=$N18),IF($F18=\"SEMESTRAL\",IF(AJ114=\"NÃO\",$D18,IF(MOD(COUNT($Q114:AJ114)+1,6)=0,(AJ114*$E18)+AJ114,AJ114)),\"NÃO\"),\"NÃO\")","v":"NÃO"},{"$f":"IF(AND(AL$8>=$M18,AL$8<=$N18),IF($F18=\"SEMESTRAL\",IF(AK114=\"NÃO\",$D18,IF(MOD(COUNT($Q114:AK114)+1,6)=0,(AK114*$E18)+AK114,AK114)),\"NÃO\"),\"NÃO\")","v":"NÃO"},{"$f":"IF(AND(AM$8>=$M18,AM$8<=$N18),IF($F18=\"SEMESTRAL\",IF(AL114=\"NÃO\",$D18,IF(MOD(COUNT($Q114:AL114)+1,6)=0,(AL114*$E18)+AL114,AL114)),\"NÃO\"),\"NÃO\")","v":"NÃO"},{"$f":"IF(AND(AN$8>=$M18,AN$8<=$N18),IF($F18=\"SEMESTRAL\",IF(AM114=\"NÃO\",$D18,IF(MOD(COUNT($Q114:AM114)+1,6)=0,(AM114*$E18)+AM114,AM114)),\"NÃO\"),\"NÃO\")","v":"NÃO"},{"$f":"IF(AND(AO$8>=$M18,AO$8<=$N18),IF($F18=\"SEMESTRAL\",IF(AN114=\"NÃO\",$D18,IF(MOD(COUNT($Q114:AN114)+1,6)=0,(AN114*$E18)+AN114,AN114)),\"NÃO\"),\"NÃO\")","v":"NÃO"},{"$f":"IF(AND(AP$8>=$M18,AP$8<=$N18),IF($F18=\"SEMESTRAL\",IF(AO114=\"NÃO\",$D18,IF(MOD(COUNT($Q114:AO114)+1,6)=0,(AO114*$E18)+AO114,AO114)),\"NÃO\"),\"NÃO\")","v":"NÃO"},{"$f":"IF(AND(AQ$8>=$M18,AQ$8<=$N18),IF($F18=\"SEMESTRAL\",IF(AP114=\"NÃO\",$D18,IF(MOD(COUNT($Q114:AP114)+1,6)=0,(AP114*$E18)+AP114,AP114)),\"NÃO\"),\"NÃO\")","v":"NÃO"},{"$f":"IF(AND(AR$8>=$M18,AR$8<=$N18),IF($F18=\"SEMESTRAL\",IF(AQ114=\"NÃO\",$D18,IF(MOD(COUNT($Q114:AQ114)+1,6)=0,(AQ114*$E18)+AQ114,AQ114)),\"NÃO\"),\"NÃO\")","v":"NÃO"},{"$f":"IF(AND(AS$8>=$M18,AS$8<=$N18),IF($F18=\"SEMESTRAL\",IF(AR114=\"NÃO\",$D18,IF(MOD(COUNT($Q114:AR114)+1,6)=0,(AR114*$E18)+AR114,AR114)),\"NÃO\"),\"NÃO\")","v":"NÃO"},{"$f":"IF(AND(AT$8>=$M18,AT$8<=$N18),IF($F18=\"SEMESTRAL\",IF(AS114=\"NÃO\",$D18,IF(MOD(COUNT($Q114:AS114)+1,6)=0,(AS114*$E18)+AS114,AS114)),\"NÃO\"),\"NÃO\")","v":"NÃO"},{"$f":"IF(AND(AU$8>=$M18,AU$8<=$N18),IF($F18=\"SEMESTRAL\",IF(AT114=\"NÃO\",$D18,IF(MOD(COUNT($Q114:AT114)+1,6)=0,(AT114*$E18)+AT114,AT114)),\"NÃO\"),\"NÃO\")","v":"NÃO"},{"$f":"IF(AND(AV$8>=$M18,AV$8<=$N18),IF($F18=\"SEMESTRAL\",IF(AU114=\"NÃO\",$D18,IF(MOD(COUNT($Q114:AU114)+1,6)=0,(AU114*$E18)+AU114,AU114)),\"NÃO\"),\"NÃO\")","v":"NÃO"},{"$f":"IF(AND(AW$8>=$M18,AW$8<=$N18),IF($F18=\"SEMESTRAL\",IF(AV114=\"NÃO\",$D18,IF(MOD(COUNT($Q114:AV114)+1,6)=0,(AV114*$E18)+AV114,AV114)),\"NÃO\"),\"NÃO\")","v":"NÃO"},{"$f":"IF(AND(AX$8>=$M18,AX$8<=$N18),IF($F18=\"SEMESTRAL\",IF(AW114=\"NÃO\",$D18,IF(MOD(COUNT($Q114:AW114)+1,6)=0,(AW114*$E18)+AW114,AW114)),\"NÃO\"),\"NÃO\")","v":"NÃO"},{"$f":"IF(AND(AY$8>=$M18,AY$8<=$N18),IF($F18=\"SEMESTRAL\",IF(AX114=\"NÃO\",$D18,IF(MOD(COUNT($Q114:AX114)+1,6)=0,(AX114*$E18)+AX114,AX114)),\"NÃO\"),\"NÃO\")","v":"NÃO"},{"$f":"IF(AND(AZ$8>=$M18,AZ$8<=$N18),IF($F18=\"SEMESTRAL\",IF(AY114=\"NÃO\",$D18,IF(MOD(COUNT($Q114:AY114)+1,6)=0,(AY114*$E18)+AY114,AY114)),\"NÃO\"),\"NÃO\")","v":"NÃO"},{"$f":"IF(AND(BA$8>=$M18,BA$8<=$N18),IF($F18=\"SEMESTRAL\",IF(AZ114=\"NÃO\",$D18,IF(MOD(COUNT($Q114:AZ114)+1,6)=0,(AZ114*$E18)+AZ114,AZ114)),\"NÃO\"),\"NÃO\")","v":"NÃO"},{"$f":"IF(AND(BB$8>=$M18,BB$8<=$N18),IF($F18=\"SEMESTRAL\",IF(BA114=\"NÃO\",$D18,IF(MOD(COUNT($Q114:BA114)+1,6)=0,(BA114*$E18)+BA114,BA114)),\"NÃO\"),\"NÃO\")","v":"NÃO"},{"$f":"IF(AND(BC$8>=$M18,BC$8<=$N18),IF($F18=\"SEMESTRAL\",IF(BB114=\"NÃO\",$D18,IF(MOD(COUNT($Q114:BB114)+1,6)=0,(BB114*$E18)+BB114,BB114)),\"NÃO\"),\"NÃO\")","v":"NÃO"},{"$f":"IF(AND(BD$8>=$M18,BD$8<=$N18),IF($F18=\"SEMESTRAL\",IF(BC114=\"NÃO\",$D18,IF(MOD(COUNT($Q114:BC114)+1,6)=0,(BC114*$E18)+BC114,BC114)),\"NÃO\"),\"NÃO\")","v":"NÃO"},{"$f":"IF(AND(BE$8>=$M18,BE$8<=$N18),IF($F18=\"SEMESTRAL\",IF(BD114=\"NÃO\",$D18,IF(MOD(COUNT($Q114:BD114)+1,6)=0,(BD114*$E18)+BD114,BD114)),\"NÃO\"),\"NÃO\")","v":"NÃO"},{"$f":"IF(AND(BF$8>=$M18,BF$8<=$N18),IF($F18=\"SEMESTRAL\",IF(BE114=\"NÃO\",$D18,IF(MOD(COUNT($Q114:BE114)+1,6)=0,(BE114*$E18)+BE114,BE114)),\"NÃO\"),\"NÃO\")","v":"NÃO"},{"$f":"IF(AND(BG$8>=$M18,BG$8<=$N18),IF($F18=\"SEMESTRAL\",IF(BF114=\"NÃO\",$D18,IF(MOD(COUNT($Q114:BF114)+1,6)=0,(BF114*$E18)+BF114,BF114)),\"NÃO\"),\"NÃO\")","v":"NÃO"},{"$f":"IF(AND(BH$8>=$M18,BH$8<=$N18),IF($F18=\"SEMESTRAL\",IF(BG114=\"NÃO\",$D18,IF(MOD(COUNT($Q114:BG114)+1,6)=0,(BG114*$E18)+BG114,BG114)),\"NÃO\"),\"NÃO\")","v":"NÃO"},{"$f":"IF(AND(BI$8>=$M18,BI$8<=$N18),IF($F18=\"SEMESTRAL\",IF(BH114=\"NÃO\",$D18,IF(MOD(COUNT($Q114:BH114)+1,6)=0,(BH114*$E18)+BH114,BH114)),\"NÃO\"),\"NÃO\")","v":"NÃO"},{"$f":"IF(AND(BJ$8>=$M18,BJ$8<=$N18),IF($F18=\"SEMESTRAL\",IF(BI114=\"NÃO\",$D18,IF(MOD(COUNT($Q114:BI114)+1,6)=0,(BI114*$E18)+BI114,BI114)),\"NÃO\"),\"NÃO\")","v":"NÃO"},{"$f":"IF(AND(BK$8>=$M18,BK$8<=$N18),IF($F18=\"SEMESTRAL\",IF(BJ114=\"NÃO\",$D18,IF(MOD(COUNT($Q114:BJ114)+1,6)=0,(BJ114*$E18)+BJ114,BJ114)),\"NÃO\"),\"NÃO\")","v":"NÃO"},{"$f":"IF(AND(BL$8>=$M18,BL$8<=$N18),IF($F18=\"SEMESTRAL\",IF(BK114=\"NÃO\",$D18,IF(MOD(COUNT($Q114:BK114)+1,6)=0,(BK114*$E18)+BK114,BK114)),\"NÃO\"),\"NÃO\")","v":"NÃO"},{"$f":"IF(AND(BM$8>=$M18,BM$8<=$N18),IF($F18=\"SEMESTRAL\",IF(BL114=\"NÃO\",$D18,IF(MOD(COUNT($Q114:BL114)+1,6)=0,(BL114*$E18)+BL114,BL114)),\"NÃO\"),\"NÃO\")","v":"NÃO"},{"$f":"IF(AND(BN$8>=$M18,BN$8<=$N18),IF($F18=\"SEMESTRAL\",IF(BM114=\"NÃO\",$D18,IF(MOD(COUNT($Q114:BM114)+1,6)=0,(BM114*$E18)+BM114,BM114)),\"NÃO\"),\"NÃO\")","v":"NÃO"},{"$f":"IF(AND(BO$8>=$M18,BO$8<=$N18),IF($F18=\"SEMESTRAL\",IF(BN114=\"NÃO\",$D18,IF(MOD(COUNT($Q114:BN114)+1,6)=0,(BN114*$E18)+BN114,BN114)),\"NÃO\"),\"NÃO\")","v":"NÃO"},{"$f":"IF(AND(BP$8>=$M18,BP$8<=$N18),IF($F18=\"SEMESTRAL\",IF(BO114=\"NÃO\",$D18,IF(MOD(COUNT($Q114:BO114)+1,6)=0,(BO114*$E18)+BO114,BO114)),\"NÃO\"),\"NÃO\")","v":"NÃO"},{"$f":"IF(AND(BQ$8>=$M18,BQ$8<=$N18),IF($F18=\"SEMESTRAL\",IF(BP114=\"NÃO\",$D18,IF(MOD(COUNT($Q114:BP114)+1,6)=0,(BP114*$E18)+BP114,BP114)),\"NÃO\"),\"NÃO\")","v":"NÃO"},{"$f":"IF(AND(BR$8>=$M18,BR$8<=$N18),IF($F18=\"SEMESTRAL\",IF(BQ114=\"NÃO\",$D18,IF(MOD(COUNT($Q114:BQ114)+1,6)=0,(BQ114*$E18)+BQ114,BQ114)),\"NÃO\"),\"NÃO\")","v":"NÃO"},{"$f":"IF(AND(BS$8>=$M18,BS$8<=$N18),IF($F18=\"SEMESTRAL\",IF(BR114=\"NÃO\",$D18,IF(MOD(COUNT($Q114:BR114)+1,6)=0,(BR114*$E18)+BR114,BR114)),\"NÃO\"),\"NÃO\")","v":"NÃO"},{"$f":"IF(AND(BT$8>=$M18,BT$8<=$N18),IF($F18=\"SEMESTRAL\",IF(BS114=\"NÃO\",$D18,IF(MOD(COUNT($Q114:BS114)+1,6)=0,(BS114*$E18)+BS114,BS114)),\"NÃO\"),\"NÃO\")","v":"NÃO"},{"$f":"IF(AND(BU$8>=$M18,BU$8<=$N18),IF($F18=\"SEMESTRAL\",IF(BT114=\"NÃO\",$D18,IF(MOD(COUNT($Q114:BT114)+1,6)=0,(BT114*$E18)+BT114,BT114)),\"NÃO\"),\"NÃO\")","v":"NÃO"},{"$f":"IF(AND(BV$8>=$M18,BV$8<=$N18),IF($F18=\"SEMESTRAL\",IF(BU114=\"NÃO\",$D18,IF(MOD(COUNT($Q114:BU114)+1,6)=0,(BU114*$E18)+BU114,BU114)),\"NÃO\"),\"NÃO\")","v":"NÃO"},{"$f":"IF(AND(BW$8>=$M18,BW$8<=$N18),IF($F18=\"SEMESTRAL\",IF(BV114=\"NÃO\",$D18,IF(MOD(COUNT($Q114:BV114)+1,6)=0,(BV114*$E18)+BV114,BV114)),\"NÃO\"),\"NÃO\")","v":"NÃO"},{"$f":"IF(AND(BX$8>=$M18,BX$8<=$N18),IF($F18=\"SEMESTRAL\",IF(BW114=\"NÃO\",$D18,IF(MOD(COUNT($Q114:BW114)+1,6)=0,(BW114*$E18)+BW114,BW114)),\"NÃO\"),\"NÃO\")","v":"NÃO"}]
[null,null,null,null,null,null,null,null,null,null,null,null,null,null,null,11,"NÃO",{"$f":"IF(AND(R$8>=$M19,R$8<=$N19),IF($F19=\"SEMESTRAL\",IF(Q115=\"NÃO\",$D19,IF(MOD(COUNT($Q115:Q115)+1,6)=0,(Q115*$E19)+Q115,Q115)),\"NÃO\"),\"NÃO\")","v":"NÃO"},{"$f":"IF(AND(S$8>=$M19,S$8<=$N19),IF($F19=\"SEMESTRAL\",IF(R115=\"NÃO\",$D19,IF(MOD(COUNT($Q115:R115)+1,6)=0,(R115*$E19)+R115,R115)),\"NÃO\"),\"NÃO\")","v":"NÃO"},{"$f":"IF(AND(T$8>=$M19,T$8<=$N19),IF($F19=\"SEMESTRAL\",IF(S115=\"NÃO\",$D19,IF(MOD(COUNT($Q115:S115)+1,6)=0,(S115*$E19)+S115,S115)),\"NÃO\"),\"NÃO\")","v":"NÃO"},{"$f":"IF(AND(U$8>=$M19,U$8<=$N19),IF($F19=\"SEMESTRAL\",IF(T115=\"NÃO\",$D19,IF(MOD(COUNT($Q115:T115)+1,6)=0,(T115*$E19)+T115,T115)),\"NÃO\"),\"NÃO\")","v":"NÃO"},{"$f":"IF(AND(V$8>=$M19,V$8<=$N19),IF($F19=\"SEMESTRAL\",IF(U115=\"NÃO\",$D19,IF(MOD(COUNT($Q115:U115)+1,6)=0,(U115*$E19)+U115,U115)),\"NÃO\"),\"NÃO\")","v":"NÃO"},{"$f":"IF(AND(W$8>=$M19,W$8<=$N19),IF($F19=\"SEMESTRAL\",IF(V115=\"NÃO\",$D19,IF(MOD(COUNT($Q115:V115)+1,6)=0,(V115*$E19)+V115,V115)),\"NÃO\"),\"NÃO\")","v":"NÃO"},{"$f":"IF(AND(X$8>=$M19,X$8<=$N19),IF($F19=\"SEMESTRAL\",IF(W115=\"NÃO\",$D19,IF(MOD(COUNT($Q115:W115)+1,6)=0,(W115*$E19)+W115,W115)),\"NÃO\"),\"NÃO\")","v":"NÃO"},{"$f":"IF(AND(Y$8>=$M19,Y$8<=$N19),IF($F19=\"SEMESTRAL\",IF(X115=\"NÃO\",$D19,IF(MOD(COUNT($Q115:X115)+1,6)=0,(X115*$E19)+X115,X115)),\"NÃO\"),\"NÃO\")","v":"NÃO"},{"$f":"IF(AND(Z$8>=$M19,Z$8<=$N19),IF($F19=\"SEMESTRAL\",IF(Y115=\"NÃO\",$D19,IF(MOD(COUNT($Q115:Y115)+1,6)=0,(Y115*$E19)+Y115,Y115)),\"NÃO\"),\"NÃO\")","v":"NÃO"},{"$f":"IF(AND(AA$8>=$M19,AA$8<=$N19),IF($F19=\"SEMESTRAL\",IF(Z115=\"NÃO\",$D19,IF(MOD(COUNT($Q115:Z115)+1,6)=0,(Z115*$E19)+Z115,Z115)),\"NÃO\"),\"NÃO\")","v":"NÃO"},{"$f":"IF(AND(AB$8>=$M19,AB$8<=$N19),IF($F19=\"SEMESTRAL\",IF(AA115=\"NÃO\",$D19,IF(MOD(COUNT($Q115:AA115)+1,6)=0,(AA115*$E19)+AA115,AA115)),\"NÃO\"),\"NÃO\")","v":"NÃO"},{"$f":"IF(AND(AC$8>=$M19,AC$8<=$N19),IF($F19=\"SEMESTRAL\",IF(AB115=\"NÃO\",$D19,IF(MOD(COUNT($Q115:AB115)+1,6)=0,(AB115*$E19)+AB115,AB115)),\"NÃO\"),\"NÃO\")","v":"NÃO"},{"$f":"IF(AND(AD$8>=$M19,AD$8<=$N19),IF($F19=\"SEMESTRAL\",IF(AC115=\"NÃO\",$D19,IF(MOD(COUNT($Q115:AC115)+1,6)=0,(AC115*$E19)+AC115,AC115)),\"NÃO\"),\"NÃO\")","v":"NÃO"},{"$f":"IF(AND(AE$8>=$M19,AE$8<=$N19),IF($F19=\"SEMESTRAL\",IF(AD115=\"NÃO\",$D19,IF(MOD(COUNT($Q115:AD115)+1,6)=0,(AD115*$E19)+AD115,AD115)),\"NÃO\"),\"NÃO\")","v":"NÃO"},{"$f":"IF(AND(AF$8>=$M19,AF$8<=$N19),IF($F19=\"SEMESTRAL\",IF(AE115=\"NÃO\",$D19,IF(MOD(COUNT($Q115:AE115)+1,6)=0,(AE115*$E19)+AE115,AE115)),\"NÃO\"),\"NÃO\")","v":"NÃO"},{"$f":"IF(AND(AG$8>=$M19,AG$8<=$N19),IF($F19=\"SEMESTRAL\",IF(AF115=\"NÃO\",$D19,IF(MOD(COUNT($Q115:AF115)+1,6)=0,(AF115*$E19)+AF115,AF115)),\"NÃO\"),\"NÃO\")","v":"NÃO"},{"$f":"IF(AND(AH$8>=$M19,AH$8<=$N19),IF($F19=\"SEMESTRAL\",IF(AG115=\"NÃO\",$D19,IF(MOD(COUNT($Q115:AG115)+1,6)=0,(AG115*$E19)+AG115,AG115)),\"NÃO\"),\"NÃO\")","v":"NÃO"},{"$f":"IF(AND(AI$8>=$M19,AI$8<=$N19),IF($F19=\"SEMESTRAL\",IF(AH115=\"NÃO\",$D19,IF(MOD(COUNT($Q115:AH115)+1,6)=0,(AH115*$E19)+AH115,AH115)),\"NÃO\"),\"NÃO\")","v":"NÃO"},{"$f":"IF(AND(AJ$8>=$M19,AJ$8<=$N19),IF($F19=\"SEMESTRAL\",IF(AI115=\"NÃO\",$D19,IF(MOD(COUNT($Q115:AI115)+1,6)=0,(AI115*$E19)+AI115,AI115)),\"NÃO\"),\"NÃO\")","v":"NÃO"},{"$f":"IF(AND(AK$8>=$M19,AK$8<=$N19),IF($F19=\"SEMESTRAL\",IF(AJ115=\"NÃO\",$D19,IF(MOD(COUNT($Q115:AJ115)+1,6)=0,(AJ115*$E19)+AJ115,AJ115)),\"NÃO\"),\"NÃO\")","v":"NÃO"},{"$f":"IF(AND(AL$8>=$M19,AL$8<=$N19),IF($F19=\"SEMESTRAL\",IF(AK115=\"NÃO\",$D19,IF(MOD(COUNT($Q115:AK115)+1,6)=0,(AK115*$E19)+AK115,AK115)),\"NÃO\"),\"NÃO\")","v":"NÃO"},{"$f":"IF(AND(AM$8>=$M19,AM$8<=$N19),IF($F19=\"SEMESTRAL\",IF(AL115=\"NÃO\",$D19,IF(MOD(COUNT($Q115:AL115)+1,6)=0,(AL115*$E19)+AL115,AL115)),\"NÃO\"),\"NÃO\")","v":"NÃO"},{"$f":"IF(AND(AN$8>=$M19,AN$8<=$N19),IF($F19=\"SEMESTRAL\",IF(AM115=\"NÃO\",$D19,IF(MOD(COUNT($Q115:AM115)+1,6)=0,(AM115*$E19)+AM115,AM115)),\"NÃO\"),\"NÃO\")","v":"NÃO"},{"$f":"IF(AND(AO$8>=$M19,AO$8<=$N19),IF($F19=\"SEMESTRAL\",IF(AN115=\"NÃO\",$D19,IF(MOD(COUNT($Q115:AN115)+1,6)=0,(AN115*$E19)+AN115,AN115)),\"NÃO\"),\"NÃO\")","v":"NÃO"},{"$f":"IF(AND(AP$8>=$M19,AP$8<=$N19),IF($F19=\"SEMESTRAL\",IF(AO115=\"NÃO\",$D19,IF(MOD(COUNT($Q115:AO115)+1,6)=0,(AO115*$E19)+AO115,AO115)),\"NÃO\"),\"NÃO\")","v":"NÃO"},{"$f":"IF(AND(AQ$8>=$M19,AQ$8<=$N19),IF($F19=\"SEMESTRAL\",IF(AP115=\"NÃO\",$D19,IF(MOD(COUNT($Q115:AP115)+1,6)=0,(AP115*$E19)+AP115,AP115)),\"NÃO\"),\"NÃO\")","v":"NÃO"},{"$f":"IF(AND(AR$8>=$M19,AR$8<=$N19),IF($F19=\"SEMESTRAL\",IF(AQ115=\"NÃO\",$D19,IF(MOD(COUNT($Q115:AQ115)+1,6)=0,(AQ115*$E19)+AQ115,AQ115)),\"NÃO\"),\"NÃO\")","v":"NÃO"},{"$f":"IF(AND(AS$8>=$M19,AS$8<=$N19),IF($F19=\"SEMESTRAL\",IF(AR115=\"NÃO\",$D19,IF(MOD(COUNT($Q115:AR115)+1,6)=0,(AR115*$E19)+AR115,AR115)),\"NÃO\"),\"NÃO\")","v":"NÃO"},{"$f":"IF(AND(AT$8>=$M19,AT$8<=$N19),IF($F19=\"SEMESTRAL\",IF(AS115=\"NÃO\",$D19,IF(MOD(COUNT($Q115:AS115)+1,6)=0,(AS115*$E19)+AS115,AS115)),\"NÃO\"),\"NÃO\")","v":"NÃO"},{"$f":"IF(AND(AU$8>=$M19,AU$8<=$N19),IF($F19=\"SEMESTRAL\",IF(AT115=\"NÃO\",$D19,IF(MOD(COUNT($Q115:AT115)+1,6)=0,(AT115*$E19)+AT115,AT115)),\"NÃO\"),\"NÃO\")","v":"NÃO"},{"$f":"IF(AND(AV$8>=$M19,AV$8<=$N19),IF($F19=\"SEMESTRAL\",IF(AU115=\"NÃO\",$D19,IF(MOD(COUNT($Q115:AU115)+1,6)=0,(AU115*$E19)+AU115,AU115)),\"NÃO\"),\"NÃO\")","v":"NÃO"},{"$f":"IF(AND(AW$8>=$M19,AW$8<=$N19),IF($F19=\"SEMESTRAL\",IF(AV115=\"NÃO\",$D19,IF(MOD(COUNT($Q115:AV115)+1,6)=0,(AV115*$E19)+AV115,AV115)),\"NÃO\"),\"NÃO\")","v":"NÃO"},{"$f":"IF(AND(AX$8>=$M19,AX$8<=$N19),IF($F19=\"SEMESTRAL\",IF(AW115=\"NÃO\",$D19,IF(MOD(COUNT($Q115:AW115)+1,6)=0,(AW115*$E19)+AW115,AW115)),\"NÃO\"),\"NÃO\")","v":"NÃO"},{"$f":"IF(AND(AY$8>=$M19,AY$8<=$N19),IF($F19=\"SEMESTRAL\",IF(AX115=\"NÃO\",$D19,IF(MOD(COUNT($Q115:AX115)+1,6)=0,(AX115*$E19)+AX115,AX115)),\"NÃO\"),\"NÃO\")","v":"NÃO"},{"$f":"IF(AND(AZ$8>=$M19,AZ$8<=$N19),IF($F19=\"SEMESTRAL\",IF(AY115=\"NÃO\",$D19,IF(MOD(COUNT($Q115:AY115)+1,6)=0,(AY115*$E19)+AY115,AY115)),\"NÃO\"),\"NÃO\")","v":"NÃO"},{"$f":"IF(AND(BA$8>=$M19,BA$8<=$N19),IF($F19=\"SEMESTRAL\",IF(AZ115=\"NÃO\",$D19,IF(MOD(COUNT($Q115:AZ115)+1,6)=0,(AZ115*$E19)+AZ115,AZ115)),\"NÃO\"),\"NÃO\")","v":"NÃO"},{"$f":"IF(AND(BB$8>=$M19,BB$8<=$N19),IF($F19=\"SEMESTRAL\",IF(BA115=\"NÃO\",$D19,IF(MOD(COUNT($Q115:BA115)+1,6)=0,(BA115*$E19)+BA115,BA115)),\"NÃO\"),\"NÃO\")","v":"NÃO"},{"$f":"IF(AND(BC$8>=$M19,BC$8<=$N19),IF($F19=\"SEMESTRAL\",IF(BB115=\"NÃO\",$D19,IF(MOD(COUNT($Q115:BB115)+1,6)=0,(BB115*$E19)+BB115,BB115)),\"NÃO\"),\"NÃO\")","v":"NÃO"},{"$f":"IF(AND(BD$8>=$M19,BD$8<=$N19),IF($F19=\"SEMESTRAL\",IF(BC115=\"NÃO\",$D19,IF(MOD(COUNT($Q115:BC115)+1,6)=0,(BC115*$E19)+BC115,BC115)),\"NÃO\"),\"NÃO\")","v":"NÃO"},{"$f":"IF(AND(BE$8>=$M19,BE$8<=$N19),IF($F19=\"SEMESTRAL\",IF(BD115=\"NÃO\",$D19,IF(MOD(COUNT($Q115:BD115)+1,6)=0,(BD115*$E19)+BD115,BD115)),\"NÃO\"),\"NÃO\")","v":"NÃO"},{"$f":"IF(AND(BF$8>=$M19,BF$8<=$N19),IF($F19=\"SEMESTRAL\",IF(BE115=\"NÃO\",$D19,IF(MOD(COUNT($Q115:BE115)+1,6)=0,(BE115*$E19)+BE115,BE115)),\"NÃO\"),\"NÃO\")","v":"NÃO"},{"$f":"IF(AND(BG$8>=$M19,BG$8<=$N19),IF($F19=\"SEMESTRAL\",IF(BF115=\"NÃO\",$D19,IF(MOD(COUNT($Q115:BF115)+1,6)=0,(BF115*$E19)+BF115,BF115)),\"NÃO\"),\"NÃO\")","v":"NÃO"},{"$f":"IF(AND(BH$8>=$M19,BH$8<=$N19),IF($F19=\"SEMESTRAL\",IF(BG115=\"NÃO\",$D19,IF(MOD(COUNT($Q115:BG115)+1,6)=0,(BG115*$E19)+BG115,BG115)),\"NÃO\"),\"NÃO\")","v":"NÃO"},{"$f":"IF(AND(BI$8>=$M19,BI$8<=$N19),IF($F19=\"SEMESTRAL\",IF(BH115=\"NÃO\",$D19,IF(MOD(COUNT($Q115:BH115)+1,6)=0,(BH115*$E19)+BH115,BH115)),\"NÃO\"),\"NÃO\")","v":"NÃO"},{"$f":"IF(AND(BJ$8>=$M19,BJ$8<=$N19),IF($F19=\"SEMESTRAL\",IF(BI115=\"NÃO\",$D19,IF(MOD(COUNT($Q115:BI115)+1,6)=0,(BI115*$E19)+BI115,BI115)),\"NÃO\"),\"NÃO\")","v":"NÃO"},{"$f":"IF(AND(BK$8>=$M19,BK$8<=$N19),IF($F19=\"SEMESTRAL\",IF(BJ115=\"NÃO\",$D19,IF(MOD(COUNT($Q115:BJ115)+1,6)=0,(BJ115*$E19)+BJ115,BJ115)),\"NÃO\"),\"NÃO\")","v":"NÃO"},{"$f":"IF(AND(BL$8>=$M19,BL$8<=$N19),IF($F19=\"SEMESTRAL\",IF(BK115=\"NÃO\",$D19,IF(MOD(COUNT($Q115:BK115)+1,6)=0,(BK115*$E19)+BK115,BK115)),\"NÃO\"),\"NÃO\")","v":"NÃO"},{"$f":"IF(AND(BM$8>=$M19,BM$8<=$N19),IF($F19=\"SEMESTRAL\",IF(BL115=\"NÃO\",$D19,IF(MOD(COUNT($Q115:BL115)+1,6)=0,(BL115*$E19)+BL115,BL115)),\"NÃO\"),\"NÃO\")","v":"NÃO"},{"$f":"IF(AND(BN$8>=$M19,BN$8<=$N19),IF($F19=\"SEMESTRAL\",IF(BM115=\"NÃO\",$D19,IF(MOD(COUNT($Q115:BM115)+1,6)=0,(BM115*$E19)+BM115,BM115)),\"NÃO\"),\"NÃO\")","v":"NÃO"},{"$f":"IF(AND(BO$8>=$M19,BO$8<=$N19),IF($F19=\"SEMESTRAL\",IF(BN115=\"NÃO\",$D19,IF(MOD(COUNT($Q115:BN115)+1,6)=0,(BN115*$E19)+BN115,BN115)),\"NÃO\"),\"NÃO\")","v":"NÃO"},{"$f":"IF(AND(BP$8>=$M19,BP$8<=$N19),IF($F19=\"SEMESTRAL\",IF(BO115=\"NÃO\",$D19,IF(MOD(COUNT($Q115:BO115)+1,6)=0,(BO115*$E19)+BO115,BO115)),\"NÃO\"),\"NÃO\")","v":"NÃO"},{"$f":"IF(AND(BQ$8>=$M19,BQ$8<=$N19),IF($F19=\"SEMESTRAL\",IF(BP115=\"NÃO\",$D19,IF(MOD(COUNT($Q115:BP115)+1,6)=0,(BP115*$E19)+BP115,BP115)),\"NÃO\"),\"NÃO\")","v":"NÃO"},{"$f":"IF(AND(BR$8>=$M19,BR$8<=$N19),IF($F19=\"SEMESTRAL\",IF(BQ115=\"NÃO\",$D19,IF(MOD(COUNT($Q115:BQ115)+1,6)=0,(BQ115*$E19)+BQ115,BQ115)),\"NÃO\"),\"NÃO\")","v":"NÃO"},{"$f":"IF(AND(BS$8>=$M19,BS$8<=$N19),IF($F19=\"SEMESTRAL\",IF(BR115=\"NÃO\",$D19,IF(MOD(COUNT($Q115:BR115)+1,6)=0,(BR115*$E19)+BR115,BR115)),\"NÃO\"),\"NÃO\")","v":"NÃO"},{"$f":"IF(AND(BT$8>=$M19,BT$8<=$N19),IF($F19=\"SEMESTRAL\",IF(BS115=\"NÃO\",$D19,IF(MOD(COUNT($Q115:BS115)+1,6)=0,(BS115*$E19)+BS115,BS115)),\"NÃO\"),\"NÃO\")","v":"NÃO"},{"$f":"IF(AND(BU$8>=$M19,BU$8<=$N19),IF($F19=\"SEMESTRAL\",IF(BT115=\"NÃO\",$D19,IF(MOD(COUNT($Q115:BT115)+1,6)=0,(BT115*$E19)+BT115,BT115)),\"NÃO\"),\"NÃO\")","v":"NÃO"},{"$f":"IF(AND(BV$8>=$M19,BV$8<=$N19),IF($F19=\"SEMESTRAL\",IF(BU115=\"NÃO\",$D19,IF(MOD(COUNT($Q115:BU115)+1,6)=0,(BU115*$E19)+BU115,BU115)),\"NÃO\"),\"NÃO\")","v":"NÃO"},{"$f":"IF(AND(BW$8>=$M19,BW$8<=$N19),IF($F19=\"SEMESTRAL\",IF(BV115=\"NÃO\",$D19,IF(MOD(COUNT($Q115:BV115)+1,6)=0,(BV115*$E19)+BV115,BV115)),\"NÃO\"),\"NÃO\")","v":"NÃO"},{"$f":"IF(AND(BX$8>=$M19,BX$8<=$N19),IF($F19=\"SEMESTRAL\",IF(BW115=\"NÃO\",$D19,IF(MOD(COUNT($Q115:BW115)+1,6)=0,(BW115*$E19)+BW115,BW115)),\"NÃO\"),\"NÃO\")","v":"NÃO"}]
[null,null,null,null,null,null,null,null,null,null,null,null,null,null,null,12,"NÃO",{"$f":"IF(AND(R$8>=$M20,R$8<=$N20),IF($F20=\"SEMESTRAL\",IF(Q116=\"NÃO\",$D20,IF(MOD(COUNT($Q116:Q116)+1,6)=0,(Q116*$E20)+Q116,Q116)),\"NÃO\"),\"NÃO\")","v":"NÃO"},{"$f":"IF(AND(S$8>=$M20,S$8<=$N20),IF($F20=\"SEMESTRAL\",IF(R116=\"NÃO\",$D20,IF(MOD(COUNT($Q116:R116)+1,6)=0,(R116*$E20)+R116,R116)),\"NÃO\"),\"NÃO\")","v":"NÃO"},{"$f":"IF(AND(T$8>=$M20,T$8<=$N20),IF($F20=\"SEMESTRAL\",IF(S116=\"NÃO\",$D20,IF(MOD(COUNT($Q116:S116)+1,6)=0,(S116*$E20)+S116,S116)),\"NÃO\"),\"NÃO\")","v":"NÃO"},{"$f":"IF(AND(U$8>=$M20,U$8<=$N20),IF($F20=\"SEMESTRAL\",IF(T116=\"NÃO\",$D20,IF(MOD(COUNT($Q116:T116)+1,6)=0,(T116*$E20)+T116,T116)),\"NÃO\"),\"NÃO\")","v":"NÃO"},{"$f":"IF(AND(V$8>=$M20,V$8<=$N20),IF($F20=\"SEMESTRAL\",IF(U116=\"NÃO\",$D20,IF(MOD(COUNT($Q116:U116)+1,6)=0,(U116*$E20)+U116,U116)),\"NÃO\"),\"NÃO\")","v":"NÃO"},{"$f":"IF(AND(W$8>=$M20,W$8<=$N20),IF($F20=\"SEMESTRAL\",IF(V116=\"NÃO\",$D20,IF(MOD(COUNT($Q116:V116)+1,6)=0,(V116*$E20)+V116,V116)),\"NÃO\"),\"NÃO\")","v":"NÃO"},{"$f":"IF(AND(X$8>=$M20,X$8<=$N20),IF($F20=\"SEMESTRAL\",IF(W116=\"NÃO\",$D20,IF(MOD(COUNT($Q116:W116)+1,6)=0,(W116*$E20)+W116,W116)),\"NÃO\"),\"NÃO\")","v":"NÃO"},{"$f":"IF(AND(Y$8>=$M20,Y$8<=$N20),IF($F20=\"SEMESTRAL\",IF(X116=\"NÃO\",$D20,IF(MOD(COUNT($Q116:X116)+1,6)=0,(X116*$E20)+X116,X116)),\"NÃO\"),\"NÃO\")","v":"NÃO"},{"$f":"IF(AND(Z$8>=$M20,Z$8<=$N20),IF($F20=\"SEMESTRAL\",IF(Y116=\"NÃO\",$D20,IF(MOD(COUNT($Q116:Y116)+1,6)=0,(Y116*$E20)+Y116,Y116)),\"NÃO\"),\"NÃO\")","v":"NÃO"},{"$f":"IF(AND(AA$8>=$M20,AA$8<=$N20),IF($F20=\"SEMESTRAL\",IF(Z116=\"NÃO\",$D20,IF(MOD(COUNT($Q116:Z116)+1,6)=0,(Z116*$E20)+Z116,Z116)),\"NÃO\"),\"NÃO\")","v":"NÃO"},{"$f":"IF(AND(AB$8>=$M20,AB$8<=$N20),IF($F20=\"SEMESTRAL\",IF(AA116=\"NÃO\",$D20,IF(MOD(COUNT($Q116:AA116)+1,6)=0,(AA116*$E20)+AA116,AA116)),\"NÃO\"),\"NÃO\")","v":"NÃO"},{"$f":"IF(AND(AC$8>=$M20,AC$8<=$N20),IF($F20=\"SEMESTRAL\",IF(AB116=\"NÃO\",$D20,IF(MOD(COUNT($Q116:AB116)+1,6)=0,(AB116*$E20)+AB116,AB116)),\"NÃO\"),\"NÃO\")","v":"NÃO"},{"$f":"IF(AND(AD$8>=$M20,AD$8<=$N20),IF($F20=\"SEMESTRAL\",IF(AC116=\"NÃO\",$D20,IF(MOD(COUNT($Q116:AC116)+1,6)=0,(AC116*$E20)+AC116,AC116)),\"NÃO\"),\"NÃO\")","v":"NÃO"},{"$f":"IF(AND(AE$8>=$M20,AE$8<=$N20),IF($F20=\"SEMESTRAL\",IF(AD116=\"NÃO\",$D20,IF(MOD(COUNT($Q116:AD116)+1,6)=0,(AD116*$E20)+AD116,AD116)),\"NÃO\"),\"NÃO\")","v":"NÃO"},{"$f":"IF(AND(AF$8>=$M20,AF$8<=$N20),IF($F20=\"SEMESTRAL\",IF(AE116=\"NÃO\",$D20,IF(MOD(COUNT($Q116:AE116)+1,6)=0,(AE116*$E20)+AE116,AE116)),\"NÃO\"),\"NÃO\")","v":"NÃO"},{"$f":"IF(AND(AG$8>=$M20,AG$8<=$N20),IF($F20=\"SEMESTRAL\",IF(AF116=\"NÃO\",$D20,IF(MOD(COUNT($Q116:AF116)+1,6)=0,(AF116*$E20)+AF116,AF116)),\"NÃO\"),\"NÃO\")","v":"NÃO"},{"$f":"IF(AND(AH$8>=$M20,AH$8<=$N20),IF($F20=\"SEMESTRAL\",IF(AG116=\"NÃO\",$D20,IF(MOD(COUNT($Q116:AG116)+1,6)=0,(AG116*$E20)+AG116,AG116)),\"NÃO\"),\"NÃO\")","v":"NÃO"},{"$f":"IF(AND(AI$8>=$M20,AI$8<=$N20),IF($F20=\"SEMESTRAL\",IF(AH116=\"NÃO\",$D20,IF(MOD(COUNT($Q116:AH116)+1,6)=0,(AH116*$E20)+AH116,AH116)),\"NÃO\"),\"NÃO\")","v":"NÃO"},{"$f":"IF(AND(AJ$8>=$M20,AJ$8<=$N20),IF($F20=\"SEMESTRAL\",IF(AI116=\"NÃO\",$D20,IF(MOD(COUNT($Q116:AI116)+1,6)=0,(AI116*$E20)+AI116,AI116)),\"NÃO\"),\"NÃO\")","v":"NÃO"},{"$f":"IF(AND(AK$8>=$M20,AK$8<=$N20),IF($F20=\"SEMESTRAL\",IF(AJ116=\"NÃO\",$D20,IF(MOD(COUNT($Q116:AJ116)+1,6)=0,(AJ116*$E20)+AJ116,AJ116)),\"NÃO\"),\"NÃO\")","v":"NÃO"},{"$f":"IF(AND(AL$8>=$M20,AL$8<=$N20),IF($F20=\"SEMESTRAL\",IF(AK116=\"NÃO\",$D20,IF(MOD(COUNT($Q116:AK116)+1,6)=0,(AK116*$E20)+AK116,AK116)),\"NÃO\"),\"NÃO\")","v":"NÃO"},{"$f":"IF(AND(AM$8>=$M20,AM$8<=$N20),IF($F20=\"SEMESTRAL\",IF(AL116=\"NÃO\",$D20,IF(MOD(COUNT($Q116:AL116)+1,6)=0,(AL116*$E20)+AL116,AL116)),\"NÃO\"),\"NÃO\")","v":"NÃO"},{"$f":"IF(AND(AN$8>=$M20,AN$8<=$N20),IF($F20=\"SEMESTRAL\",IF(AM116=\"NÃO\",$D20,IF(MOD(COUNT($Q116:AM116)+1,6)=0,(AM116*$E20)+AM116,AM116)),\"NÃO\"),\"NÃO\")","v":"NÃO"},{"$f":"IF(AND(AO$8>=$M20,AO$8<=$N20),IF($F20=\"SEMESTRAL\",IF(AN116=\"NÃO\",$D20,IF(MOD(COUNT($Q116:AN116)+1,6)=0,(AN116*$E20)+AN116,AN116)),\"NÃO\"),\"NÃO\")","v":"NÃO"},{"$f":"IF(AND(AP$8>=$M20,AP$8<=$N20),IF($F20=\"SEMESTRAL\",IF(AO116=\"NÃO\",$D20,IF(MOD(COUNT($Q116:AO116)+1,6)=0,(AO116*$E20)+AO116,AO116)),\"NÃO\"),\"NÃO\")","v":"NÃO"},{"$f":"IF(AND(AQ$8>=$M20,AQ$8<=$N20),IF($F20=\"SEMESTRAL\",IF(AP116=\"NÃO\",$D20,IF(MOD(COUNT($Q116:AP116)+1,6)=0,(AP116*$E20)+AP116,AP116)),\"NÃO\"),\"NÃO\")","v":"NÃO"},{"$f":"IF(AND(AR$8>=$M20,AR$8<=$N20),IF($F20=\"SEMESTRAL\",IF(AQ116=\"NÃO\",$D20,IF(MOD(COUNT($Q116:AQ116)+1,6)=0,(AQ116*$E20)+AQ116,AQ116)),\"NÃO\"),\"NÃO\")","v":"NÃO"},{"$f":"IF(AND(AS$8>=$M20,AS$8<=$N20),IF($F20=\"SEMESTRAL\",IF(AR116=\"NÃO\",$D20,IF(MOD(COUNT($Q116:AR116)+1,6)=0,(AR116*$E20)+AR116,AR116)),\"NÃO\"),\"NÃO\")","v":"NÃO"},{"$f":"IF(AND(AT$8>=$M20,AT$8<=$N20),IF($F20=\"SEMESTRAL\",IF(AS116=\"NÃO\",$D20,IF(MOD(COUNT($Q116:AS116)+1,6)=0,(AS116*$E20)+AS116,AS116)),\"NÃO\"),\"NÃO\")","v":"NÃO"},{"$f":"IF(AND(AU$8>=$M20,AU$8<=$N20),IF($F20=\"SEMESTRAL\",IF(AT116=\"NÃO\",$D20,IF(MOD(COUNT($Q116:AT116)+1,6)=0,(AT116*$E20)+AT116,AT116)),\"NÃO\"),\"NÃO\")","v":"NÃO"},{"$f":"IF(AND(AV$8>=$M20,AV$8<=$N20),IF($F20=\"SEMESTRAL\",IF(AU116=\"NÃO\",$D20,IF(MOD(COUNT($Q116:AU116)+1,6)=0,(AU116*$E20)+AU116,AU116)),\"NÃO\"),\"NÃO\")","v":"NÃO"},{"$f":"IF(AND(AW$8>=$M20,AW$8<=$N20),IF($F20=\"SEMESTRAL\",IF(AV116=\"NÃO\",$D20,IF(MOD(COUNT($Q116:AV116)+1,6)=0,(AV116*$E20)+AV116,AV116)),\"NÃO\"),\"NÃO\")","v":"NÃO"},{"$f":"IF(AND(AX$8>=$M20,AX$8<=$N20),IF($F20=\"SEMESTRAL\",IF(AW116=\"NÃO\",$D20,IF(MOD(COUNT($Q116:AW116)+1,6)=0,(AW116*$E20)+AW116,AW116)),\"NÃO\"),\"NÃO\")","v":"NÃO"},{"$f":"IF(AND(AY$8>=$M20,AY$8<=$N20),IF($F20=\"SEMESTRAL\",IF(AX116=\"NÃO\",$D20,IF(MOD(COUNT($Q116:AX116)+1,6)=0,(AX116*$E20)+AX116,AX116)),\"NÃO\"),\"NÃO\")","v":"NÃO"},{"$f":"IF(AND(AZ$8>=$M20,AZ$8<=$N20),IF($F20=\"SEMESTRAL\",IF(AY116=\"NÃO\",$D20,IF(MOD(COUNT($Q116:AY116)+1,6)=0,(AY116*$E20)+AY116,AY116)),\"NÃO\"),\"NÃO\")","v":"NÃO"},{"$f":"IF(AND(BA$8>=$M20,BA$8<=$N20),IF($F20=\"SEMESTRAL\",IF(AZ116=\"NÃO\",$D20,IF(MOD(COUNT($Q116:AZ116)+1,6)=0,(AZ116*$E20)+AZ116,AZ116)),\"NÃO\"),\"NÃO\")","v":"NÃO"},{"$f":"IF(AND(BB$8>=$M20,BB$8<=$N20),IF($F20=\"SEMESTRAL\",IF(BA116=\"NÃO\",$D20,IF(MOD(COUNT($Q116:BA116)+1,6)=0,(BA116*$E20)+BA116,BA116)),\"NÃO\"),\"NÃO\")","v":"NÃO"},{"$f":"IF(AND(BC$8>=$M20,BC$8<=$N20),IF($F20=\"SEMESTRAL\",IF(BB116=\"NÃO\",$D20,IF(MOD(COUNT($Q116:BB116)+1,6)=0,(BB116*$E20)+BB116,BB116)),\"NÃO\"),\"NÃO\")","v":"NÃO"},{"$f":"IF(AND(BD$8>=$M20,BD$8<=$N20),IF($F20=\"SEMESTRAL\",IF(BC116=\"NÃO\",$D20,IF(MOD(COUNT($Q116:BC116)+1,6)=0,(BC116*$E20)+BC116,BC116)),\"NÃO\"),\"NÃO\")","v":"NÃO"},{"$f":"IF(AND(BE$8>=$M20,BE$8<=$N20),IF($F20=\"SEMESTRAL\",IF(BD116=\"NÃO\",$D20,IF(MOD(COUNT($Q116:BD116)+1,6)=0,(BD116*$E20)+BD116,BD116)),\"NÃO\"),\"NÃO\")","v":"NÃO"},{"$f":"IF(AND(BF$8>=$M20,BF$8<=$N20),IF($F20=\"SEMESTRAL\",IF(BE116=\"NÃO\",$D20,IF(MOD(COUNT($Q116:BE116)+1,6)=0,(BE116*$E20)+BE116,BE116)),\"NÃO\"),\"NÃO\")","v":"NÃO"},{"$f":"IF(AND(BG$8>=$M20,BG$8<=$N20),IF($F20=\"SEMESTRAL\",IF(BF116=\"NÃO\",$D20,IF(MOD(COUNT($Q116:BF116)+1,6)=0,(BF116*$E20)+BF116,BF116)),\"NÃO\"),\"NÃO\")","v":"NÃO"},{"$f":"IF(AND(BH$8>=$M20,BH$8<=$N20),IF($F20=\"SEMESTRAL\",IF(BG116=\"NÃO\",$D20,IF(MOD(COUNT($Q116:BG116)+1,6)=0,(BG116*$E20)+BG116,BG116)),\"NÃO\"),\"NÃO\")","v":"NÃO"},{"$f":"IF(AND(BI$8>=$M20,BI$8<=$N20),IF($F20=\"SEMESTRAL\",IF(BH116=\"NÃO\",$D20,IF(MOD(COUNT($Q116:BH116)+1,6)=0,(BH116*$E20)+BH116,BH116)),\"NÃO\"),\"NÃO\")","v":"NÃO"},{"$f":"IF(AND(BJ$8>=$M20,BJ$8<=$N20),IF($F20=\"SEMESTRAL\",IF(BI116=\"NÃO\",$D20,IF(MOD(COUNT($Q116:BI116)+1,6)=0,(BI116*$E20)+BI116,BI116)),\"NÃO\"),\"NÃO\")","v":"NÃO"},{"$f":"IF(AND(BK$8>=$M20,BK$8<=$N20),IF($F20=\"SEMESTRAL\",IF(BJ116=\"NÃO\",$D20,IF(MOD(COUNT($Q116:BJ116)+1,6)=0,(BJ116*$E20)+BJ116,BJ116)),\"NÃO\"),\"NÃO\")","v":"NÃO"},{"$f":"IF(AND(BL$8>=$M20,BL$8<=$N20),IF($F20=\"SEMESTRAL\",IF(BK116=\"NÃO\",$D20,IF(MOD(COUNT($Q116:BK116)+1,6)=0,(BK116*$E20)+BK116,BK116)),\"NÃO\"),\"NÃO\")","v":"NÃO"},{"$f":"IF(AND(BM$8>=$M20,BM$8<=$N20),IF($F20=\"SEMESTRAL\",IF(BL116=\"NÃO\",$D20,IF(MOD(COUNT($Q116:BL116)+1,6)=0,(BL116*$E20)+BL116,BL116)),\"NÃO\"),\"NÃO\")","v":"NÃO"},{"$f":"IF(AND(BN$8>=$M20,BN$8<=$N20),IF($F20=\"SEMESTRAL\",IF(BM116=\"NÃO\",$D20,IF(MOD(COUNT($Q116:BM116)+1,6)=0,(BM116*$E20)+BM116,BM116)),\"NÃO\"),\"NÃO\")","v":"NÃO"},{"$f":"IF(AND(BO$8>=$M20,BO$8<=$N20),IF($F20=\"SEMESTRAL\",IF(BN116=\"NÃO\",$D20,IF(MOD(COUNT($Q116:BN116)+1,6)=0,(BN116*$E20)+BN116,BN116)),\"NÃO\"),\"NÃO\")","v":"NÃO"},{"$f":"IF(AND(BP$8>=$M20,BP$8<=$N20),IF($F20=\"SEMESTRAL\",IF(BO116=\"NÃO\",$D20,IF(MOD(COUNT($Q116:BO116)+1,6)=0,(BO116*$E20)+BO116,BO116)),\"NÃO\"),\"NÃO\")","v":"NÃO"},{"$f":"IF(AND(BQ$8>=$M20,BQ$8<=$N20),IF($F20=\"SEMESTRAL\",IF(BP116=\"NÃO\",$D20,IF(MOD(COUNT($Q116:BP116)+1,6)=0,(BP116*$E20)+BP116,BP116)),\"NÃO\"),\"NÃO\")","v":"NÃO"},{"$f":"IF(AND(BR$8>=$M20,BR$8<=$N20),IF($F20=\"SEMESTRAL\",IF(BQ116=\"NÃO\",$D20,IF(MOD(COUNT($Q116:BQ116)+1,6)=0,(BQ116*$E20)+BQ116,BQ116)),\"NÃO\"),\"NÃO\")","v":"NÃO"},{"$f":"IF(AND(BS$8>=$M20,BS$8<=$N20),IF($F20=\"SEMESTRAL\",IF(BR116=\"NÃO\",$D20,IF(MOD(COUNT($Q116:BR116)+1,6)=0,(BR116*$E20)+BR116,BR116)),\"NÃO\"),\"NÃO\")","v":"NÃO"},{"$f":"IF(AND(BT$8>=$M20,BT$8<=$N20),IF($F20=\"SEMESTRAL\",IF(BS116=\"NÃO\",$D20,IF(MOD(COUNT($Q116:BS116)+1,6)=0,(BS116*$E20)+BS116,BS116)),\"NÃO\"),\"NÃO\")","v":"NÃO"},{"$f":"IF(AND(BU$8>=$M20,BU$8<=$N20),IF($F20=\"SEMESTRAL\",IF(BT116=\"NÃO\",$D20,IF(MOD(COUNT($Q116:BT116)+1,6)=0,(BT116*$E20)+BT116,BT116)),\"NÃO\"),\"NÃO\")","v":"NÃO"},{"$f":"IF(AND(BV$8>=$M20,BV$8<=$N20),IF($F20=\"SEMESTRAL\",IF(BU116=\"NÃO\",$D20,IF(MOD(COUNT($Q116:BU116)+1,6)=0,(BU116*$E20)+BU116,BU116)),\"NÃO\"),\"NÃO\")","v":"NÃO"},{"$f":"IF(AND(BW$8>=$M20,BW$8<=$N20),IF($F20=\"SEMESTRAL\",IF(BV116=\"NÃO\",$D20,IF(MOD(COUNT($Q116:BV116)+1,6)=0,(BV116*$E20)+BV116,BV116)),\"NÃO\"),\"NÃO\")","v":"NÃO"},{"$f":"IF(AND(BX$8>=$M20,BX$8<=$N20),IF($F20=\"SEMESTRAL\",IF(BW116=\"NÃO\",$D20,IF(MOD(COUNT($Q116:BW116)+1,6)=0,(BW116*$E20)+BW116,BW116)),\"NÃO\"),\"NÃO\")","v":"NÃO"}]
[null,null,null,null,null,null,null,null,null,null,null,null,null,null,null,13,"NÃO",{"$f":"IF(AND(R$8>=$M21,R$8<=$N21),IF($F21=\"SEMESTRAL\",IF(Q117=\"NÃO\",$D21,IF(MOD(COUNT($Q117:Q117)+1,6)=0,(Q117*$E21)+Q117,Q117)),\"NÃO\"),\"NÃO\")","v":"NÃO"},{"$f":"IF(AND(S$8>=$M21,S$8<=$N21),IF($F21=\"SEMESTRAL\",IF(R117=\"NÃO\",$D21,IF(MOD(COUNT($Q117:R117)+1,6)=0,(R117*$E21)+R117,R117)),\"NÃO\"),\"NÃO\")","v":"NÃO"},{"$f":"IF(AND(T$8>=$M21,T$8<=$N21),IF($F21=\"SEMESTRAL\",IF(S117=\"NÃO\",$D21,IF(MOD(COUNT($Q117:S117)+1,6)=0,(S117*$E21)+S117,S117)),\"NÃO\"),\"NÃO\")","v":"NÃO"},{"$f":"IF(AND(U$8>=$M21,U$8<=$N21),IF($F21=\"SEMESTRAL\",IF(T117=\"NÃO\",$D21,IF(MOD(COUNT($Q117:T117)+1,6)=0,(T117*$E21)+T117,T117)),\"NÃO\"),\"NÃO\")","v":"NÃO"},{"$f":"IF(AND(V$8>=$M21,V$8<=$N21),IF($F21=\"SEMESTRAL\",IF(U117=\"NÃO\",$D21,IF(MOD(COUNT($Q117:U117)+1,6)=0,(U117*$E21)+U117,U117)),\"NÃO\"),\"NÃO\")","v":"NÃO"},{"$f":"IF(AND(W$8>=$M21,W$8<=$N21),IF($F21=\"SEMESTRAL\",IF(V117=\"NÃO\",$D21,IF(MOD(COUNT($Q117:V117)+1,6)=0,(V117*$E21)+V117,V117)),\"NÃO\"),\"NÃO\")","v":"NÃO"},{"$f":"IF(AND(X$8>=$M21,X$8<=$N21),IF($F21=\"SEMESTRAL\",IF(W117=\"NÃO\",$D21,IF(MOD(COUNT($Q117:W117)+1,6)=0,(W117*$E21)+W117,W117)),\"NÃO\"),\"NÃO\")","v":"NÃO"},{"$f":"IF(AND(Y$8>=$M21,Y$8<=$N21),IF($F21=\"SEMESTRAL\",IF(X117=\"NÃO\",$D21,IF(MOD(COUNT($Q117:X117)+1,6)=0,(X117*$E21)+X117,X117)),\"NÃO\"),\"NÃO\")","v":"NÃO"},{"$f":"IF(AND(Z$8>=$M21,Z$8<=$N21),IF($F21=\"SEMESTRAL\",IF(Y117=\"NÃO\",$D21,IF(MOD(COUNT($Q117:Y117)+1,6)=0,(Y117*$E21)+Y117,Y117)),\"NÃO\"),\"NÃO\")","v":"NÃO"},{"$f":"IF(AND(AA$8>=$M21,AA$8<=$N21),IF($F21=\"SEMESTRAL\",IF(Z117=\"NÃO\",$D21,IF(MOD(COUNT($Q117:Z117)+1,6)=0,(Z117*$E21)+Z117,Z117)),\"NÃO\"),\"NÃO\")","v":"NÃO"},{"$f":"IF(AND(AB$8>=$M21,AB$8<=$N21),IF($F21=\"SEMESTRAL\",IF(AA117=\"NÃO\",$D21,IF(MOD(COUNT($Q117:AA117)+1,6)=0,(AA117*$E21)+AA117,AA117)),\"NÃO\"),\"NÃO\")","v":"NÃO"},{"$f":"IF(AND(AC$8>=$M21,AC$8<=$N21),IF($F21=\"SEMESTRAL\",IF(AB117=\"NÃO\",$D21,IF(MOD(COUNT($Q117:AB117)+1,6)=0,(AB117*$E21)+AB117,AB117)),\"NÃO\"),\"NÃO\")","v":"NÃO"},{"$f":"IF(AND(AD$8>=$M21,AD$8<=$N21),IF($F21=\"SEMESTRAL\",IF(AC117=\"NÃO\",$D21,IF(MOD(COUNT($Q117:AC117)+1,6)=0,(AC117*$E21)+AC117,AC117)),\"NÃO\"),\"NÃO\")","v":"NÃO"},{"$f":"IF(AND(AE$8>=$M21,AE$8<=$N21),IF($F21=\"SEMESTRAL\",IF(AD117=\"NÃO\",$D21,IF(MOD(COUNT($Q117:AD117)+1,6)=0,(AD117*$E21)+AD117,AD117)),\"NÃO\"),\"NÃO\")","v":"NÃO"},{"$f":"IF(AND(AF$8>=$M21,AF$8<=$N21),IF($F21=\"SEMESTRAL\",IF(AE117=\"NÃO\",$D21,IF(MOD(COUNT($Q117:AE117)+1,6)=0,(AE117*$E21)+AE117,AE117)),\"NÃO\"),\"NÃO\")","v":"NÃO"},{"$f":"IF(AND(AG$8>=$M21,AG$8<=$N21),IF($F21=\"SEMESTRAL\",IF(AF117=\"NÃO\",$D21,IF(MOD(COUNT($Q117:AF117)+1,6)=0,(AF117*$E21)+AF117,AF117)),\"NÃO\"),\"NÃO\")","v":"NÃO"},{"$f":"IF(AND(AH$8>=$M21,AH$8<=$N21),IF($F21=\"SEMESTRAL\",IF(AG117=\"NÃO\",$D21,IF(MOD(COUNT($Q117:AG117)+1,6)=0,(AG117*$E21)+AG117,AG117)),\"NÃO\"),\"NÃO\")","v":"NÃO"},{"$f":"IF(AND(AI$8>=$M21,AI$8<=$N21),IF($F21=\"SEMESTRAL\",IF(AH117=\"NÃO\",$D21,IF(MOD(COUNT($Q117:AH117)+1,6)=0,(AH117*$E21)+AH117,AH117)),\"NÃO\"),\"NÃO\")","v":"NÃO"},{"$f":"IF(AND(AJ$8>=$M21,AJ$8<=$N21),IF($F21=\"SEMESTRAL\",IF(AI117=\"NÃO\",$D21,IF(MOD(COUNT($Q117:AI117)+1,6)=0,(AI117*$E21)+AI117,AI117)),\"NÃO\"),\"NÃO\")","v":"NÃO"},{"$f":"IF(AND(AK$8>=$M21,AK$8<=$N21),IF($F21=\"SEMESTRAL\",IF(AJ117=\"NÃO\",$D21,IF(MOD(COUNT($Q117:AJ117)+1,6)=0,(AJ117*$E21)+AJ117,AJ117)),\"NÃO\"),\"NÃO\")","v":"NÃO"},{"$f":"IF(AND(AL$8>=$M21,AL$8<=$N21),IF($F21=\"SEMESTRAL\",IF(AK117=\"NÃO\",$D21,IF(MOD(COUNT($Q117:AK117)+1,6)=0,(AK117*$E21)+AK117,AK117)),\"NÃO\"),\"NÃO\")","v":"NÃO"},{"$f":"IF(AND(AM$8>=$M21,AM$8<=$N21),IF($F21=\"SEMESTRAL\",IF(AL117=\"NÃO\",$D21,IF(MOD(COUNT($Q117:AL117)+1,6)=0,(AL117*$E21)+AL117,AL117)),\"NÃO\"),\"NÃO\")","v":"NÃO"},{"$f":"IF(AND(AN$8>=$M21,AN$8<=$N21),IF($F21=\"SEMESTRAL\",IF(AM117=\"NÃO\",$D21,IF(MOD(COUNT($Q117:AM117)+1,6)=0,(AM117*$E21)+AM117,AM117)),\"NÃO\"),\"NÃO\")","v":"NÃO"},{"$f":"IF(AND(AO$8>=$M21,AO$8<=$N21),IF($F21=\"SEMESTRAL\",IF(AN117=\"NÃO\",$D21,IF(MOD(COUNT($Q117:AN117)+1,6)=0,(AN117*$E21)+AN117,AN117)),\"NÃO\"),\"NÃO\")","v":"NÃO"},{"$f":"IF(AND(AP$8>=$M21,AP$8<=$N21),IF($F21=\"SEMESTRAL\",IF(AO117=\"NÃO\",$D21,IF(MOD(COUNT($Q117:AO117)+1,6)=0,(AO117*$E21)+AO117,AO117)),\"NÃO\"),\"NÃO\")","v":"NÃO"},{"$f":"IF(AND(AQ$8>=$M21,AQ$8<=$N21),IF($F21=\"SEMESTRAL\",IF(AP117=\"NÃO\",$D21,IF(MOD(COUNT($Q117:AP117)+1,6)=0,(AP117*$E21)+AP117,AP117)),\"NÃO\"),\"NÃO\")","v":"NÃO"},{"$f":"IF(AND(AR$8>=$M21,AR$8<=$N21),IF($F21=\"SEMESTRAL\",IF(AQ117=\"NÃO\",$D21,IF(MOD(COUNT($Q117:AQ117)+1,6)=0,(AQ117*$E21)+AQ117,AQ117)),\"NÃO\"),\"NÃO\")","v":"NÃO"},{"$f":"IF(AND(AS$8>=$M21,AS$8<=$N21),IF($F21=\"SEMESTRAL\",IF(AR117=\"NÃO\",$D21,IF(MOD(COUNT($Q117:AR117)+1,6)=0,(AR117*$E21)+AR117,AR117)),\"NÃO\"),\"NÃO\")","v":"NÃO"},{"$f":"IF(AND(AT$8>=$M21,AT$8<=$N21),IF($F21=\"SEMESTRAL\",IF(AS117=\"NÃO\",$D21,IF(MOD(COUNT($Q117:AS117)+1,6)=0,(AS117*$E21)+AS117,AS117)),\"NÃO\"),\"NÃO\")","v":"NÃO"},{"$f":"IF(AND(AU$8>=$M21,AU$8<=$N21),IF($F21=\"SEMESTRAL\",IF(AT117=\"NÃO\",$D21,IF(MOD(COUNT($Q117:AT117)+1,6)=0,(AT117*$E21)+AT117,AT117)),\"NÃO\"),\"NÃO\")","v":"NÃO"},{"$f":"IF(AND(AV$8>=$M21,AV$8<=$N21),IF($F21=\"SEMESTRAL\",IF(AU117=\"NÃO\",$D21,IF(MOD(COUNT($Q117:AU117)+1,6)=0,(AU117*$E21)+AU117,AU117)),\"NÃO\"),\"NÃO\")","v":"NÃO"},{"$f":"IF(AND(AW$8>=$M21,AW$8<=$N21),IF($F21=\"SEMESTRAL\",IF(AV117=\"NÃO\",$D21,IF(MOD(COUNT($Q117:AV117)+1,6)=0,(AV117*$E21)+AV117,AV117)),\"NÃO\"),\"NÃO\")","v":"NÃO"},{"$f":"IF(AND(AX$8>=$M21,AX$8<=$N21),IF($F21=\"SEMESTRAL\",IF(AW117=\"NÃO\",$D21,IF(MOD(COUNT($Q117:AW117)+1,6)=0,(AW117*$E21)+AW117,AW117)),\"NÃO\"),\"NÃO\")","v":"NÃO"},{"$f":"IF(AND(AY$8>=$M21,AY$8<=$N21),IF($F21=\"SEMESTRAL\",IF(AX117=\"NÃO\",$D21,IF(MOD(COUNT($Q117:AX117)+1,6)=0,(AX117*$E21)+AX117,AX117)),\"NÃO\"),\"NÃO\")","v":"NÃO"},{"$f":"IF(AND(AZ$8>=$M21,AZ$8<=$N21),IF($F21=\"SEMESTRAL\",IF(AY117=\"NÃO\",$D21,IF(MOD(COUNT($Q117:AY117)+1,6)=0,(AY117*$E21)+AY117,AY117)),\"NÃO\"),\"NÃO\")","v":"NÃO"},{"$f":"IF(AND(BA$8>=$M21,BA$8<=$N21),IF($F21=\"SEMESTRAL\",IF(AZ117=\"NÃO\",$D21,IF(MOD(COUNT($Q117:AZ117)+1,6)=0,(AZ117*$E21)+AZ117,AZ117)),\"NÃO\"),\"NÃO\")","v":"NÃO"},{"$f":"IF(AND(BB$8>=$M21,BB$8<=$N21),IF($F21=\"SEMESTRAL\",IF(BA117=\"NÃO\",$D21,IF(MOD(COUNT($Q117:BA117)+1,6)=0,(BA117*$E21)+BA117,BA117)),\"NÃO\"),\"NÃO\")","v":"NÃO"},{"$f":"IF(AND(BC$8>=$M21,BC$8<=$N21),IF($F21=\"SEMESTRAL\",IF(BB117=\"NÃO\",$D21,IF(MOD(COUNT($Q117:BB117)+1,6)=0,(BB117*$E21)+BB117,BB117)),\"NÃO\"),\"NÃO\")","v":"NÃO"},{"$f":"IF(AND(BD$8>=$M21,BD$8<=$N21),IF($F21=\"SEMESTRAL\",IF(BC117=\"NÃO\",$D21,IF(MOD(COUNT($Q117:BC117)+1,6)=0,(BC117*$E21)+BC117,BC117)),\"NÃO\"),\"NÃO\")","v":"NÃO"},{"$f":"IF(AND(BE$8>=$M21,BE$8<=$N21),IF($F21=\"SEMESTRAL\",IF(BD117=\"NÃO\",$D21,IF(MOD(COUNT($Q117:BD117)+1,6)=0,(BD117*$E21)+BD117,BD117)),\"NÃO\"),\"NÃO\")","v":"NÃO"},{"$f":"IF(AND(BF$8>=$M21,BF$8<=$N21),IF($F21=\"SEMESTRAL\",IF(BE117=\"NÃO\",$D21,IF(MOD(COUNT($Q117:BE117)+1,6)=0,(BE117*$E21)+BE117,BE117)),\"NÃO\"),\"NÃO\")","v":"NÃO"},{"$f":"IF(AND(BG$8>=$M21,BG$8<=$N21),IF($F21=\"SEMESTRAL\",IF(BF117=\"NÃO\",$D21,IF(MOD(COUNT($Q117:BF117)+1,6)=0,(BF117*$E21)+BF117,BF117)),\"NÃO\"),\"NÃO\")","v":"NÃO"},{"$f":"IF(AND(BH$8>=$M21,BH$8<=$N21),IF($F21=\"SEMESTRAL\",IF(BG117=\"NÃO\",$D21,IF(MOD(COUNT($Q117:BG117)+1,6)=0,(BG117*$E21)+BG117,BG117)),\"NÃO\"),\"NÃO\")","v":"NÃO"},{"$f":"IF(AND(BI$8>=$M21,BI$8<=$N21),IF($F21=\"SEMESTRAL\",IF(BH117=\"NÃO\",$D21,IF(MOD(COUNT($Q117:BH117)+1,6)=0,(BH117*$E21)+BH117,BH117)),\"NÃO\"),\"NÃO\")","v":"NÃO"},{"$f":"IF(AND(BJ$8>=$M21,BJ$8<=$N21),IF($F21=\"SEMESTRAL\",IF(BI117=\"NÃO\",$D21,IF(MOD(COUNT($Q117:BI117)+1,6)=0,(BI117*$E21)+BI117,BI117)),\"NÃO\"),\"NÃO\")","v":"NÃO"},{"$f":"IF(AND(BK$8>=$M21,BK$8<=$N21),IF($F21=\"SEMESTRAL\",IF(BJ117=\"NÃO\",$D21,IF(MOD(COUNT($Q117:BJ117)+1,6)=0,(BJ117*$E21)+BJ117,BJ117)),\"NÃO\"),\"NÃO\")","v":"NÃO"},{"$f":"IF(AND(BL$8>=$M21,BL$8<=$N21),IF($F21=\"SEMESTRAL\",IF(BK117=\"NÃO\",$D21,IF(MOD(COUNT($Q117:BK117)+1,6)=0,(BK117*$E21)+BK117,BK117)),\"NÃO\"),\"NÃO\")","v":"NÃO"},{"$f":"IF(AND(BM$8>=$M21,BM$8<=$N21),IF($F21=\"SEMESTRAL\",IF(BL117=\"NÃO\",$D21,IF(MOD(COUNT($Q117:BL117)+1,6)=0,(BL117*$E21)+BL117,BL117)),\"NÃO\"),\"NÃO\")","v":"NÃO"},{"$f":"IF(AND(BN$8>=$M21,BN$8<=$N21),IF($F21=\"SEMESTRAL\",IF(BM117=\"NÃO\",$D21,IF(MOD(COUNT($Q117:BM117)+1,6)=0,(BM117*$E21)+BM117,BM117)),\"NÃO\"),\"NÃO\")","v":"NÃO"},{"$f":"IF(AND(BO$8>=$M21,BO$8<=$N21),IF($F21=\"SEMESTRAL\",IF(BN117=\"NÃO\",$D21,IF(MOD(COUNT($Q117:BN117)+1,6)=0,(BN117*$E21)+BN117,BN117)),\"NÃO\"),\"NÃO\")","v":"NÃO"},{"$f":"IF(AND(BP$8>=$M21,BP$8<=$N21),IF($F21=\"SEMESTRAL\",IF(BO117=\"NÃO\",$D21,IF(MOD(COUNT($Q117:BO117)+1,6)=0,(BO117*$E21)+BO117,BO117)),\"NÃO\"),\"NÃO\")","v":"NÃO"},{"$f":"IF(AND(BQ$8>=$M21,BQ$8<=$N21),IF($F21=\"SEMESTRAL\",IF(BP117=\"NÃO\",$D21,IF(MOD(COUNT($Q117:BP117)+1,6)=0,(BP117*$E21)+BP117,BP117)),\"NÃO\"),\"NÃO\")","v":"NÃO"},{"$f":"IF(AND(BR$8>=$M21,BR$8<=$N21),IF($F21=\"SEMESTRAL\",IF(BQ117=\"NÃO\",$D21,IF(MOD(COUNT($Q117:BQ117)+1,6)=0,(BQ117*$E21)+BQ117,BQ117)),\"NÃO\"),\"NÃO\")","v":"NÃO"},{"$f":"IF(AND(BS$8>=$M21,BS$8<=$N21),IF($F21=\"SEMESTRAL\",IF(BR117=\"NÃO\",$D21,IF(MOD(COUNT($Q117:BR117)+1,6)=0,(BR117*$E21)+BR117,BR117)),\"NÃO\"),\"NÃO\")","v":"NÃO"},{"$f":"IF(AND(BT$8>=$M21,BT$8<=$N21),IF($F21=\"SEMESTRAL\",IF(BS117=\"NÃO\",$D21,IF(MOD(COUNT($Q117:BS117)+1,6)=0,(BS117*$E21)+BS117,BS117)),\"NÃO\"),\"NÃO\")","v":"NÃO"},{"$f":"IF(AND(BU$8>=$M21,BU$8<=$N21),IF($F21=\"SEMESTRAL\",IF(BT117=\"NÃO\",$D21,IF(MOD(COUNT($Q117:BT117)+1,6)=0,(BT117*$E21)+BT117,BT117)),\"NÃO\"),\"NÃO\")","v":"NÃO"},{"$f":"IF(AND(BV$8>=$M21,BV$8<=$N21),IF($F21=\"SEMESTRAL\",IF(BU117=\"NÃO\",$D21,IF(MOD(COUNT($Q117:BU117)+1,6)=0,(BU117*$E21)+BU117,BU117)),\"NÃO\"),\"NÃO\")","v":"NÃO"},{"$f":"IF(AND(BW$8>=$M21,BW$8<=$N21),IF($F21=\"SEMESTRAL\",IF(BV117=\"NÃO\",$D21,IF(MOD(COUNT($Q117:BV117)+1,6)=0,(BV117*$E21)+BV117,BV117)),\"NÃO\"),\"NÃO\")","v":"NÃO"},{"$f":"IF(AND(BX$8>=$M21,BX$8<=$N21),IF($F21=\"SEMESTRAL\",IF(BW117=\"NÃO\",$D21,IF(MOD(COUNT($Q117:BW117)+1,6)=0,(BW117*$E21)+BW117,BW117)),\"NÃO\"),\"NÃO\")","v":"NÃO"}]
[null,null,null,null,null,null,null,null,null,null,null,null,null,null,null,14,"NÃO",{"$f":"IF(AND(R$8>=$M22,R$8<=$N22),IF($F22=\"SEMESTRAL\",IF(Q118=\"NÃO\",$D22,IF(MOD(COUNT($Q118:Q118)+1,6)=0,(Q118*$E22)+Q118,Q118)),\"NÃO\"),\"NÃO\")","v":"NÃO"},{"$f":"IF(AND(S$8>=$M22,S$8<=$N22),IF($F22=\"SEMESTRAL\",IF(R118=\"NÃO\",$D22,IF(MOD(COUNT($Q118:R118)+1,6)=0,(R118*$E22)+R118,R118)),\"NÃO\"),\"NÃO\")","v":"NÃO"},{"$f":"IF(AND(T$8>=$M22,T$8<=$N22),IF($F22=\"SEMESTRAL\",IF(S118=\"NÃO\",$D22,IF(MOD(COUNT($Q118:S118)+1,6)=0,(S118*$E22)+S118,S118)),\"NÃO\"),\"NÃO\")","v":"NÃO"},{"$f":"IF(AND(U$8>=$M22,U$8<=$N22),IF($F22=\"SEMESTRAL\",IF(T118=\"NÃO\",$D22,IF(MOD(COUNT($Q118:T118)+1,6)=0,(T118*$E22)+T118,T118)),\"NÃO\"),\"NÃO\")","v":"NÃO"},{"$f":"IF(AND(V$8>=$M22,V$8<=$N22),IF($F22=\"SEMESTRAL\",IF(U118=\"NÃO\",$D22,IF(MOD(COUNT($Q118:U118)+1,6)=0,(U118*$E22)+U118,U118)),\"NÃO\"),\"NÃO\")","v":"NÃO"},{"$f":"IF(AND(W$8>=$M22,W$8<=$N22),IF($F22=\"SEMESTRAL\",IF(V118=\"NÃO\",$D22,IF(MOD(COUNT($Q118:V118)+1,6)=0,(V118*$E22)+V118,V118)),\"NÃO\"),\"NÃO\")","v":"NÃO"},{"$f":"IF(AND(X$8>=$M22,X$8<=$N22),IF($F22=\"SEMESTRAL\",IF(W118=\"NÃO\",$D22,IF(MOD(COUNT($Q118:W118)+1,6)=0,(W118*$E22)+W118,W118)),\"NÃO\"),\"NÃO\")","v":"NÃO"},{"$f":"IF(AND(Y$8>=$M22,Y$8<=$N22),IF($F22=\"SEMESTRAL\",IF(X118=\"NÃO\",$D22,IF(MOD(COUNT($Q118:X118)+1,6)=0,(X118*$E22)+X118,X118)),\"NÃO\"),\"NÃO\")","v":"NÃO"},{"$f":"IF(AND(Z$8>=$M22,Z$8<=$N22),IF($F22=\"SEMESTRAL\",IF(Y118=\"NÃO\",$D22,IF(MOD(COUNT($Q118:Y118)+1,6)=0,(Y118*$E22)+Y118,Y118)),\"NÃO\"),\"NÃO\")","v":"NÃO"},{"$f":"IF(AND(AA$8>=$M22,AA$8<=$N22),IF($F22=\"SEMESTRAL\",IF(Z118=\"NÃO\",$D22,IF(MOD(COUNT($Q118:Z118)+1,6)=0,(Z118*$E22)+Z118,Z118)),\"NÃO\"),\"NÃO\")","v":"NÃO"},{"$f":"IF(AND(AB$8>=$M22,AB$8<=$N22),IF($F22=\"SEMESTRAL\",IF(AA118=\"NÃO\",$D22,IF(MOD(COUNT($Q118:AA118)+1,6)=0,(AA118*$E22)+AA118,AA118)),\"NÃO\"),\"NÃO\")","v":"NÃO"},{"$f":"IF(AND(AC$8>=$M22,AC$8<=$N22),IF($F22=\"SEMESTRAL\",IF(AB118=\"NÃO\",$D22,IF(MOD(COUNT($Q118:AB118)+1,6)=0,(AB118*$E22)+AB118,AB118)),\"NÃO\"),\"NÃO\")","v":"NÃO"},{"$f":"IF(AND(AD$8>=$M22,AD$8<=$N22),IF($F22=\"SEMESTRAL\",IF(AC118=\"NÃO\",$D22,IF(MOD(COUNT($Q118:AC118)+1,6)=0,(AC118*$E22)+AC118,AC118)),\"NÃO\"),\"NÃO\")","v":"NÃO"},{"$f":"IF(AND(AE$8>=$M22,AE$8<=$N22),IF($F22=\"SEMESTRAL\",IF(AD118=\"NÃO\",$D22,IF(MOD(COUNT($Q118:AD118)+1,6)=0,(AD118*$E22)+AD118,AD118)),\"NÃO\"),\"NÃO\")","v":"NÃO"},{"$f":"IF(AND(AF$8>=$M22,AF$8<=$N22),IF($F22=\"SEMESTRAL\",IF(AE118=\"NÃO\",$D22,IF(MOD(COUNT($Q118:AE118)+1,6)=0,(AE118*$E22)+AE118,AE118)),\"NÃO\"),\"NÃO\")","v":"NÃO"},{"$f":"IF(AND(AG$8>=$M22,AG$8<=$N22),IF($F22=\"SEMESTRAL\",IF(AF118=\"NÃO\",$D22,IF(MOD(COUNT($Q118:AF118)+1,6)=0,(AF118*$E22)+AF118,AF118)),\"NÃO\"),\"NÃO\")","v":"NÃO"},{"$f":"IF(AND(AH$8>=$M22,AH$8<=$N22),IF($F22=\"SEMESTRAL\",IF(AG118=\"NÃO\",$D22,IF(MOD(COUNT($Q118:AG118)+1,6)=0,(AG118*$E22)+AG118,AG118)),\"NÃO\"),\"NÃO\")","v":"NÃO"},{"$f":"IF(AND(AI$8>=$M22,AI$8<=$N22),IF($F22=\"SEMESTRAL\",IF(AH118=\"NÃO\",$D22,IF(MOD(COUNT($Q118:AH118)+1,6)=0,(AH118*$E22)+AH118,AH118)),\"NÃO\"),\"NÃO\")","v":"NÃO"},{"$f":"IF(AND(AJ$8>=$M22,AJ$8<=$N22),IF($F22=\"SEMESTRAL\",IF(AI118=\"NÃO\",$D22,IF(MOD(COUNT($Q118:AI118)+1,6)=0,(AI118*$E22)+AI118,AI118)),\"NÃO\"),\"NÃO\")","v":"NÃO"},{"$f":"IF(AND(AK$8>=$M22,AK$8<=$N22),IF($F22=\"SEMESTRAL\",IF(AJ118=\"NÃO\",$D22,IF(MOD(COUNT($Q118:AJ118)+1,6)=0,(AJ118*$E22)+AJ118,AJ118)),\"NÃO\"),\"NÃO\")","v":"NÃO"},{"$f":"IF(AND(AL$8>=$M22,AL$8<=$N22),IF($F22=\"SEMESTRAL\",IF(AK118=\"NÃO\",$D22,IF(MOD(COUNT($Q118:AK118)+1,6)=0,(AK118*$E22)+AK118,AK118)),\"NÃO\"),\"NÃO\")","v":"NÃO"},{"$f":"IF(AND(AM$8>=$M22,AM$8<=$N22),IF($F22=\"SEMESTRAL\",IF(AL118=\"NÃO\",$D22,IF(MOD(COUNT($Q118:AL118)+1,6)=0,(AL118*$E22)+AL118,AL118)),\"NÃO\"),\"NÃO\")","v":"NÃO"},{"$f":"IF(AND(AN$8>=$M22,AN$8<=$N22),IF($F22=\"SEMESTRAL\",IF(AM118=\"NÃO\",$D22,IF(MOD(COUNT($Q118:AM118)+1,6)=0,(AM118*$E22)+AM118,AM118)),\"NÃO\"),\"NÃO\")","v":"NÃO"},{"$f":"IF(AND(AO$8>=$M22,AO$8<=$N22),IF($F22=\"SEMESTRAL\",IF(AN118=\"NÃO\",$D22,IF(MOD(COUNT($Q118:AN118)+1,6)=0,(AN118*$E22)+AN118,AN118)),\"NÃO\"),\"NÃO\")","v":"NÃO"},{"$f":"IF(AND(AP$8>=$M22,AP$8<=$N22),IF($F22=\"SEMESTRAL\",IF(AO118=\"NÃO\",$D22,IF(MOD(COUNT($Q118:AO118)+1,6)=0,(AO118*$E22)+AO118,AO118)),\"NÃO\"),\"NÃO\")","v":"NÃO"},{"$f":"IF(AND(AQ$8>=$M22,AQ$8<=$N22),IF($F22=\"SEMESTRAL\",IF(AP118=\"NÃO\",$D22,IF(MOD(COUNT($Q118:AP118)+1,6)=0,(AP118*$E22)+AP118,AP118)),\"NÃO\"),\"NÃO\")","v":"NÃO"},{"$f":"IF(AND(AR$8>=$M22,AR$8<=$N22),IF($F22=\"SEMESTRAL\",IF(AQ118=\"NÃO\",$D22,IF(MOD(COUNT($Q118:AQ118)+1,6)=0,(AQ118*$E22)+AQ118,AQ118)),\"NÃO\"),\"NÃO\")","v":"NÃO"},{"$f":"IF(AND(AS$8>=$M22,AS$8<=$N22),IF($F22=\"SEMESTRAL\",IF(AR118=\"NÃO\",$D22,IF(MOD(COUNT($Q118:AR118)+1,6)=0,(AR118*$E22)+AR118,AR118)),\"NÃO\"),\"NÃO\")","v":"NÃO"},{"$f":"IF(AND(AT$8>=$M22,AT$8<=$N22),IF($F22=\"SEMESTRAL\",IF(AS118=\"NÃO\",$D22,IF(MOD(COUNT($Q118:AS118)+1,6)=0,(AS118*$E22)+AS118,AS118)),\"NÃO\"),\"NÃO\")","v":"NÃO"},{"$f":"IF(AND(AU$8>=$M22,AU$8<=$N22),IF($F22=\"SEMESTRAL\",IF(AT118=\"NÃO\",$D22,IF(MOD(COUNT($Q118:AT118)+1,6)=0,(AT118*$E22)+AT118,AT118)),\"NÃO\"),\"NÃO\")","v":"NÃO"},{"$f":"IF(AND(AV$8>=$M22,AV$8<=$N22),IF($F22=\"SEMESTRAL\",IF(AU118=\"NÃO\",$D22,IF(MOD(COUNT($Q118:AU118)+1,6)=0,(AU118*$E22)+AU118,AU118)),\"NÃO\"),\"NÃO\")","v":"NÃO"},{"$f":"IF(AND(AW$8>=$M22,AW$8<=$N22),IF($F22=\"SEMESTRAL\",IF(AV118=\"NÃO\",$D22,IF(MOD(COUNT($Q118:AV118)+1,6)=0,(AV118*$E22)+AV118,AV118)),\"NÃO\"),\"NÃO\")","v":"NÃO"},{"$f":"IF(AND(AX$8>=$M22,AX$8<=$N22),IF($F22=\"SEMESTRAL\",IF(AW118=\"NÃO\",$D22,IF(MOD(COUNT($Q118:AW118)+1,6)=0,(AW118*$E22)+AW118,AW118)),\"NÃO\"),\"NÃO\")","v":"NÃO"},{"$f":"IF(AND(AY$8>=$M22,AY$8<=$N22),IF($F22=\"SEMESTRAL\",IF(AX118=\"NÃO\",$D22,IF(MOD(COUNT($Q118:AX118)+1,6)=0,(AX118*$E22)+AX118,AX118)),\"NÃO\"),\"NÃO\")","v":"NÃO"},{"$f":"IF(AND(AZ$8>=$M22,AZ$8<=$N22),IF($F22=\"SEMESTRAL\",IF(AY118=\"NÃO\",$D22,IF(MOD(COUNT($Q118:AY118)+1,6)=0,(AY118*$E22)+AY118,AY118)),\"NÃO\"),\"NÃO\")","v":"NÃO"},{"$f":"IF(AND(BA$8>=$M22,BA$8<=$N22),IF($F22=\"SEMESTRAL\",IF(AZ118=\"NÃO\",$D22,IF(MOD(COUNT($Q118:AZ118)+1,6)=0,(AZ118*$E22)+AZ118,AZ118)),\"NÃO\"),\"NÃO\")","v":"NÃO"},{"$f":"IF(AND(BB$8>=$M22,BB$8<=$N22),IF($F22=\"SEMESTRAL\",IF(BA118=\"NÃO\",$D22,IF(MOD(COUNT($Q118:BA118)+1,6)=0,(BA118*$E22)+BA118,BA118)),\"NÃO\"),\"NÃO\")","v":"NÃO"},{"$f":"IF(AND(BC$8>=$M22,BC$8<=$N22),IF($F22=\"SEMESTRAL\",IF(BB118=\"NÃO\",$D22,IF(MOD(COUNT($Q118:BB118)+1,6)=0,(BB118*$E22)+BB118,BB118)),\"NÃO\"),\"NÃO\")","v":"NÃO"},{"$f":"IF(AND(BD$8>=$M22,BD$8<=$N22),IF($F22=\"SEMESTRAL\",IF(BC118=\"NÃO\",$D22,IF(MOD(COUNT($Q118:BC118)+1,6)=0,(BC118*$E22)+BC118,BC118)),\"NÃO\"),\"NÃO\")","v":"NÃO"},{"$f":"IF(AND(BE$8>=$M22,BE$8<=$N22),IF($F22=\"SEMESTRAL\",IF(BD118=\"NÃO\",$D22,IF(MOD(COUNT($Q118:BD118)+1,6)=0,(BD118*$E22)+BD118,BD118)),\"NÃO\"),\"NÃO\")","v":"NÃO"},{"$f":"IF(AND(BF$8>=$M22,BF$8<=$N22),IF($F22=\"SEMESTRAL\",IF(BE118=\"NÃO\",$D22,IF(MOD(COUNT($Q118:BE118)+1,6)=0,(BE118*$E22)+BE118,BE118)),\"NÃO\"),\"NÃO\")","v":"NÃO"},{"$f":"IF(AND(BG$8>=$M22,BG$8<=$N22),IF($F22=\"SEMESTRAL\",IF(BF118=\"NÃO\",$D22,IF(MOD(COUNT($Q118:BF118)+1,6)=0,(BF118*$E22)+BF118,BF118)),\"NÃO\"),\"NÃO\")","v":"NÃO"},{"$f":"IF(AND(BH$8>=$M22,BH$8<=$N22),IF($F22=\"SEMESTRAL\",IF(BG118=\"NÃO\",$D22,IF(MOD(COUNT($Q118:BG118)+1,6)=0,(BG118*$E22)+BG118,BG118)),\"NÃO\"),\"NÃO\")","v":"NÃO"},{"$f":"IF(AND(BI$8>=$M22,BI$8<=$N22),IF($F22=\"SEMESTRAL\",IF(BH118=\"NÃO\",$D22,IF(MOD(COUNT($Q118:BH118)+1,6)=0,(BH118*$E22)+BH118,BH118)),\"NÃO\"),\"NÃO\")","v":"NÃO"},{"$f":"IF(AND(BJ$8>=$M22,BJ$8<=$N22),IF($F22=\"SEMESTRAL\",IF(BI118=\"NÃO\",$D22,IF(MOD(COUNT($Q118:BI118)+1,6)=0,(BI118*$E22)+BI118,BI118)),\"NÃO\"),\"NÃO\")","v":"NÃO"},{"$f":"IF(AND(BK$8>=$M22,BK$8<=$N22),IF($F22=\"SEMESTRAL\",IF(BJ118=\"NÃO\",$D22,IF(MOD(COUNT($Q118:BJ118)+1,6)=0,(BJ118*$E22)+BJ118,BJ118)),\"NÃO\"),\"NÃO\")","v":"NÃO"},{"$f":"IF(AND(BL$8>=$M22,BL$8<=$N22),IF($F22=\"SEMESTRAL\",IF(BK118=\"NÃO\",$D22,IF(MOD(COUNT($Q118:BK118)+1,6)=0,(BK118*$E22)+BK118,BK118)),\"NÃO\"),\"NÃO\")","v":"NÃO"},{"$f":"IF(AND(BM$8>=$M22,BM$8<=$N22),IF($F22=\"SEMESTRAL\",IF(BL118=\"NÃO\",$D22,IF(MOD(COUNT($Q118:BL118)+1,6)=0,(BL118*$E22)+BL118,BL118)),\"NÃO\"),\"NÃO\")","v":"NÃO"},{"$f":"IF(AND(BN$8>=$M22,BN$8<=$N22),IF($F22=\"SEMESTRAL\",IF(BM118=\"NÃO\",$D22,IF(MOD(COUNT($Q118:BM118)+1,6)=0,(BM118*$E22)+BM118,BM118)),\"NÃO\"),\"NÃO\")","v":"NÃO"},{"$f":"IF(AND(BO$8>=$M22,BO$8<=$N22),IF($F22=\"SEMESTRAL\",IF(BN118=\"NÃO\",$D22,IF(MOD(COUNT($Q118:BN118)+1,6)=0,(BN118*$E22)+BN118,BN118)),\"NÃO\"),\"NÃO\")","v":"NÃO"},{"$f":"IF(AND(BP$8>=$M22,BP$8<=$N22),IF($F22=\"SEMESTRAL\",IF(BO118=\"NÃO\",$D22,IF(MOD(COUNT($Q118:BO118)+1,6)=0,(BO118*$E22)+BO118,BO118)),\"NÃO\"),\"NÃO\")","v":"NÃO"},{"$f":"IF(AND(BQ$8>=$M22,BQ$8<=$N22),IF($F22=\"SEMESTRAL\",IF(BP118=\"NÃO\",$D22,IF(MOD(COUNT($Q118:BP118)+1,6)=0,(BP118*$E22)+BP118,BP118)),\"NÃO\"),\"NÃO\")","v":"NÃO"},{"$f":"IF(AND(BR$8>=$M22,BR$8<=$N22),IF($F22=\"SEMESTRAL\",IF(BQ118=\"NÃO\",$D22,IF(MOD(COUNT($Q118:BQ118)+1,6)=0,(BQ118*$E22)+BQ118,BQ118)),\"NÃO\"),\"NÃO\")","v":"NÃO"},{"$f":"IF(AND(BS$8>=$M22,BS$8<=$N22),IF($F22=\"SEMESTRAL\",IF(BR118=\"NÃO\",$D22,IF(MOD(COUNT($Q118:BR118)+1,6)=0,(BR118*$E22)+BR118,BR118)),\"NÃO\"),\"NÃO\")","v":"NÃO"},{"$f":"IF(AND(BT$8>=$M22,BT$8<=$N22),IF($F22=\"SEMESTRAL\",IF(BS118=\"NÃO\",$D22,IF(MOD(COUNT($Q118:BS118)+1,6)=0,(BS118*$E22)+BS118,BS118)),\"NÃO\"),\"NÃO\")","v":"NÃO"},{"$f":"IF(AND(BU$8>=$M22,BU$8<=$N22),IF($F22=\"SEMESTRAL\",IF(BT118=\"NÃO\",$D22,IF(MOD(COUNT($Q118:BT118)+1,6)=0,(BT118*$E22)+BT118,BT118)),\"NÃO\"),\"NÃO\")","v":"NÃO"},{"$f":"IF(AND(BV$8>=$M22,BV$8<=$N22),IF($F22=\"SEMESTRAL\",IF(BU118=\"NÃO\",$D22,IF(MOD(COUNT($Q118:BU118)+1,6)=0,(BU118*$E22)+BU118,BU118)),\"NÃO\"),\"NÃO\")","v":"NÃO"},{"$f":"IF(AND(BW$8>=$M22,BW$8<=$N22),IF($F22=\"SEMESTRAL\",IF(BV118=\"NÃO\",$D22,IF(MOD(COUNT($Q118:BV118)+1,6)=0,(BV118*$E22)+BV118,BV118)),\"NÃO\"),\"NÃO\")","v":"NÃO"},{"$f":"IF(AND(BX$8>=$M22,BX$8<=$N22),IF($F22=\"SEMESTRAL\",IF(BW118=\"NÃO\",$D22,IF(MOD(COUNT($Q118:BW118)+1,6)=0,(BW118*$E22)+BW118,BW118)),\"NÃO\"),\"NÃO\")","v":"NÃO"}]
[null,null,null,null,null,null,null,null,null,null,null,null,null,null,null,15,"NÃO",{"$f":"IF(AND(R$8>=$M23,R$8<=$N23),IF($F23=\"SEMESTRAL\",IF(Q119=\"NÃO\",$D23,IF(MOD(COUNT($Q119:Q119)+1,6)=0,(Q119*$E23)+Q119,Q119)),\"NÃO\"),\"NÃO\")","v":"NÃO"},{"$f":"IF(AND(S$8>=$M23,S$8<=$N23),IF($F23=\"SEMESTRAL\",IF(R119=\"NÃO\",$D23,IF(MOD(COUNT($Q119:R119)+1,6)=0,(R119*$E23)+R119,R119)),\"NÃO\"),\"NÃO\")","v":"NÃO"},{"$f":"IF(AND(T$8>=$M23,T$8<=$N23),IF($F23=\"SEMESTRAL\",IF(S119=\"NÃO\",$D23,IF(MOD(COUNT($Q119:S119)+1,6)=0,(S119*$E23)+S119,S119)),\"NÃO\"),\"NÃO\")","v":"NÃO"},{"$f":"IF(AND(U$8>=$M23,U$8<=$N23),IF($F23=\"SEMESTRAL\",IF(T119=\"NÃO\",$D23,IF(MOD(COUNT($Q119:T119)+1,6)=0,(T119*$E23)+T119,T119)),\"NÃO\"),\"NÃO\")","v":"NÃO"},{"$f":"IF(AND(V$8>=$M23,V$8<=$N23),IF($F23=\"SEMESTRAL\",IF(U119=\"NÃO\",$D23,IF(MOD(COUNT($Q119:U119)+1,6)=0,(U119*$E23)+U119,U119)),\"NÃO\"),\"NÃO\")","v":"NÃO"},{"$f":"IF(AND(W$8>=$M23,W$8<=$N23),IF($F23=\"SEMESTRAL\",IF(V119=\"NÃO\",$D23,IF(MOD(COUNT($Q119:V119)+1,6)=0,(V119*$E23)+V119,V119)),\"NÃO\"),\"NÃO\")","v":"NÃO"},{"$f":"IF(AND(X$8>=$M23,X$8<=$N23),IF($F23=\"SEMESTRAL\",IF(W119=\"NÃO\",$D23,IF(MOD(COUNT($Q119:W119)+1,6)=0,(W119*$E23)+W119,W119)),\"NÃO\"),\"NÃO\")","v":"NÃO"},{"$f":"IF(AND(Y$8>=$M23,Y$8<=$N23),IF($F23=\"SEMESTRAL\",IF(X119=\"NÃO\",$D23,IF(MOD(COUNT($Q119:X119)+1,6)=0,(X119*$E23)+X119,X119)),\"NÃO\"),\"NÃO\")","v":"NÃO"},{"$f":"IF(AND(Z$8>=$M23,Z$8<=$N23),IF($F23=\"SEMESTRAL\",IF(Y119=\"NÃO\",$D23,IF(MOD(COUNT($Q119:Y119)+1,6)=0,(Y119*$E23)+Y119,Y119)),\"NÃO\"),\"NÃO\")","v":"NÃO"},{"$f":"IF(AND(AA$8>=$M23,AA$8<=$N23),IF($F23=\"SEMESTRAL\",IF(Z119=\"NÃO\",$D23,IF(MOD(COUNT($Q119:Z119)+1,6)=0,(Z119*$E23)+Z119,Z119)),\"NÃO\"),\"NÃO\")","v":"NÃO"},{"$f":"IF(AND(AB$8>=$M23,AB$8<=$N23),IF($F23=\"SEMESTRAL\",IF(AA119=\"NÃO\",$D23,IF(MOD(COUNT($Q119:AA119)+1,6)=0,(AA119*$E23)+AA119,AA119)),\"NÃO\"),\"NÃO\")","v":"NÃO"},{"$f":"IF(AND(AC$8>=$M23,AC$8<=$N23),IF($F23=\"SEMESTRAL\",IF(AB119=\"NÃO\",$D23,IF(MOD(COUNT($Q119:AB119)+1,6)=0,(AB119*$E23)+AB119,AB119)),\"NÃO\"),\"NÃO\")","v":"NÃO"},{"$f":"IF(AND(AD$8>=$M23,AD$8<=$N23),IF($F23=\"SEMESTRAL\",IF(AC119=\"NÃO\",$D23,IF(MOD(COUNT($Q119:AC119)+1,6)=0,(AC119*$E23)+AC119,AC119)),\"NÃO\"),\"NÃO\")","v":"NÃO"},{"$f":"IF(AND(AE$8>=$M23,AE$8<=$N23),IF($F23=\"SEMESTRAL\",IF(AD119=\"NÃO\",$D23,IF(MOD(COUNT($Q119:AD119)+1,6)=0,(AD119*$E23)+AD119,AD119)),\"NÃO\"),\"NÃO\")","v":"NÃO"},{"$f":"IF(AND(AF$8>=$M23,AF$8<=$N23),IF($F23=\"SEMESTRAL\",IF(AE119=\"NÃO\",$D23,IF(MOD(COUNT($Q119:AE119)+1,6)=0,(AE119*$E23)+AE119,AE119)),\"NÃO\"),\"NÃO\")","v":"NÃO"},{"$f":"IF(AND(AG$8>=$M23,AG$8<=$N23),IF($F23=\"SEMESTRAL\",IF(AF119=\"NÃO\",$D23,IF(MOD(COUNT($Q119:AF119)+1,6)=0,(AF119*$E23)+AF119,AF119)),\"NÃO\"),\"NÃO\")","v":"NÃO"},{"$f":"IF(AND(AH$8>=$M23,AH$8<=$N23),IF($F23=\"SEMESTRAL\",IF(AG119=\"NÃO\",$D23,IF(MOD(COUNT($Q119:AG119)+1,6)=0,(AG119*$E23)+AG119,AG119)),\"NÃO\"),\"NÃO\")","v":"NÃO"},{"$f":"IF(AND(AI$8>=$M23,AI$8<=$N23),IF($F23=\"SEMESTRAL\",IF(AH119=\"NÃO\",$D23,IF(MOD(COUNT($Q119:AH119)+1,6)=0,(AH119*$E23)+AH119,AH119)),\"NÃO\"),\"NÃO\")","v":"NÃO"},{"$f":"IF(AND(AJ$8>=$M23,AJ$8<=$N23),IF($F23=\"SEMESTRAL\",IF(AI119=\"NÃO\",$D23,IF(MOD(COUNT($Q119:AI119)+1,6)=0,(AI119*$E23)+AI119,AI119)),\"NÃO\"),\"NÃO\")","v":"NÃO"},{"$f":"IF(AND(AK$8>=$M23,AK$8<=$N23),IF($F23=\"SEMESTRAL\",IF(AJ119=\"NÃO\",$D23,IF(MOD(COUNT($Q119:AJ119)+1,6)=0,(AJ119*$E23)+AJ119,AJ119)),\"NÃO\"),\"NÃO\")","v":"NÃO"},{"$f":"IF(AND(AL$8>=$M23,AL$8<=$N23),IF($F23=\"SEMESTRAL\",IF(AK119=\"NÃO\",$D23,IF(MOD(COUNT($Q119:AK119)+1,6)=0,(AK119*$E23)+AK119,AK119)),\"NÃO\"),\"NÃO\")","v":"NÃO"},{"$f":"IF(AND(AM$8>=$M23,AM$8<=$N23),IF($F23=\"SEMESTRAL\",IF(AL119=\"NÃO\",$D23,IF(MOD(COUNT($Q119:AL119)+1,6)=0,(AL119*$E23)+AL119,AL119)),\"NÃO\"),\"NÃO\")","v":"NÃO"},{"$f":"IF(AND(AN$8>=$M23,AN$8<=$N23),IF($F23=\"SEMESTRAL\",IF(AM119=\"NÃO\",$D23,IF(MOD(COUNT($Q119:AM119)+1,6)=0,(AM119*$E23)+AM119,AM119)),\"NÃO\"),\"NÃO\")","v":"NÃO"},{"$f":"IF(AND(AO$8>=$M23,AO$8<=$N23),IF($F23=\"SEMESTRAL\",IF(AN119=\"NÃO\",$D23,IF(MOD(COUNT($Q119:AN119)+1,6)=0,(AN119*$E23)+AN119,AN119)),\"NÃO\"),\"NÃO\")","v":"NÃO"},{"$f":"IF(AND(AP$8>=$M23,AP$8<=$N23),IF($F23=\"SEMESTRAL\",IF(AO119=\"NÃO\",$D23,IF(MOD(COUNT($Q119:AO119)+1,6)=0,(AO119*$E23)+AO119,AO119)),\"NÃO\"),\"NÃO\")","v":"NÃO"},{"$f":"IF(AND(AQ$8>=$M23,AQ$8<=$N23),IF($F23=\"SEMESTRAL\",IF(AP119=\"NÃO\",$D23,IF(MOD(COUNT($Q119:AP119)+1,6)=0,(AP119*$E23)+AP119,AP119)),\"NÃO\"),\"NÃO\")","v":"NÃO"},{"$f":"IF(AND(AR$8>=$M23,AR$8<=$N23),IF($F23=\"SEMESTRAL\",IF(AQ119=\"NÃO\",$D23,IF(MOD(COUNT($Q119:AQ119)+1,6)=0,(AQ119*$E23)+AQ119,AQ119)),\"NÃO\"),\"NÃO\")","v":"NÃO"},{"$f":"IF(AND(AS$8>=$M23,AS$8<=$N23),IF($F23=\"SEMESTRAL\",IF(AR119=\"NÃO\",$D23,IF(MOD(COUNT($Q119:AR119)+1,6)=0,(AR119*$E23)+AR119,AR119)),\"NÃO\"),\"NÃO\")","v":"NÃO"},{"$f":"IF(AND(AT$8>=$M23,AT$8<=$N23),IF($F23=\"SEMESTRAL\",IF(AS119=\"NÃO\",$D23,IF(MOD(COUNT($Q119:AS119)+1,6)=0,(AS119*$E23)+AS119,AS119)),\"NÃO\"),\"NÃO\")","v":"NÃO"},{"$f":"IF(AND(AU$8>=$M23,AU$8<=$N23),IF($F23=\"SEMESTRAL\",IF(AT119=\"NÃO\",$D23,IF(MOD(COUNT($Q119:AT119)+1,6)=0,(AT119*$E23)+AT119,AT119)),\"NÃO\"),\"NÃO\")","v":"NÃO"},{"$f":"IF(AND(AV$8>=$M23,AV$8<=$N23),IF($F23=\"SEMESTRAL\",IF(AU119=\"NÃO\",$D23,IF(MOD(COUNT($Q119:AU119)+1,6)=0,(AU119*$E23)+AU119,AU119)),\"NÃO\"),\"NÃO\")","v":"NÃO"},{"$f":"IF(AND(AW$8>=$M23,AW$8<=$N23),IF($F23=\"SEMESTRAL\",IF(AV119=\"NÃO\",$D23,IF(MOD(COUNT($Q119:AV119)+1,6)=0,(AV119*$E23)+AV119,AV119)),\"NÃO\"),\"NÃO\")","v":"NÃO"},{"$f":"IF(AND(AX$8>=$M23,AX$8<=$N23),IF($F23=\"SEMESTRAL\",IF(AW119=\"NÃO\",$D23,IF(MOD(COUNT($Q119:AW119)+1,6)=0,(AW119*$E23)+AW119,AW119)),\"NÃO\"),\"NÃO\")","v":"NÃO"},{"$f":"IF(AND(AY$8>=$M23,AY$8<=$N23),IF($F23=\"SEMESTRAL\",IF(AX119=\"NÃO\",$D23,IF(MOD(COUNT($Q119:AX119)+1,6)=0,(AX119*$E23)+AX119,AX119)),\"NÃO\"),\"NÃO\")","v":"NÃO"},{"$f":"IF(AND(AZ$8>=$M23,AZ$8<=$N23),IF($F23=\"SEMESTRAL\",IF(AY119=\"NÃO\",$D23,IF(MOD(COUNT($Q119:AY119)+1,6)=0,(AY119*$E23)+AY119,AY119)),\"NÃO\"),\"NÃO\")","v":"NÃO"},{"$f":"IF(AND(BA$8>=$M23,BA$8<=$N23),IF($F23=\"SEMESTRAL\",IF(AZ119=\"NÃO\",$D23,IF(MOD(COUNT($Q119:AZ119)+1,6)=0,(AZ119*$E23)+AZ119,AZ119)),\"NÃO\"),\"NÃO\")","v":"NÃO"},{"$f":"IF(AND(BB$8>=$M23,BB$8<=$N23),IF($F23=\"SEMESTRAL\",IF(BA119=\"NÃO\",$D23,IF(MOD(COUNT($Q119:BA119)+1,6)=0,(BA119*$E23)+BA119,BA119)),\"NÃO\"),\"NÃO\")","v":"NÃO"},{"$f":"IF(AND(BC$8>=$M23,BC$8<=$N23),IF($F23=\"SEMESTRAL\",IF(BB119=\"NÃO\",$D23,IF(MOD(COUNT($Q119:BB119)+1,6)=0,(BB119*$E23)+BB119,BB119)),\"NÃO\"),\"NÃO\")","v":"NÃO"},{"$f":"IF(AND(BD$8>=$M23,BD$8<=$N23),IF($F23=\"SEMESTRAL\",IF(BC119=\"NÃO\",$D23,IF(MOD(COUNT($Q119:BC119)+1,6)=0,(BC119*$E23)+BC119,BC119)),\"NÃO\"),\"NÃO\")","v":"NÃO"},{"$f":"IF(AND(BE$8>=$M23,BE$8<=$N23),IF($F23=\"SEMESTRAL\",IF(BD119=\"NÃO\",$D23,IF(MOD(COUNT($Q119:BD119)+1,6)=0,(BD119*$E23)+BD119,BD119)),\"NÃO\"),\"NÃO\")","v":"NÃO"},{"$f":"IF(AND(BF$8>=$M23,BF$8<=$N23),IF($F23=\"SEMESTRAL\",IF(BE119=\"NÃO\",$D23,IF(MOD(COUNT($Q119:BE119)+1,6)=0,(BE119*$E23)+BE119,BE119)),\"NÃO\"),\"NÃO\")","v":"NÃO"},{"$f":"IF(AND(BG$8>=$M23,BG$8<=$N23),IF($F23=\"SEMESTRAL\",IF(BF119=\"NÃO\",$D23,IF(MOD(COUNT($Q119:BF119)+1,6)=0,(BF119*$E23)+BF119,BF119)),\"NÃO\"),\"NÃO\")","v":"NÃO"},{"$f":"IF(AND(BH$8>=$M23,BH$8<=$N23),IF($F23=\"SEMESTRAL\",IF(BG119=\"NÃO\",$D23,IF(MOD(COUNT($Q119:BG119)+1,6)=0,(BG119*$E23)+BG119,BG119)),\"NÃO\"),\"NÃO\")","v":"NÃO"},{"$f":"IF(AND(BI$8>=$M23,BI$8<=$N23),IF($F23=\"SEMESTRAL\",IF(BH119=\"NÃO\",$D23,IF(MOD(COUNT($Q119:BH119)+1,6)=0,(BH119*$E23)+BH119,BH119)),\"NÃO\"),\"NÃO\")","v":"NÃO"},{"$f":"IF(AND(BJ$8>=$M23,BJ$8<=$N23),IF($F23=\"SEMESTRAL\",IF(BI119=\"NÃO\",$D23,IF(MOD(COUNT($Q119:BI119)+1,6)=0,(BI119*$E23)+BI119,BI119)),\"NÃO\"),\"NÃO\")","v":"NÃO"},{"$f":"IF(AND(BK$8>=$M23,BK$8<=$N23),IF($F23=\"SEMESTRAL\",IF(BJ119=\"NÃO\",$D23,IF(MOD(COUNT($Q119:BJ119)+1,6)=0,(BJ119*$E23)+BJ119,BJ119)),\"NÃO\"),\"NÃO\")","v":"NÃO"},{"$f":"IF(AND(BL$8>=$M23,BL$8<=$N23),IF($F23=\"SEMESTRAL\",IF(BK119=\"NÃO\",$D23,IF(MOD(COUNT($Q119:BK119)+1,6)=0,(BK119*$E23)+BK119,BK119)),\"NÃO\"),\"NÃO\")","v":"NÃO"},{"$f":"IF(AND(BM$8>=$M23,BM$8<=$N23),IF($F23=\"SEMESTRAL\",IF(BL119=\"NÃO\",$D23,IF(MOD(COUNT($Q119:BL119)+1,6)=0,(BL119*$E23)+BL119,BL119)),\"NÃO\"),\"NÃO\")","v":"NÃO"},{"$f":"IF(AND(BN$8>=$M23,BN$8<=$N23),IF($F23=\"SEMESTRAL\",IF(BM119=\"NÃO\",$D23,IF(MOD(COUNT($Q119:BM119)+1,6)=0,(BM119*$E23)+BM119,BM119)),\"NÃO\"),\"NÃO\")","v":"NÃO"},{"$f":"IF(AND(BO$8>=$M23,BO$8<=$N23),IF($F23=\"SEMESTRAL\",IF(BN119=\"NÃO\",$D23,IF(MOD(COUNT($Q119:BN119)+1,6)=0,(BN119*$E23)+BN119,BN119)),\"NÃO\"),\"NÃO\")","v":"NÃO"},{"$f":"IF(AND(BP$8>=$M23,BP$8<=$N23),IF($F23=\"SEMESTRAL\",IF(BO119=\"NÃO\",$D23,IF(MOD(COUNT($Q119:BO119)+1,6)=0,(BO119*$E23)+BO119,BO119)),\"NÃO\"),\"NÃO\")","v":"NÃO"},{"$f":"IF(AND(BQ$8>=$M23,BQ$8<=$N23),IF($F23=\"SEMESTRAL\",IF(BP119=\"NÃO\",$D23,IF(MOD(COUNT($Q119:BP119)+1,6)=0,(BP119*$E23)+BP119,BP119)),\"NÃO\"),\"NÃO\")","v":"NÃO"},{"$f":"IF(AND(BR$8>=$M23,BR$8<=$N23),IF($F23=\"SEMESTRAL\",IF(BQ119=\"NÃO\",$D23,IF(MOD(COUNT($Q119:BQ119)+1,6)=0,(BQ119*$E23)+BQ119,BQ119)),\"NÃO\"),\"NÃO\")","v":"NÃO"},{"$f":"IF(AND(BS$8>=$M23,BS$8<=$N23),IF($F23=\"SEMESTRAL\",IF(BR119=\"NÃO\",$D23,IF(MOD(COUNT($Q119:BR119)+1,6)=0,(BR119*$E23)+BR119,BR119)),\"NÃO\"),\"NÃO\")","v":"NÃO"},{"$f":"IF(AND(BT$8>=$M23,BT$8<=$N23),IF($F23=\"SEMESTRAL\",IF(BS119=\"NÃO\",$D23,IF(MOD(COUNT($Q119:BS119)+1,6)=0,(BS119*$E23)+BS119,BS119)),\"NÃO\"),\"NÃO\")","v":"NÃO"},{"$f":"IF(AND(BU$8>=$M23,BU$8<=$N23),IF($F23=\"SEMESTRAL\",IF(BT119=\"NÃO\",$D23,IF(MOD(COUNT($Q119:BT119)+1,6)=0,(BT119*$E23)+BT119,BT119)),\"NÃO\"),\"NÃO\")","v":"NÃO"},{"$f":"IF(AND(BV$8>=$M23,BV$8<=$N23),IF($F23=\"SEMESTRAL\",IF(BU119=\"NÃO\",$D23,IF(MOD(COUNT($Q119:BU119)+1,6)=0,(BU119*$E23)+BU119,BU119)),\"NÃO\"),\"NÃO\")","v":"NÃO"},{"$f":"IF(AND(BW$8>=$M23,BW$8<=$N23),IF($F23=\"SEMESTRAL\",IF(BV119=\"NÃO\",$D23,IF(MOD(COUNT($Q119:BV119)+1,6)=0,(BV119*$E23)+BV119,BV119)),\"NÃO\"),\"NÃO\")","v":"NÃO"},{"$f":"IF(AND(BX$8>=$M23,BX$8<=$N23),IF($F23=\"SEMESTRAL\",IF(BW119=\"NÃO\",$D23,IF(MOD(COUNT($Q119:BW119)+1,6)=0,(BW119*$E23)+BW119,BW119)),\"NÃO\"),\"NÃO\")","v":"NÃO"}]
[null,null,null,null,null,null,null,null,null,null,null,null,null,null,null,16,"NÃO",{"$f":"IF(AND(R$8>=$M24,R$8<=$N24),IF($F24=\"SEMESTRAL\",IF(Q120=\"NÃO\",$D24,IF(MOD(COUNT($Q120:Q120)+1,6)=0,(Q120*$E24)+Q120,Q120)),\"NÃO\"),\"NÃO\")","v":"NÃO"},{"$f":"IF(AND(S$8>=$M24,S$8<=$N24),IF($F24=\"SEMESTRAL\",IF(R120=\"NÃO\",$D24,IF(MOD(COUNT($Q120:R120)+1,6)=0,(R120*$E24)+R120,R120)),\"NÃO\"),\"NÃO\")","v":"NÃO"},{"$f":"IF(AND(T$8>=$M24,T$8<=$N24),IF($F24=\"SEMESTRAL\",IF(S120=\"NÃO\",$D24,IF(MOD(COUNT($Q120:S120)+1,6)=0,(S120*$E24)+S120,S120)),\"NÃO\"),\"NÃO\")","v":"NÃO"},{"$f":"IF(AND(U$8>=$M24,U$8<=$N24),IF($F24=\"SEMESTRAL\",IF(T120=\"NÃO\",$D24,IF(MOD(COUNT($Q120:T120)+1,6)=0,(T120*$E24)+T120,T120)),\"NÃO\"),\"NÃO\")","v":"NÃO"},{"$f":"IF(AND(V$8>=$M24,V$8<=$N24),IF($F24=\"SEMESTRAL\",IF(U120=\"NÃO\",$D24,IF(MOD(COUNT($Q120:U120)+1,6)=0,(U120*$E24)+U120,U120)),\"NÃO\"),\"NÃO\")","v":"NÃO"},{"$f":"IF(AND(W$8>=$M24,W$8<=$N24),IF($F24=\"SEMESTRAL\",IF(V120=\"NÃO\",$D24,IF(MOD(COUNT($Q120:V120)+1,6)=0,(V120*$E24)+V120,V120)),\"NÃO\"),\"NÃO\")","v":"NÃO"},{"$f":"IF(AND(X$8>=$M24,X$8<=$N24),IF($F24=\"SEMESTRAL\",IF(W120=\"NÃO\",$D24,IF(MOD(COUNT($Q120:W120)+1,6)=0,(W120*$E24)+W120,W120)),\"NÃO\"),\"NÃO\")","v":"NÃO"},{"$f":"IF(AND(Y$8>=$M24,Y$8<=$N24),IF($F24=\"SEMESTRAL\",IF(X120=\"NÃO\",$D24,IF(MOD(COUNT($Q120:X120)+1,6)=0,(X120*$E24)+X120,X120)),\"NÃO\"),\"NÃO\")","v":"NÃO"},{"$f":"IF(AND(Z$8>=$M24,Z$8<=$N24),IF($F24=\"SEMESTRAL\",IF(Y120=\"NÃO\",$D24,IF(MOD(COUNT($Q120:Y120)+1,6)=0,(Y120*$E24)+Y120,Y120)),\"NÃO\"),\"NÃO\")","v":"NÃO"},{"$f":"IF(AND(AA$8>=$M24,AA$8<=$N24),IF($F24=\"SEMESTRAL\",IF(Z120=\"NÃO\",$D24,IF(MOD(COUNT($Q120:Z120)+1,6)=0,(Z120*$E24)+Z120,Z120)),\"NÃO\"),\"NÃO\")","v":"NÃO"},{"$f":"IF(AND(AB$8>=$M24,AB$8<=$N24),IF($F24=\"SEMESTRAL\",IF(AA120=\"NÃO\",$D24,IF(MOD(COUNT($Q120:AA120)+1,6)=0,(AA120*$E24)+AA120,AA120)),\"NÃO\"),\"NÃO\")","v":"NÃO"},{"$f":"IF(AND(AC$8>=$M24,AC$8<=$N24),IF($F24=\"SEMESTRAL\",IF(AB120=\"NÃO\",$D24,IF(MOD(COUNT($Q120:AB120)+1,6)=0,(AB120*$E24)+AB120,AB120)),\"NÃO\"),\"NÃO\")","v":"NÃO"},{"$f":"IF(AND(AD$8>=$M24,AD$8<=$N24),IF($F24=\"SEMESTRAL\",IF(AC120=\"NÃO\",$D24,IF(MOD(COUNT($Q120:AC120)+1,6)=0,(AC120*$E24)+AC120,AC120)),\"NÃO\"),\"NÃO\")","v":"NÃO"},{"$f":"IF(AND(AE$8>=$M24,AE$8<=$N24),IF($F24=\"SEMESTRAL\",IF(AD120=\"NÃO\",$D24,IF(MOD(COUNT($Q120:AD120)+1,6)=0,(AD120*$E24)+AD120,AD120)),\"NÃO\"),\"NÃO\")","v":"NÃO"},{"$f":"IF(AND(AF$8>=$M24,AF$8<=$N24),IF($F24=\"SEMESTRAL\",IF(AE120=\"NÃO\",$D24,IF(MOD(COUNT($Q120:AE120)+1,6)=0,(AE120*$E24)+AE120,AE120)),\"NÃO\"),\"NÃO\")","v":"NÃO"},{"$f":"IF(AND(AG$8>=$M24,AG$8<=$N24),IF($F24=\"SEMESTRAL\",IF(AF120=\"NÃO\",$D24,IF(MOD(COUNT($Q120:AF120)+1,6)=0,(AF120*$E24)+AF120,AF120)),\"NÃO\"),\"NÃO\")","v":"NÃO"},{"$f":"IF(AND(AH$8>=$M24,AH$8<=$N24),IF($F24=\"SEMESTRAL\",IF(AG120=\"NÃO\",$D24,IF(MOD(COUNT($Q120:AG120)+1,6)=0,(AG120*$E24)+AG120,AG120)),\"NÃO\"),\"NÃO\")","v":"NÃO"},{"$f":"IF(AND(AI$8>=$M24,AI$8<=$N24),IF($F24=\"SEMESTRAL\",IF(AH120=\"NÃO\",$D24,IF(MOD(COUNT($Q120:AH120)+1,6)=0,(AH120*$E24)+AH120,AH120)),\"NÃO\"),\"NÃO\")","v":"NÃO"},{"$f":"IF(AND(AJ$8>=$M24,AJ$8<=$N24),IF($F24=\"SEMESTRAL\",IF(AI120=\"NÃO\",$D24,IF(MOD(COUNT($Q120:AI120)+1,6)=0,(AI120*$E24)+AI120,AI120)),\"NÃO\"),\"NÃO\")","v":"NÃO"},{"$f":"IF(AND(AK$8>=$M24,AK$8<=$N24),IF($F24=\"SEMESTRAL\",IF(AJ120=\"NÃO\",$D24,IF(MOD(COUNT($Q120:AJ120)+1,6)=0,(AJ120*$E24)+AJ120,AJ120)),\"NÃO\"),\"NÃO\")","v":"NÃO"},{"$f":"IF(AND(AL$8>=$M24,AL$8<=$N24),IF($F24=\"SEMESTRAL\",IF(AK120=\"NÃO\",$D24,IF(MOD(COUNT($Q120:AK120)+1,6)=0,(AK120*$E24)+AK120,AK120)),\"NÃO\"),\"NÃO\")","v":"NÃO"},{"$f":"IF(AND(AM$8>=$M24,AM$8<=$N24),IF($F24=\"SEMESTRAL\",IF(AL120=\"NÃO\",$D24,IF(MOD(COUNT($Q120:AL120)+1,6)=0,(AL120*$E24)+AL120,AL120)),\"NÃO\"),\"NÃO\")","v":"NÃO"},{"$f":"IF(AND(AN$8>=$M24,AN$8<=$N24),IF($F24=\"SEMESTRAL\",IF(AM120=\"NÃO\",$D24,IF(MOD(COUNT($Q120:AM120)+1,6)=0,(AM120*$E24)+AM120,AM120)),\"NÃO\"),\"NÃO\")","v":"NÃO"},{"$f":"IF(AND(AO$8>=$M24,AO$8<=$N24),IF($F24=\"SEMESTRAL\",IF(AN120=\"NÃO\",$D24,IF(MOD(COUNT($Q120:AN120)+1,6)=0,(AN120*$E24)+AN120,AN120)),\"NÃO\"),\"NÃO\")","v":"NÃO"},{"$f":"IF(AND(AP$8>=$M24,AP$8<=$N24),IF($F24=\"SEMESTRAL\",IF(AO120=\"NÃO\",$D24,IF(MOD(COUNT($Q120:AO120)+1,6)=0,(AO120*$E24)+AO120,AO120)),\"NÃO\"),\"NÃO\")","v":"NÃO"},{"$f":"IF(AND(AQ$8>=$M24,AQ$8<=$N24),IF($F24=\"SEMESTRAL\",IF(AP120=\"NÃO\",$D24,IF(MOD(COUNT($Q120:AP120)+1,6)=0,(AP120*$E24)+AP120,AP120)),\"NÃO\"),\"NÃO\")","v":"NÃO"},{"$f":"IF(AND(AR$8>=$M24,AR$8<=$N24),IF($F24=\"SEMESTRAL\",IF(AQ120=\"NÃO\",$D24,IF(MOD(COUNT($Q120:AQ120)+1,6)=0,(AQ120*$E24)+AQ120,AQ120)),\"NÃO\"),\"NÃO\")","v":"NÃO"},{"$f":"IF(AND(AS$8>=$M24,AS$8<=$N24),IF($F24=\"SEMESTRAL\",IF(AR120=\"NÃO\",$D24,IF(MOD(COUNT($Q120:AR120)+1,6)=0,(AR120*$E24)+AR120,AR120)),\"NÃO\"),\"NÃO\")","v":"NÃO"},{"$f":"IF(AND(AT$8>=$M24,AT$8<=$N24),IF($F24=\"SEMESTRAL\",IF(AS120=\"NÃO\",$D24,IF(MOD(COUNT($Q120:AS120)+1,6)=0,(AS120*$E24)+AS120,AS120)),\"NÃO\"),\"NÃO\")","v":"NÃO"},{"$f":"IF(AND(AU$8>=$M24,AU$8<=$N24),IF($F24=\"SEMESTRAL\",IF(AT120=\"NÃO\",$D24,IF(MOD(COUNT($Q120:AT120)+1,6)=0,(AT120*$E24)+AT120,AT120)),\"NÃO\"),\"NÃO\")","v":"NÃO"},{"$f":"IF(AND(AV$8>=$M24,AV$8<=$N24),IF($F24=\"SEMESTRAL\",IF(AU120=\"NÃO\",$D24,IF(MOD(COUNT($Q120:AU120)+1,6)=0,(AU120*$E24)+AU120,AU120)),\"NÃO\"),\"NÃO\")","v":"NÃO"},{"$f":"IF(AND(AW$8>=$M24,AW$8<=$N24),IF($F24=\"SEMESTRAL\",IF(AV120=\"NÃO\",$D24,IF(MOD(COUNT($Q120:AV120)+1,6)=0,(AV120*$E24)+AV120,AV120)),\"NÃO\"),\"NÃO\")","v":"NÃO"},{"$f":"IF(AND(AX$8>=$M24,AX$8<=$N24),IF($F24=\"SEMESTRAL\",IF(AW120=\"NÃO\",$D24,IF(MOD(COUNT($Q120:AW120)+1,6)=0,(AW120*$E24)+AW120,AW120)),\"NÃO\"),\"NÃO\")","v":"NÃO"},{"$f":"IF(AND(AY$8>=$M24,AY$8<=$N24),IF($F24=\"SEMESTRAL\",IF(AX120=\"NÃO\",$D24,IF(MOD(COUNT($Q120:AX120)+1,6)=0,(AX120*$E24)+AX120,AX120)),\"NÃO\"),\"NÃO\")","v":"NÃO"},{"$f":"IF(AND(AZ$8>=$M24,AZ$8<=$N24),IF($F24=\"SEMESTRAL\",IF(AY120=\"NÃO\",$D24,IF(MOD(COUNT($Q120:AY120)+1,6)=0,(AY120*$E24)+AY120,AY120)),\"NÃO\"),\"NÃO\")","v":"NÃO"},{"$f":"IF(AND(BA$8>=$M24,BA$8<=$N24),IF($F24=\"SEMESTRAL\",IF(AZ120=\"NÃO\",$D24,IF(MOD(COUNT($Q120:AZ120)+1,6)=0,(AZ120*$E24)+AZ120,AZ120)),\"NÃO\"),\"NÃO\")","v":"NÃO"},{"$f":"IF(AND(BB$8>=$M24,BB$8<=$N24),IF($F24=\"SEMESTRAL\",IF(BA120=\"NÃO\",$D24,IF(MOD(COUNT($Q120:BA120)+1,6)=0,(BA120*$E24)+BA120,BA120)),\"NÃO\"),\"NÃO\")","v":"NÃO"},{"$f":"IF(AND(BC$8>=$M24,BC$8<=$N24),IF($F24=\"SEMESTRAL\",IF(BB120=\"NÃO\",$D24,IF(MOD(COUNT($Q120:BB120)+1,6)=0,(BB120*$E24)+BB120,BB120)),\"NÃO\"),\"NÃO\")","v":"NÃO"},{"$f":"IF(AND(BD$8>=$M24,BD$8<=$N24),IF($F24=\"SEMESTRAL\",IF(BC120=\"NÃO\",$D24,IF(MOD(COUNT($Q120:BC120)+1,6)=0,(BC120*$E24)+BC120,BC120)),\"NÃO\"),\"NÃO\")","v":"NÃO"},{"$f":"IF(AND(BE$8>=$M24,BE$8<=$N24),IF($F24=\"SEMESTRAL\",IF(BD120=\"NÃO\",$D24,IF(MOD(COUNT($Q120:BD120)+1,6)=0,(BD120*$E24)+BD120,BD120)),\"NÃO\"),\"NÃO\")","v":"NÃO"},{"$f":"IF(AND(BF$8>=$M24,BF$8<=$N24),IF($F24=\"SEMESTRAL\",IF(BE120=\"NÃO\",$D24,IF(MOD(COUNT($Q120:BE120)+1,6)=0,(BE120*$E24)+BE120,BE120)),\"NÃO\"),\"NÃO\")","v":"NÃO"},{"$f":"IF(AND(BG$8>=$M24,BG$8<=$N24),IF($F24=\"SEMESTRAL\",IF(BF120=\"NÃO\",$D24,IF(MOD(COUNT($Q120:BF120)+1,6)=0,(BF120*$E24)+BF120,BF120)),\"NÃO\"),\"NÃO\")","v":"NÃO"},{"$f":"IF(AND(BH$8>=$M24,BH$8<=$N24),IF($F24=\"SEMESTRAL\",IF(BG120=\"NÃO\",$D24,IF(MOD(COUNT($Q120:BG120)+1,6)=0,(BG120*$E24)+BG120,BG120)),\"NÃO\"),\"NÃO\")","v":"NÃO"},{"$f":"IF(AND(BI$8>=$M24,BI$8<=$N24),IF($F24=\"SEMESTRAL\",IF(BH120=\"NÃO\",$D24,IF(MOD(COUNT($Q120:BH120)+1,6)=0,(BH120*$E24)+BH120,BH120)),\"NÃO\"),\"NÃO\")","v":"NÃO"},{"$f":"IF(AND(BJ$8>=$M24,BJ$8<=$N24),IF($F24=\"SEMESTRAL\",IF(BI120=\"NÃO\",$D24,IF(MOD(COUNT($Q120:BI120)+1,6)=0,(BI120*$E24)+BI120,BI120)),\"NÃO\"),\"NÃO\")","v":"NÃO"},{"$f":"IF(AND(BK$8>=$M24,BK$8<=$N24),IF($F24=\"SEMESTRAL\",IF(BJ120=\"NÃO\",$D24,IF(MOD(COUNT($Q120:BJ120)+1,6)=0,(BJ120*$E24)+BJ120,BJ120)),\"NÃO\"),\"NÃO\")","v":"NÃO"},{"$f":"IF(AND(BL$8>=$M24,BL$8<=$N24),IF($F24=\"SEMESTRAL\",IF(BK120=\"NÃO\",$D24,IF(MOD(COUNT($Q120:BK120)+1,6)=0,(BK120*$E24)+BK120,BK120)),\"NÃO\"),\"NÃO\")","v":"NÃO"},{"$f":"IF(AND(BM$8>=$M24,BM$8<=$N24),IF($F24=\"SEMESTRAL\",IF(BL120=\"NÃO\",$D24,IF(MOD(COUNT($Q120:BL120)+1,6)=0,(BL120*$E24)+BL120,BL120)),\"NÃO\"),\"NÃO\")","v":"NÃO"},{"$f":"IF(AND(BN$8>=$M24,BN$8<=$N24),IF($F24=\"SEMESTRAL\",IF(BM120=\"NÃO\",$D24,IF(MOD(COUNT($Q120:BM120)+1,6)=0,(BM120*$E24)+BM120,BM120)),\"NÃO\"),\"NÃO\")","v":"NÃO"},{"$f":"IF(AND(BO$8>=$M24,BO$8<=$N24),IF($F24=\"SEMESTRAL\",IF(BN120=\"NÃO\",$D24,IF(MOD(COUNT($Q120:BN120)+1,6)=0,(BN120*$E24)+BN120,BN120)),\"NÃO\"),\"NÃO\")","v":"NÃO"},{"$f":"IF(AND(BP$8>=$M24,BP$8<=$N24),IF($F24=\"SEMESTRAL\",IF(BO120=\"NÃO\",$D24,IF(MOD(COUNT($Q120:BO120)+1,6)=0,(BO120*$E24)+BO120,BO120)),\"NÃO\"),\"NÃO\")","v":"NÃO"},{"$f":"IF(AND(BQ$8>=$M24,BQ$8<=$N24),IF($F24=\"SEMESTRAL\",IF(BP120=\"NÃO\",$D24,IF(MOD(COUNT($Q120:BP120)+1,6)=0,(BP120*$E24)+BP120,BP120)),\"NÃO\"),\"NÃO\")","v":"NÃO"},{"$f":"IF(AND(BR$8>=$M24,BR$8<=$N24),IF($F24=\"SEMESTRAL\",IF(BQ120=\"NÃO\",$D24,IF(MOD(COUNT($Q120:BQ120)+1,6)=0,(BQ120*$E24)+BQ120,BQ120)),\"NÃO\"),\"NÃO\")","v":"NÃO"},{"$f":"IF(AND(BS$8>=$M24,BS$8<=$N24),IF($F24=\"SEMESTRAL\",IF(BR120=\"NÃO\",$D24,IF(MOD(COUNT($Q120:BR120)+1,6)=0,(BR120*$E24)+BR120,BR120)),\"NÃO\"),\"NÃO\")","v":"NÃO"},{"$f":"IF(AND(BT$8>=$M24,BT$8<=$N24),IF($F24=\"SEMESTRAL\",IF(BS120=\"NÃO\",$D24,IF(MOD(COUNT($Q120:BS120)+1,6)=0,(BS120*$E24)+BS120,BS120)),\"NÃO\"),\"NÃO\")","v":"NÃO"},{"$f":"IF(AND(BU$8>=$M24,BU$8<=$N24),IF($F24=\"SEMESTRAL\",IF(BT120=\"NÃO\",$D24,IF(MOD(COUNT($Q120:BT120)+1,6)=0,(BT120*$E24)+BT120,BT120)),\"NÃO\"),\"NÃO\")","v":"NÃO"},{"$f":"IF(AND(BV$8>=$M24,BV$8<=$N24),IF($F24=\"SEMESTRAL\",IF(BU120=\"NÃO\",$D24,IF(MOD(COUNT($Q120:BU120)+1,6)=0,(BU120*$E24)+BU120,BU120)),\"NÃO\"),\"NÃO\")","v":"NÃO"},{"$f":"IF(AND(BW$8>=$M24,BW$8<=$N24),IF($F24=\"SEMESTRAL\",IF(BV120=\"NÃO\",$D24,IF(MOD(COUNT($Q120:BV120)+1,6)=0,(BV120*$E24)+BV120,BV120)),\"NÃO\"),\"NÃO\")","v":"NÃO"},{"$f":"IF(AND(BX$8>=$M24,BX$8<=$N24),IF($F24=\"SEMESTRAL\",IF(BW120=\"NÃO\",$D24,IF(MOD(COUNT($Q120:BW120)+1,6)=0,(BW120*$E24)+BW120,BW120)),\"NÃO\"),\"NÃO\")","v":"NÃO"}]
[null,null,null,null,null,null,null,null,null,null,null,null,null,null,null,17,"NÃO",{"$f":"IF(AND(R$8>=$M25,R$8<=$N25),IF($F25=\"SEMESTRAL\",IF(Q121=\"NÃO\",$D25,IF(MOD(COUNT($Q121:Q121)+1,6)=0,(Q121*$E25)+Q121,Q121)),\"NÃO\"),\"NÃO\")","v":"NÃO"},{"$f":"IF(AND(S$8>=$M25,S$8<=$N25),IF($F25=\"SEMESTRAL\",IF(R121=\"NÃO\",$D25,IF(MOD(COUNT($Q121:R121)+1,6)=0,(R121*$E25)+R121,R121)),\"NÃO\"),\"NÃO\")","v":"NÃO"},{"$f":"IF(AND(T$8>=$M25,T$8<=$N25),IF($F25=\"SEMESTRAL\",IF(S121=\"NÃO\",$D25,IF(MOD(COUNT($Q121:S121)+1,6)=0,(S121*$E25)+S121,S121)),\"NÃO\"),\"NÃO\")","v":"NÃO"},{"$f":"IF(AND(U$8>=$M25,U$8<=$N25),IF($F25=\"SEMESTRAL\",IF(T121=\"NÃO\",$D25,IF(MOD(COUNT($Q121:T121)+1,6)=0,(T121*$E25)+T121,T121)),\"NÃO\"),\"NÃO\")","v":"NÃO"},{"$f":"IF(AND(V$8>=$M25,V$8<=$N25),IF($F25=\"SEMESTRAL\",IF(U121=\"NÃO\",$D25,IF(MOD(COUNT($Q121:U121)+1,6)=0,(U121*$E25)+U121,U121)),\"NÃO\"),\"NÃO\")","v":"NÃO"},{"$f":"IF(AND(W$8>=$M25,W$8<=$N25),IF($F25=\"SEMESTRAL\",IF(V121=\"NÃO\",$D25,IF(MOD(COUNT($Q121:V121)+1,6)=0,(V121*$E25)+V121,V121)),\"NÃO\"),\"NÃO\")","v":"NÃO"},{"$f":"IF(AND(X$8>=$M25,X$8<=$N25),IF($F25=\"SEMESTRAL\",IF(W121=\"NÃO\",$D25,IF(MOD(COUNT($Q121:W121)+1,6)=0,(W121*$E25)+W121,W121)),\"NÃO\"),\"NÃO\")","v":"NÃO"},{"$f":"IF(AND(Y$8>=$M25,Y$8<=$N25),IF($F25=\"SEMESTRAL\",IF(X121=\"NÃO\",$D25,IF(MOD(COUNT($Q121:X121)+1,6)=0,(X121*$E25)+X121,X121)),\"NÃO\"),\"NÃO\")","v":"NÃO"},{"$f":"IF(AND(Z$8>=$M25,Z$8<=$N25),IF($F25=\"SEMESTRAL\",IF(Y121=\"NÃO\",$D25,IF(MOD(COUNT($Q121:Y121)+1,6)=0,(Y121*$E25)+Y121,Y121)),\"NÃO\"),\"NÃO\")","v":"NÃO"},{"$f":"IF(AND(AA$8>=$M25,AA$8<=$N25),IF($F25=\"SEMESTRAL\",IF(Z121=\"NÃO\",$D25,IF(MOD(COUNT($Q121:Z121)+1,6)=0,(Z121*$E25)+Z121,Z121)),\"NÃO\"),\"NÃO\")","v":"NÃO"},{"$f":"IF(AND(AB$8>=$M25,AB$8<=$N25),IF($F25=\"SEMESTRAL\",IF(AA121=\"NÃO\",$D25,IF(MOD(COUNT($Q121:AA121)+1,6)=0,(AA121*$E25)+AA121,AA121)),\"NÃO\"),\"NÃO\")","v":"NÃO"},{"$f":"IF(AND(AC$8>=$M25,AC$8<=$N25),IF($F25=\"SEMESTRAL\",IF(AB121=\"NÃO\",$D25,IF(MOD(COUNT($Q121:AB121)+1,6)=0,(AB121*$E25)+AB121,AB121)),\"NÃO\"),\"NÃO\")","v":"NÃO"},{"$f":"IF(AND(AD$8>=$M25,AD$8<=$N25),IF($F25=\"SEMESTRAL\",IF(AC121=\"NÃO\",$D25,IF(MOD(COUNT($Q121:AC121)+1,6)=0,(AC121*$E25)+AC121,AC121)),\"NÃO\"),\"NÃO\")","v":"NÃO"},{"$f":"IF(AND(AE$8>=$M25,AE$8<=$N25),IF($F25=\"SEMESTRAL\",IF(AD121=\"NÃO\",$D25,IF(MOD(COUNT($Q121:AD121)+1,6)=0,(AD121*$E25)+AD121,AD121)),\"NÃO\"),\"NÃO\")","v":"NÃO"},{"$f":"IF(AND(AF$8>=$M25,AF$8<=$N25),IF($F25=\"SEMESTRAL\",IF(AE121=\"NÃO\",$D25,IF(MOD(COUNT($Q121:AE121)+1,6)=0,(AE121*$E25)+AE121,AE121)),\"NÃO\"),\"NÃO\")","v":"NÃO"},{"$f":"IF(AND(AG$8>=$M25,AG$8<=$N25),IF($F25=\"SEMESTRAL\",IF(AF121=\"NÃO\",$D25,IF(MOD(COUNT($Q121:AF121)+1,6)=0,(AF121*$E25)+AF121,AF121)),\"NÃO\"),\"NÃO\")","v":"NÃO"},{"$f":"IF(AND(AH$8>=$M25,AH$8<=$N25),IF($F25=\"SEMESTRAL\",IF(AG121=\"NÃO\",$D25,IF(MOD(COUNT($Q121:AG121)+1,6)=0,(AG121*$E25)+AG121,AG121)),\"NÃO\"),\"NÃO\")","v":"NÃO"},{"$f":"IF(AND(AI$8>=$M25,AI$8<=$N25),IF($F25=\"SEMESTRAL\",IF(AH121=\"NÃO\",$D25,IF(MOD(COUNT($Q121:AH121)+1,6)=0,(AH121*$E25)+AH121,AH121)),\"NÃO\"),\"NÃO\")","v":"NÃO"},{"$f":"IF(AND(AJ$8>=$M25,AJ$8<=$N25),IF($F25=\"SEMESTRAL\",IF(AI121=\"NÃO\",$D25,IF(MOD(COUNT($Q121:AI121)+1,6)=0,(AI121*$E25)+AI121,AI121)),\"NÃO\"),\"NÃO\")","v":"NÃO"},{"$f":"IF(AND(AK$8>=$M25,AK$8<=$N25),IF($F25=\"SEMESTRAL\",IF(AJ121=\"NÃO\",$D25,IF(MOD(COUNT($Q121:AJ121)+1,6)=0,(AJ121*$E25)+AJ121,AJ121)),\"NÃO\"),\"NÃO\")","v":"NÃO"},{"$f":"IF(AND(AL$8>=$M25,AL$8<=$N25),IF($F25=\"SEMESTRAL\",IF(AK121=\"NÃO\",$D25,IF(MOD(COUNT($Q121:AK121)+1,6)=0,(AK121*$E25)+AK121,AK121)),\"NÃO\"),\"NÃO\")","v":"NÃO"},{"$f":"IF(AND(AM$8>=$M25,AM$8<=$N25),IF($F25=\"SEMESTRAL\",IF(AL121=\"NÃO\",$D25,IF(MOD(COUNT($Q121:AL121)+1,6)=0,(AL121*$E25)+AL121,AL121)),\"NÃO\"),\"NÃO\")","v":"NÃO"},{"$f":"IF(AND(AN$8>=$M25,AN$8<=$N25),IF($F25=\"SEMESTRAL\",IF(AM121=\"NÃO\",$D25,IF(MOD(COUNT($Q121:AM121)+1,6)=0,(AM121*$E25)+AM121,AM121)),\"NÃO\"),\"NÃO\")","v":"NÃO"},{"$f":"IF(AND(AO$8>=$M25,AO$8<=$N25),IF($F25=\"SEMESTRAL\",IF(AN121=\"NÃO\",$D25,IF(MOD(COUNT($Q121:AN121)+1,6)=0,(AN121*$E25)+AN121,AN121)),\"NÃO\"),\"NÃO\")","v":"NÃO"},{"$f":"IF(AND(AP$8>=$M25,AP$8<=$N25),IF($F25=\"SEMESTRAL\",IF(AO121=\"NÃO\",$D25,IF(MOD(COUNT($Q121:AO121)+1,6)=0,(AO121*$E25)+AO121,AO121)),\"NÃO\"),\"NÃO\")","v":"NÃO"},{"$f":"IF(AND(AQ$8>=$M25,AQ$8<=$N25),IF($F25=\"SEMESTRAL\",IF(AP121=\"NÃO\",$D25,IF(MOD(COUNT($Q121:AP121)+1,6)=0,(AP121*$E25)+AP121,AP121)),\"NÃO\"),\"NÃO\")","v":"NÃO"},{"$f":"IF(AND(AR$8>=$M25,AR$8<=$N25),IF($F25=\"SEMESTRAL\",IF(AQ121=\"NÃO\",$D25,IF(MOD(COUNT($Q121:AQ121)+1,6)=0,(AQ121*$E25)+AQ121,AQ121)),\"NÃO\"),\"NÃO\")","v":"NÃO"},{"$f":"IF(AND(AS$8>=$M25,AS$8<=$N25),IF($F25=\"SEMESTRAL\",IF(AR121=\"NÃO\",$D25,IF(MOD(COUNT($Q121:AR121)+1,6)=0,(AR121*$E25)+AR121,AR121)),\"NÃO\"),\"NÃO\")","v":"NÃO"},{"$f":"IF(AND(AT$8>=$M25,AT$8<=$N25),IF($F25=\"SEMESTRAL\",IF(AS121=\"NÃO\",$D25,IF(MOD(COUNT($Q121:AS121)+1,6)=0,(AS121*$E25)+AS121,AS121)),\"NÃO\"),\"NÃO\")","v":"NÃO"},{"$f":"IF(AND(AU$8>=$M25,AU$8<=$N25),IF($F25=\"SEMESTRAL\",IF(AT121=\"NÃO\",$D25,IF(MOD(COUNT($Q121:AT121)+1,6)=0,(AT121*$E25)+AT121,AT121)),\"NÃO\"),\"NÃO\")","v":"NÃO"},{"$f":"IF(AND(AV$8>=$M25,AV$8<=$N25),IF($F25=\"SEMESTRAL\",IF(AU121=\"NÃO\",$D25,IF(MOD(COUNT($Q121:AU121)+1,6)=0,(AU121*$E25)+AU121,AU121)),\"NÃO\"),\"NÃO\")","v":"NÃO"},{"$f":"IF(AND(AW$8>=$M25,AW$8<=$N25),IF($F25=\"SEMESTRAL\",IF(AV121=\"NÃO\",$D25,IF(MOD(COUNT($Q121:AV121)+1,6)=0,(AV121*$E25)+AV121,AV121)),\"NÃO\"),\"NÃO\")","v":"NÃO"},{"$f":"IF(AND(AX$8>=$M25,AX$8<=$N25),IF($F25=\"SEMESTRAL\",IF(AW121=\"NÃO\",$D25,IF(MOD(COUNT($Q121:AW121)+1,6)=0,(AW121*$E25)+AW121,AW121)),\"NÃO\"),\"NÃO\")","v":"NÃO"},{"$f":"IF(AND(AY$8>=$M25,AY$8<=$N25),IF($F25=\"SEMESTRAL\",IF(AX121=\"NÃO\",$D25,IF(MOD(COUNT($Q121:AX121)+1,6)=0,(AX121*$E25)+AX121,AX121)),\"NÃO\"),\"NÃO\")","v":"NÃO"},{"$f":"IF(AND(AZ$8>=$M25,AZ$8<=$N25),IF($F25=\"SEMESTRAL\",IF(AY121=\"NÃO\",$D25,IF(MOD(COUNT($Q121:AY121)+1,6)=0,(AY121*$E25)+AY121,AY121)),\"NÃO\"),\"NÃO\")","v":"NÃO"},{"$f":"IF(AND(BA$8>=$M25,BA$8<=$N25),IF($F25=\"SEMESTRAL\",IF(AZ121=\"NÃO\",$D25,IF(MOD(COUNT($Q121:AZ121)+1,6)=0,(AZ121*$E25)+AZ121,AZ121)),\"NÃO\"),\"NÃO\")","v":"NÃO"},{"$f":"IF(AND(BB$8>=$M25,BB$8<=$N25),IF($F25=\"SEMESTRAL\",IF(BA121=\"NÃO\",$D25,IF(MOD(COUNT($Q121:BA121)+1,6)=0,(BA121*$E25)+BA121,BA121)),\"NÃO\"),\"NÃO\")","v":"NÃO"},{"$f":"IF(AND(BC$8>=$M25,BC$8<=$N25),IF($F25=\"SEMESTRAL\",IF(BB121=\"NÃO\",$D25,IF(MOD(COUNT($Q121:BB121)+1,6)=0,(BB121*$E25)+BB121,BB121)),\"NÃO\"),\"NÃO\")","v":"NÃO"},{"$f":"IF(AND(BD$8>=$M25,BD$8<=$N25),IF($F25=\"SEMESTRAL\",IF(BC121=\"NÃO\",$D25,IF(MOD(COUNT($Q121:BC121)+1,6)=0,(BC121*$E25)+BC121,BC121)),\"NÃO\"),\"NÃO\")","v":"NÃO"},{"$f":"IF(AND(BE$8>=$M25,BE$8<=$N25),IF($F25=\"SEMESTRAL\",IF(BD121=\"NÃO\",$D25,IF(MOD(COUNT($Q121:BD121)+1,6)=0,(BD121*$E25)+BD121,BD121)),\"NÃO\"),\"NÃO\")","v":"NÃO"},{"$f":"IF(AND(BF$8>=$M25,BF$8<=$N25),IF($F25=\"SEMESTRAL\",IF(BE121=\"NÃO\",$D25,IF(MOD(COUNT($Q121:BE121)+1,6)=0,(BE121*$E25)+BE121,BE121)),\"NÃO\"),\"NÃO\")","v":"NÃO"},{"$f":"IF(AND(BG$8>=$M25,BG$8<=$N25),IF($F25=\"SEMESTRAL\",IF(BF121=\"NÃO\",$D25,IF(MOD(COUNT($Q121:BF121)+1,6)=0,(BF121*$E25)+BF121,BF121)),\"NÃO\"),\"NÃO\")","v":"NÃO"},{"$f":"IF(AND(BH$8>=$M25,BH$8<=$N25),IF($F25=\"SEMESTRAL\",IF(BG121=\"NÃO\",$D25,IF(MOD(COUNT($Q121:BG121)+1,6)=0,(BG121*$E25)+BG121,BG121)),\"NÃO\"),\"NÃO\")","v":"NÃO"},{"$f":"IF(AND(BI$8>=$M25,BI$8<=$N25),IF($F25=\"SEMESTRAL\",IF(BH121=\"NÃO\",$D25,IF(MOD(COUNT($Q121:BH121)+1,6)=0,(BH121*$E25)+BH121,BH121)),\"NÃO\"),\"NÃO\")","v":"NÃO"},{"$f":"IF(AND(BJ$8>=$M25,BJ$8<=$N25),IF($F25=\"SEMESTRAL\",IF(BI121=\"NÃO\",$D25,IF(MOD(COUNT($Q121:BI121)+1,6)=0,(BI121*$E25)+BI121,BI121)),\"NÃO\"),\"NÃO\")","v":"NÃO"},{"$f":"IF(AND(BK$8>=$M25,BK$8<=$N25),IF($F25=\"SEMESTRAL\",IF(BJ121=\"NÃO\",$D25,IF(MOD(COUNT($Q121:BJ121)+1,6)=0,(BJ121*$E25)+BJ121,BJ121)),\"NÃO\"),\"NÃO\")","v":"NÃO"},{"$f":"IF(AND(BL$8>=$M25,BL$8<=$N25),IF($F25=\"SEMESTRAL\",IF(BK121=\"NÃO\",$D25,IF(MOD(COUNT($Q121:BK121)+1,6)=0,(BK121*$E25)+BK121,BK121)),\"NÃO\"),\"NÃO\")","v":"NÃO"},{"$f":"IF(AND(BM$8>=$M25,BM$8<=$N25),IF($F25=\"SEMESTRAL\",IF(BL121=\"NÃO\",$D25,IF(MOD(COUNT($Q121:BL121)+1,6)=0,(BL121*$E25)+BL121,BL121)),\"NÃO\"),\"NÃO\")","v":"NÃO"},{"$f":"IF(AND(BN$8>=$M25,BN$8<=$N25),IF($F25=\"SEMESTRAL\",IF(BM121=\"NÃO\",$D25,IF(MOD(COUNT($Q121:BM121)+1,6)=0,(BM121*$E25)+BM121,BM121)),\"NÃO\"),\"NÃO\")","v":"NÃO"},{"$f":"IF(AND(BO$8>=$M25,BO$8<=$N25),IF($F25=\"SEMESTRAL\",IF(BN121=\"NÃO\",$D25,IF(MOD(COUNT($Q121:BN121)+1,6)=0,(BN121*$E25)+BN121,BN121)),\"NÃO\"),\"NÃO\")","v":"NÃO"},{"$f":"IF(AND(BP$8>=$M25,BP$8<=$N25),IF($F25=\"SEMESTRAL\",IF(BO121=\"NÃO\",$D25,IF(MOD(COUNT($Q121:BO121)+1,6)=0,(BO121*$E25)+BO121,BO121)),\"NÃO\"),\"NÃO\")","v":"NÃO"},{"$f":"IF(AND(BQ$8>=$M25,BQ$8<=$N25),IF($F25=\"SEMESTRAL\",IF(BP121=\"NÃO\",$D25,IF(MOD(COUNT($Q121:BP121)+1,6)=0,(BP121*$E25)+BP121,BP121)),\"NÃO\"),\"NÃO\")","v":"NÃO"},{"$f":"IF(AND(BR$8>=$M25,BR$8<=$N25),IF($F25=\"SEMESTRAL\",IF(BQ121=\"NÃO\",$D25,IF(MOD(COUNT($Q121:BQ121)+1,6)=0,(BQ121*$E25)+BQ121,BQ121)),\"NÃO\"),\"NÃO\")","v":"NÃO"},{"$f":"IF(AND(BS$8>=$M25,BS$8<=$N25),IF($F25=\"SEMESTRAL\",IF(BR121=\"NÃO\",$D25,IF(MOD(COUNT($Q121:BR121)+1,6)=0,(BR121*$E25)+BR121,BR121)),\"NÃO\"),\"NÃO\")","v":"NÃO"},{"$f":"IF(AND(BT$8>=$M25,BT$8<=$N25),IF($F25=\"SEMESTRAL\",IF(BS121=\"NÃO\",$D25,IF(MOD(COUNT($Q121:BS121)+1,6)=0,(BS121*$E25)+BS121,BS121)),\"NÃO\"),\"NÃO\")","v":"NÃO"},{"$f":"IF(AND(BU$8>=$M25,BU$8<=$N25),IF($F25=\"SEMESTRAL\",IF(BT121=\"NÃO\",$D25,IF(MOD(COUNT($Q121:BT121)+1,6)=0,(BT121*$E25)+BT121,BT121)),\"NÃO\"),\"NÃO\")","v":"NÃO"},{"$f":"IF(AND(BV$8>=$M25,BV$8<=$N25),IF($F25=\"SEMESTRAL\",IF(BU121=\"NÃO\",$D25,IF(MOD(COUNT($Q121:BU121)+1,6)=0,(BU121*$E25)+BU121,BU121)),\"NÃO\"),\"NÃO\")","v":"NÃO"},{"$f":"IF(AND(BW$8>=$M25,BW$8<=$N25),IF($F25=\"SEMESTRAL\",IF(BV121=\"NÃO\",$D25,IF(MOD(COUNT($Q121:BV121)+1,6)=0,(BV121*$E25)+BV121,BV121)),\"NÃO\"),\"NÃO\")","v":"NÃO"},{"$f":"IF(AND(BX$8>=$M25,BX$8<=$N25),IF($F25=\"SEMESTRAL\",IF(BW121=\"NÃO\",$D25,IF(MOD(COUNT($Q121:BW121)+1,6)=0,(BW121*$E25)+BW121,BW121)),\"NÃO\"),\"NÃO\")","v":"NÃO"}]
[null,null,null,null,null,null,null,null,null,null,null,null,null,null,null,18,"NÃO",{"$f":"IF(AND(R$8>=$M26,R$8<=$N26),IF($F26=\"SEMESTRAL\",IF(Q122=\"NÃO\",$D26,IF(MOD(COUNT($Q122:Q122)+1,6)=0,(Q122*$E26)+Q122,Q122)),\"NÃO\"),\"NÃO\")","v":"NÃO"},{"$f":"IF(AND(S$8>=$M26,S$8<=$N26),IF($F26=\"SEMESTRAL\",IF(R122=\"NÃO\",$D26,IF(MOD(COUNT($Q122:R122)+1,6)=0,(R122*$E26)+R122,R122)),\"NÃO\"),\"NÃO\")","v":"NÃO"},{"$f":"IF(AND(T$8>=$M26,T$8<=$N26),IF($F26=\"SEMESTRAL\",IF(S122=\"NÃO\",$D26,IF(MOD(COUNT($Q122:S122)+1,6)=0,(S122*$E26)+S122,S122)),\"NÃO\"),\"NÃO\")","v":"NÃO"},{"$f":"IF(AND(U$8>=$M26,U$8<=$N26),IF($F26=\"SEMESTRAL\",IF(T122=\"NÃO\",$D26,IF(MOD(COUNT($Q122:T122)+1,6)=0,(T122*$E26)+T122,T122)),\"NÃO\"),\"NÃO\")","v":"NÃO"},{"$f":"IF(AND(V$8>=$M26,V$8<=$N26),IF($F26=\"SEMESTRAL\",IF(U122=\"NÃO\",$D26,IF(MOD(COUNT($Q122:U122)+1,6)=0,(U122*$E26)+U122,U122)),\"NÃO\"),\"NÃO\")","v":"NÃO"},{"$f":"IF(AND(W$8>=$M26,W$8<=$N26),IF($F26=\"SEMESTRAL\",IF(V122=\"NÃO\",$D26,IF(MOD(COUNT($Q122:V122)+1,6)=0,(V122*$E26)+V122,V122)),\"NÃO\"),\"NÃO\")","v":"NÃO"},{"$f":"IF(AND(X$8>=$M26,X$8<=$N26),IF($F26=\"SEMESTRAL\",IF(W122=\"NÃO\",$D26,IF(MOD(COUNT($Q122:W122)+1,6)=0,(W122*$E26)+W122,W122)),\"NÃO\"),\"NÃO\")","v":"NÃO"},{"$f":"IF(AND(Y$8>=$M26,Y$8<=$N26),IF($F26=\"SEMESTRAL\",IF(X122=\"NÃO\",$D26,IF(MOD(COUNT($Q122:X122)+1,6)=0,(X122*$E26)+X122,X122)),\"NÃO\"),\"NÃO\")","v":"NÃO"},{"$f":"IF(AND(Z$8>=$M26,Z$8<=$N26),IF($F26=\"SEMESTRAL\",IF(Y122=\"NÃO\",$D26,IF(MOD(COUNT($Q122:Y122)+1,6)=0,(Y122*$E26)+Y122,Y122)),\"NÃO\"),\"NÃO\")","v":"NÃO"},{"$f":"IF(AND(AA$8>=$M26,AA$8<=$N26),IF($F26=\"SEMESTRAL\",IF(Z122=\"NÃO\",$D26,IF(MOD(COUNT($Q122:Z122)+1,6)=0,(Z122*$E26)+Z122,Z122)),\"NÃO\"),\"NÃO\")","v":"NÃO"},{"$f":"IF(AND(AB$8>=$M26,AB$8<=$N26),IF($F26=\"SEMESTRAL\",IF(AA122=\"NÃO\",$D26,IF(MOD(COUNT($Q122:AA122)+1,6)=0,(AA122*$E26)+AA122,AA122)),\"NÃO\"),\"NÃO\")","v":"NÃO"},{"$f":"IF(AND(AC$8>=$M26,AC$8<=$N26),IF($F26=\"SEMESTRAL\",IF(AB122=\"NÃO\",$D26,IF(MOD(COUNT($Q122:AB122)+1,6)=0,(AB122*$E26)+AB122,AB122)),\"NÃO\"),\"NÃO\")","v":"NÃO"},{"$f":"IF(AND(AD$8>=$M26,AD$8<=$N26),IF($F26=\"SEMESTRAL\",IF(AC122=\"NÃO\",$D26,IF(MOD(COUNT($Q122:AC122)+1,6)=0,(AC122*$E26)+AC122,AC122)),\"NÃO\"),\"NÃO\")","v":"NÃO"},{"$f":"IF(AND(AE$8>=$M26,AE$8<=$N26),IF($F26=\"SEMESTRAL\",IF(AD122=\"NÃO\",$D26,IF(MOD(COUNT($Q122:AD122)+1,6)=0,(AD122*$E26)+AD122,AD122)),\"NÃO\"),\"NÃO\")","v":"NÃO"},{"$f":"IF(AND(AF$8>=$M26,AF$8<=$N26),IF($F26=\"SEMESTRAL\",IF(AE122=\"NÃO\",$D26,IF(MOD(COUNT($Q122:AE122)+1,6)=0,(AE122*$E26)+AE122,AE122)),\"NÃO\"),\"NÃO\")","v":"NÃO"},{"$f":"IF(AND(AG$8>=$M26,AG$8<=$N26),IF($F26=\"SEMESTRAL\",IF(AF122=\"NÃO\",$D26,IF(MOD(COUNT($Q122:AF122)+1,6)=0,(AF122*$E26)+AF122,AF122)),\"NÃO\"),\"NÃO\")","v":"NÃO"},{"$f":"IF(AND(AH$8>=$M26,AH$8<=$N26),IF($F26=\"SEMESTRAL\",IF(AG122=\"NÃO\",$D26,IF(MOD(COUNT($Q122:AG122)+1,6)=0,(AG122*$E26)+AG122,AG122)),\"NÃO\"),\"NÃO\")","v":"NÃO"},{"$f":"IF(AND(AI$8>=$M26,AI$8<=$N26),IF($F26=\"SEMESTRAL\",IF(AH122=\"NÃO\",$D26,IF(MOD(COUNT($Q122:AH122)+1,6)=0,(AH122*$E26)+AH122,AH122)),\"NÃO\"),\"NÃO\")","v":"NÃO"},{"$f":"IF(AND(AJ$8>=$M26,AJ$8<=$N26),IF($F26=\"SEMESTRAL\",IF(AI122=\"NÃO\",$D26,IF(MOD(COUNT($Q122:AI122)+1,6)=0,(AI122*$E26)+AI122,AI122)),\"NÃO\"),\"NÃO\")","v":"NÃO"},{"$f":"IF(AND(AK$8>=$M26,AK$8<=$N26),IF($F26=\"SEMESTRAL\",IF(AJ122=\"NÃO\",$D26,IF(MOD(COUNT($Q122:AJ122)+1,6)=0,(AJ122*$E26)+AJ122,AJ122)),\"NÃO\"),\"NÃO\")","v":"NÃO"},{"$f":"IF(AND(AL$8>=$M26,AL$8<=$N26),IF($F26=\"SEMESTRAL\",IF(AK122=\"NÃO\",$D26,IF(MOD(COUNT($Q122:AK122)+1,6)=0,(AK122*$E26)+AK122,AK122)),\"NÃO\"),\"NÃO\")","v":"NÃO"},{"$f":"IF(AND(AM$8>=$M26,AM$8<=$N26),IF($F26=\"SEMESTRAL\",IF(AL122=\"NÃO\",$D26,IF(MOD(COUNT($Q122:AL122)+1,6)=0,(AL122*$E26)+AL122,AL122)),\"NÃO\"),\"NÃO\")","v":"NÃO"},{"$f":"IF(AND(AN$8>=$M26,AN$8<=$N26),IF($F26=\"SEMESTRAL\",IF(AM122=\"NÃO\",$D26,IF(MOD(COUNT($Q122:AM122)+1,6)=0,(AM122*$E26)+AM122,AM122)),\"NÃO\"),\"NÃO\")","v":"NÃO"},{"$f":"IF(AND(AO$8>=$M26,AO$8<=$N26),IF($F26=\"SEMESTRAL\",IF(AN122=\"NÃO\",$D26,IF(MOD(COUNT($Q122:AN122)+1,6)=0,(AN122*$E26)+AN122,AN122)),\"NÃO\"),\"NÃO\")","v":"NÃO"},{"$f":"IF(AND(AP$8>=$M26,AP$8<=$N26),IF($F26=\"SEMESTRAL\",IF(AO122=\"NÃO\",$D26,IF(MOD(COUNT($Q122:AO122)+1,6)=0,(AO122*$E26)+AO122,AO122)),\"NÃO\"),\"NÃO\")","v":"NÃO"},{"$f":"IF(AND(AQ$8>=$M26,AQ$8<=$N26),IF($F26=\"SEMESTRAL\",IF(AP122=\"NÃO\",$D26,IF(MOD(COUNT($Q122:AP122)+1,6)=0,(AP122*$E26)+AP122,AP122)),\"NÃO\"),\"NÃO\")","v":"NÃO"},{"$f":"IF(AND(AR$8>=$M26,AR$8<=$N26),IF($F26=\"SEMESTRAL\",IF(AQ122=\"NÃO\",$D26,IF(MOD(COUNT($Q122:AQ122)+1,6)=0,(AQ122*$E26)+AQ122,AQ122)),\"NÃO\"),\"NÃO\")","v":"NÃO"},{"$f":"IF(AND(AS$8>=$M26,AS$8<=$N26),IF($F26=\"SEMESTRAL\",IF(AR122=\"NÃO\",$D26,IF(MOD(COUNT($Q122:AR122)+1,6)=0,(AR122*$E26)+AR122,AR122)),\"NÃO\"),\"NÃO\")","v":"NÃO"},{"$f":"IF(AND(AT$8>=$M26,AT$8<=$N26),IF($F26=\"SEMESTRAL\",IF(AS122=\"NÃO\",$D26,IF(MOD(COUNT($Q122:AS122)+1,6)=0,(AS122*$E26)+AS122,AS122)),\"NÃO\"),\"NÃO\")","v":"NÃO"},{"$f":"IF(AND(AU$8>=$M26,AU$8<=$N26),IF($F26=\"SEMESTRAL\",IF(AT122=\"NÃO\",$D26,IF(MOD(COUNT($Q122:AT122)+1,6)=0,(AT122*$E26)+AT122,AT122)),\"NÃO\"),\"NÃO\")","v":"NÃO"},{"$f":"IF(AND(AV$8>=$M26,AV$8<=$N26),IF($F26=\"SEMESTRAL\",IF(AU122=\"NÃO\",$D26,IF(MOD(COUNT($Q122:AU122)+1,6)=0,(AU122*$E26)+AU122,AU122)),\"NÃO\"),\"NÃO\")","v":"NÃO"},{"$f":"IF(AND(AW$8>=$M26,AW$8<=$N26),IF($F26=\"SEMESTRAL\",IF(AV122=\"NÃO\",$D26,IF(MOD(COUNT($Q122:AV122)+1,6)=0,(AV122*$E26)+AV122,AV122)),\"NÃO\"),\"NÃO\")","v":"NÃO"},{"$f":"IF(AND(AX$8>=$M26,AX$8<=$N26),IF($F26=\"SEMESTRAL\",IF(AW122=\"NÃO\",$D26,IF(MOD(COUNT($Q122:AW122)+1,6)=0,(AW122*$E26)+AW122,AW122)),\"NÃO\"),\"NÃO\")","v":"NÃO"},{"$f":"IF(AND(AY$8>=$M26,AY$8<=$N26),IF($F26=\"SEMESTRAL\",IF(AX122=\"NÃO\",$D26,IF(MOD(COUNT($Q122:AX122)+1,6)=0,(AX122*$E26)+AX122,AX122)),\"NÃO\"),\"NÃO\")","v":"NÃO"},{"$f":"IF(AND(AZ$8>=$M26,AZ$8<=$N26),IF($F26=\"SEMESTRAL\",IF(AY122=\"NÃO\",$D26,IF(MOD(COUNT($Q122:AY122)+1,6)=0,(AY122*$E26)+AY122,AY122)),\"NÃO\"),\"NÃO\")","v":"NÃO"},{"$f":"IF(AND(BA$8>=$M26,BA$8<=$N26),IF($F26=\"SEMESTRAL\",IF(AZ122=\"NÃO\",$D26,IF(MOD(COUNT($Q122:AZ122)+1,6)=0,(AZ122*$E26)+AZ122,AZ122)),\"NÃO\"),\"NÃO\")","v":"NÃO"},{"$f":"IF(AND(BB$8>=$M26,BB$8<=$N26),IF($F26=\"SEMESTRAL\",IF(BA122=\"NÃO\",$D26,IF(MOD(COUNT($Q122:BA122)+1,6)=0,(BA122*$E26)+BA122,BA122)),\"NÃO\"),\"NÃO\")","v":"NÃO"},{"$f":"IF(AND(BC$8>=$M26,BC$8<=$N26),IF($F26=\"SEMESTRAL\",IF(BB122=\"NÃO\",$D26,IF(MOD(COUNT($Q122:BB122)+1,6)=0,(BB122*$E26)+BB122,BB122)),\"NÃO\"),\"NÃO\")","v":"NÃO"},{"$f":"IF(AND(BD$8>=$M26,BD$8<=$N26),IF($F26=\"SEMESTRAL\",IF(BC122=\"NÃO\",$D26,IF(MOD(COUNT($Q122:BC122)+1,6)=0,(BC122*$E26)+BC122,BC122)),\"NÃO\"),\"NÃO\")","v":"NÃO"},{"$f":"IF(AND(BE$8>=$M26,BE$8<=$N26),IF($F26=\"SEMESTRAL\",IF(BD122=\"NÃO\",$D26,IF(MOD(COUNT($Q122:BD122)+1,6)=0,(BD122*$E26)+BD122,BD122)),\"NÃO\"),\"NÃO\")","v":"NÃO"},{"$f":"IF(AND(BF$8>=$M26,BF$8<=$N26),IF($F26=\"SEMESTRAL\",IF(BE122=\"NÃO\",$D26,IF(MOD(COUNT($Q122:BE122)+1,6)=0,(BE122*$E26)+BE122,BE122)),\"NÃO\"),\"NÃO\")","v":"NÃO"},{"$f":"IF(AND(BG$8>=$M26,BG$8<=$N26),IF($F26=\"SEMESTRAL\",IF(BF122=\"NÃO\",$D26,IF(MOD(COUNT($Q122:BF122)+1,6)=0,(BF122*$E26)+BF122,BF122)),\"NÃO\"),\"NÃO\")","v":"NÃO"},{"$f":"IF(AND(BH$8>=$M26,BH$8<=$N26),IF($F26=\"SEMESTRAL\",IF(BG122=\"NÃO\",$D26,IF(MOD(COUNT($Q122:BG122)+1,6)=0,(BG122*$E26)+BG122,BG122)),\"NÃO\"),\"NÃO\")","v":"NÃO"},{"$f":"IF(AND(BI$8>=$M26,BI$8<=$N26),IF($F26=\"SEMESTRAL\",IF(BH122=\"NÃO\",$D26,IF(MOD(COUNT($Q122:BH122)+1,6)=0,(BH122*$E26)+BH122,BH122)),\"NÃO\"),\"NÃO\")","v":"NÃO"},{"$f":"IF(AND(BJ$8>=$M26,BJ$8<=$N26),IF($F26=\"SEMESTRAL\",IF(BI122=\"NÃO\",$D26,IF(MOD(COUNT($Q122:BI122)+1,6)=0,(BI122*$E26)+BI122,BI122)),\"NÃO\"),\"NÃO\")","v":"NÃO"},{"$f":"IF(AND(BK$8>=$M26,BK$8<=$N26),IF($F26=\"SEMESTRAL\",IF(BJ122=\"NÃO\",$D26,IF(MOD(COUNT($Q122:BJ122)+1,6)=0,(BJ122*$E26)+BJ122,BJ122)),\"NÃO\"),\"NÃO\")","v":"NÃO"},{"$f":"IF(AND(BL$8>=$M26,BL$8<=$N26),IF($F26=\"SEMESTRAL\",IF(BK122=\"NÃO\",$D26,IF(MOD(COUNT($Q122:BK122)+1,6)=0,(BK122*$E26)+BK122,BK122)),\"NÃO\"),\"NÃO\")","v":"NÃO"},{"$f":"IF(AND(BM$8>=$M26,BM$8<=$N26),IF($F26=\"SEMESTRAL\",IF(BL122=\"NÃO\",$D26,IF(MOD(COUNT($Q122:BL122)+1,6)=0,(BL122*$E26)+BL122,BL122)),\"NÃO\"),\"NÃO\")","v":"NÃO"},{"$f":"IF(AND(BN$8>=$M26,BN$8<=$N26),IF($F26=\"SEMESTRAL\",IF(BM122=\"NÃO\",$D26,IF(MOD(COUNT($Q122:BM122)+1,6)=0,(BM122*$E26)+BM122,BM122)),\"NÃO\"),\"NÃO\")","v":"NÃO"},{"$f":"IF(AND(BO$8>=$M26,BO$8<=$N26),IF($F26=\"SEMESTRAL\",IF(BN122=\"NÃO\",$D26,IF(MOD(COUNT($Q122:BN122)+1,6)=0,(BN122*$E26)+BN122,BN122)),\"NÃO\"),\"NÃO\")","v":"NÃO"},{"$f":"IF(AND(BP$8>=$M26,BP$8<=$N26),IF($F26=\"SEMESTRAL\",IF(BO122=\"NÃO\",$D26,IF(MOD(COUNT($Q122:BO122)+1,6)=0,(BO122*$E26)+BO122,BO122)),\"NÃO\"),\"NÃO\")","v":"NÃO"},{"$f":"IF(AND(BQ$8>=$M26,BQ$8<=$N26),IF($F26=\"SEMESTRAL\",IF(BP122=\"NÃO\",$D26,IF(MOD(COUNT($Q122:BP122)+1,6)=0,(BP122*$E26)+BP122,BP122)),\"NÃO\"),\"NÃO\")","v":"NÃO"},{"$f":"IF(AND(BR$8>=$M26,BR$8<=$N26),IF($F26=\"SEMESTRAL\",IF(BQ122=\"NÃO\",$D26,IF(MOD(COUNT($Q122:BQ122)+1,6)=0,(BQ122*$E26)+BQ122,BQ122)),\"NÃO\"),\"NÃO\")","v":"NÃO"},{"$f":"IF(AND(BS$8>=$M26,BS$8<=$N26),IF($F26=\"SEMESTRAL\",IF(BR122=\"NÃO\",$D26,IF(MOD(COUNT($Q122:BR122)+1,6)=0,(BR122*$E26)+BR122,BR122)),\"NÃO\"),\"NÃO\")","v":"NÃO"},{"$f":"IF(AND(BT$8>=$M26,BT$8<=$N26),IF($F26=\"SEMESTRAL\",IF(BS122=\"NÃO\",$D26,IF(MOD(COUNT($Q122:BS122)+1,6)=0,(BS122*$E26)+BS122,BS122)),\"NÃO\"),\"NÃO\")","v":"NÃO"},{"$f":"IF(AND(BU$8>=$M26,BU$8<=$N26),IF($F26=\"SEMESTRAL\",IF(BT122=\"NÃO\",$D26,IF(MOD(COUNT($Q122:BT122)+1,6)=0,(BT122*$E26)+BT122,BT122)),\"NÃO\"),\"NÃO\")","v":"NÃO"},{"$f":"IF(AND(BV$8>=$M26,BV$8<=$N26),IF($F26=\"SEMESTRAL\",IF(BU122=\"NÃO\",$D26,IF(MOD(COUNT($Q122:BU122)+1,6)=0,(BU122*$E26)+BU122,BU122)),\"NÃO\"),\"NÃO\")","v":"NÃO"},{"$f":"IF(AND(BW$8>=$M26,BW$8<=$N26),IF($F26=\"SEMESTRAL\",IF(BV122=\"NÃO\",$D26,IF(MOD(COUNT($Q122:BV122)+1,6)=0,(BV122*$E26)+BV122,BV122)),\"NÃO\"),\"NÃO\")","v":"NÃO"},{"$f":"IF(AND(BX$8>=$M26,BX$8<=$N26),IF($F26=\"SEMESTRAL\",IF(BW122=\"NÃO\",$D26,IF(MOD(COUNT($Q122:BW122)+1,6)=0,(BW122*$E26)+BW122,BW122)),\"NÃO\"),\"NÃO\")","v":"NÃO"}]
[null,null,null,null,null,null,null,null,null,null,null,null,null,null,null,19,"NÃO",{"$f":"IF(AND(R$8>=$M27,R$8<=$N27),IF($F27=\"SEMESTRAL\",IF(Q123=\"NÃO\",$D27,IF(MOD(COUNT($Q123:Q123)+1,6)=0,(Q123*$E27)+Q123,Q123)),\"NÃO\"),\"NÃO\")","v":"NÃO"},{"$f":"IF(AND(S$8>=$M27,S$8<=$N27),IF($F27=\"SEMESTRAL\",IF(R123=\"NÃO\",$D27,IF(MOD(COUNT($Q123:R123)+1,6)=0,(R123*$E27)+R123,R123)),\"NÃO\"),\"NÃO\")","v":"NÃO"},{"$f":"IF(AND(T$8>=$M27,T$8<=$N27),IF($F27=\"SEMESTRAL\",IF(S123=\"NÃO\",$D27,IF(MOD(COUNT($Q123:S123)+1,6)=0,(S123*$E27)+S123,S123)),\"NÃO\"),\"NÃO\")","v":"NÃO"},{"$f":"IF(AND(U$8>=$M27,U$8<=$N27),IF($F27=\"SEMESTRAL\",IF(T123=\"NÃO\",$D27,IF(MOD(COUNT($Q123:T123)+1,6)=0,(T123*$E27)+T123,T123)),\"NÃO\"),\"NÃO\")","v":"NÃO"},{"$f":"IF(AND(V$8>=$M27,V$8<=$N27),IF($F27=\"SEMESTRAL\",IF(U123=\"NÃO\",$D27,IF(MOD(COUNT($Q123:U123)+1,6)=0,(U123*$E27)+U123,U123)),\"NÃO\"),\"NÃO\")","v":"NÃO"},{"$f":"IF(AND(W$8>=$M27,W$8<=$N27),IF($F27=\"SEMESTRAL\",IF(V123=\"NÃO\",$D27,IF(MOD(COUNT($Q123:V123)+1,6)=0,(V123*$E27)+V123,V123)),\"NÃO\"),\"NÃO\")","v":"NÃO"},{"$f":"IF(AND(X$8>=$M27,X$8<=$N27),IF($F27=\"SEMESTRAL\",IF(W123=\"NÃO\",$D27,IF(MOD(COUNT($Q123:W123)+1,6)=0,(W123*$E27)+W123,W123)),\"NÃO\"),\"NÃO\")","v":"NÃO"},{"$f":"IF(AND(Y$8>=$M27,Y$8<=$N27),IF($F27=\"SEMESTRAL\",IF(X123=\"NÃO\",$D27,IF(MOD(COUNT($Q123:X123)+1,6)=0,(X123*$E27)+X123,X123)),\"NÃO\"),\"NÃO\")","v":"NÃO"},{"$f":"IF(AND(Z$8>=$M27,Z$8<=$N27),IF($F27=\"SEMESTRAL\",IF(Y123=\"NÃO\",$D27,IF(MOD(COUNT($Q123:Y123)+1,6)=0,(Y123*$E27)+Y123,Y123)),\"NÃO\"),\"NÃO\")","v":"NÃO"},{"$f":"IF(AND(AA$8>=$M27,AA$8<=$N27),IF($F27=\"SEMESTRAL\",IF(Z123=\"NÃO\",$D27,IF(MOD(COUNT($Q123:Z123)+1,6)=0,(Z123*$E27)+Z123,Z123)),\"NÃO\"),\"NÃO\")","v":"NÃO"},{"$f":"IF(AND(AB$8>=$M27,AB$8<=$N27),IF($F27=\"SEMESTRAL\",IF(AA123=\"NÃO\",$D27,IF(MOD(COUNT($Q123:AA123)+1,6)=0,(AA123*$E27)+AA123,AA123)),\"NÃO\"),\"NÃO\")","v":"NÃO"},{"$f":"IF(AND(AC$8>=$M27,AC$8<=$N27),IF($F27=\"SEMESTRAL\",IF(AB123=\"NÃO\",$D27,IF(MOD(COUNT($Q123:AB123)+1,6)=0,(AB123*$E27)+AB123,AB123)),\"NÃO\"),\"NÃO\")","v":"NÃO"},{"$f":"IF(AND(AD$8>=$M27,AD$8<=$N27),IF($F27=\"SEMESTRAL\",IF(AC123=\"NÃO\",$D27,IF(MOD(COUNT($Q123:AC123)+1,6)=0,(AC123*$E27)+AC123,AC123)),\"NÃO\"),\"NÃO\")","v":"NÃO"},{"$f":"IF(AND(AE$8>=$M27,AE$8<=$N27),IF($F27=\"SEMESTRAL\",IF(AD123=\"NÃO\",$D27,IF(MOD(COUNT($Q123:AD123)+1,6)=0,(AD123*$E27)+AD123,AD123)),\"NÃO\"),\"NÃO\")","v":"NÃO"},{"$f":"IF(AND(AF$8>=$M27,AF$8<=$N27),IF($F27=\"SEMESTRAL\",IF(AE123=\"NÃO\",$D27,IF(MOD(COUNT($Q123:AE123)+1,6)=0,(AE123*$E27)+AE123,AE123)),\"NÃO\"),\"NÃO\")","v":"NÃO"},{"$f":"IF(AND(AG$8>=$M27,AG$8<=$N27),IF($F27=\"SEMESTRAL\",IF(AF123=\"NÃO\",$D27,IF(MOD(COUNT($Q123:AF123)+1,6)=0,(AF123*$E27)+AF123,AF123)),\"NÃO\"),\"NÃO\")","v":"NÃO"},{"$f":"IF(AND(AH$8>=$M27,AH$8<=$N27),IF($F27=\"SEMESTRAL\",IF(AG123=\"NÃO\",$D27,IF(MOD(COUNT($Q123:AG123)+1,6)=0,(AG123*$E27)+AG123,AG123)),\"NÃO\"),\"NÃO\")","v":"NÃO"},{"$f":"IF(AND(AI$8>=$M27,AI$8<=$N27),IF($F27=\"SEMESTRAL\",IF(AH123=\"NÃO\",$D27,IF(MOD(COUNT($Q123:AH123)+1,6)=0,(AH123*$E27)+AH123,AH123)),\"NÃO\"),\"NÃO\")","v":"NÃO"},{"$f":"IF(AND(AJ$8>=$M27,AJ$8<=$N27),IF($F27=\"SEMESTRAL\",IF(AI123=\"NÃO\",$D27,IF(MOD(COUNT($Q123:AI123)+1,6)=0,(AI123*$E27)+AI123,AI123)),\"NÃO\"),\"NÃO\")","v":"NÃO"},{"$f":"IF(AND(AK$8>=$M27,AK$8<=$N27),IF($F27=\"SEMESTRAL\",IF(AJ123=\"NÃO\",$D27,IF(MOD(COUNT($Q123:AJ123)+1,6)=0,(AJ123*$E27)+AJ123,AJ123)),\"NÃO\"),\"NÃO\")","v":"NÃO"},{"$f":"IF(AND(AL$8>=$M27,AL$8<=$N27),IF($F27=\"SEMESTRAL\",IF(AK123=\"NÃO\",$D27,IF(MOD(COUNT($Q123:AK123)+1,6)=0,(AK123*$E27)+AK123,AK123)),\"NÃO\"),\"NÃO\")","v":"NÃO"},{"$f":"IF(AND(AM$8>=$M27,AM$8<=$N27),IF($F27=\"SEMESTRAL\",IF(AL123=\"NÃO\",$D27,IF(MOD(COUNT($Q123:AL123)+1,6)=0,(AL123*$E27)+AL123,AL123)),\"NÃO\"),\"NÃO\")","v":"NÃO"},{"$f":"IF(AND(AN$8>=$M27,AN$8<=$N27),IF($F27=\"SEMESTRAL\",IF(AM123=\"NÃO\",$D27,IF(MOD(COUNT($Q123:AM123)+1,6)=0,(AM123*$E27)+AM123,AM123)),\"NÃO\"),\"NÃO\")","v":"NÃO"},{"$f":"IF(AND(AO$8>=$M27,AO$8<=$N27),IF($F27=\"SEMESTRAL\",IF(AN123=\"NÃO\",$D27,IF(MOD(COUNT($Q123:AN123)+1,6)=0,(AN123*$E27)+AN123,AN123)),\"NÃO\"),\"NÃO\")","v":"NÃO"},{"$f":"IF(AND(AP$8>=$M27,AP$8<=$N27),IF($F27=\"SEMESTRAL\",IF(AO123=\"NÃO\",$D27,IF(MOD(COUNT($Q123:AO123)+1,6)=0,(AO123*$E27)+AO123,AO123)),\"NÃO\"),\"NÃO\")","v":"NÃO"},{"$f":"IF(AND(AQ$8>=$M27,AQ$8<=$N27),IF($F27=\"SEMESTRAL\",IF(AP123=\"NÃO\",$D27,IF(MOD(COUNT($Q123:AP123)+1,6)=0,(AP123*$E27)+AP123,AP123)),\"NÃO\"),\"NÃO\")","v":"NÃO"},{"$f":"IF(AND(AR$8>=$M27,AR$8<=$N27),IF($F27=\"SEMESTRAL\",IF(AQ123=\"NÃO\",$D27,IF(MOD(COUNT($Q123:AQ123)+1,6)=0,(AQ123*$E27)+AQ123,AQ123)),\"NÃO\"),\"NÃO\")","v":"NÃO"},{"$f":"IF(AND(AS$8>=$M27,AS$8<=$N27),IF($F27=\"SEMESTRAL\",IF(AR123=\"NÃO\",$D27,IF(MOD(COUNT($Q123:AR123)+1,6)=0,(AR123*$E27)+AR123,AR123)),\"NÃO\"),\"NÃO\")","v":"NÃO"},{"$f":"IF(AND(AT$8>=$M27,AT$8<=$N27),IF($F27=\"SEMESTRAL\",IF(AS123=\"NÃO\",$D27,IF(MOD(COUNT($Q123:AS123)+1,6)=0,(AS123*$E27)+AS123,AS123)),\"NÃO\"),\"NÃO\")","v":"NÃO"},{"$f":"IF(AND(AU$8>=$M27,AU$8<=$N27),IF($F27=\"SEMESTRAL\",IF(AT123=\"NÃO\",$D27,IF(MOD(COUNT($Q123:AT123)+1,6)=0,(AT123*$E27)+AT123,AT123)),\"NÃO\"),\"NÃO\")","v":"NÃO"},{"$f":"IF(AND(AV$8>=$M27,AV$8<=$N27),IF($F27=\"SEMESTRAL\",IF(AU123=\"NÃO\",$D27,IF(MOD(COUNT($Q123:AU123)+1,6)=0,(AU123*$E27)+AU123,AU123)),\"NÃO\"),\"NÃO\")","v":"NÃO"},{"$f":"IF(AND(AW$8>=$M27,AW$8<=$N27),IF($F27=\"SEMESTRAL\",IF(AV123=\"NÃO\",$D27,IF(MOD(COUNT($Q123:AV123)+1,6)=0,(AV123*$E27)+AV123,AV123)),\"NÃO\"),\"NÃO\")","v":"NÃO"},{"$f":"IF(AND(AX$8>=$M27,AX$8<=$N27),IF($F27=\"SEMESTRAL\",IF(AW123=\"NÃO\",$D27,IF(MOD(COUNT($Q123:AW123)+1,6)=0,(AW123*$E27)+AW123,AW123)),\"NÃO\"),\"NÃO\")","v":"NÃO"},{"$f":"IF(AND(AY$8>=$M27,AY$8<=$N27),IF($F27=\"SEMESTRAL\",IF(AX123=\"NÃO\",$D27,IF(MOD(COUNT($Q123:AX123)+1,6)=0,(AX123*$E27)+AX123,AX123)),\"NÃO\"),\"NÃO\")","v":"NÃO"},{"$f":"IF(AND(AZ$8>=$M27,AZ$8<=$N27),IF($F27=\"SEMESTRAL\",IF(AY123=\"NÃO\",$D27,IF(MOD(COUNT($Q123:AY123)+1,6)=0,(AY123*$E27)+AY123,AY123)),\"NÃO\"),\"NÃO\")","v":"NÃO"},{"$f":"IF(AND(BA$8>=$M27,BA$8<=$N27),IF($F27=\"SEMESTRAL\",IF(AZ123=\"NÃO\",$D27,IF(MOD(COUNT($Q123:AZ123)+1,6)=0,(AZ123*$E27)+AZ123,AZ123)),\"NÃO\"),\"NÃO\")","v":"NÃO"},{"$f":"IF(AND(BB$8>=$M27,BB$8<=$N27),IF($F27=\"SEMESTRAL\",IF(BA123=\"NÃO\",$D27,IF(MOD(COUNT($Q123:BA123)+1,6)=0,(BA123*$E27)+BA123,BA123)),\"NÃO\"),\"NÃO\")","v":"NÃO"},{"$f":"IF(AND(BC$8>=$M27,BC$8<=$N27),IF($F27=\"SEMESTRAL\",IF(BB123=\"NÃO\",$D27,IF(MOD(COUNT($Q123:BB123)+1,6)=0,(BB123*$E27)+BB123,BB123)),\"NÃO\"),\"NÃO\")","v":"NÃO"},{"$f":"IF(AND(BD$8>=$M27,BD$8<=$N27),IF($F27=\"SEMESTRAL\",IF(BC123=\"NÃO\",$D27,IF(MOD(COUNT($Q123:BC123)+1,6)=0,(BC123*$E27)+BC123,BC123)),\"NÃO\"),\"NÃO\")","v":"NÃO"},{"$f":"IF(AND(BE$8>=$M27,BE$8<=$N27),IF($F27=\"SEMESTRAL\",IF(BD123=\"NÃO\",$D27,IF(MOD(COUNT($Q123:BD123)+1,6)=0,(BD123*$E27)+BD123,BD123)),\"NÃO\"),\"NÃO\")","v":"NÃO"},{"$f":"IF(AND(BF$8>=$M27,BF$8<=$N27),IF($F27=\"SEMESTRAL\",IF(BE123=\"NÃO\",$D27,IF(MOD(COUNT($Q123:BE123)+1,6)=0,(BE123*$E27)+BE123,BE123)),\"NÃO\"),\"NÃO\")","v":"NÃO"},{"$f":"IF(AND(BG$8>=$M27,BG$8<=$N27),IF($F27=\"SEMESTRAL\",IF(BF123=\"NÃO\",$D27,IF(MOD(COUNT($Q123:BF123)+1,6)=0,(BF123*$E27)+BF123,BF123)),\"NÃO\"),\"NÃO\")","v":"NÃO"},{"$f":"IF(AND(BH$8>=$M27,BH$8<=$N27),IF($F27=\"SEMESTRAL\",IF(BG123=\"NÃO\",$D27,IF(MOD(COUNT($Q123:BG123)+1,6)=0,(BG123*$E27)+BG123,BG123)),\"NÃO\"),\"NÃO\")","v":"NÃO"},{"$f":"IF(AND(BI$8>=$M27,BI$8<=$N27),IF($F27=\"SEMESTRAL\",IF(BH123=\"NÃO\",$D27,IF(MOD(COUNT($Q123:BH123)+1,6)=0,(BH123*$E27)+BH123,BH123)),\"NÃO\"),\"NÃO\")","v":"NÃO"},{"$f":"IF(AND(BJ$8>=$M27,BJ$8<=$N27),IF($F27=\"SEMESTRAL\",IF(BI123=\"NÃO\",$D27,IF(MOD(COUNT($Q123:BI123)+1,6)=0,(BI123*$E27)+BI123,BI123)),\"NÃO\"),\"NÃO\")","v":"NÃO"},{"$f":"IF(AND(BK$8>=$M27,BK$8<=$N27),IF($F27=\"SEMESTRAL\",IF(BJ123=\"NÃO\",$D27,IF(MOD(COUNT($Q123:BJ123)+1,6)=0,(BJ123*$E27)+BJ123,BJ123)),\"NÃO\"),\"NÃO\")","v":"NÃO"},{"$f":"IF(AND(BL$8>=$M27,BL$8<=$N27),IF($F27=\"SEMESTRAL\",IF(BK123=\"NÃO\",$D27,IF(MOD(COUNT($Q123:BK123)+1,6)=0,(BK123*$E27)+BK123,BK123)),\"NÃO\"),\"NÃO\")","v":"NÃO"},{"$f":"IF(AND(BM$8>=$M27,BM$8<=$N27),IF($F27=\"SEMESTRAL\",IF(BL123=\"NÃO\",$D27,IF(MOD(COUNT($Q123:BL123)+1,6)=0,(BL123*$E27)+BL123,BL123)),\"NÃO\"),\"NÃO\")","v":"NÃO"},{"$f":"IF(AND(BN$8>=$M27,BN$8<=$N27),IF($F27=\"SEMESTRAL\",IF(BM123=\"NÃO\",$D27,IF(MOD(COUNT($Q123:BM123)+1,6)=0,(BM123*$E27)+BM123,BM123)),\"NÃO\"),\"NÃO\")","v":"NÃO"},{"$f":"IF(AND(BO$8>=$M27,BO$8<=$N27),IF($F27=\"SEMESTRAL\",IF(BN123=\"NÃO\",$D27,IF(MOD(COUNT($Q123:BN123)+1,6)=0,(BN123*$E27)+BN123,BN123)),\"NÃO\"),\"NÃO\")","v":"NÃO"},{"$f":"IF(AND(BP$8>=$M27,BP$8<=$N27),IF($F27=\"SEMESTRAL\",IF(BO123=\"NÃO\",$D27,IF(MOD(COUNT($Q123:BO123)+1,6)=0,(BO123*$E27)+BO123,BO123)),\"NÃO\"),\"NÃO\")","v":"NÃO"},{"$f":"IF(AND(BQ$8>=$M27,BQ$8<=$N27),IF($F27=\"SEMESTRAL\",IF(BP123=\"NÃO\",$D27,IF(MOD(COUNT($Q123:BP123)+1,6)=0,(BP123*$E27)+BP123,BP123)),\"NÃO\"),\"NÃO\")","v":"NÃO"},{"$f":"IF(AND(BR$8>=$M27,BR$8<=$N27),IF($F27=\"SEMESTRAL\",IF(BQ123=\"NÃO\",$D27,IF(MOD(COUNT($Q123:BQ123)+1,6)=0,(BQ123*$E27)+BQ123,BQ123)),\"NÃO\"),\"NÃO\")","v":"NÃO"},{"$f":"IF(AND(BS$8>=$M27,BS$8<=$N27),IF($F27=\"SEMESTRAL\",IF(BR123=\"NÃO\",$D27,IF(MOD(COUNT($Q123:BR123)+1,6)=0,(BR123*$E27)+BR123,BR123)),\"NÃO\"),\"NÃO\")","v":"NÃO"},{"$f":"IF(AND(BT$8>=$M27,BT$8<=$N27),IF($F27=\"SEMESTRAL\",IF(BS123=\"NÃO\",$D27,IF(MOD(COUNT($Q123:BS123)+1,6)=0,(BS123*$E27)+BS123,BS123)),\"NÃO\"),\"NÃO\")","v":"NÃO"},{"$f":"IF(AND(BU$8>=$M27,BU$8<=$N27),IF($F27=\"SEMESTRAL\",IF(BT123=\"NÃO\",$D27,IF(MOD(COUNT($Q123:BT123)+1,6)=0,(BT123*$E27)+BT123,BT123)),\"NÃO\"),\"NÃO\")","v":"NÃO"},{"$f":"IF(AND(BV$8>=$M27,BV$8<=$N27),IF($F27=\"SEMESTRAL\",IF(BU123=\"NÃO\",$D27,IF(MOD(COUNT($Q123:BU123)+1,6)=0,(BU123*$E27)+BU123,BU123)),\"NÃO\"),\"NÃO\")","v":"NÃO"},{"$f":"IF(AND(BW$8>=$M27,BW$8<=$N27),IF($F27=\"SEMESTRAL\",IF(BV123=\"NÃO\",$D27,IF(MOD(COUNT($Q123:BV123)+1,6)=0,(BV123*$E27)+BV123,BV123)),\"NÃO\"),\"NÃO\")","v":"NÃO"},{"$f":"IF(AND(BX$8>=$M27,BX$8<=$N27),IF($F27=\"SEMESTRAL\",IF(BW123=\"NÃO\",$D27,IF(MOD(COUNT($Q123:BW123)+1,6)=0,(BW123*$E27)+BW123,BW123)),\"NÃO\"),\"NÃO\")","v":"NÃO"}]
[null,null,null,null,null,null,null,null,null,null,null,null,null,null,null,20,"NÃO",{"$f":"IF(AND(R$8>=$M28,R$8<=$N28),IF($F28=\"SEMESTRAL\",IF(Q124=\"NÃO\",$D28,IF(MOD(COUNT($Q124:Q124)+1,6)=0,(Q124*$E28)+Q124,Q124)),\"NÃO\"),\"NÃO\")","v":"NÃO"},{"$f":"IF(AND(S$8>=$M28,S$8<=$N28),IF($F28=\"SEMESTRAL\",IF(R124=\"NÃO\",$D28,IF(MOD(COUNT($Q124:R124)+1,6)=0,(R124*$E28)+R124,R124)),\"NÃO\"),\"NÃO\")","v":"NÃO"},{"$f":"IF(AND(T$8>=$M28,T$8<=$N28),IF($F28=\"SEMESTRAL\",IF(S124=\"NÃO\",$D28,IF(MOD(COUNT($Q124:S124)+1,6)=0,(S124*$E28)+S124,S124)),\"NÃO\"),\"NÃO\")","v":"NÃO"},{"$f":"IF(AND(U$8>=$M28,U$8<=$N28),IF($F28=\"SEMESTRAL\",IF(T124=\"NÃO\",$D28,IF(MOD(COUNT($Q124:T124)+1,6)=0,(T124*$E28)+T124,T124)),\"NÃO\"),\"NÃO\")","v":"NÃO"},{"$f":"IF(AND(V$8>=$M28,V$8<=$N28),IF($F28=\"SEMESTRAL\",IF(U124=\"NÃO\",$D28,IF(MOD(COUNT($Q124:U124)+1,6)=0,(U124*$E28)+U124,U124)),\"NÃO\"),\"NÃO\")","v":"NÃO"},{"$f":"IF(AND(W$8>=$M28,W$8<=$N28),IF($F28=\"SEMESTRAL\",IF(V124=\"NÃO\",$D28,IF(MOD(COUNT($Q124:V124)+1,6)=0,(V124*$E28)+V124,V124)),\"NÃO\"),\"NÃO\")","v":"NÃO"},{"$f":"IF(AND(X$8>=$M28,X$8<=$N28),IF($F28=\"SEMESTRAL\",IF(W124=\"NÃO\",$D28,IF(MOD(COUNT($Q124:W124)+1,6)=0,(W124*$E28)+W124,W124)),\"NÃO\"),\"NÃO\")","v":"NÃO"},{"$f":"IF(AND(Y$8>=$M28,Y$8<=$N28),IF($F28=\"SEMESTRAL\",IF(X124=\"NÃO\",$D28,IF(MOD(COUNT($Q124:X124)+1,6)=0,(X124*$E28)+X124,X124)),\"NÃO\"),\"NÃO\")","v":"NÃO"},{"$f":"IF(AND(Z$8>=$M28,Z$8<=$N28),IF($F28=\"SEMESTRAL\",IF(Y124=\"NÃO\",$D28,IF(MOD(COUNT($Q124:Y124)+1,6)=0,(Y124*$E28)+Y124,Y124)),\"NÃO\"),\"NÃO\")","v":"NÃO"},{"$f":"IF(AND(AA$8>=$M28,AA$8<=$N28),IF($F28=\"SEMESTRAL\",IF(Z124=\"NÃO\",$D28,IF(MOD(COUNT($Q124:Z124)+1,6)=0,(Z124*$E28)+Z124,Z124)),\"NÃO\"),\"NÃO\")","v":"NÃO"},{"$f":"IF(AND(AB$8>=$M28,AB$8<=$N28),IF($F28=\"SEMESTRAL\",IF(AA124=\"NÃO\",$D28,IF(MOD(COUNT($Q124:AA124)+1,6)=0,(AA124*$E28)+AA124,AA124)),\"NÃO\"),\"NÃO\")","v":"NÃO"},{"$f":"IF(AND(AC$8>=$M28,AC$8<=$N28),IF($F28=\"SEMESTRAL\",IF(AB124=\"NÃO\",$D28,IF(MOD(COUNT($Q124:AB124)+1,6)=0,(AB124*$E28)+AB124,AB124)),\"NÃO\"),\"NÃO\")","v":"NÃO"},{"$f":"IF(AND(AD$8>=$M28,AD$8<=$N28),IF($F28=\"SEMESTRAL\",IF(AC124=\"NÃO\",$D28,IF(MOD(COUNT($Q124:AC124)+1,6)=0,(AC124*$E28)+AC124,AC124)),\"NÃO\"),\"NÃO\")","v":"NÃO"},{"$f":"IF(AND(AE$8>=$M28,AE$8<=$N28),IF($F28=\"SEMESTRAL\",IF(AD124=\"NÃO\",$D28,IF(MOD(COUNT($Q124:AD124)+1,6)=0,(AD124*$E28)+AD124,AD124)),\"NÃO\"),\"NÃO\")","v":"NÃO"},{"$f":"IF(AND(AF$8>=$M28,AF$8<=$N28),IF($F28=\"SEMESTRAL\",IF(AE124=\"NÃO\",$D28,IF(MOD(COUNT($Q124:AE124)+1,6)=0,(AE124*$E28)+AE124,AE124)),\"NÃO\"),\"NÃO\")","v":"NÃO"},{"$f":"IF(AND(AG$8>=$M28,AG$8<=$N28),IF($F28=\"SEMESTRAL\",IF(AF124=\"NÃO\",$D28,IF(MOD(COUNT($Q124:AF124)+1,6)=0,(AF124*$E28)+AF124,AF124)),\"NÃO\"),\"NÃO\")","v":"NÃO"},{"$f":"IF(AND(AH$8>=$M28,AH$8<=$N28),IF($F28=\"SEMESTRAL\",IF(AG124=\"NÃO\",$D28,IF(MOD(COUNT($Q124:AG124)+1,6)=0,(AG124*$E28)+AG124,AG124)),\"NÃO\"),\"NÃO\")","v":"NÃO"},{"$f":"IF(AND(AI$8>=$M28,AI$8<=$N28),IF($F28=\"SEMESTRAL\",IF(AH124=\"NÃO\",$D28,IF(MOD(COUNT($Q124:AH124)+1,6)=0,(AH124*$E28)+AH124,AH124)),\"NÃO\"),\"NÃO\")","v":"NÃO"},{"$f":"IF(AND(AJ$8>=$M28,AJ$8<=$N28),IF($F28=\"SEMESTRAL\",IF(AI124=\"NÃO\",$D28,IF(MOD(COUNT($Q124:AI124)+1,6)=0,(AI124*$E28)+AI124,AI124)),\"NÃO\"),\"NÃO\")","v":"NÃO"},{"$f":"IF(AND(AK$8>=$M28,AK$8<=$N28),IF($F28=\"SEMESTRAL\",IF(AJ124=\"NÃO\",$D28,IF(MOD(COUNT($Q124:AJ124)+1,6)=0,(AJ124*$E28)+AJ124,AJ124)),\"NÃO\"),\"NÃO\")","v":"NÃO"},{"$f":"IF(AND(AL$8>=$M28,AL$8<=$N28),IF($F28=\"SEMESTRAL\",IF(AK124=\"NÃO\",$D28,IF(MOD(COUNT($Q124:AK124)+1,6)=0,(AK124*$E28)+AK124,AK124)),\"NÃO\"),\"NÃO\")","v":"NÃO"},{"$f":"IF(AND(AM$8>=$M28,AM$8<=$N28),IF($F28=\"SEMESTRAL\",IF(AL124=\"NÃO\",$D28,IF(MOD(COUNT($Q124:AL124)+1,6)=0,(AL124*$E28)+AL124,AL124)),\"NÃO\"),\"NÃO\")","v":"NÃO"},{"$f":"IF(AND(AN$8>=$M28,AN$8<=$N28),IF($F28=\"SEMESTRAL\",IF(AM124=\"NÃO\",$D28,IF(MOD(COUNT($Q124:AM124)+1,6)=0,(AM124*$E28)+AM124,AM124)),\"NÃO\"),\"NÃO\")","v":"NÃO"},{"$f":"IF(AND(AO$8>=$M28,AO$8<=$N28),IF($F28=\"SEMESTRAL\",IF(AN124=\"NÃO\",$D28,IF(MOD(COUNT($Q124:AN124)+1,6)=0,(AN124*$E28)+AN124,AN124)),\"NÃO\"),\"NÃO\")","v":"NÃO"},{"$f":"IF(AND(AP$8>=$M28,AP$8<=$N28),IF($F28=\"SEMESTRAL\",IF(AO124=\"NÃO\",$D28,IF(MOD(COUNT($Q124:AO124)+1,6)=0,(AO124*$E28)+AO124,AO124)),\"NÃO\"),\"NÃO\")","v":"NÃO"},{"$f":"IF(AND(AQ$8>=$M28,AQ$8<=$N28),IF($F28=\"SEMESTRAL\",IF(AP124=\"NÃO\",$D28,IF(MOD(COUNT($Q124:AP124)+1,6)=0,(AP124*$E28)+AP124,AP124)),\"NÃO\"),\"NÃO\")","v":"NÃO"},{"$f":"IF(AND(AR$8>=$M28,AR$8<=$N28),IF($F28=\"SEMESTRAL\",IF(AQ124=\"NÃO\",$D28,IF(MOD(COUNT($Q124:AQ124)+1,6)=0,(AQ124*$E28)+AQ124,AQ124)),\"NÃO\"),\"NÃO\")","v":"NÃO"},{"$f":"IF(AND(AS$8>=$M28,AS$8<=$N28),IF($F28=\"SEMESTRAL\",IF(AR124=\"NÃO\",$D28,IF(MOD(COUNT($Q124:AR124)+1,6)=0,(AR124*$E28)+AR124,AR124)),\"NÃO\"),\"NÃO\")","v":"NÃO"},{"$f":"IF(AND(AT$8>=$M28,AT$8<=$N28),IF($F28=\"SEMESTRAL\",IF(AS124=\"NÃO\",$D28,IF(MOD(COUNT($Q124:AS124)+1,6)=0,(AS124*$E28)+AS124,AS124)),\"NÃO\"),\"NÃO\")","v":"NÃO"},{"$f":"IF(AND(AU$8>=$M28,AU$8<=$N28),IF($F28=\"SEMESTRAL\",IF(AT124=\"NÃO\",$D28,IF(MOD(COUNT($Q124:AT124)+1,6)=0,(AT124*$E28)+AT124,AT124)),\"NÃO\"),\"NÃO\")","v":"NÃO"},{"$f":"IF(AND(AV$8>=$M28,AV$8<=$N28),IF($F28=\"SEMESTRAL\",IF(AU124=\"NÃO\",$D28,IF(MOD(COUNT($Q124:AU124)+1,6)=0,(AU124*$E28)+AU124,AU124)),\"NÃO\"),\"NÃO\")","v":"NÃO"},{"$f":"IF(AND(AW$8>=$M28,AW$8<=$N28),IF($F28=\"SEMESTRAL\",IF(AV124=\"NÃO\",$D28,IF(MOD(COUNT($Q124:AV124)+1,6)=0,(AV124*$E28)+AV124,AV124)),\"NÃO\"),\"NÃO\")","v":"NÃO"},{"$f":"IF(AND(AX$8>=$M28,AX$8<=$N28),IF($F28=\"SEMESTRAL\",IF(AW124=\"NÃO\",$D28,IF(MOD(COUNT($Q124:AW124)+1,6)=0,(AW124*$E28)+AW124,AW124)),\"NÃO\"),\"NÃO\")","v":"NÃO"},{"$f":"IF(AND(AY$8>=$M28,AY$8<=$N28),IF($F28=\"SEMESTRAL\",IF(AX124=\"NÃO\",$D28,IF(MOD(COUNT($Q124:AX124)+1,6)=0,(AX124*$E28)+AX124,AX124)),\"NÃO\"),\"NÃO\")","v":"NÃO"},{"$f":"IF(AND(AZ$8>=$M28,AZ$8<=$N28),IF($F28=\"SEMESTRAL\",IF(AY124=\"NÃO\",$D28,IF(MOD(COUNT($Q124:AY124)+1,6)=0,(AY124*$E28)+AY124,AY124)),\"NÃO\"),\"NÃO\")","v":"NÃO"},{"$f":"IF(AND(BA$8>=$M28,BA$8<=$N28),IF($F28=\"SEMESTRAL\",IF(AZ124=\"NÃO\",$D28,IF(MOD(COUNT($Q124:AZ124)+1,6)=0,(AZ124*$E28)+AZ124,AZ124)),\"NÃO\"),\"NÃO\")","v":"NÃO"},{"$f":"IF(AND(BB$8>=$M28,BB$8<=$N28),IF($F28=\"SEMESTRAL\",IF(BA124=\"NÃO\",$D28,IF(MOD(COUNT($Q124:BA124)+1,6)=0,(BA124*$E28)+BA124,BA124)),\"NÃO\"),\"NÃO\")","v":"NÃO"},{"$f":"IF(AND(BC$8>=$M28,BC$8<=$N28),IF($F28=\"SEMESTRAL\",IF(BB124=\"NÃO\",$D28,IF(MOD(COUNT($Q124:BB124)+1,6)=0,(BB124*$E28)+BB124,BB124)),\"NÃO\"),\"NÃO\")","v":"NÃO"},{"$f":"IF(AND(BD$8>=$M28,BD$8<=$N28),IF($F28=\"SEMESTRAL\",IF(BC124=\"NÃO\",$D28,IF(MOD(COUNT($Q124:BC124)+1,6)=0,(BC124*$E28)+BC124,BC124)),\"NÃO\"),\"NÃO\")","v":"NÃO"},{"$f":"IF(AND(BE$8>=$M28,BE$8<=$N28),IF($F28=\"SEMESTRAL\",IF(BD124=\"NÃO\",$D28,IF(MOD(COUNT($Q124:BD124)+1,6)=0,(BD124*$E28)+BD124,BD124)),\"NÃO\"),\"NÃO\")","v":"NÃO"},{"$f":"IF(AND(BF$8>=$M28,BF$8<=$N28),IF($F28=\"SEMESTRAL\",IF(BE124=\"NÃO\",$D28,IF(MOD(COUNT($Q124:BE124)+1,6)=0,(BE124*$E28)+BE124,BE124)),\"NÃO\"),\"NÃO\")","v":"NÃO"},{"$f":"IF(AND(BG$8>=$M28,BG$8<=$N28),IF($F28=\"SEMESTRAL\",IF(BF124=\"NÃO\",$D28,IF(MOD(COUNT($Q124:BF124)+1,6)=0,(BF124*$E28)+BF124,BF124)),\"NÃO\"),\"NÃO\")","v":"NÃO"},{"$f":"IF(AND(BH$8>=$M28,BH$8<=$N28),IF($F28=\"SEMESTRAL\",IF(BG124=\"NÃO\",$D28,IF(MOD(COUNT($Q124:BG124)+1,6)=0,(BG124*$E28)+BG124,BG124)),\"NÃO\"),\"NÃO\")","v":"NÃO"},{"$f":"IF(AND(BI$8>=$M28,BI$8<=$N28),IF($F28=\"SEMESTRAL\",IF(BH124=\"NÃO\",$D28,IF(MOD(COUNT($Q124:BH124)+1,6)=0,(BH124*$E28)+BH124,BH124)),\"NÃO\"),\"NÃO\")","v":"NÃO"},{"$f":"IF(AND(BJ$8>=$M28,BJ$8<=$N28),IF($F28=\"SEMESTRAL\",IF(BI124=\"NÃO\",$D28,IF(MOD(COUNT($Q124:BI124)+1,6)=0,(BI124*$E28)+BI124,BI124)),\"NÃO\"),\"NÃO\")","v":"NÃO"},{"$f":"IF(AND(BK$8>=$M28,BK$8<=$N28),IF($F28=\"SEMESTRAL\",IF(BJ124=\"NÃO\",$D28,IF(MOD(COUNT($Q124:BJ124)+1,6)=0,(BJ124*$E28)+BJ124,BJ124)),\"NÃO\"),\"NÃO\")","v":"NÃO"},{"$f":"IF(AND(BL$8>=$M28,BL$8<=$N28),IF($F28=\"SEMESTRAL\",IF(BK124=\"NÃO\",$D28,IF(MOD(COUNT($Q124:BK124)+1,6)=0,(BK124*$E28)+BK124,BK124)),\"NÃO\"),\"NÃO\")","v":"NÃO"},{"$f":"IF(AND(BM$8>=$M28,BM$8<=$N28),IF($F28=\"SEMESTRAL\",IF(BL124=\"NÃO\",$D28,IF(MOD(COUNT($Q124:BL124)+1,6)=0,(BL124*$E28)+BL124,BL124)),\"NÃO\"),\"NÃO\")","v":"NÃO"},{"$f":"IF(AND(BN$8>=$M28,BN$8<=$N28),IF($F28=\"SEMESTRAL\",IF(BM124=\"NÃO\",$D28,IF(MOD(COUNT($Q124:BM124)+1,6)=0,(BM124*$E28)+BM124,BM124)),\"NÃO\"),\"NÃO\")","v":"NÃO"},{"$f":"IF(AND(BO$8>=$M28,BO$8<=$N28),IF($F28=\"SEMESTRAL\",IF(BN124=\"NÃO\",$D28,IF(MOD(COUNT($Q124:BN124)+1,6)=0,(BN124*$E28)+BN124,BN124)),\"NÃO\"),\"NÃO\")","v":"NÃO"},{"$f":"IF(AND(BP$8>=$M28,BP$8<=$N28),IF($F28=\"SEMESTRAL\",IF(BO124=\"NÃO\",$D28,IF(MOD(COUNT($Q124:BO124)+1,6)=0,(BO124*$E28)+BO124,BO124)),\"NÃO\"),\"NÃO\")","v":"NÃO"},{"$f":"IF(AND(BQ$8>=$M28,BQ$8<=$N28),IF($F28=\"SEMESTRAL\",IF(BP124=\"NÃO\",$D28,IF(MOD(COUNT($Q124:BP124)+1,6)=0,(BP124*$E28)+BP124,BP124)),\"NÃO\"),\"NÃO\")","v":"NÃO"},{"$f":"IF(AND(BR$8>=$M28,BR$8<=$N28),IF($F28=\"SEMESTRAL\",IF(BQ124=\"NÃO\",$D28,IF(MOD(COUNT($Q124:BQ124)+1,6)=0,(BQ124*$E28)+BQ124,BQ124)),\"NÃO\"),\"NÃO\")","v":"NÃO"},{"$f":"IF(AND(BS$8>=$M28,BS$8<=$N28),IF($F28=\"SEMESTRAL\",IF(BR124=\"NÃO\",$D28,IF(MOD(COUNT($Q124:BR124)+1,6)=0,(BR124*$E28)+BR124,BR124)),\"NÃO\"),\"NÃO\")","v":"NÃO"},{"$f":"IF(AND(BT$8>=$M28,BT$8<=$N28),IF($F28=\"SEMESTRAL\",IF(BS124=\"NÃO\",$D28,IF(MOD(COUNT($Q124:BS124)+1,6)=0,(BS124*$E28)+BS124,BS124)),\"NÃO\"),\"NÃO\")","v":"NÃO"},{"$f":"IF(AND(BU$8>=$M28,BU$8<=$N28),IF($F28=\"SEMESTRAL\",IF(BT124=\"NÃO\",$D28,IF(MOD(COUNT($Q124:BT124)+1,6)=0,(BT124*$E28)+BT124,BT124)),\"NÃO\"),\"NÃO\")","v":"NÃO"},{"$f":"IF(AND(BV$8>=$M28,BV$8<=$N28),IF($F28=\"SEMESTRAL\",IF(BU124=\"NÃO\",$D28,IF(MOD(COUNT($Q124:BU124)+1,6)=0,(BU124*$E28)+BU124,BU124)),\"NÃO\"),\"NÃO\")","v":"NÃO"},{"$f":"IF(AND(BW$8>=$M28,BW$8<=$N28),IF($F28=\"SEMESTRAL\",IF(BV124=\"NÃO\",$D28,IF(MOD(COUNT($Q124:BV124)+1,6)=0,(BV124*$E28)+BV124,BV124)),\"NÃO\"),\"NÃO\")","v":"NÃO"},{"$f":"IF(AND(BX$8>=$M28,BX$8<=$N28),IF($F28=\"SEMESTRAL\",IF(BW124=\"NÃO\",$D28,IF(MOD(COUNT($Q124:BW124)+1,6)=0,(BW124*$E28)+BW124,BW124)),\"NÃO\"),\"NÃO\")","v":"NÃO"}]
[null,null,null,null,null,null,null,null,null,null,null,null,null,null,null,21,"NÃO",{"$f":"IF(AND(R$8>=$M29,R$8<=$N29),IF($F29=\"SEMESTRAL\",IF(Q125=\"NÃO\",$D29,IF(MOD(COUNT($Q125:Q125)+1,6)=0,(Q125*$E29)+Q125,Q125)),\"NÃO\"),\"NÃO\")","v":"NÃO"},{"$f":"IF(AND(S$8>=$M29,S$8<=$N29),IF($F29=\"SEMESTRAL\",IF(R125=\"NÃO\",$D29,IF(MOD(COUNT($Q125:R125)+1,6)=0,(R125*$E29)+R125,R125)),\"NÃO\"),\"NÃO\")","v":"NÃO"},{"$f":"IF(AND(T$8>=$M29,T$8<=$N29),IF($F29=\"SEMESTRAL\",IF(S125=\"NÃO\",$D29,IF(MOD(COUNT($Q125:S125)+1,6)=0,(S125*$E29)+S125,S125)),\"NÃO\"),\"NÃO\")","v":"NÃO"},{"$f":"IF(AND(U$8>=$M29,U$8<=$N29),IF($F29=\"SEMESTRAL\",IF(T125=\"NÃO\",$D29,IF(MOD(COUNT($Q125:T125)+1,6)=0,(T125*$E29)+T125,T125)),\"NÃO\"),\"NÃO\")","v":"NÃO"},{"$f":"IF(AND(V$8>=$M29,V$8<=$N29),IF($F29=\"SEMESTRAL\",IF(U125=\"NÃO\",$D29,IF(MOD(COUNT($Q125:U125)+1,6)=0,(U125*$E29)+U125,U125)),\"NÃO\"),\"NÃO\")","v":"NÃO"},{"$f":"IF(AND(W$8>=$M29,W$8<=$N29),IF($F29=\"SEMESTRAL\",IF(V125=\"NÃO\",$D29,IF(MOD(COUNT($Q125:V125)+1,6)=0,(V125*$E29)+V125,V125)),\"NÃO\"),\"NÃO\")","v":"NÃO"},{"$f":"IF(AND(X$8>=$M29,X$8<=$N29),IF($F29=\"SEMESTRAL\",IF(W125=\"NÃO\",$D29,IF(MOD(COUNT($Q125:W125)+1,6)=0,(W125*$E29)+W125,W125)),\"NÃO\"),\"NÃO\")","v":"NÃO"},{"$f":"IF(AND(Y$8>=$M29,Y$8<=$N29),IF($F29=\"SEMESTRAL\",IF(X125=\"NÃO\",$D29,IF(MOD(COUNT($Q125:X125)+1,6)=0,(X125*$E29)+X125,X125)),\"NÃO\"),\"NÃO\")","v":"NÃO"},{"$f":"IF(AND(Z$8>=$M29,Z$8<=$N29),IF($F29=\"SEMESTRAL\",IF(Y125=\"NÃO\",$D29,IF(MOD(COUNT($Q125:Y125)+1,6)=0,(Y125*$E29)+Y125,Y125)),\"NÃO\"),\"NÃO\")","v":"NÃO"},{"$f":"IF(AND(AA$8>=$M29,AA$8<=$N29),IF($F29=\"SEMESTRAL\",IF(Z125=\"NÃO\",$D29,IF(MOD(COUNT($Q125:Z125)+1,6)=0,(Z125*$E29)+Z125,Z125)),\"NÃO\"),\"NÃO\")","v":"NÃO"},{"$f":"IF(AND(AB$8>=$M29,AB$8<=$N29),IF($F29=\"SEMESTRAL\",IF(AA125=\"NÃO\",$D29,IF(MOD(COUNT($Q125:AA125)+1,6)=0,(AA125*$E29)+AA125,AA125)),\"NÃO\"),\"NÃO\")","v":"NÃO"},{"$f":"IF(AND(AC$8>=$M29,AC$8<=$N29),IF($F29=\"SEMESTRAL\",IF(AB125=\"NÃO\",$D29,IF(MOD(COUNT($Q125:AB125)+1,6)=0,(AB125*$E29)+AB125,AB125)),\"NÃO\"),\"NÃO\")","v":"NÃO"},{"$f":"IF(AND(AD$8>=$M29,AD$8<=$N29),IF($F29=\"SEMESTRAL\",IF(AC125=\"NÃO\",$D29,IF(MOD(COUNT($Q125:AC125)+1,6)=0,(AC125*$E29)+AC125,AC125)),\"NÃO\"),\"NÃO\")","v":"NÃO"},{"$f":"IF(AND(AE$8>=$M29,AE$8<=$N29),IF($F29=\"SEMESTRAL\",IF(AD125=\"NÃO\",$D29,IF(MOD(COUNT($Q125:AD125)+1,6)=0,(AD125*$E29)+AD125,AD125)),\"NÃO\"),\"NÃO\")","v":"NÃO"},{"$f":"IF(AND(AF$8>=$M29,AF$8<=$N29),IF($F29=\"SEMESTRAL\",IF(AE125=\"NÃO\",$D29,IF(MOD(COUNT($Q125:AE125)+1,6)=0,(AE125*$E29)+AE125,AE125)),\"NÃO\"),\"NÃO\")","v":"NÃO"},{"$f":"IF(AND(AG$8>=$M29,AG$8<=$N29),IF($F29=\"SEMESTRAL\",IF(AF125=\"NÃO\",$D29,IF(MOD(COUNT($Q125:AF125)+1,6)=0,(AF125*$E29)+AF125,AF125)),\"NÃO\"),\"NÃO\")","v":"NÃO"},{"$f":"IF(AND(AH$8>=$M29,AH$8<=$N29),IF($F29=\"SEMESTRAL\",IF(AG125=\"NÃO\",$D29,IF(MOD(COUNT($Q125:AG125)+1,6)=0,(AG125*$E29)+AG125,AG125)),\"NÃO\"),\"NÃO\")","v":"NÃO"},{"$f":"IF(AND(AI$8>=$M29,AI$8<=$N29),IF($F29=\"SEMESTRAL\",IF(AH125=\"NÃO\",$D29,IF(MOD(COUNT($Q125:AH125)+1,6)=0,(AH125*$E29)+AH125,AH125)),\"NÃO\"),\"NÃO\")","v":"NÃO"},{"$f":"IF(AND(AJ$8>=$M29,AJ$8<=$N29),IF($F29=\"SEMESTRAL\",IF(AI125=\"NÃO\",$D29,IF(MOD(COUNT($Q125:AI125)+1,6)=0,(AI125*$E29)+AI125,AI125)),\"NÃO\"),\"NÃO\")","v":"NÃO"},{"$f":"IF(AND(AK$8>=$M29,AK$8<=$N29),IF($F29=\"SEMESTRAL\",IF(AJ125=\"NÃO\",$D29,IF(MOD(COUNT($Q125:AJ125)+1,6)=0,(AJ125*$E29)+AJ125,AJ125)),\"NÃO\"),\"NÃO\")","v":"NÃO"},{"$f":"IF(AND(AL$8>=$M29,AL$8<=$N29),IF($F29=\"SEMESTRAL\",IF(AK125=\"NÃO\",$D29,IF(MOD(COUNT($Q125:AK125)+1,6)=0,(AK125*$E29)+AK125,AK125)),\"NÃO\"),\"NÃO\")","v":"NÃO"},{"$f":"IF(AND(AM$8>=$M29,AM$8<=$N29),IF($F29=\"SEMESTRAL\",IF(AL125=\"NÃO\",$D29,IF(MOD(COUNT($Q125:AL125)+1,6)=0,(AL125*$E29)+AL125,AL125)),\"NÃO\"),\"NÃO\")","v":"NÃO"},{"$f":"IF(AND(AN$8>=$M29,AN$8<=$N29),IF($F29=\"SEMESTRAL\",IF(AM125=\"NÃO\",$D29,IF(MOD(COUNT($Q125:AM125)+1,6)=0,(AM125*$E29)+AM125,AM125)),\"NÃO\"),\"NÃO\")","v":"NÃO"},{"$f":"IF(AND(AO$8>=$M29,AO$8<=$N29),IF($F29=\"SEMESTRAL\",IF(AN125=\"NÃO\",$D29,IF(MOD(COUNT($Q125:AN125)+1,6)=0,(AN125*$E29)+AN125,AN125)),\"NÃO\"),\"NÃO\")","v":"NÃO"},{"$f":"IF(AND(AP$8>=$M29,AP$8<=$N29),IF($F29=\"SEMESTRAL\",IF(AO125=\"NÃO\",$D29,IF(MOD(COUNT($Q125:AO125)+1,6)=0,(AO125*$E29)+AO125,AO125)),\"NÃO\"),\"NÃO\")","v":"NÃO"},{"$f":"IF(AND(AQ$8>=$M29,AQ$8<=$N29),IF($F29=\"SEMESTRAL\",IF(AP125=\"NÃO\",$D29,IF(MOD(COUNT($Q125:AP125)+1,6)=0,(AP125*$E29)+AP125,AP125)),\"NÃO\"),\"NÃO\")","v":"NÃO"},{"$f":"IF(AND(AR$8>=$M29,AR$8<=$N29),IF($F29=\"SEMESTRAL\",IF(AQ125=\"NÃO\",$D29,IF(MOD(COUNT($Q125:AQ125)+1,6)=0,(AQ125*$E29)+AQ125,AQ125)),\"NÃO\"),\"NÃO\")","v":"NÃO"},{"$f":"IF(AND(AS$8>=$M29,AS$8<=$N29),IF($F29=\"SEMESTRAL\",IF(AR125=\"NÃO\",$D29,IF(MOD(COUNT($Q125:AR125)+1,6)=0,(AR125*$E29)+AR125,AR125)),\"NÃO\"),\"NÃO\")","v":"NÃO"},{"$f":"IF(AND(AT$8>=$M29,AT$8<=$N29),IF($F29=\"SEMESTRAL\",IF(AS125=\"NÃO\",$D29,IF(MOD(COUNT($Q125:AS125)+1,6)=0,(AS125*$E29)+AS125,AS125)),\"NÃO\"),\"NÃO\")","v":"NÃO"},{"$f":"IF(AND(AU$8>=$M29,AU$8<=$N29),IF($F29=\"SEMESTRAL\",IF(AT125=\"NÃO\",$D29,IF(MOD(COUNT($Q125:AT125)+1,6)=0,(AT125*$E29)+AT125,AT125)),\"NÃO\"),\"NÃO\")","v":"NÃO"},{"$f":"IF(AND(AV$8>=$M29,AV$8<=$N29),IF($F29=\"SEMESTRAL\",IF(AU125=\"NÃO\",$D29,IF(MOD(COUNT($Q125:AU125)+1,6)=0,(AU125*$E29)+AU125,AU125)),\"NÃO\"),\"NÃO\")","v":"NÃO"},{"$f":"IF(AND(AW$8>=$M29,AW$8<=$N29),IF($F29=\"SEMESTRAL\",IF(AV125=\"NÃO\",$D29,IF(MOD(COUNT($Q125:AV125)+1,6)=0,(AV125*$E29)+AV125,AV125)),\"NÃO\"),\"NÃO\")","v":"NÃO"},{"$f":"IF(AND(AX$8>=$M29,AX$8<=$N29),IF($F29=\"SEMESTRAL\",IF(AW125=\"NÃO\",$D29,IF(MOD(COUNT($Q125:AW125)+1,6)=0,(AW125*$E29)+AW125,AW125)),\"NÃO\"),\"NÃO\")","v":"NÃO"},{"$f":"IF(AND(AY$8>=$M29,AY$8<=$N29),IF($F29=\"SEMESTRAL\",IF(AX125=\"NÃO\",$D29,IF(MOD(COUNT($Q125:AX125)+1,6)=0,(AX125*$E29)+AX125,AX125)),\"NÃO\"),\"NÃO\")","v":"NÃO"},{"$f":"IF(AND(AZ$8>=$M29,AZ$8<=$N29),IF($F29=\"SEMESTRAL\",IF(AY125=\"NÃO\",$D29,IF(MOD(COUNT($Q125:AY125)+1,6)=0,(AY125*$E29)+AY125,AY125)),\"NÃO\"),\"NÃO\")","v":"NÃO"},{"$f":"IF(AND(BA$8>=$M29,BA$8<=$N29),IF($F29=\"SEMESTRAL\",IF(AZ125=\"NÃO\",$D29,IF(MOD(COUNT($Q125:AZ125)+1,6)=0,(AZ125*$E29)+AZ125,AZ125)),\"NÃO\"),\"NÃO\")","v":"NÃO"},{"$f":"IF(AND(BB$8>=$M29,BB$8<=$N29),IF($F29=\"SEMESTRAL\",IF(BA125=\"NÃO\",$D29,IF(MOD(COUNT($Q125:BA125)+1,6)=0,(BA125*$E29)+BA125,BA125)),\"NÃO\"),\"NÃO\")","v":"NÃO"},{"$f":"IF(AND(BC$8>=$M29,BC$8<=$N29),IF($F29=\"SEMESTRAL\",IF(BB125=\"NÃO\",$D29,IF(MOD(COUNT($Q125:BB125)+1,6)=0,(BB125*$E29)+BB125,BB125)),\"NÃO\"),\"NÃO\")","v":"NÃO"},{"$f":"IF(AND(BD$8>=$M29,BD$8<=$N29),IF($F29=\"SEMESTRAL\",IF(BC125=\"NÃO\",$D29,IF(MOD(COUNT($Q125:BC125)+1,6)=0,(BC125*$E29)+BC125,BC125)),\"NÃO\"),\"NÃO\")","v":"NÃO"},{"$f":"IF(AND(BE$8>=$M29,BE$8<=$N29),IF($F29=\"SEMESTRAL\",IF(BD125=\"NÃO\",$D29,IF(MOD(COUNT($Q125:BD125)+1,6)=0,(BD125*$E29)+BD125,BD125)),\"NÃO\"),\"NÃO\")","v":"NÃO"},{"$f":"IF(AND(BF$8>=$M29,BF$8<=$N29),IF($F29=\"SEMESTRAL\",IF(BE125=\"NÃO\",$D29,IF(MOD(COUNT($Q125:BE125)+1,6)=0,(BE125*$E29)+BE125,BE125)),\"NÃO\"),\"NÃO\")","v":"NÃO"},{"$f":"IF(AND(BG$8>=$M29,BG$8<=$N29),IF($F29=\"SEMESTRAL\",IF(BF125=\"NÃO\",$D29,IF(MOD(COUNT($Q125:BF125)+1,6)=0,(BF125*$E29)+BF125,BF125)),\"NÃO\"),\"NÃO\")","v":"NÃO"},{"$f":"IF(AND(BH$8>=$M29,BH$8<=$N29),IF($F29=\"SEMESTRAL\",IF(BG125=\"NÃO\",$D29,IF(MOD(COUNT($Q125:BG125)+1,6)=0,(BG125*$E29)+BG125,BG125)),\"NÃO\"),\"NÃO\")","v":"NÃO"},{"$f":"IF(AND(BI$8>=$M29,BI$8<=$N29),IF($F29=\"SEMESTRAL\",IF(BH125=\"NÃO\",$D29,IF(MOD(COUNT($Q125:BH125)+1,6)=0,(BH125*$E29)+BH125,BH125)),\"NÃO\"),\"NÃO\")","v":"NÃO"},{"$f":"IF(AND(BJ$8>=$M29,BJ$8<=$N29),IF($F29=\"SEMESTRAL\",IF(BI125=\"NÃO\",$D29,IF(MOD(COUNT($Q125:BI125)+1,6)=0,(BI125*$E29)+BI125,BI125)),\"NÃO\"),\"NÃO\")","v":"NÃO"},{"$f":"IF(AND(BK$8>=$M29,BK$8<=$N29),IF($F29=\"SEMESTRAL\",IF(BJ125=\"NÃO\",$D29,IF(MOD(COUNT($Q125:BJ125)+1,6)=0,(BJ125*$E29)+BJ125,BJ125)),\"NÃO\"),\"NÃO\")","v":"NÃO"},{"$f":"IF(AND(BL$8>=$M29,BL$8<=$N29),IF($F29=\"SEMESTRAL\",IF(BK125=\"NÃO\",$D29,IF(MOD(COUNT($Q125:BK125)+1,6)=0,(BK125*$E29)+BK125,BK125)),\"NÃO\"),\"NÃO\")","v":"NÃO"},{"$f":"IF(AND(BM$8>=$M29,BM$8<=$N29),IF($F29=\"SEMESTRAL\",IF(BL125=\"NÃO\",$D29,IF(MOD(COUNT($Q125:BL125)+1,6)=0,(BL125*$E29)+BL125,BL125)),\"NÃO\"),\"NÃO\")","v":"NÃO"},{"$f":"IF(AND(BN$8>=$M29,BN$8<=$N29),IF($F29=\"SEMESTRAL\",IF(BM125=\"NÃO\",$D29,IF(MOD(COUNT($Q125:BM125)+1,6)=0,(BM125*$E29)+BM125,BM125)),\"NÃO\"),\"NÃO\")","v":"NÃO"},{"$f":"IF(AND(BO$8>=$M29,BO$8<=$N29),IF($F29=\"SEMESTRAL\",IF(BN125=\"NÃO\",$D29,IF(MOD(COUNT($Q125:BN125)+1,6)=0,(BN125*$E29)+BN125,BN125)),\"NÃO\"),\"NÃO\")","v":"NÃO"},{"$f":"IF(AND(BP$8>=$M29,BP$8<=$N29),IF($F29=\"SEMESTRAL\",IF(BO125=\"NÃO\",$D29,IF(MOD(COUNT($Q125:BO125)+1,6)=0,(BO125*$E29)+BO125,BO125)),\"NÃO\"),\"NÃO\")","v":"NÃO"},{"$f":"IF(AND(BQ$8>=$M29,BQ$8<=$N29),IF($F29=\"SEMESTRAL\",IF(BP125=\"NÃO\",$D29,IF(MOD(COUNT($Q125:BP125)+1,6)=0,(BP125*$E29)+BP125,BP125)),\"NÃO\"),\"NÃO\")","v":"NÃO"},{"$f":"IF(AND(BR$8>=$M29,BR$8<=$N29),IF($F29=\"SEMESTRAL\",IF(BQ125=\"NÃO\",$D29,IF(MOD(COUNT($Q125:BQ125)+1,6)=0,(BQ125*$E29)+BQ125,BQ125)),\"NÃO\"),\"NÃO\")","v":"NÃO"},{"$f":"IF(AND(BS$8>=$M29,BS$8<=$N29),IF($F29=\"SEMESTRAL\",IF(BR125=\"NÃO\",$D29,IF(MOD(COUNT($Q125:BR125)+1,6)=0,(BR125*$E29)+BR125,BR125)),\"NÃO\"),\"NÃO\")","v":"NÃO"},{"$f":"IF(AND(BT$8>=$M29,BT$8<=$N29),IF($F29=\"SEMESTRAL\",IF(BS125=\"NÃO\",$D29,IF(MOD(COUNT($Q125:BS125)+1,6)=0,(BS125*$E29)+BS125,BS125)),\"NÃO\"),\"NÃO\")","v":"NÃO"},{"$f":"IF(AND(BU$8>=$M29,BU$8<=$N29),IF($F29=\"SEMESTRAL\",IF(BT125=\"NÃO\",$D29,IF(MOD(COUNT($Q125:BT125)+1,6)=0,(BT125*$E29)+BT125,BT125)),\"NÃO\"),\"NÃO\")","v":"NÃO"},{"$f":"IF(AND(BV$8>=$M29,BV$8<=$N29),IF($F29=\"SEMESTRAL\",IF(BU125=\"NÃO\",$D29,IF(MOD(COUNT($Q125:BU125)+1,6)=0,(BU125*$E29)+BU125,BU125)),\"NÃO\"),\"NÃO\")","v":"NÃO"},{"$f":"IF(AND(BW$8>=$M29,BW$8<=$N29),IF($F29=\"SEMESTRAL\",IF(BV125=\"NÃO\",$D29,IF(MOD(COUNT($Q125:BV125)+1,6)=0,(BV125*$E29)+BV125,BV125)),\"NÃO\"),\"NÃO\")","v":"NÃO"},{"$f":"IF(AND(BX$8>=$M29,BX$8<=$N29),IF($F29=\"SEMESTRAL\",IF(BW125=\"NÃO\",$D29,IF(MOD(COUNT($Q125:BW125)+1,6)=0,(BW125*$E29)+BW125,BW125)),\"NÃO\"),\"NÃO\")","v":"NÃO"}]
[null,null,null,null,null,null,null,null,null,null,null,null,null,null,null,22,"NÃO",{"$f":"IF(AND(R$8>=$M30,R$8<=$N30),IF($F30=\"SEMESTRAL\",IF(Q126=\"NÃO\",$D30,IF(MOD(COUNT($Q126:Q126)+1,6)=0,(Q126*$E30)+Q126,Q126)),\"NÃO\"),\"NÃO\")","v":"NÃO"},{"$f":"IF(AND(S$8>=$M30,S$8<=$N30),IF($F30=\"SEMESTRAL\",IF(R126=\"NÃO\",$D30,IF(MOD(COUNT($Q126:R126)+1,6)=0,(R126*$E30)+R126,R126)),\"NÃO\"),\"NÃO\")","v":"NÃO"},{"$f":"IF(AND(T$8>=$M30,T$8<=$N30),IF($F30=\"SEMESTRAL\",IF(S126=\"NÃO\",$D30,IF(MOD(COUNT($Q126:S126)+1,6)=0,(S126*$E30)+S126,S126)),\"NÃO\"),\"NÃO\")","v":"NÃO"},{"$f":"IF(AND(U$8>=$M30,U$8<=$N30),IF($F30=\"SEMESTRAL\",IF(T126=\"NÃO\",$D30,IF(MOD(COUNT($Q126:T126)+1,6)=0,(T126*$E30)+T126,T126)),\"NÃO\"),\"NÃO\")","v":"NÃO"},{"$f":"IF(AND(V$8>=$M30,V$8<=$N30),IF($F30=\"SEMESTRAL\",IF(U126=\"NÃO\",$D30,IF(MOD(COUNT($Q126:U126)+1,6)=0,(U126*$E30)+U126,U126)),\"NÃO\"),\"NÃO\")","v":"NÃO"},{"$f":"IF(AND(W$8>=$M30,W$8<=$N30),IF($F30=\"SEMESTRAL\",IF(V126=\"NÃO\",$D30,IF(MOD(COUNT($Q126:V126)+1,6)=0,(V126*$E30)+V126,V126)),\"NÃO\"),\"NÃO\")","v":"NÃO"},{"$f":"IF(AND(X$8>=$M30,X$8<=$N30),IF($F30=\"SEMESTRAL\",IF(W126=\"NÃO\",$D30,IF(MOD(COUNT($Q126:W126)+1,6)=0,(W126*$E30)+W126,W126)),\"NÃO\"),\"NÃO\")","v":"NÃO"},{"$f":"IF(AND(Y$8>=$M30,Y$8<=$N30),IF($F30=\"SEMESTRAL\",IF(X126=\"NÃO\",$D30,IF(MOD(COUNT($Q126:X126)+1,6)=0,(X126*$E30)+X126,X126)),\"NÃO\"),\"NÃO\")","v":"NÃO"},{"$f":"IF(AND(Z$8>=$M30,Z$8<=$N30),IF($F30=\"SEMESTRAL\",IF(Y126=\"NÃO\",$D30,IF(MOD(COUNT($Q126:Y126)+1,6)=0,(Y126*$E30)+Y126,Y126)),\"NÃO\"),\"NÃO\")","v":"NÃO"},{"$f":"IF(AND(AA$8>=$M30,AA$8<=$N30),IF($F30=\"SEMESTRAL\",IF(Z126=\"NÃO\",$D30,IF(MOD(COUNT($Q126:Z126)+1,6)=0,(Z126*$E30)+Z126,Z126)),\"NÃO\"),\"NÃO\")","v":"NÃO"},{"$f":"IF(AND(AB$8>=$M30,AB$8<=$N30),IF($F30=\"SEMESTRAL\",IF(AA126=\"NÃO\",$D30,IF(MOD(COUNT($Q126:AA126)+1,6)=0,(AA126*$E30)+AA126,AA126)),\"NÃO\"),\"NÃO\")","v":"NÃO"},{"$f":"IF(AND(AC$8>=$M30,AC$8<=$N30),IF($F30=\"SEMESTRAL\",IF(AB126=\"NÃO\",$D30,IF(MOD(COUNT($Q126:AB126)+1,6)=0,(AB126*$E30)+AB126,AB126)),\"NÃO\"),\"NÃO\")","v":"NÃO"},{"$f":"IF(AND(AD$8>=$M30,AD$8<=$N30),IF($F30=\"SEMESTRAL\",IF(AC126=\"NÃO\",$D30,IF(MOD(COUNT($Q126:AC126)+1,6)=0,(AC126*$E30)+AC126,AC126)),\"NÃO\"),\"NÃO\")","v":"NÃO"},{"$f":"IF(AND(AE$8>=$M30,AE$8<=$N30),IF($F30=\"SEMESTRAL\",IF(AD126=\"NÃO\",$D30,IF(MOD(COUNT($Q126:AD126)+1,6)=0,(AD126*$E30)+AD126,AD126)),\"NÃO\"),\"NÃO\")","v":"NÃO"},{"$f":"IF(AND(AF$8>=$M30,AF$8<=$N30),IF($F30=\"SEMESTRAL\",IF(AE126=\"NÃO\",$D30,IF(MOD(COUNT($Q126:AE126)+1,6)=0,(AE126*$E30)+AE126,AE126)),\"NÃO\"),\"NÃO\")","v":"NÃO"},{"$f":"IF(AND(AG$8>=$M30,AG$8<=$N30),IF($F30=\"SEMESTRAL\",IF(AF126=\"NÃO\",$D30,IF(MOD(COUNT($Q126:AF126)+1,6)=0,(AF126*$E30)+AF126,AF126)),\"NÃO\"),\"NÃO\")","v":"NÃO"},{"$f":"IF(AND(AH$8>=$M30,AH$8<=$N30),IF($F30=\"SEMESTRAL\",IF(AG126=\"NÃO\",$D30,IF(MOD(COUNT($Q126:AG126)+1,6)=0,(AG126*$E30)+AG126,AG126)),\"NÃO\"),\"NÃO\")","v":"NÃO"},{"$f":"IF(AND(AI$8>=$M30,AI$8<=$N30),IF($F30=\"SEMESTRAL\",IF(AH126=\"NÃO\",$D30,IF(MOD(COUNT($Q126:AH126)+1,6)=0,(AH126*$E30)+AH126,AH126)),\"NÃO\"),\"NÃO\")","v":"NÃO"},{"$f":"IF(AND(AJ$8>=$M30,AJ$8<=$N30),IF($F30=\"SEMESTRAL\",IF(AI126=\"NÃO\",$D30,IF(MOD(COUNT($Q126:AI126)+1,6)=0,(AI126*$E30)+AI126,AI126)),\"NÃO\"),\"NÃO\")","v":"NÃO"},{"$f":"IF(AND(AK$8>=$M30,AK$8<=$N30),IF($F30=\"SEMESTRAL\",IF(AJ126=\"NÃO\",$D30,IF(MOD(COUNT($Q126:AJ126)+1,6)=0,(AJ126*$E30)+AJ126,AJ126)),\"NÃO\"),\"NÃO\")","v":"NÃO"},{"$f":"IF(AND(AL$8>=$M30,AL$8<=$N30),IF($F30=\"SEMESTRAL\",IF(AK126=\"NÃO\",$D30,IF(MOD(COUNT($Q126:AK126)+1,6)=0,(AK126*$E30)+AK126,AK126)),\"NÃO\"),\"NÃO\")","v":"NÃO"},{"$f":"IF(AND(AM$8>=$M30,AM$8<=$N30),IF($F30=\"SEMESTRAL\",IF(AL126=\"NÃO\",$D30,IF(MOD(COUNT($Q126:AL126)+1,6)=0,(AL126*$E30)+AL126,AL126)),\"NÃO\"),\"NÃO\")","v":"NÃO"},{"$f":"IF(AND(AN$8>=$M30,AN$8<=$N30),IF($F30=\"SEMESTRAL\",IF(AM126=\"NÃO\",$D30,IF(MOD(COUNT($Q126:AM126)+1,6)=0,(AM126*$E30)+AM126,AM126)),\"NÃO\"),\"NÃO\")","v":"NÃO"},{"$f":"IF(AND(AO$8>=$M30,AO$8<=$N30),IF($F30=\"SEMESTRAL\",IF(AN126=\"NÃO\",$D30,IF(MOD(COUNT($Q126:AN126)+1,6)=0,(AN126*$E30)+AN126,AN126)),\"NÃO\"),\"NÃO\")","v":"NÃO"},{"$f":"IF(AND(AP$8>=$M30,AP$8<=$N30),IF($F30=\"SEMESTRAL\",IF(AO126=\"NÃO\",$D30,IF(MOD(COUNT($Q126:AO126)+1,6)=0,(AO126*$E30)+AO126,AO126)),\"NÃO\"),\"NÃO\")","v":"NÃO"},{"$f":"IF(AND(AQ$8>=$M30,AQ$8<=$N30),IF($F30=\"SEMESTRAL\",IF(AP126=\"NÃO\",$D30,IF(MOD(COUNT($Q126:AP126)+1,6)=0,(AP126*$E30)+AP126,AP126)),\"NÃO\"),\"NÃO\")","v":"NÃO"},{"$f":"IF(AND(AR$8>=$M30,AR$8<=$N30),IF($F30=\"SEMESTRAL\",IF(AQ126=\"NÃO\",$D30,IF(MOD(COUNT($Q126:AQ126)+1,6)=0,(AQ126*$E30)+AQ126,AQ126)),\"NÃO\"),\"NÃO\")","v":"NÃO"},{"$f":"IF(AND(AS$8>=$M30,AS$8<=$N30),IF($F30=\"SEMESTRAL\",IF(AR126=\"NÃO\",$D30,IF(MOD(COUNT($Q126:AR126)+1,6)=0,(AR126*$E30)+AR126,AR126)),\"NÃO\"),\"NÃO\")","v":"NÃO"},{"$f":"IF(AND(AT$8>=$M30,AT$8<=$N30),IF($F30=\"SEMESTRAL\",IF(AS126=\"NÃO\",$D30,IF(MOD(COUNT($Q126:AS126)+1,6)=0,(AS126*$E30)+AS126,AS126)),\"NÃO\"),\"NÃO\")","v":"NÃO"},{"$f":"IF(AND(AU$8>=$M30,AU$8<=$N30),IF($F30=\"SEMESTRAL\",IF(AT126=\"NÃO\",$D30,IF(MOD(COUNT($Q126:AT126)+1,6)=0,(AT126*$E30)+AT126,AT126)),\"NÃO\"),\"NÃO\")","v":"NÃO"},{"$f":"IF(AND(AV$8>=$M30,AV$8<=$N30),IF($F30=\"SEMESTRAL\",IF(AU126=\"NÃO\",$D30,IF(MOD(COUNT($Q126:AU126)+1,6)=0,(AU126*$E30)+AU126,AU126)),\"NÃO\"),\"NÃO\")","v":"NÃO"},{"$f":"IF(AND(AW$8>=$M30,AW$8<=$N30),IF($F30=\"SEMESTRAL\",IF(AV126=\"NÃO\",$D30,IF(MOD(COUNT($Q126:AV126)+1,6)=0,(AV126*$E30)+AV126,AV126)),\"NÃO\"),\"NÃO\")","v":"NÃO"},{"$f":"IF(AND(AX$8>=$M30,AX$8<=$N30),IF($F30=\"SEMESTRAL\",IF(AW126=\"NÃO\",$D30,IF(MOD(COUNT($Q126:AW126)+1,6)=0,(AW126*$E30)+AW126,AW126)),\"NÃO\"),\"NÃO\")","v":"NÃO"},{"$f":"IF(AND(AY$8>=$M30,AY$8<=$N30),IF($F30=\"SEMESTRAL\",IF(AX126=\"NÃO\",$D30,IF(MOD(COUNT($Q126:AX126)+1,6)=0,(AX126*$E30)+AX126,AX126)),\"NÃO\"),\"NÃO\")","v":"NÃO"},{"$f":"IF(AND(AZ$8>=$M30,AZ$8<=$N30),IF($F30=\"SEMESTRAL\",IF(AY126=\"NÃO\",$D30,IF(MOD(COUNT($Q126:AY126)+1,6)=0,(AY126*$E30)+AY126,AY126)),\"NÃO\"),\"NÃO\")","v":"NÃO"},{"$f":"IF(AND(BA$8>=$M30,BA$8<=$N30),IF($F30=\"SEMESTRAL\",IF(AZ126=\"NÃO\",$D30,IF(MOD(COUNT($Q126:AZ126)+1,6)=0,(AZ126*$E30)+AZ126,AZ126)),\"NÃO\"),\"NÃO\")","v":"NÃO"},{"$f":"IF(AND(BB$8>=$M30,BB$8<=$N30),IF($F30=\"SEMESTRAL\",IF(BA126=\"NÃO\",$D30,IF(MOD(COUNT($Q126:BA126)+1,6)=0,(BA126*$E30)+BA126,BA126)),\"NÃO\"),\"NÃO\")","v":"NÃO"},{"$f":"IF(AND(BC$8>=$M30,BC$8<=$N30),IF($F30=\"SEMESTRAL\",IF(BB126=\"NÃO\",$D30,IF(MOD(COUNT($Q126:BB126)+1,6)=0,(BB126*$E30)+BB126,BB126)),\"NÃO\"),\"NÃO\")","v":"NÃO"},{"$f":"IF(AND(BD$8>=$M30,BD$8<=$N30),IF($F30=\"SEMESTRAL\",IF(BC126=\"NÃO\",$D30,IF(MOD(COUNT($Q126:BC126)+1,6)=0,(BC126*$E30)+BC126,BC126)),\"NÃO\"),\"NÃO\")","v":"NÃO"},{"$f":"IF(AND(BE$8>=$M30,BE$8<=$N30),IF($F30=\"SEMESTRAL\",IF(BD126=\"NÃO\",$D30,IF(MOD(COUNT($Q126:BD126)+1,6)=0,(BD126*$E30)+BD126,BD126)),\"NÃO\"),\"NÃO\")","v":"NÃO"},{"$f":"IF(AND(BF$8>=$M30,BF$8<=$N30),IF($F30=\"SEMESTRAL\",IF(BE126=\"NÃO\",$D30,IF(MOD(COUNT($Q126:BE126)+1,6)=0,(BE126*$E30)+BE126,BE126)),\"NÃO\"),\"NÃO\")","v":"NÃO"},{"$f":"IF(AND(BG$8>=$M30,BG$8<=$N30),IF($F30=\"SEMESTRAL\",IF(BF126=\"NÃO\",$D30,IF(MOD(COUNT($Q126:BF126)+1,6)=0,(BF126*$E30)+BF126,BF126)),\"NÃO\"),\"NÃO\")","v":"NÃO"},{"$f":"IF(AND(BH$8>=$M30,BH$8<=$N30),IF($F30=\"SEMESTRAL\",IF(BG126=\"NÃO\",$D30,IF(MOD(COUNT($Q126:BG126)+1,6)=0,(BG126*$E30)+BG126,BG126)),\"NÃO\"),\"NÃO\")","v":"NÃO"},{"$f":"IF(AND(BI$8>=$M30,BI$8<=$N30),IF($F30=\"SEMESTRAL\",IF(BH126=\"NÃO\",$D30,IF(MOD(COUNT($Q126:BH126)+1,6)=0,(BH126*$E30)+BH126,BH126)),\"NÃO\"),\"NÃO\")","v":"NÃO"},{"$f":"IF(AND(BJ$8>=$M30,BJ$8<=$N30),IF($F30=\"SEMESTRAL\",IF(BI126=\"NÃO\",$D30,IF(MOD(COUNT($Q126:BI126)+1,6)=0,(BI126*$E30)+BI126,BI126)),\"NÃO\"),\"NÃO\")","v":"NÃO"},{"$f":"IF(AND(BK$8>=$M30,BK$8<=$N30),IF($F30=\"SEMESTRAL\",IF(BJ126=\"NÃO\",$D30,IF(MOD(COUNT($Q126:BJ126)+1,6)=0,(BJ126*$E30)+BJ126,BJ126)),\"NÃO\"),\"NÃO\")","v":"NÃO"},{"$f":"IF(AND(BL$8>=$M30,BL$8<=$N30),IF($F30=\"SEMESTRAL\",IF(BK126=\"NÃO\",$D30,IF(MOD(COUNT($Q126:BK126)+1,6)=0,(BK126*$E30)+BK126,BK126)),\"NÃO\"),\"NÃO\")","v":"NÃO"},{"$f":"IF(AND(BM$8>=$M30,BM$8<=$N30),IF($F30=\"SEMESTRAL\",IF(BL126=\"NÃO\",$D30,IF(MOD(COUNT($Q126:BL126)+1,6)=0,(BL126*$E30)+BL126,BL126)),\"NÃO\"),\"NÃO\")","v":"NÃO"},{"$f":"IF(AND(BN$8>=$M30,BN$8<=$N30),IF($F30=\"SEMESTRAL\",IF(BM126=\"NÃO\",$D30,IF(MOD(COUNT($Q126:BM126)+1,6)=0,(BM126*$E30)+BM126,BM126)),\"NÃO\"),\"NÃO\")","v":"NÃO"},{"$f":"IF(AND(BO$8>=$M30,BO$8<=$N30),IF($F30=\"SEMESTRAL\",IF(BN126=\"NÃO\",$D30,IF(MOD(COUNT($Q126:BN126)+1,6)=0,(BN126*$E30)+BN126,BN126)),\"NÃO\"),\"NÃO\")","v":"NÃO"},{"$f":"IF(AND(BP$8>=$M30,BP$8<=$N30),IF($F30=\"SEMESTRAL\",IF(BO126=\"NÃO\",$D30,IF(MOD(COUNT($Q126:BO126)+1,6)=0,(BO126*$E30)+BO126,BO126)),\"NÃO\"),\"NÃO\")","v":"NÃO"},{"$f":"IF(AND(BQ$8>=$M30,BQ$8<=$N30),IF($F30=\"SEMESTRAL\",IF(BP126=\"NÃO\",$D30,IF(MOD(COUNT($Q126:BP126)+1,6)=0,(BP126*$E30)+BP126,BP126)),\"NÃO\"),\"NÃO\")","v":"NÃO"},{"$f":"IF(AND(BR$8>=$M30,BR$8<=$N30),IF($F30=\"SEMESTRAL\",IF(BQ126=\"NÃO\",$D30,IF(MOD(COUNT($Q126:BQ126)+1,6)=0,(BQ126*$E30)+BQ126,BQ126)),\"NÃO\"),\"NÃO\")","v":"NÃO"},{"$f":"IF(AND(BS$8>=$M30,BS$8<=$N30),IF($F30=\"SEMESTRAL\",IF(BR126=\"NÃO\",$D30,IF(MOD(COUNT($Q126:BR126)+1,6)=0,(BR126*$E30)+BR126,BR126)),\"NÃO\"),\"NÃO\")","v":"NÃO"},{"$f":"IF(AND(BT$8>=$M30,BT$8<=$N30),IF($F30=\"SEMESTRAL\",IF(BS126=\"NÃO\",$D30,IF(MOD(COUNT($Q126:BS126)+1,6)=0,(BS126*$E30)+BS126,BS126)),\"NÃO\"),\"NÃO\")","v":"NÃO"},{"$f":"IF(AND(BU$8>=$M30,BU$8<=$N30),IF($F30=\"SEMESTRAL\",IF(BT126=\"NÃO\",$D30,IF(MOD(COUNT($Q126:BT126)+1,6)=0,(BT126*$E30)+BT126,BT126)),\"NÃO\"),\"NÃO\")","v":"NÃO"},{"$f":"IF(AND(BV$8>=$M30,BV$8<=$N30),IF($F30=\"SEMESTRAL\",IF(BU126=\"NÃO\",$D30,IF(MOD(COUNT($Q126:BU126)+1,6)=0,(BU126*$E30)+BU126,BU126)),\"NÃO\"),\"NÃO\")","v":"NÃO"},{"$f":"IF(AND(BW$8>=$M30,BW$8<=$N30),IF($F30=\"SEMESTRAL\",IF(BV126=\"NÃO\",$D30,IF(MOD(COUNT($Q126:BV126)+1,6)=0,(BV126*$E30)+BV126,BV126)),\"NÃO\"),\"NÃO\")","v":"NÃO"},{"$f":"IF(AND(BX$8>=$M30,BX$8<=$N30),IF($F30=\"SEMESTRAL\",IF(BW126=\"NÃO\",$D30,IF(MOD(COUNT($Q126:BW126)+1,6)=0,(BW126*$E30)+BW126,BW126)),\"NÃO\"),\"NÃO\")","v":"NÃO"}]
[null,null,null,null,null,null,null,null,null,null,null,null,null,null,null,23,"NÃO",{"$f":"IF(AND(R$8>=$M31,R$8<=$N31),IF($F31=\"SEMESTRAL\",IF(Q127=\"NÃO\",$D31,IF(MOD(COUNT($Q127:Q127)+1,6)=0,(Q127*$E31)+Q127,Q127)),\"NÃO\"),\"NÃO\")","v":"NÃO"},{"$f":"IF(AND(S$8>=$M31,S$8<=$N31),IF($F31=\"SEMESTRAL\",IF(R127=\"NÃO\",$D31,IF(MOD(COUNT($Q127:R127)+1,6)=0,(R127*$E31)+R127,R127)),\"NÃO\"),\"NÃO\")","v":"NÃO"},{"$f":"IF(AND(T$8>=$M31,T$8<=$N31),IF($F31=\"SEMESTRAL\",IF(S127=\"NÃO\",$D31,IF(MOD(COUNT($Q127:S127)+1,6)=0,(S127*$E31)+S127,S127)),\"NÃO\"),\"NÃO\")","v":"NÃO"},{"$f":"IF(AND(U$8>=$M31,U$8<=$N31),IF($F31=\"SEMESTRAL\",IF(T127=\"NÃO\",$D31,IF(MOD(COUNT($Q127:T127)+1,6)=0,(T127*$E31)+T127,T127)),\"NÃO\"),\"NÃO\")","v":"NÃO"},{"$f":"IF(AND(V$8>=$M31,V$8<=$N31),IF($F31=\"SEMESTRAL\",IF(U127=\"NÃO\",$D31,IF(MOD(COUNT($Q127:U127)+1,6)=0,(U127*$E31)+U127,U127)),\"NÃO\"),\"NÃO\")","v":"NÃO"},{"$f":"IF(AND(W$8>=$M31,W$8<=$N31),IF($F31=\"SEMESTRAL\",IF(V127=\"NÃO\",$D31,IF(MOD(COUNT($Q127:V127)+1,6)=0,(V127*$E31)+V127,V127)),\"NÃO\"),\"NÃO\")","v":"NÃO"},{"$f":"IF(AND(X$8>=$M31,X$8<=$N31),IF($F31=\"SEMESTRAL\",IF(W127=\"NÃO\",$D31,IF(MOD(COUNT($Q127:W127)+1,6)=0,(W127*$E31)+W127,W127)),\"NÃO\"),\"NÃO\")","v":"NÃO"},{"$f":"IF(AND(Y$8>=$M31,Y$8<=$N31),IF($F31=\"SEMESTRAL\",IF(X127=\"NÃO\",$D31,IF(MOD(COUNT($Q127:X127)+1,6)=0,(X127*$E31)+X127,X127)),\"NÃO\"),\"NÃO\")","v":"NÃO"},{"$f":"IF(AND(Z$8>=$M31,Z$8<=$N31),IF($F31=\"SEMESTRAL\",IF(Y127=\"NÃO\",$D31,IF(MOD(COUNT($Q127:Y127)+1,6)=0,(Y127*$E31)+Y127,Y127)),\"NÃO\"),\"NÃO\")","v":"NÃO"},{"$f":"IF(AND(AA$8>=$M31,AA$8<=$N31),IF($F31=\"SEMESTRAL\",IF(Z127=\"NÃO\",$D31,IF(MOD(COUNT($Q127:Z127)+1,6)=0,(Z127*$E31)+Z127,Z127)),\"NÃO\"),\"NÃO\")","v":"NÃO"},{"$f":"IF(AND(AB$8>=$M31,AB$8<=$N31),IF($F31=\"SEMESTRAL\",IF(AA127=\"NÃO\",$D31,IF(MOD(COUNT($Q127:AA127)+1,6)=0,(AA127*$E31)+AA127,AA127)),\"NÃO\"),\"NÃO\")","v":"NÃO"},{"$f":"IF(AND(AC$8>=$M31,AC$8<=$N31),IF($F31=\"SEMESTRAL\",IF(AB127=\"NÃO\",$D31,IF(MOD(COUNT($Q127:AB127)+1,6)=0,(AB127*$E31)+AB127,AB127)),\"NÃO\"),\"NÃO\")","v":"NÃO"},{"$f":"IF(AND(AD$8>=$M31,AD$8<=$N31),IF($F31=\"SEMESTRAL\",IF(AC127=\"NÃO\",$D31,IF(MOD(COUNT($Q127:AC127)+1,6)=0,(AC127*$E31)+AC127,AC127)),\"NÃO\"),\"NÃO\")","v":"NÃO"},{"$f":"IF(AND(AE$8>=$M31,AE$8<=$N31),IF($F31=\"SEMESTRAL\",IF(AD127=\"NÃO\",$D31,IF(MOD(COUNT($Q127:AD127)+1,6)=0,(AD127*$E31)+AD127,AD127)),\"NÃO\"),\"NÃO\")","v":"NÃO"},{"$f":"IF(AND(AF$8>=$M31,AF$8<=$N31),IF($F31=\"SEMESTRAL\",IF(AE127=\"NÃO\",$D31,IF(MOD(COUNT($Q127:AE127)+1,6)=0,(AE127*$E31)+AE127,AE127)),\"NÃO\"),\"NÃO\")","v":"NÃO"},{"$f":"IF(AND(AG$8>=$M31,AG$8<=$N31),IF($F31=\"SEMESTRAL\",IF(AF127=\"NÃO\",$D31,IF(MOD(COUNT($Q127:AF127)+1,6)=0,(AF127*$E31)+AF127,AF127)),\"NÃO\"),\"NÃO\")","v":"NÃO"},{"$f":"IF(AND(AH$8>=$M31,AH$8<=$N31),IF($F31=\"SEMESTRAL\",IF(AG127=\"NÃO\",$D31,IF(MOD(COUNT($Q127:AG127)+1,6)=0,(AG127*$E31)+AG127,AG127)),\"NÃO\"),\"NÃO\")","v":"NÃO"},{"$f":"IF(AND(AI$8>=$M31,AI$8<=$N31),IF($F31=\"SEMESTRAL\",IF(AH127=\"NÃO\",$D31,IF(MOD(COUNT($Q127:AH127)+1,6)=0,(AH127*$E31)+AH127,AH127)),\"NÃO\"),\"NÃO\")","v":"NÃO"},{"$f":"IF(AND(AJ$8>=$M31,AJ$8<=$N31),IF($F31=\"SEMESTRAL\",IF(AI127=\"NÃO\",$D31,IF(MOD(COUNT($Q127:AI127)+1,6)=0,(AI127*$E31)+AI127,AI127)),\"NÃO\"),\"NÃO\")","v":"NÃO"},{"$f":"IF(AND(AK$8>=$M31,AK$8<=$N31),IF($F31=\"SEMESTRAL\",IF(AJ127=\"NÃO\",$D31,IF(MOD(COUNT($Q127:AJ127)+1,6)=0,(AJ127*$E31)+AJ127,AJ127)),\"NÃO\"),\"NÃO\")","v":"NÃO"},{"$f":"IF(AND(AL$8>=$M31,AL$8<=$N31),IF($F31=\"SEMESTRAL\",IF(AK127=\"NÃO\",$D31,IF(MOD(COUNT($Q127:AK127)+1,6)=0,(AK127*$E31)+AK127,AK127)),\"NÃO\"),\"NÃO\")","v":"NÃO"},{"$f":"IF(AND(AM$8>=$M31,AM$8<=$N31),IF($F31=\"SEMESTRAL\",IF(AL127=\"NÃO\",$D31,IF(MOD(COUNT($Q127:AL127)+1,6)=0,(AL127*$E31)+AL127,AL127)),\"NÃO\"),\"NÃO\")","v":"NÃO"},{"$f":"IF(AND(AN$8>=$M31,AN$8<=$N31),IF($F31=\"SEMESTRAL\",IF(AM127=\"NÃO\",$D31,IF(MOD(COUNT($Q127:AM127)+1,6)=0,(AM127*$E31)+AM127,AM127)),\"NÃO\"),\"NÃO\")","v":"NÃO"},{"$f":"IF(AND(AO$8>=$M31,AO$8<=$N31),IF($F31=\"SEMESTRAL\",IF(AN127=\"NÃO\",$D31,IF(MOD(COUNT($Q127:AN127)+1,6)=0,(AN127*$E31)+AN127,AN127)),\"NÃO\"),\"NÃO\")","v":"NÃO"},{"$f":"IF(AND(AP$8>=$M31,AP$8<=$N31),IF($F31=\"SEMESTRAL\",IF(AO127=\"NÃO\",$D31,IF(MOD(COUNT($Q127:AO127)+1,6)=0,(AO127*$E31)+AO127,AO127)),\"NÃO\"),\"NÃO\")","v":"NÃO"},{"$f":"IF(AND(AQ$8>=$M31,AQ$8<=$N31),IF($F31=\"SEMESTRAL\",IF(AP127=\"NÃO\",$D31,IF(MOD(COUNT($Q127:AP127)+1,6)=0,(AP127*$E31)+AP127,AP127)),\"NÃO\"),\"NÃO\")","v":"NÃO"},{"$f":"IF(AND(AR$8>=$M31,AR$8<=$N31),IF($F31=\"SEMESTRAL\",IF(AQ127=\"NÃO\",$D31,IF(MOD(COUNT($Q127:AQ127)+1,6)=0,(AQ127*$E31)+AQ127,AQ127)),\"NÃO\"),\"NÃO\")","v":"NÃO"},{"$f":"IF(AND(AS$8>=$M31,AS$8<=$N31),IF($F31=\"SEMESTRAL\",IF(AR127=\"NÃO\",$D31,IF(MOD(COUNT($Q127:AR127)+1,6)=0,(AR127*$E31)+AR127,AR127)),\"NÃO\"),\"NÃO\")","v":"NÃO"},{"$f":"IF(AND(AT$8>=$M31,AT$8<=$N31),IF($F31=\"SEMESTRAL\",IF(AS127=\"NÃO\",$D31,IF(MOD(COUNT($Q127:AS127)+1,6)=0,(AS127*$E31)+AS127,AS127)),\"NÃO\"),\"NÃO\")","v":"NÃO"},{"$f":"IF(AND(AU$8>=$M31,AU$8<=$N31),IF($F31=\"SEMESTRAL\",IF(AT127=\"NÃO\",$D31,IF(MOD(COUNT($Q127:AT127)+1,6)=0,(AT127*$E31)+AT127,AT127)),\"NÃO\"),\"NÃO\")","v":"NÃO"},{"$f":"IF(AND(AV$8>=$M31,AV$8<=$N31),IF($F31=\"SEMESTRAL\",IF(AU127=\"NÃO\",$D31,IF(MOD(COUNT($Q127:AU127)+1,6)=0,(AU127*$E31)+AU127,AU127)),\"NÃO\"),\"NÃO\")","v":"NÃO"},{"$f":"IF(AND(AW$8>=$M31,AW$8<=$N31),IF($F31=\"SEMESTRAL\",IF(AV127=\"NÃO\",$D31,IF(MOD(COUNT($Q127:AV127)+1,6)=0,(AV127*$E31)+AV127,AV127)),\"NÃO\"),\"NÃO\")","v":"NÃO"},{"$f":"IF(AND(AX$8>=$M31,AX$8<=$N31),IF($F31=\"SEMESTRAL\",IF(AW127=\"NÃO\",$D31,IF(MOD(COUNT($Q127:AW127)+1,6)=0,(AW127*$E31)+AW127,AW127)),\"NÃO\"),\"NÃO\")","v":"NÃO"},{"$f":"IF(AND(AY$8>=$M31,AY$8<=$N31),IF($F31=\"SEMESTRAL\",IF(AX127=\"NÃO\",$D31,IF(MOD(COUNT($Q127:AX127)+1,6)=0,(AX127*$E31)+AX127,AX127)),\"NÃO\"),\"NÃO\")","v":"NÃO"},{"$f":"IF(AND(AZ$8>=$M31,AZ$8<=$N31),IF($F31=\"SEMESTRAL\",IF(AY127=\"NÃO\",$D31,IF(MOD(COUNT($Q127:AY127)+1,6)=0,(AY127*$E31)+AY127,AY127)),\"NÃO\"),\"NÃO\")","v":"NÃO"},{"$f":"IF(AND(BA$8>=$M31,BA$8<=$N31),IF($F31=\"SEMESTRAL\",IF(AZ127=\"NÃO\",$D31,IF(MOD(COUNT($Q127:AZ127)+1,6)=0,(AZ127*$E31)+AZ127,AZ127)),\"NÃO\"),\"NÃO\")","v":"NÃO"},{"$f":"IF(AND(BB$8>=$M31,BB$8<=$N31),IF($F31=\"SEMESTRAL\",IF(BA127=\"NÃO\",$D31,IF(MOD(COUNT($Q127:BA127)+1,6)=0,(BA127*$E31)+BA127,BA127)),\"NÃO\"),\"NÃO\")","v":"NÃO"},{"$f":"IF(AND(BC$8>=$M31,BC$8<=$N31),IF($F31=\"SEMESTRAL\",IF(BB127=\"NÃO\",$D31,IF(MOD(COUNT($Q127:BB127)+1,6)=0,(BB127*$E31)+BB127,BB127)),\"NÃO\"),\"NÃO\")","v":"NÃO"},{"$f":"IF(AND(BD$8>=$M31,BD$8<=$N31),IF($F31=\"SEMESTRAL\",IF(BC127=\"NÃO\",$D31,IF(MOD(COUNT($Q127:BC127)+1,6)=0,(BC127*$E31)+BC127,BC127)),\"NÃO\"),\"NÃO\")","v":"NÃO"},{"$f":"IF(AND(BE$8>=$M31,BE$8<=$N31),IF($F31=\"SEMESTRAL\",IF(BD127=\"NÃO\",$D31,IF(MOD(COUNT($Q127:BD127)+1,6)=0,(BD127*$E31)+BD127,BD127)),\"NÃO\"),\"NÃO\")","v":"NÃO"},{"$f":"IF(AND(BF$8>=$M31,BF$8<=$N31),IF($F31=\"SEMESTRAL\",IF(BE127=\"NÃO\",$D31,IF(MOD(COUNT($Q127:BE127)+1,6)=0,(BE127*$E31)+BE127,BE127)),\"NÃO\"),\"NÃO\")","v":"NÃO"},{"$f":"IF(AND(BG$8>=$M31,BG$8<=$N31),IF($F31=\"SEMESTRAL\",IF(BF127=\"NÃO\",$D31,IF(MOD(COUNT($Q127:BF127)+1,6)=0,(BF127*$E31)+BF127,BF127)),\"NÃO\"),\"NÃO\")","v":"NÃO"},{"$f":"IF(AND(BH$8>=$M31,BH$8<=$N31),IF($F31=\"SEMESTRAL\",IF(BG127=\"NÃO\",$D31,IF(MOD(COUNT($Q127:BG127)+1,6)=0,(BG127*$E31)+BG127,BG127)),\"NÃO\"),\"NÃO\")","v":"NÃO"},{"$f":"IF(AND(BI$8>=$M31,BI$8<=$N31),IF($F31=\"SEMESTRAL\",IF(BH127=\"NÃO\",$D31,IF(MOD(COUNT($Q127:BH127)+1,6)=0,(BH127*$E31)+BH127,BH127)),\"NÃO\"),\"NÃO\")","v":"NÃO"},{"$f":"IF(AND(BJ$8>=$M31,BJ$8<=$N31),IF($F31=\"SEMESTRAL\",IF(BI127=\"NÃO\",$D31,IF(MOD(COUNT($Q127:BI127)+1,6)=0,(BI127*$E31)+BI127,BI127)),\"NÃO\"),\"NÃO\")","v":"NÃO"},{"$f":"IF(AND(BK$8>=$M31,BK$8<=$N31),IF($F31=\"SEMESTRAL\",IF(BJ127=\"NÃO\",$D31,IF(MOD(COUNT($Q127:BJ127)+1,6)=0,(BJ127*$E31)+BJ127,BJ127)),\"NÃO\"),\"NÃO\")","v":"NÃO"},{"$f":"IF(AND(BL$8>=$M31,BL$8<=$N31),IF($F31=\"SEMESTRAL\",IF(BK127=\"NÃO\",$D31,IF(MOD(COUNT($Q127:BK127)+1,6)=0,(BK127*$E31)+BK127,BK127)),\"NÃO\"),\"NÃO\")","v":"NÃO"},{"$f":"IF(AND(BM$8>=$M31,BM$8<=$N31),IF($F31=\"SEMESTRAL\",IF(BL127=\"NÃO\",$D31,IF(MOD(COUNT($Q127:BL127)+1,6)=0,(BL127*$E31)+BL127,BL127)),\"NÃO\"),\"NÃO\")","v":"NÃO"},{"$f":"IF(AND(BN$8>=$M31,BN$8<=$N31),IF($F31=\"SEMESTRAL\",IF(BM127=\"NÃO\",$D31,IF(MOD(COUNT($Q127:BM127)+1,6)=0,(BM127*$E31)+BM127,BM127)),\"NÃO\"),\"NÃO\")","v":"NÃO"},{"$f":"IF(AND(BO$8>=$M31,BO$8<=$N31),IF($F31=\"SEMESTRAL\",IF(BN127=\"NÃO\",$D31,IF(MOD(COUNT($Q127:BN127)+1,6)=0,(BN127*$E31)+BN127,BN127)),\"NÃO\"),\"NÃO\")","v":"NÃO"},{"$f":"IF(AND(BP$8>=$M31,BP$8<=$N31),IF($F31=\"SEMESTRAL\",IF(BO127=\"NÃO\",$D31,IF(MOD(COUNT($Q127:BO127)+1,6)=0,(BO127*$E31)+BO127,BO127)),\"NÃO\"),\"NÃO\")","v":"NÃO"},{"$f":"IF(AND(BQ$8>=$M31,BQ$8<=$N31),IF($F31=\"SEMESTRAL\",IF(BP127=\"NÃO\",$D31,IF(MOD(COUNT($Q127:BP127)+1,6)=0,(BP127*$E31)+BP127,BP127)),\"NÃO\"),\"NÃO\")","v":"NÃO"},{"$f":"IF(AND(BR$8>=$M31,BR$8<=$N31),IF($F31=\"SEMESTRAL\",IF(BQ127=\"NÃO\",$D31,IF(MOD(COUNT($Q127:BQ127)+1,6)=0,(BQ127*$E31)+BQ127,BQ127)),\"NÃO\"),\"NÃO\")","v":"NÃO"},{"$f":"IF(AND(BS$8>=$M31,BS$8<=$N31),IF($F31=\"SEMESTRAL\",IF(BR127=\"NÃO\",$D31,IF(MOD(COUNT($Q127:BR127)+1,6)=0,(BR127*$E31)+BR127,BR127)),\"NÃO\"),\"NÃO\")","v":"NÃO"},{"$f":"IF(AND(BT$8>=$M31,BT$8<=$N31),IF($F31=\"SEMESTRAL\",IF(BS127=\"NÃO\",$D31,IF(MOD(COUNT($Q127:BS127)+1,6)=0,(BS127*$E31)+BS127,BS127)),\"NÃO\"),\"NÃO\")","v":"NÃO"},{"$f":"IF(AND(BU$8>=$M31,BU$8<=$N31),IF($F31=\"SEMESTRAL\",IF(BT127=\"NÃO\",$D31,IF(MOD(COUNT($Q127:BT127)+1,6)=0,(BT127*$E31)+BT127,BT127)),\"NÃO\"),\"NÃO\")","v":"NÃO"},{"$f":"IF(AND(BV$8>=$M31,BV$8<=$N31),IF($F31=\"SEMESTRAL\",IF(BU127=\"NÃO\",$D31,IF(MOD(COUNT($Q127:BU127)+1,6)=0,(BU127*$E31)+BU127,BU127)),\"NÃO\"),\"NÃO\")","v":"NÃO"},{"$f":"IF(AND(BW$8>=$M31,BW$8<=$N31),IF($F31=\"SEMESTRAL\",IF(BV127=\"NÃO\",$D31,IF(MOD(COUNT($Q127:BV127)+1,6)=0,(BV127*$E31)+BV127,BV127)),\"NÃO\"),\"NÃO\")","v":"NÃO"},{"$f":"IF(AND(BX$8>=$M31,BX$8<=$N31),IF($F31=\"SEMESTRAL\",IF(BW127=\"NÃO\",$D31,IF(MOD(COUNT($Q127:BW127)+1,6)=0,(BW127*$E31)+BW127,BW127)),\"NÃO\"),\"NÃO\")","v":"NÃO"}]
[null,null,null,null,null,null,null,null,null,null,null,null,null,null,null,24,"NÃO",{"$f":"IF(AND(R$8>=$M32,R$8<=$N32),IF($F32=\"SEMESTRAL\",IF(Q128=\"NÃO\",$D32,IF(MOD(COUNT($Q128:Q128)+1,6)=0,(Q128*$E32)+Q128,Q128)),\"NÃO\"),\"NÃO\")","v":"NÃO"},{"$f":"IF(AND(S$8>=$M32,S$8<=$N32),IF($F32=\"SEMESTRAL\",IF(R128=\"NÃO\",$D32,IF(MOD(COUNT($Q128:R128)+1,6)=0,(R128*$E32)+R128,R128)),\"NÃO\"),\"NÃO\")","v":"NÃO"},{"$f":"IF(AND(T$8>=$M32,T$8<=$N32),IF($F32=\"SEMESTRAL\",IF(S128=\"NÃO\",$D32,IF(MOD(COUNT($Q128:S128)+1,6)=0,(S128*$E32)+S128,S128)),\"NÃO\"),\"NÃO\")","v":"NÃO"},{"$f":"IF(AND(U$8>=$M32,U$8<=$N32),IF($F32=\"SEMESTRAL\",IF(T128=\"NÃO\",$D32,IF(MOD(COUNT($Q128:T128)+1,6)=0,(T128*$E32)+T128,T128)),\"NÃO\"),\"NÃO\")","v":"NÃO"},{"$f":"IF(AND(V$8>=$M32,V$8<=$N32),IF($F32=\"SEMESTRAL\",IF(U128=\"NÃO\",$D32,IF(MOD(COUNT($Q128:U128)+1,6)=0,(U128*$E32)+U128,U128)),\"NÃO\"),\"NÃO\")","v":"NÃO"},{"$f":"IF(AND(W$8>=$M32,W$8<=$N32),IF($F32=\"SEMESTRAL\",IF(V128=\"NÃO\",$D32,IF(MOD(COUNT($Q128:V128)+1,6)=0,(V128*$E32)+V128,V128)),\"NÃO\"),\"NÃO\")","v":"NÃO"},{"$f":"IF(AND(X$8>=$M32,X$8<=$N32),IF($F32=\"SEMESTRAL\",IF(W128=\"NÃO\",$D32,IF(MOD(COUNT($Q128:W128)+1,6)=0,(W128*$E32)+W128,W128)),\"NÃO\"),\"NÃO\")","v":"NÃO"},{"$f":"IF(AND(Y$8>=$M32,Y$8<=$N32),IF($F32=\"SEMESTRAL\",IF(X128=\"NÃO\",$D32,IF(MOD(COUNT($Q128:X128)+1,6)=0,(X128*$E32)+X128,X128)),\"NÃO\"),\"NÃO\")","v":"NÃO"},{"$f":"IF(AND(Z$8>=$M32,Z$8<=$N32),IF($F32=\"SEMESTRAL\",IF(Y128=\"NÃO\",$D32,IF(MOD(COUNT($Q128:Y128)+1,6)=0,(Y128*$E32)+Y128,Y128)),\"NÃO\"),\"NÃO\")","v":"NÃO"},{"$f":"IF(AND(AA$8>=$M32,AA$8<=$N32),IF($F32=\"SEMESTRAL\",IF(Z128=\"NÃO\",$D32,IF(MOD(COUNT($Q128:Z128)+1,6)=0,(Z128*$E32)+Z128,Z128)),\"NÃO\"),\"NÃO\")","v":"NÃO"},{"$f":"IF(AND(AB$8>=$M32,AB$8<=$N32),IF($F32=\"SEMESTRAL\",IF(AA128=\"NÃO\",$D32,IF(MOD(COUNT($Q128:AA128)+1,6)=0,(AA128*$E32)+AA128,AA128)),\"NÃO\"),\"NÃO\")","v":"NÃO"},{"$f":"IF(AND(AC$8>=$M32,AC$8<=$N32),IF($F32=\"SEMESTRAL\",IF(AB128=\"NÃO\",$D32,IF(MOD(COUNT($Q128:AB128)+1,6)=0,(AB128*$E32)+AB128,AB128)),\"NÃO\"),\"NÃO\")","v":"NÃO"},{"$f":"IF(AND(AD$8>=$M32,AD$8<=$N32),IF($F32=\"SEMESTRAL\",IF(AC128=\"NÃO\",$D32,IF(MOD(COUNT($Q128:AC128)+1,6)=0,(AC128*$E32)+AC128,AC128)),\"NÃO\"),\"NÃO\")","v":"NÃO"},{"$f":"IF(AND(AE$8>=$M32,AE$8<=$N32),IF($F32=\"SEMESTRAL\",IF(AD128=\"NÃO\",$D32,IF(MOD(COUNT($Q128:AD128)+1,6)=0,(AD128*$E32)+AD128,AD128)),\"NÃO\"),\"NÃO\")","v":"NÃO"},{"$f":"IF(AND(AF$8>=$M32,AF$8<=$N32),IF($F32=\"SEMESTRAL\",IF(AE128=\"NÃO\",$D32,IF(MOD(COUNT($Q128:AE128)+1,6)=0,(AE128*$E32)+AE128,AE128)),\"NÃO\"),\"NÃO\")","v":"NÃO"},{"$f":"IF(AND(AG$8>=$M32,AG$8<=$N32),IF($F32=\"SEMESTRAL\",IF(AF128=\"NÃO\",$D32,IF(MOD(COUNT($Q128:AF128)+1,6)=0,(AF128*$E32)+AF128,AF128)),\"NÃO\"),\"NÃO\")","v":"NÃO"},{"$f":"IF(AND(AH$8>=$M32,AH$8<=$N32),IF($F32=\"SEMESTRAL\",IF(AG128=\"NÃO\",$D32,IF(MOD(COUNT($Q128:AG128)+1,6)=0,(AG128*$E32)+AG128,AG128)),\"NÃO\"),\"NÃO\")","v":"NÃO"},{"$f":"IF(AND(AI$8>=$M32,AI$8<=$N32),IF($F32=\"SEMESTRAL\",IF(AH128=\"NÃO\",$D32,IF(MOD(COUNT($Q128:AH128)+1,6)=0,(AH128*$E32)+AH128,AH128)),\"NÃO\"),\"NÃO\")","v":"NÃO"},{"$f":"IF(AND(AJ$8>=$M32,AJ$8<=$N32),IF($F32=\"SEMESTRAL\",IF(AI128=\"NÃO\",$D32,IF(MOD(COUNT($Q128:AI128)+1,6)=0,(AI128*$E32)+AI128,AI128)),\"NÃO\"),\"NÃO\")","v":"NÃO"},{"$f":"IF(AND(AK$8>=$M32,AK$8<=$N32),IF($F32=\"SEMESTRAL\",IF(AJ128=\"NÃO\",$D32,IF(MOD(COUNT($Q128:AJ128)+1,6)=0,(AJ128*$E32)+AJ128,AJ128)),\"NÃO\"),\"NÃO\")","v":"NÃO"},{"$f":"IF(AND(AL$8>=$M32,AL$8<=$N32),IF($F32=\"SEMESTRAL\",IF(AK128=\"NÃO\",$D32,IF(MOD(COUNT($Q128:AK128)+1,6)=0,(AK128*$E32)+AK128,AK128)),\"NÃO\"),\"NÃO\")","v":"NÃO"},{"$f":"IF(AND(AM$8>=$M32,AM$8<=$N32),IF($F32=\"SEMESTRAL\",IF(AL128=\"NÃO\",$D32,IF(MOD(COUNT($Q128:AL128)+1,6)=0,(AL128*$E32)+AL128,AL128)),\"NÃO\"),\"NÃO\")","v":"NÃO"},{"$f":"IF(AND(AN$8>=$M32,AN$8<=$N32),IF($F32=\"SEMESTRAL\",IF(AM128=\"NÃO\",$D32,IF(MOD(COUNT($Q128:AM128)+1,6)=0,(AM128*$E32)+AM128,AM128)),\"NÃO\"),\"NÃO\")","v":"NÃO"},{"$f":"IF(AND(AO$8>=$M32,AO$8<=$N32),IF($F32=\"SEMESTRAL\",IF(AN128=\"NÃO\",$D32,IF(MOD(COUNT($Q128:AN128)+1,6)=0,(AN128*$E32)+AN128,AN128)),\"NÃO\"),\"NÃO\")","v":"NÃO"},{"$f":"IF(AND(AP$8>=$M32,AP$8<=$N32),IF($F32=\"SEMESTRAL\",IF(AO128=\"NÃO\",$D32,IF(MOD(COUNT($Q128:AO128)+1,6)=0,(AO128*$E32)+AO128,AO128)),\"NÃO\"),\"NÃO\")","v":"NÃO"},{"$f":"IF(AND(AQ$8>=$M32,AQ$8<=$N32),IF($F32=\"SEMESTRAL\",IF(AP128=\"NÃO\",$D32,IF(MOD(COUNT($Q128:AP128)+1,6)=0,(AP128*$E32)+AP128,AP128)),\"NÃO\"),\"NÃO\")","v":"NÃO"},{"$f":"IF(AND(AR$8>=$M32,AR$8<=$N32),IF($F32=\"SEMESTRAL\",IF(AQ128=\"NÃO\",$D32,IF(MOD(COUNT($Q128:AQ128)+1,6)=0,(AQ128*$E32)+AQ128,AQ128)),\"NÃO\"),\"NÃO\")","v":"NÃO"},{"$f":"IF(AND(AS$8>=$M32,AS$8<=$N32),IF($F32=\"SEMESTRAL\",IF(AR128=\"NÃO\",$D32,IF(MOD(COUNT($Q128:AR128)+1,6)=0,(AR128*$E32)+AR128,AR128)),\"NÃO\"),\"NÃO\")","v":"NÃO"},{"$f":"IF(AND(AT$8>=$M32,AT$8<=$N32),IF($F32=\"SEMESTRAL\",IF(AS128=\"NÃO\",$D32,IF(MOD(COUNT($Q128:AS128)+1,6)=0,(AS128*$E32)+AS128,AS128)),\"NÃO\"),\"NÃO\")","v":"NÃO"},{"$f":"IF(AND(AU$8>=$M32,AU$8<=$N32),IF($F32=\"SEMESTRAL\",IF(AT128=\"NÃO\",$D32,IF(MOD(COUNT($Q128:AT128)+1,6)=0,(AT128*$E32)+AT128,AT128)),\"NÃO\"),\"NÃO\")","v":"NÃO"},{"$f":"IF(AND(AV$8>=$M32,AV$8<=$N32),IF($F32=\"SEMESTRAL\",IF(AU128=\"NÃO\",$D32,IF(MOD(COUNT($Q128:AU128)+1,6)=0,(AU128*$E32)+AU128,AU128)),\"NÃO\"),\"NÃO\")","v":"NÃO"},{"$f":"IF(AND(AW$8>=$M32,AW$8<=$N32),IF($F32=\"SEMESTRAL\",IF(AV128=\"NÃO\",$D32,IF(MOD(COUNT($Q128:AV128)+1,6)=0,(AV128*$E32)+AV128,AV128)),\"NÃO\"),\"NÃO\")","v":"NÃO"},{"$f":"IF(AND(AX$8>=$M32,AX$8<=$N32),IF($F32=\"SEMESTRAL\",IF(AW128=\"NÃO\",$D32,IF(MOD(COUNT($Q128:AW128)+1,6)=0,(AW128*$E32)+AW128,AW128)),\"NÃO\"),\"NÃO\")","v":"NÃO"},{"$f":"IF(AND(AY$8>=$M32,AY$8<=$N32),IF($F32=\"SEMESTRAL\",IF(AX128=\"NÃO\",$D32,IF(MOD(COUNT($Q128:AX128)+1,6)=0,(AX128*$E32)+AX128,AX128)),\"NÃO\"),\"NÃO\")","v":"NÃO"},{"$f":"IF(AND(AZ$8>=$M32,AZ$8<=$N32),IF($F32=\"SEMESTRAL\",IF(AY128=\"NÃO\",$D32,IF(MOD(COUNT($Q128:AY128)+1,6)=0,(AY128*$E32)+AY128,AY128)),\"NÃO\"),\"NÃO\")","v":"NÃO"},{"$f":"IF(AND(BA$8>=$M32,BA$8<=$N32),IF($F32=\"SEMESTRAL\",IF(AZ128=\"NÃO\",$D32,IF(MOD(COUNT($Q128:AZ128)+1,6)=0,(AZ128*$E32)+AZ128,AZ128)),\"NÃO\"),\"NÃO\")","v":"NÃO"},{"$f":"IF(AND(BB$8>=$M32,BB$8<=$N32),IF($F32=\"SEMESTRAL\",IF(BA128=\"NÃO\",$D32,IF(MOD(COUNT($Q128:BA128)+1,6)=0,(BA128*$E32)+BA128,BA128)),\"NÃO\"),\"NÃO\")","v":"NÃO"},{"$f":"IF(AND(BC$8>=$M32,BC$8<=$N32),IF($F32=\"SEMESTRAL\",IF(BB128=\"NÃO\",$D32,IF(MOD(COUNT($Q128:BB128)+1,6)=0,(BB128*$E32)+BB128,BB128)),\"NÃO\"),\"NÃO\")","v":"NÃO"},{"$f":"IF(AND(BD$8>=$M32,BD$8<=$N32),IF($F32=\"SEMESTRAL\",IF(BC128=\"NÃO\",$D32,IF(MOD(COUNT($Q128:BC128)+1,6)=0,(BC128*$E32)+BC128,BC128)),\"NÃO\"),\"NÃO\")","v":"NÃO"},{"$f":"IF(AND(BE$8>=$M32,BE$8<=$N32),IF($F32=\"SEMESTRAL\",IF(BD128=\"NÃO\",$D32,IF(MOD(COUNT($Q128:BD128)+1,6)=0,(BD128*$E32)+BD128,BD128)),\"NÃO\"),\"NÃO\")","v":"NÃO"},{"$f":"IF(AND(BF$8>=$M32,BF$8<=$N32),IF($F32=\"SEMESTRAL\",IF(BE128=\"NÃO\",$D32,IF(MOD(COUNT($Q128:BE128)+1,6)=0,(BE128*$E32)+BE128,BE128)),\"NÃO\"),\"NÃO\")","v":"NÃO"},{"$f":"IF(AND(BG$8>=$M32,BG$8<=$N32),IF($F32=\"SEMESTRAL\",IF(BF128=\"NÃO\",$D32,IF(MOD(COUNT($Q128:BF128)+1,6)=0,(BF128*$E32)+BF128,BF128)),\"NÃO\"),\"NÃO\")","v":"NÃO"},{"$f":"IF(AND(BH$8>=$M32,BH$8<=$N32),IF($F32=\"SEMESTRAL\",IF(BG128=\"NÃO\",$D32,IF(MOD(COUNT($Q128:BG128)+1,6)=0,(BG128*$E32)+BG128,BG128)),\"NÃO\"),\"NÃO\")","v":"NÃO"},{"$f":"IF(AND(BI$8>=$M32,BI$8<=$N32),IF($F32=\"SEMESTRAL\",IF(BH128=\"NÃO\",$D32,IF(MOD(COUNT($Q128:BH128)+1,6)=0,(BH128*$E32)+BH128,BH128)),\"NÃO\"),\"NÃO\")","v":"NÃO"},{"$f":"IF(AND(BJ$8>=$M32,BJ$8<=$N32),IF($F32=\"SEMESTRAL\",IF(BI128=\"NÃO\",$D32,IF(MOD(COUNT($Q128:BI128)+1,6)=0,(BI128*$E32)+BI128,BI128)),\"NÃO\"),\"NÃO\")","v":"NÃO"},{"$f":"IF(AND(BK$8>=$M32,BK$8<=$N32),IF($F32=\"SEMESTRAL\",IF(BJ128=\"NÃO\",$D32,IF(MOD(COUNT($Q128:BJ128)+1,6)=0,(BJ128*$E32)+BJ128,BJ128)),\"NÃO\"),\"NÃO\")","v":"NÃO"},{"$f":"IF(AND(BL$8>=$M32,BL$8<=$N32),IF($F32=\"SEMESTRAL\",IF(BK128=\"NÃO\",$D32,IF(MOD(COUNT($Q128:BK128)+1,6)=0,(BK128*$E32)+BK128,BK128)),\"NÃO\"),\"NÃO\")","v":"NÃO"},{"$f":"IF(AND(BM$8>=$M32,BM$8<=$N32),IF($F32=\"SEMESTRAL\",IF(BL128=\"NÃO\",$D32,IF(MOD(COUNT($Q128:BL128)+1,6)=0,(BL128*$E32)+BL128,BL128)),\"NÃO\"),\"NÃO\")","v":"NÃO"},{"$f":"IF(AND(BN$8>=$M32,BN$8<=$N32),IF($F32=\"SEMESTRAL\",IF(BM128=\"NÃO\",$D32,IF(MOD(COUNT($Q128:BM128)+1,6)=0,(BM128*$E32)+BM128,BM128)),\"NÃO\"),\"NÃO\")","v":"NÃO"},{"$f":"IF(AND(BO$8>=$M32,BO$8<=$N32),IF($F32=\"SEMESTRAL\",IF(BN128=\"NÃO\",$D32,IF(MOD(COUNT($Q128:BN128)+1,6)=0,(BN128*$E32)+BN128,BN128)),\"NÃO\"),\"NÃO\")","v":"NÃO"},{"$f":"IF(AND(BP$8>=$M32,BP$8<=$N32),IF($F32=\"SEMESTRAL\",IF(BO128=\"NÃO\",$D32,IF(MOD(COUNT($Q128:BO128)+1,6)=0,(BO128*$E32)+BO128,BO128)),\"NÃO\"),\"NÃO\")","v":"NÃO"},{"$f":"IF(AND(BQ$8>=$M32,BQ$8<=$N32),IF($F32=\"SEMESTRAL\",IF(BP128=\"NÃO\",$D32,IF(MOD(COUNT($Q128:BP128)+1,6)=0,(BP128*$E32)+BP128,BP128)),\"NÃO\"),\"NÃO\")","v":"NÃO"},{"$f":"IF(AND(BR$8>=$M32,BR$8<=$N32),IF($F32=\"SEMESTRAL\",IF(BQ128=\"NÃO\",$D32,IF(MOD(COUNT($Q128:BQ128)+1,6)=0,(BQ128*$E32)+BQ128,BQ128)),\"NÃO\"),\"NÃO\")","v":"NÃO"},{"$f":"IF(AND(BS$8>=$M32,BS$8<=$N32),IF($F32=\"SEMESTRAL\",IF(BR128=\"NÃO\",$D32,IF(MOD(COUNT($Q128:BR128)+1,6)=0,(BR128*$E32)+BR128,BR128)),\"NÃO\"),\"NÃO\")","v":"NÃO"},{"$f":"IF(AND(BT$8>=$M32,BT$8<=$N32),IF($F32=\"SEMESTRAL\",IF(BS128=\"NÃO\",$D32,IF(MOD(COUNT($Q128:BS128)+1,6)=0,(BS128*$E32)+BS128,BS128)),\"NÃO\"),\"NÃO\")","v":"NÃO"},{"$f":"IF(AND(BU$8>=$M32,BU$8<=$N32),IF($F32=\"SEMESTRAL\",IF(BT128=\"NÃO\",$D32,IF(MOD(COUNT($Q128:BT128)+1,6)=0,(BT128*$E32)+BT128,BT128)),\"NÃO\"),\"NÃO\")","v":"NÃO"},{"$f":"IF(AND(BV$8>=$M32,BV$8<=$N32),IF($F32=\"SEMESTRAL\",IF(BU128=\"NÃO\",$D32,IF(MOD(COUNT($Q128:BU128)+1,6)=0,(BU128*$E32)+BU128,BU128)),\"NÃO\"),\"NÃO\")","v":"NÃO"},{"$f":"IF(AND(BW$8>=$M32,BW$8<=$N32),IF($F32=\"SEMESTRAL\",IF(BV128=\"NÃO\",$D32,IF(MOD(COUNT($Q128:BV128)+1,6)=0,(BV128*$E32)+BV128,BV128)),\"NÃO\"),\"NÃO\")","v":"NÃO"},{"$f":"IF(AND(BX$8>=$M32,BX$8<=$N32),IF($F32=\"SEMESTRAL\",IF(BW128=\"NÃO\",$D32,IF(MOD(COUNT($Q128:BW128)+1,6)=0,(BW128*$E32)+BW128,BW128)),\"NÃO\"),\"NÃO\")","v":"NÃO"}]
[null,null,null,null,null,null,null,null,null,null,null,null,null,null,null,25,"NÃO",{"$f":"IF(AND(R$8>=$M33,R$8<=$N33),IF($F33=\"SEMESTRAL\",IF(Q129=\"NÃO\",$D33,IF(MOD(COUNT($Q129:Q129)+1,6)=0,(Q129*$E33)+Q129,Q129)),\"NÃO\"),\"NÃO\")","v":"NÃO"},{"$f":"IF(AND(S$8>=$M33,S$8<=$N33),IF($F33=\"SEMESTRAL\",IF(R129=\"NÃO\",$D33,IF(MOD(COUNT($Q129:R129)+1,6)=0,(R129*$E33)+R129,R129)),\"NÃO\"),\"NÃO\")","v":"NÃO"},{"$f":"IF(AND(T$8>=$M33,T$8<=$N33),IF($F33=\"SEMESTRAL\",IF(S129=\"NÃO\",$D33,IF(MOD(COUNT($Q129:S129)+1,6)=0,(S129*$E33)+S129,S129)),\"NÃO\"),\"NÃO\")","v":"NÃO"},{"$f":"IF(AND(U$8>=$M33,U$8<=$N33),IF($F33=\"SEMESTRAL\",IF(T129=\"NÃO\",$D33,IF(MOD(COUNT($Q129:T129)+1,6)=0,(T129*$E33)+T129,T129)),\"NÃO\"),\"NÃO\")","v":"NÃO"},{"$f":"IF(AND(V$8>=$M33,V$8<=$N33),IF($F33=\"SEMESTRAL\",IF(U129=\"NÃO\",$D33,IF(MOD(COUNT($Q129:U129)+1,6)=0,(U129*$E33)+U129,U129)),\"NÃO\"),\"NÃO\")","v":"NÃO"},{"$f":"IF(AND(W$8>=$M33,W$8<=$N33),IF($F33=\"SEMESTRAL\",IF(V129=\"NÃO\",$D33,IF(MOD(COUNT($Q129:V129)+1,6)=0,(V129*$E33)+V129,V129)),\"NÃO\"),\"NÃO\")","v":"NÃO"},{"$f":"IF(AND(X$8>=$M33,X$8<=$N33),IF($F33=\"SEMESTRAL\",IF(W129=\"NÃO\",$D33,IF(MOD(COUNT($Q129:W129)+1,6)=0,(W129*$E33)+W129,W129)),\"NÃO\"),\"NÃO\")","v":"NÃO"},{"$f":"IF(AND(Y$8>=$M33,Y$8<=$N33),IF($F33=\"SEMESTRAL\",IF(X129=\"NÃO\",$D33,IF(MOD(COUNT($Q129:X129)+1,6)=0,(X129*$E33)+X129,X129)),\"NÃO\"),\"NÃO\")","v":"NÃO"},{"$f":"IF(AND(Z$8>=$M33,Z$8<=$N33),IF($F33=\"SEMESTRAL\",IF(Y129=\"NÃO\",$D33,IF(MOD(COUNT($Q129:Y129)+1,6)=0,(Y129*$E33)+Y129,Y129)),\"NÃO\"),\"NÃO\")","v":"NÃO"},{"$f":"IF(AND(AA$8>=$M33,AA$8<=$N33),IF($F33=\"SEMESTRAL\",IF(Z129=\"NÃO\",$D33,IF(MOD(COUNT($Q129:Z129)+1,6)=0,(Z129*$E33)+Z129,Z129)),\"NÃO\"),\"NÃO\")","v":"NÃO"},{"$f":"IF(AND(AB$8>=$M33,AB$8<=$N33),IF($F33=\"SEMESTRAL\",IF(AA129=\"NÃO\",$D33,IF(MOD(COUNT($Q129:AA129)+1,6)=0,(AA129*$E33)+AA129,AA129)),\"NÃO\"),\"NÃO\")","v":"NÃO"},{"$f":"IF(AND(AC$8>=$M33,AC$8<=$N33),IF($F33=\"SEMESTRAL\",IF(AB129=\"NÃO\",$D33,IF(MOD(COUNT($Q129:AB129)+1,6)=0,(AB129*$E33)+AB129,AB129)),\"NÃO\"),\"NÃO\")","v":"NÃO"},{"$f":"IF(AND(AD$8>=$M33,AD$8<=$N33),IF($F33=\"SEMESTRAL\",IF(AC129=\"NÃO\",$D33,IF(MOD(COUNT($Q129:AC129)+1,6)=0,(AC129*$E33)+AC129,AC129)),\"NÃO\"),\"NÃO\")","v":"NÃO"},{"$f":"IF(AND(AE$8>=$M33,AE$8<=$N33),IF($F33=\"SEMESTRAL\",IF(AD129=\"NÃO\",$D33,IF(MOD(COUNT($Q129:AD129)+1,6)=0,(AD129*$E33)+AD129,AD129)),\"NÃO\"),\"NÃO\")","v":"NÃO"},{"$f":"IF(AND(AF$8>=$M33,AF$8<=$N33),IF($F33=\"SEMESTRAL\",IF(AE129=\"NÃO\",$D33,IF(MOD(COUNT($Q129:AE129)+1,6)=0,(AE129*$E33)+AE129,AE129)),\"NÃO\"),\"NÃO\")","v":"NÃO"},{"$f":"IF(AND(AG$8>=$M33,AG$8<=$N33),IF($F33=\"SEMESTRAL\",IF(AF129=\"NÃO\",$D33,IF(MOD(COUNT($Q129:AF129)+1,6)=0,(AF129*$E33)+AF129,AF129)),\"NÃO\"),\"NÃO\")","v":"NÃO"},{"$f":"IF(AND(AH$8>=$M33,AH$8<=$N33),IF($F33=\"SEMESTRAL\",IF(AG129=\"NÃO\",$D33,IF(MOD(COUNT($Q129:AG129)+1,6)=0,(AG129*$E33)+AG129,AG129)),\"NÃO\"),\"NÃO\")","v":"NÃO"},{"$f":"IF(AND(AI$8>=$M33,AI$8<=$N33),IF($F33=\"SEMESTRAL\",IF(AH129=\"NÃO\",$D33,IF(MOD(COUNT($Q129:AH129)+1,6)=0,(AH129*$E33)+AH129,AH129)),\"NÃO\"),\"NÃO\")","v":"NÃO"},{"$f":"IF(AND(AJ$8>=$M33,AJ$8<=$N33),IF($F33=\"SEMESTRAL\",IF(AI129=\"NÃO\",$D33,IF(MOD(COUNT($Q129:AI129)+1,6)=0,(AI129*$E33)+AI129,AI129)),\"NÃO\"),\"NÃO\")","v":"NÃO"},{"$f":"IF(AND(AK$8>=$M33,AK$8<=$N33),IF($F33=\"SEMESTRAL\",IF(AJ129=\"NÃO\",$D33,IF(MOD(COUNT($Q129:AJ129)+1,6)=0,(AJ129*$E33)+AJ129,AJ129)),\"NÃO\"),\"NÃO\")","v":"NÃO"},{"$f":"IF(AND(AL$8>=$M33,AL$8<=$N33),IF($F33=\"SEMESTRAL\",IF(AK129=\"NÃO\",$D33,IF(MOD(COUNT($Q129:AK129)+1,6)=0,(AK129*$E33)+AK129,AK129)),\"NÃO\"),\"NÃO\")","v":"NÃO"},{"$f":"IF(AND(AM$8>=$M33,AM$8<=$N33),IF($F33=\"SEMESTRAL\",IF(AL129=\"NÃO\",$D33,IF(MOD(COUNT($Q129:AL129)+1,6)=0,(AL129*$E33)+AL129,AL129)),\"NÃO\"),\"NÃO\")","v":"NÃO"},{"$f":"IF(AND(AN$8>=$M33,AN$8<=$N33),IF($F33=\"SEMESTRAL\",IF(AM129=\"NÃO\",$D33,IF(MOD(COUNT($Q129:AM129)+1,6)=0,(AM129*$E33)+AM129,AM129)),\"NÃO\"),\"NÃO\")","v":"NÃO"},{"$f":"IF(AND(AO$8>=$M33,AO$8<=$N33),IF($F33=\"SEMESTRAL\",IF(AN129=\"NÃO\",$D33,IF(MOD(COUNT($Q129:AN129)+1,6)=0,(AN129*$E33)+AN129,AN129)),\"NÃO\"),\"NÃO\")","v":"NÃO"},{"$f":"IF(AND(AP$8>=$M33,AP$8<=$N33),IF($F33=\"SEMESTRAL\",IF(AO129=\"NÃO\",$D33,IF(MOD(COUNT($Q129:AO129)+1,6)=0,(AO129*$E33)+AO129,AO129)),\"NÃO\"),\"NÃO\")","v":"NÃO"},{"$f":"IF(AND(AQ$8>=$M33,AQ$8<=$N33),IF($F33=\"SEMESTRAL\",IF(AP129=\"NÃO\",$D33,IF(MOD(COUNT($Q129:AP129)+1,6)=0,(AP129*$E33)+AP129,AP129)),\"NÃO\"),\"NÃO\")","v":"NÃO"},{"$f":"IF(AND(AR$8>=$M33,AR$8<=$N33),IF($F33=\"SEMESTRAL\",IF(AQ129=\"NÃO\",$D33,IF(MOD(COUNT($Q129:AQ129)+1,6)=0,(AQ129*$E33)+AQ129,AQ129)),\"NÃO\"),\"NÃO\")","v":"NÃO"},{"$f":"IF(AND(AS$8>=$M33,AS$8<=$N33),IF($F33=\"SEMESTRAL\",IF(AR129=\"NÃO\",$D33,IF(MOD(COUNT($Q129:AR129)+1,6)=0,(AR129*$E33)+AR129,AR129)),\"NÃO\"),\"NÃO\")","v":"NÃO"},{"$f":"IF(AND(AT$8>=$M33,AT$8<=$N33),IF($F33=\"SEMESTRAL\",IF(AS129=\"NÃO\",$D33,IF(MOD(COUNT($Q129:AS129)+1,6)=0,(AS129*$E33)+AS129,AS129)),\"NÃO\"),\"NÃO\")","v":"NÃO"},{"$f":"IF(AND(AU$8>=$M33,AU$8<=$N33),IF($F33=\"SEMESTRAL\",IF(AT129=\"NÃO\",$D33,IF(MOD(COUNT($Q129:AT129)+1,6)=0,(AT129*$E33)+AT129,AT129)),\"NÃO\"),\"NÃO\")","v":"NÃO"},{"$f":"IF(AND(AV$8>=$M33,AV$8<=$N33),IF($F33=\"SEMESTRAL\",IF(AU129=\"NÃO\",$D33,IF(MOD(COUNT($Q129:AU129)+1,6)=0,(AU129*$E33)+AU129,AU129)),\"NÃO\"),\"NÃO\")","v":"NÃO"},{"$f":"IF(AND(AW$8>=$M33,AW$8<=$N33),IF($F33=\"SEMESTRAL\",IF(AV129=\"NÃO\",$D33,IF(MOD(COUNT($Q129:AV129)+1,6)=0,(AV129*$E33)+AV129,AV129)),\"NÃO\"),\"NÃO\")","v":"NÃO"},{"$f":"IF(AND(AX$8>=$M33,AX$8<=$N33),IF($F33=\"SEMESTRAL\",IF(AW129=\"NÃO\",$D33,IF(MOD(COUNT($Q129:AW129)+1,6)=0,(AW129*$E33)+AW129,AW129)),\"NÃO\"),\"NÃO\")","v":"NÃO"},{"$f":"IF(AND(AY$8>=$M33,AY$8<=$N33),IF($F33=\"SEMESTRAL\",IF(AX129=\"NÃO\",$D33,IF(MOD(COUNT($Q129:AX129)+1,6)=0,(AX129*$E33)+AX129,AX129)),\"NÃO\"),\"NÃO\")","v":"NÃO"},{"$f":"IF(AND(AZ$8>=$M33,AZ$8<=$N33),IF($F33=\"SEMESTRAL\",IF(AY129=\"NÃO\",$D33,IF(MOD(COUNT($Q129:AY129)+1,6)=0,(AY129*$E33)+AY129,AY129)),\"NÃO\"),\"NÃO\")","v":"NÃO"},{"$f":"IF(AND(BA$8>=$M33,BA$8<=$N33),IF($F33=\"SEMESTRAL\",IF(AZ129=\"NÃO\",$D33,IF(MOD(COUNT($Q129:AZ129)+1,6)=0,(AZ129*$E33)+AZ129,AZ129)),\"NÃO\"),\"NÃO\")","v":"NÃO"},{"$f":"IF(AND(BB$8>=$M33,BB$8<=$N33),IF($F33=\"SEMESTRAL\",IF(BA129=\"NÃO\",$D33,IF(MOD(COUNT($Q129:BA129)+1,6)=0,(BA129*$E33)+BA129,BA129)),\"NÃO\"),\"NÃO\")","v":"NÃO"},{"$f":"IF(AND(BC$8>=$M33,BC$8<=$N33),IF($F33=\"SEMESTRAL\",IF(BB129=\"NÃO\",$D33,IF(MOD(COUNT($Q129:BB129)+1,6)=0,(BB129*$E33)+BB129,BB129)),\"NÃO\"),\"NÃO\")","v":"NÃO"},{"$f":"IF(AND(BD$8>=$M33,BD$8<=$N33),IF($F33=\"SEMESTRAL\",IF(BC129=\"NÃO\",$D33,IF(MOD(COUNT($Q129:BC129)+1,6)=0,(BC129*$E33)+BC129,BC129)),\"NÃO\"),\"NÃO\")","v":"NÃO"},{"$f":"IF(AND(BE$8>=$M33,BE$8<=$N33),IF($F33=\"SEMESTRAL\",IF(BD129=\"NÃO\",$D33,IF(MOD(COUNT($Q129:BD129)+1,6)=0,(BD129*$E33)+BD129,BD129)),\"NÃO\"),\"NÃO\")","v":"NÃO"},{"$f":"IF(AND(BF$8>=$M33,BF$8<=$N33),IF($F33=\"SEMESTRAL\",IF(BE129=\"NÃO\",$D33,IF(MOD(COUNT($Q129:BE129)+1,6)=0,(BE129*$E33)+BE129,BE129)),\"NÃO\"),\"NÃO\")","v":"NÃO"},{"$f":"IF(AND(BG$8>=$M33,BG$8<=$N33),IF($F33=\"SEMESTRAL\",IF(BF129=\"NÃO\",$D33,IF(MOD(COUNT($Q129:BF129)+1,6)=0,(BF129*$E33)+BF129,BF129)),\"NÃO\"),\"NÃO\")","v":"NÃO"},{"$f":"IF(AND(BH$8>=$M33,BH$8<=$N33),IF($F33=\"SEMESTRAL\",IF(BG129=\"NÃO\",$D33,IF(MOD(COUNT($Q129:BG129)+1,6)=0,(BG129*$E33)+BG129,BG129)),\"NÃO\"),\"NÃO\")","v":"NÃO"},{"$f":"IF(AND(BI$8>=$M33,BI$8<=$N33),IF($F33=\"SEMESTRAL\",IF(BH129=\"NÃO\",$D33,IF(MOD(COUNT($Q129:BH129)+1,6)=0,(BH129*$E33)+BH129,BH129)),\"NÃO\"),\"NÃO\")","v":"NÃO"},{"$f":"IF(AND(BJ$8>=$M33,BJ$8<=$N33),IF($F33=\"SEMESTRAL\",IF(BI129=\"NÃO\",$D33,IF(MOD(COUNT($Q129:BI129)+1,6)=0,(BI129*$E33)+BI129,BI129)),\"NÃO\"),\"NÃO\")","v":"NÃO"},{"$f":"IF(AND(BK$8>=$M33,BK$8<=$N33),IF($F33=\"SEMESTRAL\",IF(BJ129=\"NÃO\",$D33,IF(MOD(COUNT($Q129:BJ129)+1,6)=0,(BJ129*$E33)+BJ129,BJ129)),\"NÃO\"),\"NÃO\")","v":"NÃO"},{"$f":"IF(AND(BL$8>=$M33,BL$8<=$N33),IF($F33=\"SEMESTRAL\",IF(BK129=\"NÃO\",$D33,IF(MOD(COUNT($Q129:BK129)+1,6)=0,(BK129*$E33)+BK129,BK129)),\"NÃO\"),\"NÃO\")","v":"NÃO"},{"$f":"IF(AND(BM$8>=$M33,BM$8<=$N33),IF($F33=\"SEMESTRAL\",IF(BL129=\"NÃO\",$D33,IF(MOD(COUNT($Q129:BL129)+1,6)=0,(BL129*$E33)+BL129,BL129)),\"NÃO\"),\"NÃO\")","v":"NÃO"},{"$f":"IF(AND(BN$8>=$M33,BN$8<=$N33),IF($F33=\"SEMESTRAL\",IF(BM129=\"NÃO\",$D33,IF(MOD(COUNT($Q129:BM129)+1,6)=0,(BM129*$E33)+BM129,BM129)),\"NÃO\"),\"NÃO\")","v":"NÃO"},{"$f":"IF(AND(BO$8>=$M33,BO$8<=$N33),IF($F33=\"SEMESTRAL\",IF(BN129=\"NÃO\",$D33,IF(MOD(COUNT($Q129:BN129)+1,6)=0,(BN129*$E33)+BN129,BN129)),\"NÃO\"),\"NÃO\")","v":"NÃO"},{"$f":"IF(AND(BP$8>=$M33,BP$8<=$N33),IF($F33=\"SEMESTRAL\",IF(BO129=\"NÃO\",$D33,IF(MOD(COUNT($Q129:BO129)+1,6)=0,(BO129*$E33)+BO129,BO129)),\"NÃO\"),\"NÃO\")","v":"NÃO"},{"$f":"IF(AND(BQ$8>=$M33,BQ$8<=$N33),IF($F33=\"SEMESTRAL\",IF(BP129=\"NÃO\",$D33,IF(MOD(COUNT($Q129:BP129)+1,6)=0,(BP129*$E33)+BP129,BP129)),\"NÃO\"),\"NÃO\")","v":"NÃO"},{"$f":"IF(AND(BR$8>=$M33,BR$8<=$N33),IF($F33=\"SEMESTRAL\",IF(BQ129=\"NÃO\",$D33,IF(MOD(COUNT($Q129:BQ129)+1,6)=0,(BQ129*$E33)+BQ129,BQ129)),\"NÃO\"),\"NÃO\")","v":"NÃO"},{"$f":"IF(AND(BS$8>=$M33,BS$8<=$N33),IF($F33=\"SEMESTRAL\",IF(BR129=\"NÃO\",$D33,IF(MOD(COUNT($Q129:BR129)+1,6)=0,(BR129*$E33)+BR129,BR129)),\"NÃO\"),\"NÃO\")","v":"NÃO"},{"$f":"IF(AND(BT$8>=$M33,BT$8<=$N33),IF($F33=\"SEMESTRAL\",IF(BS129=\"NÃO\",$D33,IF(MOD(COUNT($Q129:BS129)+1,6)=0,(BS129*$E33)+BS129,BS129)),\"NÃO\"),\"NÃO\")","v":"NÃO"},{"$f":"IF(AND(BU$8>=$M33,BU$8<=$N33),IF($F33=\"SEMESTRAL\",IF(BT129=\"NÃO\",$D33,IF(MOD(COUNT($Q129:BT129)+1,6)=0,(BT129*$E33)+BT129,BT129)),\"NÃO\"),\"NÃO\")","v":"NÃO"},{"$f":"IF(AND(BV$8>=$M33,BV$8<=$N33),IF($F33=\"SEMESTRAL\",IF(BU129=\"NÃO\",$D33,IF(MOD(COUNT($Q129:BU129)+1,6)=0,(BU129*$E33)+BU129,BU129)),\"NÃO\"),\"NÃO\")","v":"NÃO"},{"$f":"IF(AND(BW$8>=$M33,BW$8<=$N33),IF($F33=\"SEMESTRAL\",IF(BV129=\"NÃO\",$D33,IF(MOD(COUNT($Q129:BV129)+1,6)=0,(BV129*$E33)+BV129,BV129)),\"NÃO\"),\"NÃO\")","v":"NÃO"},{"$f":"IF(AND(BX$8>=$M33,BX$8<=$N33),IF($F33=\"SEMESTRAL\",IF(BW129=\"NÃO\",$D33,IF(MOD(COUNT($Q129:BW129)+1,6)=0,(BW129*$E33)+BW129,BW129)),\"NÃO\"),\"NÃO\")","v":"NÃO"}]
[null,null,null,null,null,null,null,null,null,null,null,null,null,null,null,26,"NÃO",{"$f":"IF(AND(R$8>=$M34,R$8<=$N34),IF($F34=\"SEMESTRAL\",IF(Q130=\"NÃO\",$D34,IF(MOD(COUNT($Q130:Q130)+1,6)=0,(Q130*$E34)+Q130,Q130)),\"NÃO\"),\"NÃO\")","v":"NÃO"},{"$f":"IF(AND(S$8>=$M34,S$8<=$N34),IF($F34=\"SEMESTRAL\",IF(R130=\"NÃO\",$D34,IF(MOD(COUNT($Q130:R130)+1,6)=0,(R130*$E34)+R130,R130)),\"NÃO\"),\"NÃO\")","v":"NÃO"},{"$f":"IF(AND(T$8>=$M34,T$8<=$N34),IF($F34=\"SEMESTRAL\",IF(S130=\"NÃO\",$D34,IF(MOD(COUNT($Q130:S130)+1,6)=0,(S130*$E34)+S130,S130)),\"NÃO\"),\"NÃO\")","v":"NÃO"},{"$f":"IF(AND(U$8>=$M34,U$8<=$N34),IF($F34=\"SEMESTRAL\",IF(T130=\"NÃO\",$D34,IF(MOD(COUNT($Q130:T130)+1,6)=0,(T130*$E34)+T130,T130)),\"NÃO\"),\"NÃO\")","v":"NÃO"},{"$f":"IF(AND(V$8>=$M34,V$8<=$N34),IF($F34=\"SEMESTRAL\",IF(U130=\"NÃO\",$D34,IF(MOD(COUNT($Q130:U130)+1,6)=0,(U130*$E34)+U130,U130)),\"NÃO\"),\"NÃO\")","v":"NÃO"},{"$f":"IF(AND(W$8>=$M34,W$8<=$N34),IF($F34=\"SEMESTRAL\",IF(V130=\"NÃO\",$D34,IF(MOD(COUNT($Q130:V130)+1,6)=0,(V130*$E34)+V130,V130)),\"NÃO\"),\"NÃO\")","v":"NÃO"},{"$f":"IF(AND(X$8>=$M34,X$8<=$N34),IF($F34=\"SEMESTRAL\",IF(W130=\"NÃO\",$D34,IF(MOD(COUNT($Q130:W130)+1,6)=0,(W130*$E34)+W130,W130)),\"NÃO\"),\"NÃO\")","v":"NÃO"},{"$f":"IF(AND(Y$8>=$M34,Y$8<=$N34),IF($F34=\"SEMESTRAL\",IF(X130=\"NÃO\",$D34,IF(MOD(COUNT($Q130:X130)+1,6)=0,(X130*$E34)+X130,X130)),\"NÃO\"),\"NÃO\")","v":"NÃO"},{"$f":"IF(AND(Z$8>=$M34,Z$8<=$N34),IF($F34=\"SEMESTRAL\",IF(Y130=\"NÃO\",$D34,IF(MOD(COUNT($Q130:Y130)+1,6)=0,(Y130*$E34)+Y130,Y130)),\"NÃO\"),\"NÃO\")","v":"NÃO"},{"$f":"IF(AND(AA$8>=$M34,AA$8<=$N34),IF($F34=\"SEMESTRAL\",IF(Z130=\"NÃO\",$D34,IF(MOD(COUNT($Q130:Z130)+1,6)=0,(Z130*$E34)+Z130,Z130)),\"NÃO\"),\"NÃO\")","v":"NÃO"},{"$f":"IF(AND(AB$8>=$M34,AB$8<=$N34),IF($F34=\"SEMESTRAL\",IF(AA130=\"NÃO\",$D34,IF(MOD(COUNT($Q130:AA130)+1,6)=0,(AA130*$E34)+AA130,AA130)),\"NÃO\"),\"NÃO\")","v":"NÃO"},{"$f":"IF(AND(AC$8>=$M34,AC$8<=$N34),IF($F34=\"SEMESTRAL\",IF(AB130=\"NÃO\",$D34,IF(MOD(COUNT($Q130:AB130)+1,6)=0,(AB130*$E34)+AB130,AB130)),\"NÃO\"),\"NÃO\")","v":"NÃO"},{"$f":"IF(AND(AD$8>=$M34,AD$8<=$N34),IF($F34=\"SEMESTRAL\",IF(AC130=\"NÃO\",$D34,IF(MOD(COUNT($Q130:AC130)+1,6)=0,(AC130*$E34)+AC130,AC130)),\"NÃO\"),\"NÃO\")","v":"NÃO"},{"$f":"IF(AND(AE$8>=$M34,AE$8<=$N34),IF($F34=\"SEMESTRAL\",IF(AD130=\"NÃO\",$D34,IF(MOD(COUNT($Q130:AD130)+1,6)=0,(AD130*$E34)+AD130,AD130)),\"NÃO\"),\"NÃO\")","v":"NÃO"},{"$f":"IF(AND(AF$8>=$M34,AF$8<=$N34),IF($F34=\"SEMESTRAL\",IF(AE130=\"NÃO\",$D34,IF(MOD(COUNT($Q130:AE130)+1,6)=0,(AE130*$E34)+AE130,AE130)),\"NÃO\"),\"NÃO\")","v":"NÃO"},{"$f":"IF(AND(AG$8>=$M34,AG$8<=$N34),IF($F34=\"SEMESTRAL\",IF(AF130=\"NÃO\",$D34,IF(MOD(COUNT($Q130:AF130)+1,6)=0,(AF130*$E34)+AF130,AF130)),\"NÃO\"),\"NÃO\")","v":"NÃO"},{"$f":"IF(AND(AH$8>=$M34,AH$8<=$N34),IF($F34=\"SEMESTRAL\",IF(AG130=\"NÃO\",$D34,IF(MOD(COUNT($Q130:AG130)+1,6)=0,(AG130*$E34)+AG130,AG130)),\"NÃO\"),\"NÃO\")","v":"NÃO"},{"$f":"IF(AND(AI$8>=$M34,AI$8<=$N34),IF($F34=\"SEMESTRAL\",IF(AH130=\"NÃO\",$D34,IF(MOD(COUNT($Q130:AH130)+1,6)=0,(AH130*$E34)+AH130,AH130)),\"NÃO\"),\"NÃO\")","v":"NÃO"},{"$f":"IF(AND(AJ$8>=$M34,AJ$8<=$N34),IF($F34=\"SEMESTRAL\",IF(AI130=\"NÃO\",$D34,IF(MOD(COUNT($Q130:AI130)+1,6)=0,(AI130*$E34)+AI130,AI130)),\"NÃO\"),\"NÃO\")","v":"NÃO"},{"$f":"IF(AND(AK$8>=$M34,AK$8<=$N34),IF($F34=\"SEMESTRAL\",IF(AJ130=\"NÃO\",$D34,IF(MOD(COUNT($Q130:AJ130)+1,6)=0,(AJ130*$E34)+AJ130,AJ130)),\"NÃO\"),\"NÃO\")","v":"NÃO"},{"$f":"IF(AND(AL$8>=$M34,AL$8<=$N34),IF($F34=\"SEMESTRAL\",IF(AK130=\"NÃO\",$D34,IF(MOD(COUNT($Q130:AK130)+1,6)=0,(AK130*$E34)+AK130,AK130)),\"NÃO\"),\"NÃO\")","v":"NÃO"},{"$f":"IF(AND(AM$8>=$M34,AM$8<=$N34),IF($F34=\"SEMESTRAL\",IF(AL130=\"NÃO\",$D34,IF(MOD(COUNT($Q130:AL130)+1,6)=0,(AL130*$E34)+AL130,AL130)),\"NÃO\"),\"NÃO\")","v":"NÃO"},{"$f":"IF(AND(AN$8>=$M34,AN$8<=$N34),IF($F34=\"SEMESTRAL\",IF(AM130=\"NÃO\",$D34,IF(MOD(COUNT($Q130:AM130)+1,6)=0,(AM130*$E34)+AM130,AM130)),\"NÃO\"),\"NÃO\")","v":"NÃO"},{"$f":"IF(AND(AO$8>=$M34,AO$8<=$N34),IF($F34=\"SEMESTRAL\",IF(AN130=\"NÃO\",$D34,IF(MOD(COUNT($Q130:AN130)+1,6)=0,(AN130*$E34)+AN130,AN130)),\"NÃO\"),\"NÃO\")","v":"NÃO"},{"$f":"IF(AND(AP$8>=$M34,AP$8<=$N34),IF($F34=\"SEMESTRAL\",IF(AO130=\"NÃO\",$D34,IF(MOD(COUNT($Q130:AO130)+1,6)=0,(AO130*$E34)+AO130,AO130)),\"NÃO\"),\"NÃO\")","v":"NÃO"},{"$f":"IF(AND(AQ$8>=$M34,AQ$8<=$N34),IF($F34=\"SEMESTRAL\",IF(AP130=\"NÃO\",$D34,IF(MOD(COUNT($Q130:AP130)+1,6)=0,(AP130*$E34)+AP130,AP130)),\"NÃO\"),\"NÃO\")","v":"NÃO"},{"$f":"IF(AND(AR$8>=$M34,AR$8<=$N34),IF($F34=\"SEMESTRAL\",IF(AQ130=\"NÃO\",$D34,IF(MOD(COUNT($Q130:AQ130)+1,6)=0,(AQ130*$E34)+AQ130,AQ130)),\"NÃO\"),\"NÃO\")","v":"NÃO"},{"$f":"IF(AND(AS$8>=$M34,AS$8<=$N34),IF($F34=\"SEMESTRAL\",IF(AR130=\"NÃO\",$D34,IF(MOD(COUNT($Q130:AR130)+1,6)=0,(AR130*$E34)+AR130,AR130)),\"NÃO\"),\"NÃO\")","v":"NÃO"},{"$f":"IF(AND(AT$8>=$M34,AT$8<=$N34),IF($F34=\"SEMESTRAL\",IF(AS130=\"NÃO\",$D34,IF(MOD(COUNT($Q130:AS130)+1,6)=0,(AS130*$E34)+AS130,AS130)),\"NÃO\"),\"NÃO\")","v":"NÃO"},{"$f":"IF(AND(AU$8>=$M34,AU$8<=$N34),IF($F34=\"SEMESTRAL\",IF(AT130=\"NÃO\",$D34,IF(MOD(COUNT($Q130:AT130)+1,6)=0,(AT130*$E34)+AT130,AT130)),\"NÃO\"),\"NÃO\")","v":"NÃO"},{"$f":"IF(AND(AV$8>=$M34,AV$8<=$N34),IF($F34=\"SEMESTRAL\",IF(AU130=\"NÃO\",$D34,IF(MOD(COUNT($Q130:AU130)+1,6)=0,(AU130*$E34)+AU130,AU130)),\"NÃO\"),\"NÃO\")","v":"NÃO"},{"$f":"IF(AND(AW$8>=$M34,AW$8<=$N34),IF($F34=\"SEMESTRAL\",IF(AV130=\"NÃO\",$D34,IF(MOD(COUNT($Q130:AV130)+1,6)=0,(AV130*$E34)+AV130,AV130)),\"NÃO\"),\"NÃO\")","v":"NÃO"},{"$f":"IF(AND(AX$8>=$M34,AX$8<=$N34),IF($F34=\"SEMESTRAL\",IF(AW130=\"NÃO\",$D34,IF(MOD(COUNT($Q130:AW130)+1,6)=0,(AW130*$E34)+AW130,AW130)),\"NÃO\"),\"NÃO\")","v":"NÃO"},{"$f":"IF(AND(AY$8>=$M34,AY$8<=$N34),IF($F34=\"SEMESTRAL\",IF(AX130=\"NÃO\",$D34,IF(MOD(COUNT($Q130:AX130)+1,6)=0,(AX130*$E34)+AX130,AX130)),\"NÃO\"),\"NÃO\")","v":"NÃO"},{"$f":"IF(AND(AZ$8>=$M34,AZ$8<=$N34),IF($F34=\"SEMESTRAL\",IF(AY130=\"NÃO\",$D34,IF(MOD(COUNT($Q130:AY130)+1,6)=0,(AY130*$E34)+AY130,AY130)),\"NÃO\"),\"NÃO\")","v":"NÃO"},{"$f":"IF(AND(BA$8>=$M34,BA$8<=$N34),IF($F34=\"SEMESTRAL\",IF(AZ130=\"NÃO\",$D34,IF(MOD(COUNT($Q130:AZ130)+1,6)=0,(AZ130*$E34)+AZ130,AZ130)),\"NÃO\"),\"NÃO\")","v":"NÃO"},{"$f":"IF(AND(BB$8>=$M34,BB$8<=$N34),IF($F34=\"SEMESTRAL\",IF(BA130=\"NÃO\",$D34,IF(MOD(COUNT($Q130:BA130)+1,6)=0,(BA130*$E34)+BA130,BA130)),\"NÃO\"),\"NÃO\")","v":"NÃO"},{"$f":"IF(AND(BC$8>=$M34,BC$8<=$N34),IF($F34=\"SEMESTRAL\",IF(BB130=\"NÃO\",$D34,IF(MOD(COUNT($Q130:BB130)+1,6)=0,(BB130*$E34)+BB130,BB130)),\"NÃO\"),\"NÃO\")","v":"NÃO"},{"$f":"IF(AND(BD$8>=$M34,BD$8<=$N34),IF($F34=\"SEMESTRAL\",IF(BC130=\"NÃO\",$D34,IF(MOD(COUNT($Q130:BC130)+1,6)=0,(BC130*$E34)+BC130,BC130)),\"NÃO\"),\"NÃO\")","v":"NÃO"},{"$f":"IF(AND(BE$8>=$M34,BE$8<=$N34),IF($F34=\"SEMESTRAL\",IF(BD130=\"NÃO\",$D34,IF(MOD(COUNT($Q130:BD130)+1,6)=0,(BD130*$E34)+BD130,BD130)),\"NÃO\"),\"NÃO\")","v":"NÃO"},{"$f":"IF(AND(BF$8>=$M34,BF$8<=$N34),IF($F34=\"SEMESTRAL\",IF(BE130=\"NÃO\",$D34,IF(MOD(COUNT($Q130:BE130)+1,6)=0,(BE130*$E34)+BE130,BE130)),\"NÃO\"),\"NÃO\")","v":"NÃO"},{"$f":"IF(AND(BG$8>=$M34,BG$8<=$N34),IF($F34=\"SEMESTRAL\",IF(BF130=\"NÃO\",$D34,IF(MOD(COUNT($Q130:BF130)+1,6)=0,(BF130*$E34)+BF130,BF130)),\"NÃO\"),\"NÃO\")","v":"NÃO"},{"$f":"IF(AND(BH$8>=$M34,BH$8<=$N34),IF($F34=\"SEMESTRAL\",IF(BG130=\"NÃO\",$D34,IF(MOD(COUNT($Q130:BG130)+1,6)=0,(BG130*$E34)+BG130,BG130)),\"NÃO\"),\"NÃO\")","v":"NÃO"},{"$f":"IF(AND(BI$8>=$M34,BI$8<=$N34),IF($F34=\"SEMESTRAL\",IF(BH130=\"NÃO\",$D34,IF(MOD(COUNT($Q130:BH130)+1,6)=0,(BH130*$E34)+BH130,BH130)),\"NÃO\"),\"NÃO\")","v":"NÃO"},{"$f":"IF(AND(BJ$8>=$M34,BJ$8<=$N34),IF($F34=\"SEMESTRAL\",IF(BI130=\"NÃO\",$D34,IF(MOD(COUNT($Q130:BI130)+1,6)=0,(BI130*$E34)+BI130,BI130)),\"NÃO\"),\"NÃO\")","v":"NÃO"},{"$f":"IF(AND(BK$8>=$M34,BK$8<=$N34),IF($F34=\"SEMESTRAL\",IF(BJ130=\"NÃO\",$D34,IF(MOD(COUNT($Q130:BJ130)+1,6)=0,(BJ130*$E34)+BJ130,BJ130)),\"NÃO\"),\"NÃO\")","v":"NÃO"},{"$f":"IF(AND(BL$8>=$M34,BL$8<=$N34),IF($F34=\"SEMESTRAL\",IF(BK130=\"NÃO\",$D34,IF(MOD(COUNT($Q130:BK130)+1,6)=0,(BK130*$E34)+BK130,BK130)),\"NÃO\"),\"NÃO\")","v":"NÃO"},{"$f":"IF(AND(BM$8>=$M34,BM$8<=$N34),IF($F34=\"SEMESTRAL\",IF(BL130=\"NÃO\",$D34,IF(MOD(COUNT($Q130:BL130)+1,6)=0,(BL130*$E34)+BL130,BL130)),\"NÃO\"),\"NÃO\")","v":"NÃO"},{"$f":"IF(AND(BN$8>=$M34,BN$8<=$N34),IF($F34=\"SEMESTRAL\",IF(BM130=\"NÃO\",$D34,IF(MOD(COUNT($Q130:BM130)+1,6)=0,(BM130*$E34)+BM130,BM130)),\"NÃO\"),\"NÃO\")","v":"NÃO"},{"$f":"IF(AND(BO$8>=$M34,BO$8<=$N34),IF($F34=\"SEMESTRAL\",IF(BN130=\"NÃO\",$D34,IF(MOD(COUNT($Q130:BN130)+1,6)=0,(BN130*$E34)+BN130,BN130)),\"NÃO\"),\"NÃO\")","v":"NÃO"},{"$f":"IF(AND(BP$8>=$M34,BP$8<=$N34),IF($F34=\"SEMESTRAL\",IF(BO130=\"NÃO\",$D34,IF(MOD(COUNT($Q130:BO130)+1,6)=0,(BO130*$E34)+BO130,BO130)),\"NÃO\"),\"NÃO\")","v":"NÃO"},{"$f":"IF(AND(BQ$8>=$M34,BQ$8<=$N34),IF($F34=\"SEMESTRAL\",IF(BP130=\"NÃO\",$D34,IF(MOD(COUNT($Q130:BP130)+1,6)=0,(BP130*$E34)+BP130,BP130)),\"NÃO\"),\"NÃO\")","v":"NÃO"},{"$f":"IF(AND(BR$8>=$M34,BR$8<=$N34),IF($F34=\"SEMESTRAL\",IF(BQ130=\"NÃO\",$D34,IF(MOD(COUNT($Q130:BQ130)+1,6)=0,(BQ130*$E34)+BQ130,BQ130)),\"NÃO\"),\"NÃO\")","v":"NÃO"},{"$f":"IF(AND(BS$8>=$M34,BS$8<=$N34),IF($F34=\"SEMESTRAL\",IF(BR130=\"NÃO\",$D34,IF(MOD(COUNT($Q130:BR130)+1,6)=0,(BR130*$E34)+BR130,BR130)),\"NÃO\"),\"NÃO\")","v":"NÃO"},{"$f":"IF(AND(BT$8>=$M34,BT$8<=$N34),IF($F34=\"SEMESTRAL\",IF(BS130=\"NÃO\",$D34,IF(MOD(COUNT($Q130:BS130)+1,6)=0,(BS130*$E34)+BS130,BS130)),\"NÃO\"),\"NÃO\")","v":"NÃO"},{"$f":"IF(AND(BU$8>=$M34,BU$8<=$N34),IF($F34=\"SEMESTRAL\",IF(BT130=\"NÃO\",$D34,IF(MOD(COUNT($Q130:BT130)+1,6)=0,(BT130*$E34)+BT130,BT130)),\"NÃO\"),\"NÃO\")","v":"NÃO"},{"$f":"IF(AND(BV$8>=$M34,BV$8<=$N34),IF($F34=\"SEMESTRAL\",IF(BU130=\"NÃO\",$D34,IF(MOD(COUNT($Q130:BU130)+1,6)=0,(BU130*$E34)+BU130,BU130)),\"NÃO\"),\"NÃO\")","v":"NÃO"},{"$f":"IF(AND(BW$8>=$M34,BW$8<=$N34),IF($F34=\"SEMESTRAL\",IF(BV130=\"NÃO\",$D34,IF(MOD(COUNT($Q130:BV130)+1,6)=0,(BV130*$E34)+BV130,BV130)),\"NÃO\"),\"NÃO\")","v":"NÃO"},{"$f":"IF(AND(BX$8>=$M34,BX$8<=$N34),IF($F34=\"SEMESTRAL\",IF(BW130=\"NÃO\",$D34,IF(MOD(COUNT($Q130:BW130)+1,6)=0,(BW130*$E34)+BW130,BW130)),\"NÃO\"),\"NÃO\")","v":"NÃO"}]
[null,null,null,null,null,null,null,null,null,null,null,null,null,null,null,27,"NÃO",{"$f":"IF(AND(R$8>=$M35,R$8<=$N35),IF($F35=\"SEMESTRAL\",IF(Q131=\"NÃO\",$D35,IF(MOD(COUNT($Q131:Q131)+1,6)=0,(Q131*$E35)+Q131,Q131)),\"NÃO\"),\"NÃO\")","v":"NÃO"},{"$f":"IF(AND(S$8>=$M35,S$8<=$N35),IF($F35=\"SEMESTRAL\",IF(R131=\"NÃO\",$D35,IF(MOD(COUNT($Q131:R131)+1,6)=0,(R131*$E35)+R131,R131)),\"NÃO\"),\"NÃO\")","v":"NÃO"},{"$f":"IF(AND(T$8>=$M35,T$8<=$N35),IF($F35=\"SEMESTRAL\",IF(S131=\"NÃO\",$D35,IF(MOD(COUNT($Q131:S131)+1,6)=0,(S131*$E35)+S131,S131)),\"NÃO\"),\"NÃO\")","v":"NÃO"},{"$f":"IF(AND(U$8>=$M35,U$8<=$N35),IF($F35=\"SEMESTRAL\",IF(T131=\"NÃO\",$D35,IF(MOD(COUNT($Q131:T131)+1,6)=0,(T131*$E35)+T131,T131)),\"NÃO\"),\"NÃO\")","v":"NÃO"},{"$f":"IF(AND(V$8>=$M35,V$8<=$N35),IF($F35=\"SEMESTRAL\",IF(U131=\"NÃO\",$D35,IF(MOD(COUNT($Q131:U131)+1,6)=0,(U131*$E35)+U131,U131)),\"NÃO\"),\"NÃO\")","v":"NÃO"},{"$f":"IF(AND(W$8>=$M35,W$8<=$N35),IF($F35=\"SEMESTRAL\",IF(V131=\"NÃO\",$D35,IF(MOD(COUNT($Q131:V131)+1,6)=0,(V131*$E35)+V131,V131)),\"NÃO\"),\"NÃO\")","v":"NÃO"},{"$f":"IF(AND(X$8>=$M35,X$8<=$N35),IF($F35=\"SEMESTRAL\",IF(W131=\"NÃO\",$D35,IF(MOD(COUNT($Q131:W131)+1,6)=0,(W131*$E35)+W131,W131)),\"NÃO\"),\"NÃO\")","v":"NÃO"},{"$f":"IF(AND(Y$8>=$M35,Y$8<=$N35),IF($F35=\"SEMESTRAL\",IF(X131=\"NÃO\",$D35,IF(MOD(COUNT($Q131:X131)+1,6)=0,(X131*$E35)+X131,X131)),\"NÃO\"),\"NÃO\")","v":"NÃO"},{"$f":"IF(AND(Z$8>=$M35,Z$8<=$N35),IF($F35=\"SEMESTRAL\",IF(Y131=\"NÃO\",$D35,IF(MOD(COUNT($Q131:Y131)+1,6)=0,(Y131*$E35)+Y131,Y131)),\"NÃO\"),\"NÃO\")","v":"NÃO"},{"$f":"IF(AND(AA$8>=$M35,AA$8<=$N35),IF($F35=\"SEMESTRAL\",IF(Z131=\"NÃO\",$D35,IF(MOD(COUNT($Q131:Z131)+1,6)=0,(Z131*$E35)+Z131,Z131)),\"NÃO\"),\"NÃO\")","v":"NÃO"},{"$f":"IF(AND(AB$8>=$M35,AB$8<=$N35),IF($F35=\"SEMESTRAL\",IF(AA131=\"NÃO\",$D35,IF(MOD(COUNT($Q131:AA131)+1,6)=0,(AA131*$E35)+AA131,AA131)),\"NÃO\"),\"NÃO\")","v":"NÃO"},{"$f":"IF(AND(AC$8>=$M35,AC$8<=$N35),IF($F35=\"SEMESTRAL\",IF(AB131=\"NÃO\",$D35,IF(MOD(COUNT($Q131:AB131)+1,6)=0,(AB131*$E35)+AB131,AB131)),\"NÃO\"),\"NÃO\")","v":"NÃO"},{"$f":"IF(AND(AD$8>=$M35,AD$8<=$N35),IF($F35=\"SEMESTRAL\",IF(AC131=\"NÃO\",$D35,IF(MOD(COUNT($Q131:AC131)+1,6)=0,(AC131*$E35)+AC131,AC131)),\"NÃO\"),\"NÃO\")","v":"NÃO"},{"$f":"IF(AND(AE$8>=$M35,AE$8<=$N35),IF($F35=\"SEMESTRAL\",IF(AD131=\"NÃO\",$D35,IF(MOD(COUNT($Q131:AD131)+1,6)=0,(AD131*$E35)+AD131,AD131)),\"NÃO\"),\"NÃO\")","v":"NÃO"},{"$f":"IF(AND(AF$8>=$M35,AF$8<=$N35),IF($F35=\"SEMESTRAL\",IF(AE131=\"NÃO\",$D35,IF(MOD(COUNT($Q131:AE131)+1,6)=0,(AE131*$E35)+AE131,AE131)),\"NÃO\"),\"NÃO\")","v":"NÃO"},{"$f":"IF(AND(AG$8>=$M35,AG$8<=$N35),IF($F35=\"SEMESTRAL\",IF(AF131=\"NÃO\",$D35,IF(MOD(COUNT($Q131:AF131)+1,6)=0,(AF131*$E35)+AF131,AF131)),\"NÃO\"),\"NÃO\")","v":"NÃO"},{"$f":"IF(AND(AH$8>=$M35,AH$8<=$N35),IF($F35=\"SEMESTRAL\",IF(AG131=\"NÃO\",$D35,IF(MOD(COUNT($Q131:AG131)+1,6)=0,(AG131*$E35)+AG131,AG131)),\"NÃO\"),\"NÃO\")","v":"NÃO"},{"$f":"IF(AND(AI$8>=$M35,AI$8<=$N35),IF($F35=\"SEMESTRAL\",IF(AH131=\"NÃO\",$D35,IF(MOD(COUNT($Q131:AH131)+1,6)=0,(AH131*$E35)+AH131,AH131)),\"NÃO\"),\"NÃO\")","v":"NÃO"},{"$f":"IF(AND(AJ$8>=$M35,AJ$8<=$N35),IF($F35=\"SEMESTRAL\",IF(AI131=\"NÃO\",$D35,IF(MOD(COUNT($Q131:AI131)+1,6)=0,(AI131*$E35)+AI131,AI131)),\"NÃO\"),\"NÃO\")","v":"NÃO"},{"$f":"IF(AND(AK$8>=$M35,AK$8<=$N35),IF($F35=\"SEMESTRAL\",IF(AJ131=\"NÃO\",$D35,IF(MOD(COUNT($Q131:AJ131)+1,6)=0,(AJ131*$E35)+AJ131,AJ131)),\"NÃO\"),\"NÃO\")","v":"NÃO"},{"$f":"IF(AND(AL$8>=$M35,AL$8<=$N35),IF($F35=\"SEMESTRAL\",IF(AK131=\"NÃO\",$D35,IF(MOD(COUNT($Q131:AK131)+1,6)=0,(AK131*$E35)+AK131,AK131)),\"NÃO\"),\"NÃO\")","v":"NÃO"},{"$f":"IF(AND(AM$8>=$M35,AM$8<=$N35),IF($F35=\"SEMESTRAL\",IF(AL131=\"NÃO\",$D35,IF(MOD(COUNT($Q131:AL131)+1,6)=0,(AL131*$E35)+AL131,AL131)),\"NÃO\"),\"NÃO\")","v":"NÃO"},{"$f":"IF(AND(AN$8>=$M35,AN$8<=$N35),IF($F35=\"SEMESTRAL\",IF(AM131=\"NÃO\",$D35,IF(MOD(COUNT($Q131:AM131)+1,6)=0,(AM131*$E35)+AM131,AM131)),\"NÃO\"),\"NÃO\")","v":"NÃO"},{"$f":"IF(AND(AO$8>=$M35,AO$8<=$N35),IF($F35=\"SEMESTRAL\",IF(AN131=\"NÃO\",$D35,IF(MOD(COUNT($Q131:AN131)+1,6)=0,(AN131*$E35)+AN131,AN131)),\"NÃO\"),\"NÃO\")","v":"NÃO"},{"$f":"IF(AND(AP$8>=$M35,AP$8<=$N35),IF($F35=\"SEMESTRAL\",IF(AO131=\"NÃO\",$D35,IF(MOD(COUNT($Q131:AO131)+1,6)=0,(AO131*$E35)+AO131,AO131)),\"NÃO\"),\"NÃO\")","v":"NÃO"},{"$f":"IF(AND(AQ$8>=$M35,AQ$8<=$N35),IF($F35=\"SEMESTRAL\",IF(AP131=\"NÃO\",$D35,IF(MOD(COUNT($Q131:AP131)+1,6)=0,(AP131*$E35)+AP131,AP131)),\"NÃO\"),\"NÃO\")","v":"NÃO"},{"$f":"IF(AND(AR$8>=$M35,AR$8<=$N35),IF($F35=\"SEMESTRAL\",IF(AQ131=\"NÃO\",$D35,IF(MOD(COUNT($Q131:AQ131)+1,6)=0,(AQ131*$E35)+AQ131,AQ131)),\"NÃO\"),\"NÃO\")","v":"NÃO"},{"$f":"IF(AND(AS$8>=$M35,AS$8<=$N35),IF($F35=\"SEMESTRAL\",IF(AR131=\"NÃO\",$D35,IF(MOD(COUNT($Q131:AR131)+1,6)=0,(AR131*$E35)+AR131,AR131)),\"NÃO\"),\"NÃO\")","v":"NÃO"},{"$f":"IF(AND(AT$8>=$M35,AT$8<=$N35),IF($F35=\"SEMESTRAL\",IF(AS131=\"NÃO\",$D35,IF(MOD(COUNT($Q131:AS131)+1,6)=0,(AS131*$E35)+AS131,AS131)),\"NÃO\"),\"NÃO\")","v":"NÃO"},{"$f":"IF(AND(AU$8>=$M35,AU$8<=$N35),IF($F35=\"SEMESTRAL\",IF(AT131=\"NÃO\",$D35,IF(MOD(COUNT($Q131:AT131)+1,6)=0,(AT131*$E35)+AT131,AT131)),\"NÃO\"),\"NÃO\")","v":"NÃO"},{"$f":"IF(AND(AV$8>=$M35,AV$8<=$N35),IF($F35=\"SEMESTRAL\",IF(AU131=\"NÃO\",$D35,IF(MOD(COUNT($Q131:AU131)+1,6)=0,(AU131*$E35)+AU131,AU131)),\"NÃO\"),\"NÃO\")","v":"NÃO"},{"$f":"IF(AND(AW$8>=$M35,AW$8<=$N35),IF($F35=\"SEMESTRAL\",IF(AV131=\"NÃO\",$D35,IF(MOD(COUNT($Q131:AV131)+1,6)=0,(AV131*$E35)+AV131,AV131)),\"NÃO\"),\"NÃO\")","v":"NÃO"},{"$f":"IF(AND(AX$8>=$M35,AX$8<=$N35),IF($F35=\"SEMESTRAL\",IF(AW131=\"NÃO\",$D35,IF(MOD(COUNT($Q131:AW131)+1,6)=0,(AW131*$E35)+AW131,AW131)),\"NÃO\"),\"NÃO\")","v":"NÃO"},{"$f":"IF(AND(AY$8>=$M35,AY$8<=$N35),IF($F35=\"SEMESTRAL\",IF(AX131=\"NÃO\",$D35,IF(MOD(COUNT($Q131:AX131)+1,6)=0,(AX131*$E35)+AX131,AX131)),\"NÃO\"),\"NÃO\")","v":"NÃO"},{"$f":"IF(AND(AZ$8>=$M35,AZ$8<=$N35),IF($F35=\"SEMESTRAL\",IF(AY131=\"NÃO\",$D35,IF(MOD(COUNT($Q131:AY131)+1,6)=0,(AY131*$E35)+AY131,AY131)),\"NÃO\"),\"NÃO\")","v":"NÃO"},{"$f":"IF(AND(BA$8>=$M35,BA$8<=$N35),IF($F35=\"SEMESTRAL\",IF(AZ131=\"NÃO\",$D35,IF(MOD(COUNT($Q131:AZ131)+1,6)=0,(AZ131*$E35)+AZ131,AZ131)),\"NÃO\"),\"NÃO\")","v":"NÃO"},{"$f":"IF(AND(BB$8>=$M35,BB$8<=$N35),IF($F35=\"SEMESTRAL\",IF(BA131=\"NÃO\",$D35,IF(MOD(COUNT($Q131:BA131)+1,6)=0,(BA131*$E35)+BA131,BA131)),\"NÃO\"),\"NÃO\")","v":"NÃO"},{"$f":"IF(AND(BC$8>=$M35,BC$8<=$N35),IF($F35=\"SEMESTRAL\",IF(BB131=\"NÃO\",$D35,IF(MOD(COUNT($Q131:BB131)+1,6)=0,(BB131*$E35)+BB131,BB131)),\"NÃO\"),\"NÃO\")","v":"NÃO"},{"$f":"IF(AND(BD$8>=$M35,BD$8<=$N35),IF($F35=\"SEMESTRAL\",IF(BC131=\"NÃO\",$D35,IF(MOD(COUNT($Q131:BC131)+1,6)=0,(BC131*$E35)+BC131,BC131)),\"NÃO\"),\"NÃO\")","v":"NÃO"},{"$f":"IF(AND(BE$8>=$M35,BE$8<=$N35),IF($F35=\"SEMESTRAL\",IF(BD131=\"NÃO\",$D35,IF(MOD(COUNT($Q131:BD131)+1,6)=0,(BD131*$E35)+BD131,BD131)),\"NÃO\"),\"NÃO\")","v":"NÃO"},{"$f":"IF(AND(BF$8>=$M35,BF$8<=$N35),IF($F35=\"SEMESTRAL\",IF(BE131=\"NÃO\",$D35,IF(MOD(COUNT($Q131:BE131)+1,6)=0,(BE131*$E35)+BE131,BE131)),\"NÃO\"),\"NÃO\")","v":"NÃO"},{"$f":"IF(AND(BG$8>=$M35,BG$8<=$N35),IF($F35=\"SEMESTRAL\",IF(BF131=\"NÃO\",$D35,IF(MOD(COUNT($Q131:BF131)+1,6)=0,(BF131*$E35)+BF131,BF131)),\"NÃO\"),\"NÃO\")","v":"NÃO"},{"$f":"IF(AND(BH$8>=$M35,BH$8<=$N35),IF($F35=\"SEMESTRAL\",IF(BG131=\"NÃO\",$D35,IF(MOD(COUNT($Q131:BG131)+1,6)=0,(BG131*$E35)+BG131,BG131)),\"NÃO\"),\"NÃO\")","v":"NÃO"},{"$f":"IF(AND(BI$8>=$M35,BI$8<=$N35),IF($F35=\"SEMESTRAL\",IF(BH131=\"NÃO\",$D35,IF(MOD(COUNT($Q131:BH131)+1,6)=0,(BH131*$E35)+BH131,BH131)),\"NÃO\"),\"NÃO\")","v":"NÃO"},{"$f":"IF(AND(BJ$8>=$M35,BJ$8<=$N35),IF($F35=\"SEMESTRAL\",IF(BI131=\"NÃO\",$D35,IF(MOD(COUNT($Q131:BI131)+1,6)=0,(BI131*$E35)+BI131,BI131)),\"NÃO\"),\"NÃO\")","v":"NÃO"},{"$f":"IF(AND(BK$8>=$M35,BK$8<=$N35),IF($F35=\"SEMESTRAL\",IF(BJ131=\"NÃO\",$D35,IF(MOD(COUNT($Q131:BJ131)+1,6)=0,(BJ131*$E35)+BJ131,BJ131)),\"NÃO\"),\"NÃO\")","v":"NÃO"},{"$f":"IF(AND(BL$8>=$M35,BL$8<=$N35),IF($F35=\"SEMESTRAL\",IF(BK131=\"NÃO\",$D35,IF(MOD(COUNT($Q131:BK131)+1,6)=0,(BK131*$E35)+BK131,BK131)),\"NÃO\"),\"NÃO\")","v":"NÃO"},{"$f":"IF(AND(BM$8>=$M35,BM$8<=$N35),IF($F35=\"SEMESTRAL\",IF(BL131=\"NÃO\",$D35,IF(MOD(COUNT($Q131:BL131)+1,6)=0,(BL131*$E35)+BL131,BL131)),\"NÃO\"),\"NÃO\")","v":"NÃO"},{"$f":"IF(AND(BN$8>=$M35,BN$8<=$N35),IF($F35=\"SEMESTRAL\",IF(BM131=\"NÃO\",$D35,IF(MOD(COUNT($Q131:BM131)+1,6)=0,(BM131*$E35)+BM131,BM131)),\"NÃO\"),\"NÃO\")","v":"NÃO"},{"$f":"IF(AND(BO$8>=$M35,BO$8<=$N35),IF($F35=\"SEMESTRAL\",IF(BN131=\"NÃO\",$D35,IF(MOD(COUNT($Q131:BN131)+1,6)=0,(BN131*$E35)+BN131,BN131)),\"NÃO\"),\"NÃO\")","v":"NÃO"},{"$f":"IF(AND(BP$8>=$M35,BP$8<=$N35),IF($F35=\"SEMESTRAL\",IF(BO131=\"NÃO\",$D35,IF(MOD(COUNT($Q131:BO131)+1,6)=0,(BO131*$E35)+BO131,BO131)),\"NÃO\"),\"NÃO\")","v":"NÃO"},{"$f":"IF(AND(BQ$8>=$M35,BQ$8<=$N35),IF($F35=\"SEMESTRAL\",IF(BP131=\"NÃO\",$D35,IF(MOD(COUNT($Q131:BP131)+1,6)=0,(BP131*$E35)+BP131,BP131)),\"NÃO\"),\"NÃO\")","v":"NÃO"},{"$f":"IF(AND(BR$8>=$M35,BR$8<=$N35),IF($F35=\"SEMESTRAL\",IF(BQ131=\"NÃO\",$D35,IF(MOD(COUNT($Q131:BQ131)+1,6)=0,(BQ131*$E35)+BQ131,BQ131)),\"NÃO\"),\"NÃO\")","v":"NÃO"},{"$f":"IF(AND(BS$8>=$M35,BS$8<=$N35),IF($F35=\"SEMESTRAL\",IF(BR131=\"NÃO\",$D35,IF(MOD(COUNT($Q131:BR131)+1,6)=0,(BR131*$E35)+BR131,BR131)),\"NÃO\"),\"NÃO\")","v":"NÃO"},{"$f":"IF(AND(BT$8>=$M35,BT$8<=$N35),IF($F35=\"SEMESTRAL\",IF(BS131=\"NÃO\",$D35,IF(MOD(COUNT($Q131:BS131)+1,6)=0,(BS131*$E35)+BS131,BS131)),\"NÃO\"),\"NÃO\")","v":"NÃO"},{"$f":"IF(AND(BU$8>=$M35,BU$8<=$N35),IF($F35=\"SEMESTRAL\",IF(BT131=\"NÃO\",$D35,IF(MOD(COUNT($Q131:BT131)+1,6)=0,(BT131*$E35)+BT131,BT131)),\"NÃO\"),\"NÃO\")","v":"NÃO"},{"$f":"IF(AND(BV$8>=$M35,BV$8<=$N35),IF($F35=\"SEMESTRAL\",IF(BU131=\"NÃO\",$D35,IF(MOD(COUNT($Q131:BU131)+1,6)=0,(BU131*$E35)+BU131,BU131)),\"NÃO\"),\"NÃO\")","v":"NÃO"},{"$f":"IF(AND(BW$8>=$M35,BW$8<=$N35),IF($F35=\"SEMESTRAL\",IF(BV131=\"NÃO\",$D35,IF(MOD(COUNT($Q131:BV131)+1,6)=0,(BV131*$E35)+BV131,BV131)),\"NÃO\"),\"NÃO\")","v":"NÃO"},{"$f":"IF(AND(BX$8>=$M35,BX$8<=$N35),IF($F35=\"SEMESTRAL\",IF(BW131=\"NÃO\",$D35,IF(MOD(COUNT($Q131:BW131)+1,6)=0,(BW131*$E35)+BW131,BW131)),\"NÃO\"),\"NÃO\")","v":"NÃO"}]
[null,null,null,null,null,null,null,null,null,null,null,null,null,null,null,28,"NÃO",{"$f":"IF(AND(R$8>=$M36,R$8<=$N36),IF($F36=\"SEMESTRAL\",IF(Q132=\"NÃO\",$D36,IF(MOD(COUNT($Q132:Q132)+1,6)=0,(Q132*$E36)+Q132,Q132)),\"NÃO\"),\"NÃO\")","v":"NÃO"},{"$f":"IF(AND(S$8>=$M36,S$8<=$N36),IF($F36=\"SEMESTRAL\",IF(R132=\"NÃO\",$D36,IF(MOD(COUNT($Q132:R132)+1,6)=0,(R132*$E36)+R132,R132)),\"NÃO\"),\"NÃO\")","v":"NÃO"},{"$f":"IF(AND(T$8>=$M36,T$8<=$N36),IF($F36=\"SEMESTRAL\",IF(S132=\"NÃO\",$D36,IF(MOD(COUNT($Q132:S132)+1,6)=0,(S132*$E36)+S132,S132)),\"NÃO\"),\"NÃO\")","v":"NÃO"},{"$f":"IF(AND(U$8>=$M36,U$8<=$N36),IF($F36=\"SEMESTRAL\",IF(T132=\"NÃO\",$D36,IF(MOD(COUNT($Q132:T132)+1,6)=0,(T132*$E36)+T132,T132)),\"NÃO\"),\"NÃO\")","v":"NÃO"},{"$f":"IF(AND(V$8>=$M36,V$8<=$N36),IF($F36=\"SEMESTRAL\",IF(U132=\"NÃO\",$D36,IF(MOD(COUNT($Q132:U132)+1,6)=0,(U132*$E36)+U132,U132)),\"NÃO\"),\"NÃO\")","v":"NÃO"},{"$f":"IF(AND(W$8>=$M36,W$8<=$N36),IF($F36=\"SEMESTRAL\",IF(V132=\"NÃO\",$D36,IF(MOD(COUNT($Q132:V132)+1,6)=0,(V132*$E36)+V132,V132)),\"NÃO\"),\"NÃO\")","v":"NÃO"},{"$f":"IF(AND(X$8>=$M36,X$8<=$N36),IF($F36=\"SEMESTRAL\",IF(W132=\"NÃO\",$D36,IF(MOD(COUNT($Q132:W132)+1,6)=0,(W132*$E36)+W132,W132)),\"NÃO\"),\"NÃO\")","v":"NÃO"},{"$f":"IF(AND(Y$8>=$M36,Y$8<=$N36),IF($F36=\"SEMESTRAL\",IF(X132=\"NÃO\",$D36,IF(MOD(COUNT($Q132:X132)+1,6)=0,(X132*$E36)+X132,X132)),\"NÃO\"),\"NÃO\")","v":"NÃO"},{"$f":"IF(AND(Z$8>=$M36,Z$8<=$N36),IF($F36=\"SEMESTRAL\",IF(Y132=\"NÃO\",$D36,IF(MOD(COUNT($Q132:Y132)+1,6)=0,(Y132*$E36)+Y132,Y132)),\"NÃO\"),\"NÃO\")","v":"NÃO"},{"$f":"IF(AND(AA$8>=$M36,AA$8<=$N36),IF($F36=\"SEMESTRAL\",IF(Z132=\"NÃO\",$D36,IF(MOD(COUNT($Q132:Z132)+1,6)=0,(Z132*$E36)+Z132,Z132)),\"NÃO\"),\"NÃO\")","v":"NÃO"},{"$f":"IF(AND(AB$8>=$M36,AB$8<=$N36),IF($F36=\"SEMESTRAL\",IF(AA132=\"NÃO\",$D36,IF(MOD(COUNT($Q132:AA132)+1,6)=0,(AA132*$E36)+AA132,AA132)),\"NÃO\"),\"NÃO\")","v":"NÃO"},{"$f":"IF(AND(AC$8>=$M36,AC$8<=$N36),IF($F36=\"SEMESTRAL\",IF(AB132=\"NÃO\",$D36,IF(MOD(COUNT($Q132:AB132)+1,6)=0,(AB132*$E36)+AB132,AB132)),\"NÃO\"),\"NÃO\")","v":"NÃO"},{"$f":"IF(AND(AD$8>=$M36,AD$8<=$N36),IF($F36=\"SEMESTRAL\",IF(AC132=\"NÃO\",$D36,IF(MOD(COUNT($Q132:AC132)+1,6)=0,(AC132*$E36)+AC132,AC132)),\"NÃO\"),\"NÃO\")","v":"NÃO"},{"$f":"IF(AND(AE$8>=$M36,AE$8<=$N36),IF($F36=\"SEMESTRAL\",IF(AD132=\"NÃO\",$D36,IF(MOD(COUNT($Q132:AD132)+1,6)=0,(AD132*$E36)+AD132,AD132)),\"NÃO\"),\"NÃO\")","v":"NÃO"},{"$f":"IF(AND(AF$8>=$M36,AF$8<=$N36),IF($F36=\"SEMESTRAL\",IF(AE132=\"NÃO\",$D36,IF(MOD(COUNT($Q132:AE132)+1,6)=0,(AE132*$E36)+AE132,AE132)),\"NÃO\"),\"NÃO\")","v":"NÃO"},{"$f":"IF(AND(AG$8>=$M36,AG$8<=$N36),IF($F36=\"SEMESTRAL\",IF(AF132=\"NÃO\",$D36,IF(MOD(COUNT($Q132:AF132)+1,6)=0,(AF132*$E36)+AF132,AF132)),\"NÃO\"),\"NÃO\")","v":"NÃO"},{"$f":"IF(AND(AH$8>=$M36,AH$8<=$N36),IF($F36=\"SEMESTRAL\",IF(AG132=\"NÃO\",$D36,IF(MOD(COUNT($Q132:AG132)+1,6)=0,(AG132*$E36)+AG132,AG132)),\"NÃO\"),\"NÃO\")","v":"NÃO"},{"$f":"IF(AND(AI$8>=$M36,AI$8<=$N36),IF($F36=\"SEMESTRAL\",IF(AH132=\"NÃO\",$D36,IF(MOD(COUNT($Q132:AH132)+1,6)=0,(AH132*$E36)+AH132,AH132)),\"NÃO\"),\"NÃO\")","v":"NÃO"},{"$f":"IF(AND(AJ$8>=$M36,AJ$8<=$N36),IF($F36=\"SEMESTRAL\",IF(AI132=\"NÃO\",$D36,IF(MOD(COUNT($Q132:AI132)+1,6)=0,(AI132*$E36)+AI132,AI132)),\"NÃO\"),\"NÃO\")","v":"NÃO"},{"$f":"IF(AND(AK$8>=$M36,AK$8<=$N36),IF($F36=\"SEMESTRAL\",IF(AJ132=\"NÃO\",$D36,IF(MOD(COUNT($Q132:AJ132)+1,6)=0,(AJ132*$E36)+AJ132,AJ132)),\"NÃO\"),\"NÃO\")","v":"NÃO"},{"$f":"IF(AND(AL$8>=$M36,AL$8<=$N36),IF($F36=\"SEMESTRAL\",IF(AK132=\"NÃO\",$D36,IF(MOD(COUNT($Q132:AK132)+1,6)=0,(AK132*$E36)+AK132,AK132)),\"NÃO\"),\"NÃO\")","v":"NÃO"},{"$f":"IF(AND(AM$8>=$M36,AM$8<=$N36),IF($F36=\"SEMESTRAL\",IF(AL132=\"NÃO\",$D36,IF(MOD(COUNT($Q132:AL132)+1,6)=0,(AL132*$E36)+AL132,AL132)),\"NÃO\"),\"NÃO\")","v":"NÃO"},{"$f":"IF(AND(AN$8>=$M36,AN$8<=$N36),IF($F36=\"SEMESTRAL\",IF(AM132=\"NÃO\",$D36,IF(MOD(COUNT($Q132:AM132)+1,6)=0,(AM132*$E36)+AM132,AM132)),\"NÃO\"),\"NÃO\")","v":"NÃO"},{"$f":"IF(AND(AO$8>=$M36,AO$8<=$N36),IF($F36=\"SEMESTRAL\",IF(AN132=\"NÃO\",$D36,IF(MOD(COUNT($Q132:AN132)+1,6)=0,(AN132*$E36)+AN132,AN132)),\"NÃO\"),\"NÃO\")","v":"NÃO"},{"$f":"IF(AND(AP$8>=$M36,AP$8<=$N36),IF($F36=\"SEMESTRAL\",IF(AO132=\"NÃO\",$D36,IF(MOD(COUNT($Q132:AO132)+1,6)=0,(AO132*$E36)+AO132,AO132)),\"NÃO\"),\"NÃO\")","v":"NÃO"},{"$f":"IF(AND(AQ$8>=$M36,AQ$8<=$N36),IF($F36=\"SEMESTRAL\",IF(AP132=\"NÃO\",$D36,IF(MOD(COUNT($Q132:AP132)+1,6)=0,(AP132*$E36)+AP132,AP132)),\"NÃO\"),\"NÃO\")","v":"NÃO"},{"$f":"IF(AND(AR$8>=$M36,AR$8<=$N36),IF($F36=\"SEMESTRAL\",IF(AQ132=\"NÃO\",$D36,IF(MOD(COUNT($Q132:AQ132)+1,6)=0,(AQ132*$E36)+AQ132,AQ132)),\"NÃO\"),\"NÃO\")","v":"NÃO"},{"$f":"IF(AND(AS$8>=$M36,AS$8<=$N36),IF($F36=\"SEMESTRAL\",IF(AR132=\"NÃO\",$D36,IF(MOD(COUNT($Q132:AR132)+1,6)=0,(AR132*$E36)+AR132,AR132)),\"NÃO\"),\"NÃO\")","v":"NÃO"},{"$f":"IF(AND(AT$8>=$M36,AT$8<=$N36),IF($F36=\"SEMESTRAL\",IF(AS132=\"NÃO\",$D36,IF(MOD(COUNT($Q132:AS132)+1,6)=0,(AS132*$E36)+AS132,AS132)),\"NÃO\"),\"NÃO\")","v":"NÃO"},{"$f":"IF(AND(AU$8>=$M36,AU$8<=$N36),IF($F36=\"SEMESTRAL\",IF(AT132=\"NÃO\",$D36,IF(MOD(COUNT($Q132:AT132)+1,6)=0,(AT132*$E36)+AT132,AT132)),\"NÃO\"),\"NÃO\")","v":"NÃO"},{"$f":"IF(AND(AV$8>=$M36,AV$8<=$N36),IF($F36=\"SEMESTRAL\",IF(AU132=\"NÃO\",$D36,IF(MOD(COUNT($Q132:AU132)+1,6)=0,(AU132*$E36)+AU132,AU132)),\"NÃO\"),\"NÃO\")","v":"NÃO"},{"$f":"IF(AND(AW$8>=$M36,AW$8<=$N36),IF($F36=\"SEMESTRAL\",IF(AV132=\"NÃO\",$D36,IF(MOD(COUNT($Q132:AV132)+1,6)=0,(AV132*$E36)+AV132,AV132)),\"NÃO\"),\"NÃO\")","v":"NÃO"},{"$f":"IF(AND(AX$8>=$M36,AX$8<=$N36),IF($F36=\"SEMESTRAL\",IF(AW132=\"NÃO\",$D36,IF(MOD(COUNT($Q132:AW132)+1,6)=0,(AW132*$E36)+AW132,AW132)),\"NÃO\"),\"NÃO\")","v":"NÃO"},{"$f":"IF(AND(AY$8>=$M36,AY$8<=$N36),IF($F36=\"SEMESTRAL\",IF(AX132=\"NÃO\",$D36,IF(MOD(COUNT($Q132:AX132)+1,6)=0,(AX132*$E36)+AX132,AX132)),\"NÃO\"),\"NÃO\")","v":"NÃO"},{"$f":"IF(AND(AZ$8>=$M36,AZ$8<=$N36),IF($F36=\"SEMESTRAL\",IF(AY132=\"NÃO\",$D36,IF(MOD(COUNT($Q132:AY132)+1,6)=0,(AY132*$E36)+AY132,AY132)),\"NÃO\"),\"NÃO\")","v":"NÃO"},{"$f":"IF(AND(BA$8>=$M36,BA$8<=$N36),IF($F36=\"SEMESTRAL\",IF(AZ132=\"NÃO\",$D36,IF(MOD(COUNT($Q132:AZ132)+1,6)=0,(AZ132*$E36)+AZ132,AZ132)),\"NÃO\"),\"NÃO\")","v":"NÃO"},{"$f":"IF(AND(BB$8>=$M36,BB$8<=$N36),IF($F36=\"SEMESTRAL\",IF(BA132=\"NÃO\",$D36,IF(MOD(COUNT($Q132:BA132)+1,6)=0,(BA132*$E36)+BA132,BA132)),\"NÃO\"),\"NÃO\")","v":"NÃO"},{"$f":"IF(AND(BC$8>=$M36,BC$8<=$N36),IF($F36=\"SEMESTRAL\",IF(BB132=\"NÃO\",$D36,IF(MOD(COUNT($Q132:BB132)+1,6)=0,(BB132*$E36)+BB132,BB132)),\"NÃO\"),\"NÃO\")","v":"NÃO"},{"$f":"IF(AND(BD$8>=$M36,BD$8<=$N36),IF($F36=\"SEMESTRAL\",IF(BC132=\"NÃO\",$D36,IF(MOD(COUNT($Q132:BC132)+1,6)=0,(BC132*$E36)+BC132,BC132)),\"NÃO\"),\"NÃO\")","v":"NÃO"},{"$f":"IF(AND(BE$8>=$M36,BE$8<=$N36),IF($F36=\"SEMESTRAL\",IF(BD132=\"NÃO\",$D36,IF(MOD(COUNT($Q132:BD132)+1,6)=0,(BD132*$E36)+BD132,BD132)),\"NÃO\"),\"NÃO\")","v":"NÃO"},{"$f":"IF(AND(BF$8>=$M36,BF$8<=$N36),IF($F36=\"SEMESTRAL\",IF(BE132=\"NÃO\",$D36,IF(MOD(COUNT($Q132:BE132)+1,6)=0,(BE132*$E36)+BE132,BE132)),\"NÃO\"),\"NÃO\")","v":"NÃO"},{"$f":"IF(AND(BG$8>=$M36,BG$8<=$N36),IF($F36=\"SEMESTRAL\",IF(BF132=\"NÃO\",$D36,IF(MOD(COUNT($Q132:BF132)+1,6)=0,(BF132*$E36)+BF132,BF132)),\"NÃO\"),\"NÃO\")","v":"NÃO"},{"$f":"IF(AND(BH$8>=$M36,BH$8<=$N36),IF($F36=\"SEMESTRAL\",IF(BG132=\"NÃO\",$D36,IF(MOD(COUNT($Q132:BG132)+1,6)=0,(BG132*$E36)+BG132,BG132)),\"NÃO\"),\"NÃO\")","v":"NÃO"},{"$f":"IF(AND(BI$8>=$M36,BI$8<=$N36),IF($F36=\"SEMESTRAL\",IF(BH132=\"NÃO\",$D36,IF(MOD(COUNT($Q132:BH132)+1,6)=0,(BH132*$E36)+BH132,BH132)),\"NÃO\"),\"NÃO\")","v":"NÃO"},{"$f":"IF(AND(BJ$8>=$M36,BJ$8<=$N36),IF($F36=\"SEMESTRAL\",IF(BI132=\"NÃO\",$D36,IF(MOD(COUNT($Q132:BI132)+1,6)=0,(BI132*$E36)+BI132,BI132)),\"NÃO\"),\"NÃO\")","v":"NÃO"},{"$f":"IF(AND(BK$8>=$M36,BK$8<=$N36),IF($F36=\"SEMESTRAL\",IF(BJ132=\"NÃO\",$D36,IF(MOD(COUNT($Q132:BJ132)+1,6)=0,(BJ132*$E36)+BJ132,BJ132)),\"NÃO\"),\"NÃO\")","v":"NÃO"},{"$f":"IF(AND(BL$8>=$M36,BL$8<=$N36),IF($F36=\"SEMESTRAL\",IF(BK132=\"NÃO\",$D36,IF(MOD(COUNT($Q132:BK132)+1,6)=0,(BK132*$E36)+BK132,BK132)),\"NÃO\"),\"NÃO\")","v":"NÃO"},{"$f":"IF(AND(BM$8>=$M36,BM$8<=$N36),IF($F36=\"SEMESTRAL\",IF(BL132=\"NÃO\",$D36,IF(MOD(COUNT($Q132:BL132)+1,6)=0,(BL132*$E36)+BL132,BL132)),\"NÃO\"),\"NÃO\")","v":"NÃO"},{"$f":"IF(AND(BN$8>=$M36,BN$8<=$N36),IF($F36=\"SEMESTRAL\",IF(BM132=\"NÃO\",$D36,IF(MOD(COUNT($Q132:BM132)+1,6)=0,(BM132*$E36)+BM132,BM132)),\"NÃO\"),\"NÃO\")","v":"NÃO"},{"$f":"IF(AND(BO$8>=$M36,BO$8<=$N36),IF($F36=\"SEMESTRAL\",IF(BN132=\"NÃO\",$D36,IF(MOD(COUNT($Q132:BN132)+1,6)=0,(BN132*$E36)+BN132,BN132)),\"NÃO\"),\"NÃO\")","v":"NÃO"},{"$f":"IF(AND(BP$8>=$M36,BP$8<=$N36),IF($F36=\"SEMESTRAL\",IF(BO132=\"NÃO\",$D36,IF(MOD(COUNT($Q132:BO132)+1,6)=0,(BO132*$E36)+BO132,BO132)),\"NÃO\"),\"NÃO\")","v":"NÃO"},{"$f":"IF(AND(BQ$8>=$M36,BQ$8<=$N36),IF($F36=\"SEMESTRAL\",IF(BP132=\"NÃO\",$D36,IF(MOD(COUNT($Q132:BP132)+1,6)=0,(BP132*$E36)+BP132,BP132)),\"NÃO\"),\"NÃO\")","v":"NÃO"},{"$f":"IF(AND(BR$8>=$M36,BR$8<=$N36),IF($F36=\"SEMESTRAL\",IF(BQ132=\"NÃO\",$D36,IF(MOD(COUNT($Q132:BQ132)+1,6)=0,(BQ132*$E36)+BQ132,BQ132)),\"NÃO\"),\"NÃO\")","v":"NÃO"},{"$f":"IF(AND(BS$8>=$M36,BS$8<=$N36),IF($F36=\"SEMESTRAL\",IF(BR132=\"NÃO\",$D36,IF(MOD(COUNT($Q132:BR132)+1,6)=0,(BR132*$E36)+BR132,BR132)),\"NÃO\"),\"NÃO\")","v":"NÃO"},{"$f":"IF(AND(BT$8>=$M36,BT$8<=$N36),IF($F36=\"SEMESTRAL\",IF(BS132=\"NÃO\",$D36,IF(MOD(COUNT($Q132:BS132)+1,6)=0,(BS132*$E36)+BS132,BS132)),\"NÃO\"),\"NÃO\")","v":"NÃO"},{"$f":"IF(AND(BU$8>=$M36,BU$8<=$N36),IF($F36=\"SEMESTRAL\",IF(BT132=\"NÃO\",$D36,IF(MOD(COUNT($Q132:BT132)+1,6)=0,(BT132*$E36)+BT132,BT132)),\"NÃO\"),\"NÃO\")","v":"NÃO"},{"$f":"IF(AND(BV$8>=$M36,BV$8<=$N36),IF($F36=\"SEMESTRAL\",IF(BU132=\"NÃO\",$D36,IF(MOD(COUNT($Q132:BU132)+1,6)=0,(BU132*$E36)+BU132,BU132)),\"NÃO\"),\"NÃO\")","v":"NÃO"},{"$f":"IF(AND(BW$8>=$M36,BW$8<=$N36),IF($F36=\"SEMESTRAL\",IF(BV132=\"NÃO\",$D36,IF(MOD(COUNT($Q132:BV132)+1,6)=0,(BV132*$E36)+BV132,BV132)),\"NÃO\"),\"NÃO\")","v":"NÃO"},{"$f":"IF(AND(BX$8>=$M36,BX$8<=$N36),IF($F36=\"SEMESTRAL\",IF(BW132=\"NÃO\",$D36,IF(MOD(COUNT($Q132:BW132)+1,6)=0,(BW132*$E36)+BW132,BW132)),\"NÃO\"),\"NÃO\")","v":"NÃO"}]
[null,null,null,null,null,null,null,null,null,null,null,null,null,null,null,29,"NÃO",{"$f":"IF(AND(R$8>=$M37,R$8<=$N37),IF($F37=\"SEMESTRAL\",IF(Q133=\"NÃO\",$D37,IF(MOD(COUNT($Q133:Q133)+1,6)=0,(Q133*$E37)+Q133,Q133)),\"NÃO\"),\"NÃO\")","v":"NÃO"},{"$f":"IF(AND(S$8>=$M37,S$8<=$N37),IF($F37=\"SEMESTRAL\",IF(R133=\"NÃO\",$D37,IF(MOD(COUNT($Q133:R133)+1,6)=0,(R133*$E37)+R133,R133)),\"NÃO\"),\"NÃO\")","v":"NÃO"},{"$f":"IF(AND(T$8>=$M37,T$8<=$N37),IF($F37=\"SEMESTRAL\",IF(S133=\"NÃO\",$D37,IF(MOD(COUNT($Q133:S133)+1,6)=0,(S133*$E37)+S133,S133)),\"NÃO\"),\"NÃO\")","v":"NÃO"},{"$f":"IF(AND(U$8>=$M37,U$8<=$N37),IF($F37=\"SEMESTRAL\",IF(T133=\"NÃO\",$D37,IF(MOD(COUNT($Q133:T133)+1,6)=0,(T133*$E37)+T133,T133)),\"NÃO\"),\"NÃO\")","v":"NÃO"},{"$f":"IF(AND(V$8>=$M37,V$8<=$N37),IF($F37=\"SEMESTRAL\",IF(U133=\"NÃO\",$D37,IF(MOD(COUNT($Q133:U133)+1,6)=0,(U133*$E37)+U133,U133)),\"NÃO\"),\"NÃO\")","v":"NÃO"},{"$f":"IF(AND(W$8>=$M37,W$8<=$N37),IF($F37=\"SEMESTRAL\",IF(V133=\"NÃO\",$D37,IF(MOD(COUNT($Q133:V133)+1,6)=0,(V133*$E37)+V133,V133)),\"NÃO\"),\"NÃO\")","v":"NÃO"},{"$f":"IF(AND(X$8>=$M37,X$8<=$N37),IF($F37=\"SEMESTRAL\",IF(W133=\"NÃO\",$D37,IF(MOD(COUNT($Q133:W133)+1,6)=0,(W133*$E37)+W133,W133)),\"NÃO\"),\"NÃO\")","v":"NÃO"},{"$f":"IF(AND(Y$8>=$M37,Y$8<=$N37),IF($F37=\"SEMESTRAL\",IF(X133=\"NÃO\",$D37,IF(MOD(COUNT($Q133:X133)+1,6)=0,(X133*$E37)+X133,X133)),\"NÃO\"),\"NÃO\")","v":"NÃO"},{"$f":"IF(AND(Z$8>=$M37,Z$8<=$N37),IF($F37=\"SEMESTRAL\",IF(Y133=\"NÃO\",$D37,IF(MOD(COUNT($Q133:Y133)+1,6)=0,(Y133*$E37)+Y133,Y133)),\"NÃO\"),\"NÃO\")","v":"NÃO"},{"$f":"IF(AND(AA$8>=$M37,AA$8<=$N37),IF($F37=\"SEMESTRAL\",IF(Z133=\"NÃO\",$D37,IF(MOD(COUNT($Q133:Z133)+1,6)=0,(Z133*$E37)+Z133,Z133)),\"NÃO\"),\"NÃO\")","v":"NÃO"},{"$f":"IF(AND(AB$8>=$M37,AB$8<=$N37),IF($F37=\"SEMESTRAL\",IF(AA133=\"NÃO\",$D37,IF(MOD(COUNT($Q133:AA133)+1,6)=0,(AA133*$E37)+AA133,AA133)),\"NÃO\"),\"NÃO\")","v":"NÃO"},{"$f":"IF(AND(AC$8>=$M37,AC$8<=$N37),IF($F37=\"SEMESTRAL\",IF(AB133=\"NÃO\",$D37,IF(MOD(COUNT($Q133:AB133)+1,6)=0,(AB133*$E37)+AB133,AB133)),\"NÃO\"),\"NÃO\")","v":"NÃO"},{"$f":"IF(AND(AD$8>=$M37,AD$8<=$N37),IF($F37=\"SEMESTRAL\",IF(AC133=\"NÃO\",$D37,IF(MOD(COUNT($Q133:AC133)+1,6)=0,(AC133*$E37)+AC133,AC133)),\"NÃO\"),\"NÃO\")","v":"NÃO"},{"$f":"IF(AND(AE$8>=$M37,AE$8<=$N37),IF($F37=\"SEMESTRAL\",IF(AD133=\"NÃO\",$D37,IF(MOD(COUNT($Q133:AD133)+1,6)=0,(AD133*$E37)+AD133,AD133)),\"NÃO\"),\"NÃO\")","v":"NÃO"},{"$f":"IF(AND(AF$8>=$M37,AF$8<=$N37),IF($F37=\"SEMESTRAL\",IF(AE133=\"NÃO\",$D37,IF(MOD(COUNT($Q133:AE133)+1,6)=0,(AE133*$E37)+AE133,AE133)),\"NÃO\"),\"NÃO\")","v":"NÃO"},{"$f":"IF(AND(AG$8>=$M37,AG$8<=$N37),IF($F37=\"SEMESTRAL\",IF(AF133=\"NÃO\",$D37,IF(MOD(COUNT($Q133:AF133)+1,6)=0,(AF133*$E37)+AF133,AF133)),\"NÃO\"),\"NÃO\")","v":"NÃO"},{"$f":"IF(AND(AH$8>=$M37,AH$8<=$N37),IF($F37=\"SEMESTRAL\",IF(AG133=\"NÃO\",$D37,IF(MOD(COUNT($Q133:AG133)+1,6)=0,(AG133*$E37)+AG133,AG133)),\"NÃO\"),\"NÃO\")","v":"NÃO"},{"$f":"IF(AND(AI$8>=$M37,AI$8<=$N37),IF($F37=\"SEMESTRAL\",IF(AH133=\"NÃO\",$D37,IF(MOD(COUNT($Q133:AH133)+1,6)=0,(AH133*$E37)+AH133,AH133)),\"NÃO\"),\"NÃO\")","v":"NÃO"},{"$f":"IF(AND(AJ$8>=$M37,AJ$8<=$N37),IF($F37=\"SEMESTRAL\",IF(AI133=\"NÃO\",$D37,IF(MOD(COUNT($Q133:AI133)+1,6)=0,(AI133*$E37)+AI133,AI133)),\"NÃO\"),\"NÃO\")","v":"NÃO"},{"$f":"IF(AND(AK$8>=$M37,AK$8<=$N37),IF($F37=\"SEMESTRAL\",IF(AJ133=\"NÃO\",$D37,IF(MOD(COUNT($Q133:AJ133)+1,6)=0,(AJ133*$E37)+AJ133,AJ133)),\"NÃO\"),\"NÃO\")","v":"NÃO"},{"$f":"IF(AND(AL$8>=$M37,AL$8<=$N37),IF($F37=\"SEMESTRAL\",IF(AK133=\"NÃO\",$D37,IF(MOD(COUNT($Q133:AK133)+1,6)=0,(AK133*$E37)+AK133,AK133)),\"NÃO\"),\"NÃO\")","v":"NÃO"},{"$f":"IF(AND(AM$8>=$M37,AM$8<=$N37),IF($F37=\"SEMESTRAL\",IF(AL133=\"NÃO\",$D37,IF(MOD(COUNT($Q133:AL133)+1,6)=0,(AL133*$E37)+AL133,AL133)),\"NÃO\"),\"NÃO\")","v":"NÃO"},{"$f":"IF(AND(AN$8>=$M37,AN$8<=$N37),IF($F37=\"SEMESTRAL\",IF(AM133=\"NÃO\",$D37,IF(MOD(COUNT($Q133:AM133)+1,6)=0,(AM133*$E37)+AM133,AM133)),\"NÃO\"),\"NÃO\")","v":"NÃO"},{"$f":"IF(AND(AO$8>=$M37,AO$8<=$N37),IF($F37=\"SEMESTRAL\",IF(AN133=\"NÃO\",$D37,IF(MOD(COUNT($Q133:AN133)+1,6)=0,(AN133*$E37)+AN133,AN133)),\"NÃO\"),\"NÃO\")","v":"NÃO"},{"$f":"IF(AND(AP$8>=$M37,AP$8<=$N37),IF($F37=\"SEMESTRAL\",IF(AO133=\"NÃO\",$D37,IF(MOD(COUNT($Q133:AO133)+1,6)=0,(AO133*$E37)+AO133,AO133)),\"NÃO\"),\"NÃO\")","v":"NÃO"},{"$f":"IF(AND(AQ$8>=$M37,AQ$8<=$N37),IF($F37=\"SEMESTRAL\",IF(AP133=\"NÃO\",$D37,IF(MOD(COUNT($Q133:AP133)+1,6)=0,(AP133*$E37)+AP133,AP133)),\"NÃO\"),\"NÃO\")","v":"NÃO"},{"$f":"IF(AND(AR$8>=$M37,AR$8<=$N37),IF($F37=\"SEMESTRAL\",IF(AQ133=\"NÃO\",$D37,IF(MOD(COUNT($Q133:AQ133)+1,6)=0,(AQ133*$E37)+AQ133,AQ133)),\"NÃO\"),\"NÃO\")","v":"NÃO"},{"$f":"IF(AND(AS$8>=$M37,AS$8<=$N37),IF($F37=\"SEMESTRAL\",IF(AR133=\"NÃO\",$D37,IF(MOD(COUNT($Q133:AR133)+1,6)=0,(AR133*$E37)+AR133,AR133)),\"NÃO\"),\"NÃO\")","v":"NÃO"},{"$f":"IF(AND(AT$8>=$M37,AT$8<=$N37),IF($F37=\"SEMESTRAL\",IF(AS133=\"NÃO\",$D37,IF(MOD(COUNT($Q133:AS133)+1,6)=0,(AS133*$E37)+AS133,AS133)),\"NÃO\"),\"NÃO\")","v":"NÃO"},{"$f":"IF(AND(AU$8>=$M37,AU$8<=$N37),IF($F37=\"SEMESTRAL\",IF(AT133=\"NÃO\",$D37,IF(MOD(COUNT($Q133:AT133)+1,6)=0,(AT133*$E37)+AT133,AT133)),\"NÃO\"),\"NÃO\")","v":"NÃO"},{"$f":"IF(AND(AV$8>=$M37,AV$8<=$N37),IF($F37=\"SEMESTRAL\",IF(AU133=\"NÃO\",$D37,IF(MOD(COUNT($Q133:AU133)+1,6)=0,(AU133*$E37)+AU133,AU133)),\"NÃO\"),\"NÃO\")","v":"NÃO"},{"$f":"IF(AND(AW$8>=$M37,AW$8<=$N37),IF($F37=\"SEMESTRAL\",IF(AV133=\"NÃO\",$D37,IF(MOD(COUNT($Q133:AV133)+1,6)=0,(AV133*$E37)+AV133,AV133)),\"NÃO\"),\"NÃO\")","v":"NÃO"},{"$f":"IF(AND(AX$8>=$M37,AX$8<=$N37),IF($F37=\"SEMESTRAL\",IF(AW133=\"NÃO\",$D37,IF(MOD(COUNT($Q133:AW133)+1,6)=0,(AW133*$E37)+AW133,AW133)),\"NÃO\"),\"NÃO\")","v":"NÃO"},{"$f":"IF(AND(AY$8>=$M37,AY$8<=$N37),IF($F37=\"SEMESTRAL\",IF(AX133=\"NÃO\",$D37,IF(MOD(COUNT($Q133:AX133)+1,6)=0,(AX133*$E37)+AX133,AX133)),\"NÃO\"),\"NÃO\")","v":"NÃO"},{"$f":"IF(AND(AZ$8>=$M37,AZ$8<=$N37),IF($F37=\"SEMESTRAL\",IF(AY133=\"NÃO\",$D37,IF(MOD(COUNT($Q133:AY133)+1,6)=0,(AY133*$E37)+AY133,AY133)),\"NÃO\"),\"NÃO\")","v":"NÃO"},{"$f":"IF(AND(BA$8>=$M37,BA$8<=$N37),IF($F37=\"SEMESTRAL\",IF(AZ133=\"NÃO\",$D37,IF(MOD(COUNT($Q133:AZ133)+1,6)=0,(AZ133*$E37)+AZ133,AZ133)),\"NÃO\"),\"NÃO\")","v":"NÃO"},{"$f":"IF(AND(BB$8>=$M37,BB$8<=$N37),IF($F37=\"SEMESTRAL\",IF(BA133=\"NÃO\",$D37,IF(MOD(COUNT($Q133:BA133)+1,6)=0,(BA133*$E37)+BA133,BA133)),\"NÃO\"),\"NÃO\")","v":"NÃO"},{"$f":"IF(AND(BC$8>=$M37,BC$8<=$N37),IF($F37=\"SEMESTRAL\",IF(BB133=\"NÃO\",$D37,IF(MOD(COUNT($Q133:BB133)+1,6)=0,(BB133*$E37)+BB133,BB133)),\"NÃO\"),\"NÃO\")","v":"NÃO"},{"$f":"IF(AND(BD$8>=$M37,BD$8<=$N37),IF($F37=\"SEMESTRAL\",IF(BC133=\"NÃO\",$D37,IF(MOD(COUNT($Q133:BC133)+1,6)=0,(BC133*$E37)+BC133,BC133)),\"NÃO\"),\"NÃO\")","v":"NÃO"},{"$f":"IF(AND(BE$8>=$M37,BE$8<=$N37),IF($F37=\"SEMESTRAL\",IF(BD133=\"NÃO\",$D37,IF(MOD(COUNT($Q133:BD133)+1,6)=0,(BD133*$E37)+BD133,BD133)),\"NÃO\"),\"NÃO\")","v":"NÃO"},{"$f":"IF(AND(BF$8>=$M37,BF$8<=$N37),IF($F37=\"SEMESTRAL\",IF(BE133=\"NÃO\",$D37,IF(MOD(COUNT($Q133:BE133)+1,6)=0,(BE133*$E37)+BE133,BE133)),\"NÃO\"),\"NÃO\")","v":"NÃO"},{"$f":"IF(AND(BG$8>=$M37,BG$8<=$N37),IF($F37=\"SEMESTRAL\",IF(BF133=\"NÃO\",$D37,IF(MOD(COUNT($Q133:BF133)+1,6)=0,(BF133*$E37)+BF133,BF133)),\"NÃO\"),\"NÃO\")","v":"NÃO"},{"$f":"IF(AND(BH$8>=$M37,BH$8<=$N37),IF($F37=\"SEMESTRAL\",IF(BG133=\"NÃO\",$D37,IF(MOD(COUNT($Q133:BG133)+1,6)=0,(BG133*$E37)+BG133,BG133)),\"NÃO\"),\"NÃO\")","v":"NÃO"},{"$f":"IF(AND(BI$8>=$M37,BI$8<=$N37),IF($F37=\"SEMESTRAL\",IF(BH133=\"NÃO\",$D37,IF(MOD(COUNT($Q133:BH133)+1,6)=0,(BH133*$E37)+BH133,BH133)),\"NÃO\"),\"NÃO\")","v":"NÃO"},{"$f":"IF(AND(BJ$8>=$M37,BJ$8<=$N37),IF($F37=\"SEMESTRAL\",IF(BI133=\"NÃO\",$D37,IF(MOD(COUNT($Q133:BI133)+1,6)=0,(BI133*$E37)+BI133,BI133)),\"NÃO\"),\"NÃO\")","v":"NÃO"},{"$f":"IF(AND(BK$8>=$M37,BK$8<=$N37),IF($F37=\"SEMESTRAL\",IF(BJ133=\"NÃO\",$D37,IF(MOD(COUNT($Q133:BJ133)+1,6)=0,(BJ133*$E37)+BJ133,BJ133)),\"NÃO\"),\"NÃO\")","v":"NÃO"},{"$f":"IF(AND(BL$8>=$M37,BL$8<=$N37),IF($F37=\"SEMESTRAL\",IF(BK133=\"NÃO\",$D37,IF(MOD(COUNT($Q133:BK133)+1,6)=0,(BK133*$E37)+BK133,BK133)),\"NÃO\"),\"NÃO\")","v":"NÃO"},{"$f":"IF(AND(BM$8>=$M37,BM$8<=$N37),IF($F37=\"SEMESTRAL\",IF(BL133=\"NÃO\",$D37,IF(MOD(COUNT($Q133:BL133)+1,6)=0,(BL133*$E37)+BL133,BL133)),\"NÃO\"),\"NÃO\")","v":"NÃO"},{"$f":"IF(AND(BN$8>=$M37,BN$8<=$N37),IF($F37=\"SEMESTRAL\",IF(BM133=\"NÃO\",$D37,IF(MOD(COUNT($Q133:BM133)+1,6)=0,(BM133*$E37)+BM133,BM133)),\"NÃO\"),\"NÃO\")","v":"NÃO"},{"$f":"IF(AND(BO$8>=$M37,BO$8<=$N37),IF($F37=\"SEMESTRAL\",IF(BN133=\"NÃO\",$D37,IF(MOD(COUNT($Q133:BN133)+1,6)=0,(BN133*$E37)+BN133,BN133)),\"NÃO\"),\"NÃO\")","v":"NÃO"},{"$f":"IF(AND(BP$8>=$M37,BP$8<=$N37),IF($F37=\"SEMESTRAL\",IF(BO133=\"NÃO\",$D37,IF(MOD(COUNT($Q133:BO133)+1,6)=0,(BO133*$E37)+BO133,BO133)),\"NÃO\"),\"NÃO\")","v":"NÃO"},{"$f":"IF(AND(BQ$8>=$M37,BQ$8<=$N37),IF($F37=\"SEMESTRAL\",IF(BP133=\"NÃO\",$D37,IF(MOD(COUNT($Q133:BP133)+1,6)=0,(BP133*$E37)+BP133,BP133)),\"NÃO\"),\"NÃO\")","v":"NÃO"},{"$f":"IF(AND(BR$8>=$M37,BR$8<=$N37),IF($F37=\"SEMESTRAL\",IF(BQ133=\"NÃO\",$D37,IF(MOD(COUNT($Q133:BQ133)+1,6)=0,(BQ133*$E37)+BQ133,BQ133)),\"NÃO\"),\"NÃO\")","v":"NÃO"},{"$f":"IF(AND(BS$8>=$M37,BS$8<=$N37),IF($F37=\"SEMESTRAL\",IF(BR133=\"NÃO\",$D37,IF(MOD(COUNT($Q133:BR133)+1,6)=0,(BR133*$E37)+BR133,BR133)),\"NÃO\"),\"NÃO\")","v":"NÃO"},{"$f":"IF(AND(BT$8>=$M37,BT$8<=$N37),IF($F37=\"SEMESTRAL\",IF(BS133=\"NÃO\",$D37,IF(MOD(COUNT($Q133:BS133)+1,6)=0,(BS133*$E37)+BS133,BS133)),\"NÃO\"),\"NÃO\")","v":"NÃO"},{"$f":"IF(AND(BU$8>=$M37,BU$8<=$N37),IF($F37=\"SEMESTRAL\",IF(BT133=\"NÃO\",$D37,IF(MOD(COUNT($Q133:BT133)+1,6)=0,(BT133*$E37)+BT133,BT133)),\"NÃO\"),\"NÃO\")","v":"NÃO"},{"$f":"IF(AND(BV$8>=$M37,BV$8<=$N37),IF($F37=\"SEMESTRAL\",IF(BU133=\"NÃO\",$D37,IF(MOD(COUNT($Q133:BU133)+1,6)=0,(BU133*$E37)+BU133,BU133)),\"NÃO\"),\"NÃO\")","v":"NÃO"},{"$f":"IF(AND(BW$8>=$M37,BW$8<=$N37),IF($F37=\"SEMESTRAL\",IF(BV133=\"NÃO\",$D37,IF(MOD(COUNT($Q133:BV133)+1,6)=0,(BV133*$E37)+BV133,BV133)),\"NÃO\"),\"NÃO\")","v":"NÃO"},{"$f":"IF(AND(BX$8>=$M37,BX$8<=$N37),IF($F37=\"SEMESTRAL\",IF(BW133=\"NÃO\",$D37,IF(MOD(COUNT($Q133:BW133)+1,6)=0,(BW133*$E37)+BW133,BW133)),\"NÃO\"),\"NÃO\")","v":"NÃO"}]
[null,null,null,null,null,null,null,null,null,null,null,null,null,null,null,30,"NÃO",{"$f":"IF(AND(R$8>=$M38,R$8<=$N38),IF($F38=\"SEMESTRAL\",IF(Q134=\"NÃO\",$D38,IF(MOD(COUNT($Q134:Q134)+1,6)=0,(Q134*$E38)+Q134,Q134)),\"NÃO\"),\"NÃO\")","v":"NÃO"},{"$f":"IF(AND(S$8>=$M38,S$8<=$N38),IF($F38=\"SEMESTRAL\",IF(R134=\"NÃO\",$D38,IF(MOD(COUNT($Q134:R134)+1,6)=0,(R134*$E38)+R134,R134)),\"NÃO\"),\"NÃO\")","v":"NÃO"},{"$f":"IF(AND(T$8>=$M38,T$8<=$N38),IF($F38=\"SEMESTRAL\",IF(S134=\"NÃO\",$D38,IF(MOD(COUNT($Q134:S134)+1,6)=0,(S134*$E38)+S134,S134)),\"NÃO\"),\"NÃO\")","v":"NÃO"},{"$f":"IF(AND(U$8>=$M38,U$8<=$N38),IF($F38=\"SEMESTRAL\",IF(T134=\"NÃO\",$D38,IF(MOD(COUNT($Q134:T134)+1,6)=0,(T134*$E38)+T134,T134)),\"NÃO\"),\"NÃO\")","v":"NÃO"},{"$f":"IF(AND(V$8>=$M38,V$8<=$N38),IF($F38=\"SEMESTRAL\",IF(U134=\"NÃO\",$D38,IF(MOD(COUNT($Q134:U134)+1,6)=0,(U134*$E38)+U134,U134)),\"NÃO\"),\"NÃO\")","v":"NÃO"},{"$f":"IF(AND(W$8>=$M38,W$8<=$N38),IF($F38=\"SEMESTRAL\",IF(V134=\"NÃO\",$D38,IF(MOD(COUNT($Q134:V134)+1,6)=0,(V134*$E38)+V134,V134)),\"NÃO\"),\"NÃO\")","v":"NÃO"},{"$f":"IF(AND(X$8>=$M38,X$8<=$N38),IF($F38=\"SEMESTRAL\",IF(W134=\"NÃO\",$D38,IF(MOD(COUNT($Q134:W134)+1,6)=0,(W134*$E38)+W134,W134)),\"NÃO\"),\"NÃO\")","v":"NÃO"},{"$f":"IF(AND(Y$8>=$M38,Y$8<=$N38),IF($F38=\"SEMESTRAL\",IF(X134=\"NÃO\",$D38,IF(MOD(COUNT($Q134:X134)+1,6)=0,(X134*$E38)+X134,X134)),\"NÃO\"),\"NÃO\")","v":"NÃO"},{"$f":"IF(AND(Z$8>=$M38,Z$8<=$N38),IF($F38=\"SEMESTRAL\",IF(Y134=\"NÃO\",$D38,IF(MOD(COUNT($Q134:Y134)+1,6)=0,(Y134*$E38)+Y134,Y134)),\"NÃO\"),\"NÃO\")","v":"NÃO"},{"$f":"IF(AND(AA$8>=$M38,AA$8<=$N38),IF($F38=\"SEMESTRAL\",IF(Z134=\"NÃO\",$D38,IF(MOD(COUNT($Q134:Z134)+1,6)=0,(Z134*$E38)+Z134,Z134)),\"NÃO\"),\"NÃO\")","v":"NÃO"},{"$f":"IF(AND(AB$8>=$M38,AB$8<=$N38),IF($F38=\"SEMESTRAL\",IF(AA134=\"NÃO\",$D38,IF(MOD(COUNT($Q134:AA134)+1,6)=0,(AA134*$E38)+AA134,AA134)),\"NÃO\"),\"NÃO\")","v":"NÃO"},{"$f":"IF(AND(AC$8>=$M38,AC$8<=$N38),IF($F38=\"SEMESTRAL\",IF(AB134=\"NÃO\",$D38,IF(MOD(COUNT($Q134:AB134)+1,6)=0,(AB134*$E38)+AB134,AB134)),\"NÃO\"),\"NÃO\")","v":"NÃO"},{"$f":"IF(AND(AD$8>=$M38,AD$8<=$N38),IF($F38=\"SEMESTRAL\",IF(AC134=\"NÃO\",$D38,IF(MOD(COUNT($Q134:AC134)+1,6)=0,(AC134*$E38)+AC134,AC134)),\"NÃO\"),\"NÃO\")","v":"NÃO"},{"$f":"IF(AND(AE$8>=$M38,AE$8<=$N38),IF($F38=\"SEMESTRAL\",IF(AD134=\"NÃO\",$D38,IF(MOD(COUNT($Q134:AD134)+1,6)=0,(AD134*$E38)+AD134,AD134)),\"NÃO\"),\"NÃO\")","v":"NÃO"},{"$f":"IF(AND(AF$8>=$M38,AF$8<=$N38),IF($F38=\"SEMESTRAL\",IF(AE134=\"NÃO\",$D38,IF(MOD(COUNT($Q134:AE134)+1,6)=0,(AE134*$E38)+AE134,AE134)),\"NÃO\"),\"NÃO\")","v":"NÃO"},{"$f":"IF(AND(AG$8>=$M38,AG$8<=$N38),IF($F38=\"SEMESTRAL\",IF(AF134=\"NÃO\",$D38,IF(MOD(COUNT($Q134:AF134)+1,6)=0,(AF134*$E38)+AF134,AF134)),\"NÃO\"),\"NÃO\")","v":"NÃO"},{"$f":"IF(AND(AH$8>=$M38,AH$8<=$N38),IF($F38=\"SEMESTRAL\",IF(AG134=\"NÃO\",$D38,IF(MOD(COUNT($Q134:AG134)+1,6)=0,(AG134*$E38)+AG134,AG134)),\"NÃO\"),\"NÃO\")","v":"NÃO"},{"$f":"IF(AND(AI$8>=$M38,AI$8<=$N38),IF($F38=\"SEMESTRAL\",IF(AH134=\"NÃO\",$D38,IF(MOD(COUNT($Q134:AH134)+1,6)=0,(AH134*$E38)+AH134,AH134)),\"NÃO\"),\"NÃO\")","v":"NÃO"},{"$f":"IF(AND(AJ$8>=$M38,AJ$8<=$N38),IF($F38=\"SEMESTRAL\",IF(AI134=\"NÃO\",$D38,IF(MOD(COUNT($Q134:AI134)+1,6)=0,(AI134*$E38)+AI134,AI134)),\"NÃO\"),\"NÃO\")","v":"NÃO"},{"$f":"IF(AND(AK$8>=$M38,AK$8<=$N38),IF($F38=\"SEMESTRAL\",IF(AJ134=\"NÃO\",$D38,IF(MOD(COUNT($Q134:AJ134)+1,6)=0,(AJ134*$E38)+AJ134,AJ134)),\"NÃO\"),\"NÃO\")","v":"NÃO"},{"$f":"IF(AND(AL$8>=$M38,AL$8<=$N38),IF($F38=\"SEMESTRAL\",IF(AK134=\"NÃO\",$D38,IF(MOD(COUNT($Q134:AK134)+1,6)=0,(AK134*$E38)+AK134,AK134)),\"NÃO\"),\"NÃO\")","v":"NÃO"},{"$f":"IF(AND(AM$8>=$M38,AM$8<=$N38),IF($F38=\"SEMESTRAL\",IF(AL134=\"NÃO\",$D38,IF(MOD(COUNT($Q134:AL134)+1,6)=0,(AL134*$E38)+AL134,AL134)),\"NÃO\"),\"NÃO\")","v":"NÃO"},{"$f":"IF(AND(AN$8>=$M38,AN$8<=$N38),IF($F38=\"SEMESTRAL\",IF(AM134=\"NÃO\",$D38,IF(MOD(COUNT($Q134:AM134)+1,6)=0,(AM134*$E38)+AM134,AM134)),\"NÃO\"),\"NÃO\")","v":"NÃO"},{"$f":"IF(AND(AO$8>=$M38,AO$8<=$N38),IF($F38=\"SEMESTRAL\",IF(AN134=\"NÃO\",$D38,IF(MOD(COUNT($Q134:AN134)+1,6)=0,(AN134*$E38)+AN134,AN134)),\"NÃO\"),\"NÃO\")","v":"NÃO"},{"$f":"IF(AND(AP$8>=$M38,AP$8<=$N38),IF($F38=\"SEMESTRAL\",IF(AO134=\"NÃO\",$D38,IF(MOD(COUNT($Q134:AO134)+1,6)=0,(AO134*$E38)+AO134,AO134)),\"NÃO\"),\"NÃO\")","v":"NÃO"},{"$f":"IF(AND(AQ$8>=$M38,AQ$8<=$N38),IF($F38=\"SEMESTRAL\",IF(AP134=\"NÃO\",$D38,IF(MOD(COUNT($Q134:AP134)+1,6)=0,(AP134*$E38)+AP134,AP134)),\"NÃO\"),\"NÃO\")","v":"NÃO"},{"$f":"IF(AND(AR$8>=$M38,AR$8<=$N38),IF($F38=\"SEMESTRAL\",IF(AQ134=\"NÃO\",$D38,IF(MOD(COUNT($Q134:AQ134)+1,6)=0,(AQ134*$E38)+AQ134,AQ134)),\"NÃO\"),\"NÃO\")","v":"NÃO"},{"$f":"IF(AND(AS$8>=$M38,AS$8<=$N38),IF($F38=\"SEMESTRAL\",IF(AR134=\"NÃO\",$D38,IF(MOD(COUNT($Q134:AR134)+1,6)=0,(AR134*$E38)+AR134,AR134)),\"NÃO\"),\"NÃO\")","v":"NÃO"},{"$f":"IF(AND(AT$8>=$M38,AT$8<=$N38),IF($F38=\"SEMESTRAL\",IF(AS134=\"NÃO\",$D38,IF(MOD(COUNT($Q134:AS134)+1,6)=0,(AS134*$E38)+AS134,AS134)),\"NÃO\"),\"NÃO\")","v":"NÃO"},{"$f":"IF(AND(AU$8>=$M38,AU$8<=$N38),IF($F38=\"SEMESTRAL\",IF(AT134=\"NÃO\",$D38,IF(MOD(COUNT($Q134:AT134)+1,6)=0,(AT134*$E38)+AT134,AT134)),\"NÃO\"),\"NÃO\")","v":"NÃO"},{"$f":"IF(AND(AV$8>=$M38,AV$8<=$N38),IF($F38=\"SEMESTRAL\",IF(AU134=\"NÃO\",$D38,IF(MOD(COUNT($Q134:AU134)+1,6)=0,(AU134*$E38)+AU134,AU134)),\"NÃO\"),\"NÃO\")","v":"NÃO"},{"$f":"IF(AND(AW$8>=$M38,AW$8<=$N38),IF($F38=\"SEMESTRAL\",IF(AV134=\"NÃO\",$D38,IF(MOD(COUNT($Q134:AV134)+1,6)=0,(AV134*$E38)+AV134,AV134)),\"NÃO\"),\"NÃO\")","v":"NÃO"},{"$f":"IF(AND(AX$8>=$M38,AX$8<=$N38),IF($F38=\"SEMESTRAL\",IF(AW134=\"NÃO\",$D38,IF(MOD(COUNT($Q134:AW134)+1,6)=0,(AW134*$E38)+AW134,AW134)),\"NÃO\"),\"NÃO\")","v":"NÃO"},{"$f":"IF(AND(AY$8>=$M38,AY$8<=$N38),IF($F38=\"SEMESTRAL\",IF(AX134=\"NÃO\",$D38,IF(MOD(COUNT($Q134:AX134)+1,6)=0,(AX134*$E38)+AX134,AX134)),\"NÃO\"),\"NÃO\")","v":"NÃO"},{"$f":"IF(AND(AZ$8>=$M38,AZ$8<=$N38),IF($F38=\"SEMESTRAL\",IF(AY134=\"NÃO\",$D38,IF(MOD(COUNT($Q134:AY134)+1,6)=0,(AY134*$E38)+AY134,AY134)),\"NÃO\"),\"NÃO\")","v":"NÃO"},{"$f":"IF(AND(BA$8>=$M38,BA$8<=$N38),IF($F38=\"SEMESTRAL\",IF(AZ134=\"NÃO\",$D38,IF(MOD(COUNT($Q134:AZ134)+1,6)=0,(AZ134*$E38)+AZ134,AZ134)),\"NÃO\"),\"NÃO\")","v":"NÃO"},{"$f":"IF(AND(BB$8>=$M38,BB$8<=$N38),IF($F38=\"SEMESTRAL\",IF(BA134=\"NÃO\",$D38,IF(MOD(COUNT($Q134:BA134)+1,6)=0,(BA134*$E38)+BA134,BA134)),\"NÃO\"),\"NÃO\")","v":"NÃO"},{"$f":"IF(AND(BC$8>=$M38,BC$8<=$N38),IF($F38=\"SEMESTRAL\",IF(BB134=\"NÃO\",$D38,IF(MOD(COUNT($Q134:BB134)+1,6)=0,(BB134*$E38)+BB134,BB134)),\"NÃO\"),\"NÃO\")","v":"NÃO"},{"$f":"IF(AND(BD$8>=$M38,BD$8<=$N38),IF($F38=\"SEMESTRAL\",IF(BC134=\"NÃO\",$D38,IF(MOD(COUNT($Q134:BC134)+1,6)=0,(BC134*$E38)+BC134,BC134)),\"NÃO\"),\"NÃO\")","v":"NÃO"},{"$f":"IF(AND(BE$8>=$M38,BE$8<=$N38),IF($F38=\"SEMESTRAL\",IF(BD134=\"NÃO\",$D38,IF(MOD(COUNT($Q134:BD134)+1,6)=0,(BD134*$E38)+BD134,BD134)),\"NÃO\"),\"NÃO\")","v":"NÃO"},{"$f":"IF(AND(BF$8>=$M38,BF$8<=$N38),IF($F38=\"SEMESTRAL\",IF(BE134=\"NÃO\",$D38,IF(MOD(COUNT($Q134:BE134)+1,6)=0,(BE134*$E38)+BE134,BE134)),\"NÃO\"),\"NÃO\")","v":"NÃO"},{"$f":"IF(AND(BG$8>=$M38,BG$8<=$N38),IF($F38=\"SEMESTRAL\",IF(BF134=\"NÃO\",$D38,IF(MOD(COUNT($Q134:BF134)+1,6)=0,(BF134*$E38)+BF134,BF134)),\"NÃO\"),\"NÃO\")","v":"NÃO"},{"$f":"IF(AND(BH$8>=$M38,BH$8<=$N38),IF($F38=\"SEMESTRAL\",IF(BG134=\"NÃO\",$D38,IF(MOD(COUNT($Q134:BG134)+1,6)=0,(BG134*$E38)+BG134,BG134)),\"NÃO\"),\"NÃO\")","v":"NÃO"},{"$f":"IF(AND(BI$8>=$M38,BI$8<=$N38),IF($F38=\"SEMESTRAL\",IF(BH134=\"NÃO\",$D38,IF(MOD(COUNT($Q134:BH134)+1,6)=0,(BH134*$E38)+BH134,BH134)),\"NÃO\"),\"NÃO\")","v":"NÃO"},{"$f":"IF(AND(BJ$8>=$M38,BJ$8<=$N38),IF($F38=\"SEMESTRAL\",IF(BI134=\"NÃO\",$D38,IF(MOD(COUNT($Q134:BI134)+1,6)=0,(BI134*$E38)+BI134,BI134)),\"NÃO\"),\"NÃO\")","v":"NÃO"},{"$f":"IF(AND(BK$8>=$M38,BK$8<=$N38),IF($F38=\"SEMESTRAL\",IF(BJ134=\"NÃO\",$D38,IF(MOD(COUNT($Q134:BJ134)+1,6)=0,(BJ134*$E38)+BJ134,BJ134)),\"NÃO\"),\"NÃO\")","v":"NÃO"},{"$f":"IF(AND(BL$8>=$M38,BL$8<=$N38),IF($F38=\"SEMESTRAL\",IF(BK134=\"NÃO\",$D38,IF(MOD(COUNT($Q134:BK134)+1,6)=0,(BK134*$E38)+BK134,BK134)),\"NÃO\"),\"NÃO\")","v":"NÃO"},{"$f":"IF(AND(BM$8>=$M38,BM$8<=$N38),IF($F38=\"SEMESTRAL\",IF(BL134=\"NÃO\",$D38,IF(MOD(COUNT($Q134:BL134)+1,6)=0,(BL134*$E38)+BL134,BL134)),\"NÃO\"),\"NÃO\")","v":"NÃO"},{"$f":"IF(AND(BN$8>=$M38,BN$8<=$N38),IF($F38=\"SEMESTRAL\",IF(BM134=\"NÃO\",$D38,IF(MOD(COUNT($Q134:BM134)+1,6)=0,(BM134*$E38)+BM134,BM134)),\"NÃO\"),\"NÃO\")","v":"NÃO"},{"$f":"IF(AND(BO$8>=$M38,BO$8<=$N38),IF($F38=\"SEMESTRAL\",IF(BN134=\"NÃO\",$D38,IF(MOD(COUNT($Q134:BN134)+1,6)=0,(BN134*$E38)+BN134,BN134)),\"NÃO\"),\"NÃO\")","v":"NÃO"},{"$f":"IF(AND(BP$8>=$M38,BP$8<=$N38),IF($F38=\"SEMESTRAL\",IF(BO134=\"NÃO\",$D38,IF(MOD(COUNT($Q134:BO134)+1,6)=0,(BO134*$E38)+BO134,BO134)),\"NÃO\"),\"NÃO\")","v":"NÃO"},{"$f":"IF(AND(BQ$8>=$M38,BQ$8<=$N38),IF($F38=\"SEMESTRAL\",IF(BP134=\"NÃO\",$D38,IF(MOD(COUNT($Q134:BP134)+1,6)=0,(BP134*$E38)+BP134,BP134)),\"NÃO\"),\"NÃO\")","v":"NÃO"},{"$f":"IF(AND(BR$8>=$M38,BR$8<=$N38),IF($F38=\"SEMESTRAL\",IF(BQ134=\"NÃO\",$D38,IF(MOD(COUNT($Q134:BQ134)+1,6)=0,(BQ134*$E38)+BQ134,BQ134)),\"NÃO\"),\"NÃO\")","v":"NÃO"},{"$f":"IF(AND(BS$8>=$M38,BS$8<=$N38),IF($F38=\"SEMESTRAL\",IF(BR134=\"NÃO\",$D38,IF(MOD(COUNT($Q134:BR134)+1,6)=0,(BR134*$E38)+BR134,BR134)),\"NÃO\"),\"NÃO\")","v":"NÃO"},{"$f":"IF(AND(BT$8>=$M38,BT$8<=$N38),IF($F38=\"SEMESTRAL\",IF(BS134=\"NÃO\",$D38,IF(MOD(COUNT($Q134:BS134)+1,6)=0,(BS134*$E38)+BS134,BS134)),\"NÃO\"),\"NÃO\")","v":"NÃO"},{"$f":"IF(AND(BU$8>=$M38,BU$8<=$N38),IF($F38=\"SEMESTRAL\",IF(BT134=\"NÃO\",$D38,IF(MOD(COUNT($Q134:BT134)+1,6)=0,(BT134*$E38)+BT134,BT134)),\"NÃO\"),\"NÃO\")","v":"NÃO"},{"$f":"IF(AND(BV$8>=$M38,BV$8<=$N38),IF($F38=\"SEMESTRAL\",IF(BU134=\"NÃO\",$D38,IF(MOD(COUNT($Q134:BU134)+1,6)=0,(BU134*$E38)+BU134,BU134)),\"NÃO\"),\"NÃO\")","v":"NÃO"},{"$f":"IF(AND(BW$8>=$M38,BW$8<=$N38),IF($F38=\"SEMESTRAL\",IF(BV134=\"NÃO\",$D38,IF(MOD(COUNT($Q134:BV134)+1,6)=0,(BV134*$E38)+BV134,BV134)),\"NÃO\"),\"NÃO\")","v":"NÃO"},{"$f":"IF(AND(BX$8>=$M38,BX$8<=$N38),IF($F38=\"SEMESTRAL\",IF(BW134=\"NÃO\",$D38,IF(MOD(COUNT($Q134:BW134)+1,6)=0,(BW134*$E38)+BW134,BW134)),\"NÃO\"),\"NÃO\")","v":"NÃO"}]
[null,null,null,null,null,null,null,null,null,null,null,null,null,null,null,null,"la","la","la","la","la","la","la","la","la","la","la","la","la","la","la","la","la","la","la","la","la","la","la","la","la","la","la","la","la","la","la","la","la","la","la","la","la","la","la","la","la","la","la","la","la","la","la","la","la","la","la","la","la","la","la","la","la","la","la","la"]
[null,null,null,null,null,null,null,null,null,null,null,null,null,null,null,"anual",1,2,3,4,5,6,7,8,9,10,11,12,13,14,15,16,17,18,19,20,21,22,23,24,25,26,27,28,29,30,31,32,33,34,35,36,37,38,39,40,41,42,43,44,45,46,47,48,49,50,51,52,53,54,55,56,57,58,59,60]
[null,null,null,null,null,null,null,null,null,null,null,null,null,null,null,1,{"$f":"IF(AND(Q$8>=$M9,Q$8<=$N9),IF($F9=\"ANUAL\",$D9,\"NÃO\"),\"NÃO\")","v":"NÃO"},{"$f":"IF(AND(R$8>=$M9,R$8<=$N9),IF($F9=\"ANUAL\",IF(Q137=\"NÃO\",$D9,IF(MOD(COUNT($Q137:Q137)+1,12)=0,(Q137*$E9)+Q137,Q137)),\"NÃO\"),\"NÃO\")","v":"NÃO"},{"$f":"IF(AND(S$8>=$M9,S$8<=$N9),IF($F9=\"ANUAL\",IF(R137=\"NÃO\",$D9,IF(MOD(COUNT($Q137:R137)+1,12)=0,(R137*$E9)+R137,R137)),\"NÃO\"),\"NÃO\")","v":"NÃO"},{"$f":"IF(AND(T$8>=$M9,T$8<=$N9),IF($F9=\"ANUAL\",IF(S137=\"NÃO\",$D9,IF(MOD(COUNT($Q137:S137)+1,12)=0,(S137*$E9)+S137,S137)),\"NÃO\"),\"NÃO\")","v":"NÃO"},{"$f":"IF(AND(U$8>=$M9,U$8<=$N9),IF($F9=\"ANUAL\",IF(T137=\"NÃO\",$D9,IF(MOD(COUNT($Q137:T137)+1,12)=0,(T137*$E9)+T137,T137)),\"NÃO\"),\"NÃO\")","v":"NÃO"},{"$f":"IF(AND(V$8>=$M9,V$8<=$N9),IF($F9=\"ANUAL\",IF(U137=\"NÃO\",$D9,IF(MOD(COUNT($Q137:U137)+1,12)=0,(U137*$E9)+U137,U137)),\"NÃO\"),\"NÃO\")","v":"NÃO"},{"$f":"IF(AND(W$8>=$M9,W$8<=$N9),IF($F9=\"ANUAL\",IF(V137=\"NÃO\",$D9,IF(MOD(COUNT($Q137:V137)+1,12)=0,(V137*$E9)+V137,V137)),\"NÃO\"),\"NÃO\")","v":"NÃO"},{"$f":"IF(AND(X$8>=$M9,X$8<=$N9),IF($F9=\"ANUAL\",IF(W137=\"NÃO\",$D9,IF(MOD(COUNT($Q137:W137)+1,12)=0,(W137*$E9)+W137,W137)),\"NÃO\"),\"NÃO\")","v":"NÃO"},{"$f":"IF(AND(Y$8>=$M9,Y$8<=$N9),IF($F9=\"ANUAL\",IF(X137=\"NÃO\",$D9,IF(MOD(COUNT($Q137:X137)+1,12)=0,(X137*$E9)+X137,X137)),\"NÃO\"),\"NÃO\")","v":"NÃO"},{"$f":"IF(AND(Z$8>=$M9,Z$8<=$N9),IF($F9=\"ANUAL\",IF(Y137=\"NÃO\",$D9,IF(MOD(COUNT($Q137:Y137)+1,12)=0,(Y137*$E9)+Y137,Y137)),\"NÃO\"),\"NÃO\")","v":"NÃO"},{"$f":"IF(AND(AA$8>=$M9,AA$8<=$N9),IF($F9=\"ANUAL\",IF(Z137=\"NÃO\",$D9,IF(MOD(COUNT($Q137:Z137)+1,12)=0,(Z137*$E9)+Z137,Z137)),\"NÃO\"),\"NÃO\")","v":"NÃO"},{"$f":"IF(AND(AB$8>=$M9,AB$8<=$N9),IF($F9=\"ANUAL\",IF(AA137=\"NÃO\",$D9,IF(MOD(COUNT($Q137:AA137)+1,12)=0,(AA137*$E9)+AA137,AA137)),\"NÃO\"),\"NÃO\")","v":"NÃO"},{"$f":"IF(AND(AC$8>=$M9,AC$8<=$N9),IF($F9=\"ANUAL\",IF(AB137=\"NÃO\",$D9,IF(MOD(COUNT($Q137:AB137)+1,12)=0,(AB137*$E9)+AB137,AB137)),\"NÃO\"),\"NÃO\")","v":"NÃO"},{"$f":"IF(AND(AD$8>=$M9,AD$8<=$N9),IF($F9=\"ANUAL\",IF(AC137=\"NÃO\",$D9,IF(MOD(COUNT($Q137:AC137)+1,12)=0,(AC137*$E9)+AC137,AC137)),\"NÃO\"),\"NÃO\")","v":"NÃO"},{"$f":"IF(AND(AE$8>=$M9,AE$8<=$N9),IF($F9=\"ANUAL\",IF(AD137=\"NÃO\",$D9,IF(MOD(COUNT($Q137:AD137)+1,12)=0,(AD137*$E9)+AD137,AD137)),\"NÃO\"),\"NÃO\")","v":"NÃO"},{"$f":"IF(AND(AF$8>=$M9,AF$8<=$N9),IF($F9=\"ANUAL\",IF(AE137=\"NÃO\",$D9,IF(MOD(COUNT($Q137:AE137)+1,12)=0,(AE137*$E9)+AE137,AE137)),\"NÃO\"),\"NÃO\")","v":"NÃO"},{"$f":"IF(AND(AG$8>=$M9,AG$8<=$N9),IF($F9=\"ANUAL\",IF(AF137=\"NÃO\",$D9,IF(MOD(COUNT($Q137:AF137)+1,12)=0,(AF137*$E9)+AF137,AF137)),\"NÃO\"),\"NÃO\")","v":"NÃO"},{"$f":"IF(AND(AH$8>=$M9,AH$8<=$N9),IF($F9=\"ANUAL\",IF(AG137=\"NÃO\",$D9,IF(MOD(COUNT($Q137:AG137)+1,12)=0,(AG137*$E9)+AG137,AG137)),\"NÃO\"),\"NÃO\")","v":"NÃO"},{"$f":"IF(AND(AI$8>=$M9,AI$8<=$N9),IF($F9=\"ANUAL\",IF(AH137=\"NÃO\",$D9,IF(MOD(COUNT($Q137:AH137)+1,12)=0,(AH137*$E9)+AH137,AH137)),\"NÃO\"),\"NÃO\")","v":"NÃO"},{"$f":"IF(AND(AJ$8>=$M9,AJ$8<=$N9),IF($F9=\"ANUAL\",IF(AI137=\"NÃO\",$D9,IF(MOD(COUNT($Q137:AI137)+1,12)=0,(AI137*$E9)+AI137,AI137)),\"NÃO\"),\"NÃO\")","v":"NÃO"},{"$f":"IF(AND(AK$8>=$M9,AK$8<=$N9),IF($F9=\"ANUAL\",IF(AJ137=\"NÃO\",$D9,IF(MOD(COUNT($Q137:AJ137)+1,12)=0,(AJ137*$E9)+AJ137,AJ137)),\"NÃO\"),\"NÃO\")","v":"NÃO"},{"$f":"IF(AND(AL$8>=$M9,AL$8<=$N9),IF($F9=\"ANUAL\",IF(AK137=\"NÃO\",$D9,IF(MOD(COUNT($Q137:AK137)+1,12)=0,(AK137*$E9)+AK137,AK137)),\"NÃO\"),\"NÃO\")","v":"NÃO"},{"$f":"IF(AND(AM$8>=$M9,AM$8<=$N9),IF($F9=\"ANUAL\",IF(AL137=\"NÃO\",$D9,IF(MOD(COUNT($Q137:AL137)+1,12)=0,(AL137*$E9)+AL137,AL137)),\"NÃO\"),\"NÃO\")","v":"NÃO"},{"$f":"IF(AND(AN$8>=$M9,AN$8<=$N9),IF($F9=\"ANUAL\",IF(AM137=\"NÃO\",$D9,IF(MOD(COUNT($Q137:AM137)+1,12)=0,(AM137*$E9)+AM137,AM137)),\"NÃO\"),\"NÃO\")","v":"NÃO"},{"$f":"IF(AND(AO$8>=$M9,AO$8<=$N9),IF($F9=\"ANUAL\",IF(AN137=\"NÃO\",$D9,IF(MOD(COUNT($Q137:AN137)+1,12)=0,(AN137*$E9)+AN137,AN137)),\"NÃO\"),\"NÃO\")","v":"NÃO"},{"$f":"IF(AND(AP$8>=$M9,AP$8<=$N9),IF($F9=\"ANUAL\",IF(AO137=\"NÃO\",$D9,IF(MOD(COUNT($Q137:AO137)+1,12)=0,(AO137*$E9)+AO137,AO137)),\"NÃO\"),\"NÃO\")","v":"NÃO"},{"$f":"IF(AND(AQ$8>=$M9,AQ$8<=$N9),IF($F9=\"ANUAL\",IF(AP137=\"NÃO\",$D9,IF(MOD(COUNT($Q137:AP137)+1,12)=0,(AP137*$E9)+AP137,AP137)),\"NÃO\"),\"NÃO\")","v":"NÃO"},{"$f":"IF(AND(AR$8>=$M9,AR$8<=$N9),IF($F9=\"ANUAL\",IF(AQ137=\"NÃO\",$D9,IF(MOD(COUNT($Q137:AQ137)+1,12)=0,(AQ137*$E9)+AQ137,AQ137)),\"NÃO\"),\"NÃO\")","v":"NÃO"},{"$f":"IF(AND(AS$8>=$M9,AS$8<=$N9),IF($F9=\"ANUAL\",IF(AR137=\"NÃO\",$D9,IF(MOD(COUNT($Q137:AR137)+1,12)=0,(AR137*$E9)+AR137,AR137)),\"NÃO\"),\"NÃO\")","v":"NÃO"},{"$f":"IF(AND(AT$8>=$M9,AT$8<=$N9),IF($F9=\"ANUAL\",IF(AS137=\"NÃO\",$D9,IF(MOD(COUNT($Q137:AS137)+1,12)=0,(AS137*$E9)+AS137,AS137)),\"NÃO\"),\"NÃO\")","v":"NÃO"},{"$f":"IF(AND(AU$8>=$M9,AU$8<=$N9),IF($F9=\"ANUAL\",IF(AT137=\"NÃO\",$D9,IF(MOD(COUNT($Q137:AT137)+1,12)=0,(AT137*$E9)+AT137,AT137)),\"NÃO\"),\"NÃO\")","v":"NÃO"},{"$f":"IF(AND(AV$8>=$M9,AV$8<=$N9),IF($F9=\"ANUAL\",IF(AU137=\"NÃO\",$D9,IF(MOD(COUNT($Q137:AU137)+1,12)=0,(AU137*$E9)+AU137,AU137)),\"NÃO\"),\"NÃO\")","v":"NÃO"},{"$f":"IF(AND(AW$8>=$M9,AW$8<=$N9),IF($F9=\"ANUAL\",IF(AV137=\"NÃO\",$D9,IF(MOD(COUNT($Q137:AV137)+1,12)=0,(AV137*$E9)+AV137,AV137)),\"NÃO\"),\"NÃO\")","v":"NÃO"},{"$f":"IF(AND(AX$8>=$M9,AX$8<=$N9),IF($F9=\"ANUAL\",IF(AW137=\"NÃO\",$D9,IF(MOD(COUNT($Q137:AW137)+1,12)=0,(AW137*$E9)+AW137,AW137)),\"NÃO\"),\"NÃO\")","v":"NÃO"},{"$f":"IF(AND(AY$8>=$M9,AY$8<=$N9),IF($F9=\"ANUAL\",IF(AX137=\"NÃO\",$D9,IF(MOD(COUNT($Q137:AX137)+1,12)=0,(AX137*$E9)+AX137,AX137)),\"NÃO\"),\"NÃO\")","v":"NÃO"},{"$f":"IF(AND(AZ$8>=$M9,AZ$8<=$N9),IF($F9=\"ANUAL\",IF(AY137=\"NÃO\",$D9,IF(MOD(COUNT($Q137:AY137)+1,12)=0,(AY137*$E9)+AY137,AY137)),\"NÃO\"),\"NÃO\")","v":"NÃO"},{"$f":"IF(AND(BA$8>=$M9,BA$8<=$N9),IF($F9=\"ANUAL\",IF(AZ137=\"NÃO\",$D9,IF(MOD(COUNT($Q137:AZ137)+1,12)=0,(AZ137*$E9)+AZ137,AZ137)),\"NÃO\"),\"NÃO\")","v":"NÃO"},{"$f":"IF(AND(BB$8>=$M9,BB$8<=$N9),IF($F9=\"ANUAL\",IF(BA137=\"NÃO\",$D9,IF(MOD(COUNT($Q137:BA137)+1,12)=0,(BA137*$E9)+BA137,BA137)),\"NÃO\"),\"NÃO\")","v":"NÃO"},{"$f":"IF(AND(BC$8>=$M9,BC$8<=$N9),IF($F9=\"ANUAL\",IF(BB137=\"NÃO\",$D9,IF(MOD(COUNT($Q137:BB137)+1,12)=0,(BB137*$E9)+BB137,BB137)),\"NÃO\"),\"NÃO\")","v":"NÃO"},{"$f":"IF(AND(BD$8>=$M9,BD$8<=$N9),IF($F9=\"ANUAL\",IF(BC137=\"NÃO\",$D9,IF(MOD(COUNT($Q137:BC137)+1,12)=0,(BC137*$E9)+BC137,BC137)),\"NÃO\"),\"NÃO\")","v":"NÃO"},{"$f":"IF(AND(BE$8>=$M9,BE$8<=$N9),IF($F9=\"ANUAL\",IF(BD137=\"NÃO\",$D9,IF(MOD(COUNT($Q137:BD137)+1,12)=0,(BD137*$E9)+BD137,BD137)),\"NÃO\"),\"NÃO\")","v":"NÃO"},{"$f":"IF(AND(BF$8>=$M9,BF$8<=$N9),IF($F9=\"ANUAL\",IF(BE137=\"NÃO\",$D9,IF(MOD(COUNT($Q137:BE137)+1,12)=0,(BE137*$E9)+BE137,BE137)),\"NÃO\"),\"NÃO\")","v":"NÃO"},{"$f":"IF(AND(BG$8>=$M9,BG$8<=$N9),IF($F9=\"ANUAL\",IF(BF137=\"NÃO\",$D9,IF(MOD(COUNT($Q137:BF137)+1,12)=0,(BF137*$E9)+BF137,BF137)),\"NÃO\"),\"NÃO\")","v":"NÃO"},{"$f":"IF(AND(BH$8>=$M9,BH$8<=$N9),IF($F9=\"ANUAL\",IF(BG137=\"NÃO\",$D9,IF(MOD(COUNT($Q137:BG137)+1,12)=0,(BG137*$E9)+BG137,BG137)),\"NÃO\"),\"NÃO\")","v":"NÃO"},{"$f":"IF(AND(BI$8>=$M9,BI$8<=$N9),IF($F9=\"ANUAL\",IF(BH137=\"NÃO\",$D9,IF(MOD(COUNT($Q137:BH137)+1,12)=0,(BH137*$E9)+BH137,BH137)),\"NÃO\"),\"NÃO\")","v":"NÃO"},{"$f":"IF(AND(BJ$8>=$M9,BJ$8<=$N9),IF($F9=\"ANUAL\",IF(BI137=\"NÃO\",$D9,IF(MOD(COUNT($Q137:BI137)+1,12)=0,(BI137*$E9)+BI137,BI137)),\"NÃO\"),\"NÃO\")","v":"NÃO"},{"$f":"IF(AND(BK$8>=$M9,BK$8<=$N9),IF($F9=\"ANUAL\",IF(BJ137=\"NÃO\",$D9,IF(MOD(COUNT($Q137:BJ137)+1,12)=0,(BJ137*$E9)+BJ137,BJ137)),\"NÃO\"),\"NÃO\")","v":"NÃO"},{"$f":"IF(AND(BL$8>=$M9,BL$8<=$N9),IF($F9=\"ANUAL\",IF(BK137=\"NÃO\",$D9,IF(MOD(COUNT($Q137:BK137)+1,12)=0,(BK137*$E9)+BK137,BK137)),\"NÃO\"),\"NÃO\")","v":"NÃO"},{"$f":"IF(AND(BM$8>=$M9,BM$8<=$N9),IF($F9=\"ANUAL\",IF(BL137=\"NÃO\",$D9,IF(MOD(COUNT($Q137:BL137)+1,12)=0,(BL137*$E9)+BL137,BL137)),\"NÃO\"),\"NÃO\")","v":"NÃO"},{"$f":"IF(AND(BN$8>=$M9,BN$8<=$N9),IF($F9=\"ANUAL\",IF(BM137=\"NÃO\",$D9,IF(MOD(COUNT($Q137:BM137)+1,12)=0,(BM137*$E9)+BM137,BM137)),\"NÃO\"),\"NÃO\")","v":"NÃO"},{"$f":"IF(AND(BO$8>=$M9,BO$8<=$N9),IF($F9=\"ANUAL\",IF(BN137=\"NÃO\",$D9,IF(MOD(COUNT($Q137:BN137)+1,12)=0,(BN137*$E9)+BN137,BN137)),\"NÃO\"),\"NÃO\")","v":"NÃO"},{"$f":"IF(AND(BP$8>=$M9,BP$8<=$N9),IF($F9=\"ANUAL\",IF(BO137=\"NÃO\",$D9,IF(MOD(COUNT($Q137:BO137)+1,12)=0,(BO137*$E9)+BO137,BO137)),\"NÃO\"),\"NÃO\")","v":"NÃO"},{"$f":"IF(AND(BQ$8>=$M9,BQ$8<=$N9),IF($F9=\"ANUAL\",IF(BP137=\"NÃO\",$D9,IF(MOD(COUNT($Q137:BP137)+1,12)=0,(BP137*$E9)+BP137,BP137)),\"NÃO\"),\"NÃO\")","v":"NÃO"},{"$f":"IF(AND(BR$8>=$M9,BR$8<=$N9),IF($F9=\"ANUAL\",IF(BQ137=\"NÃO\",$D9,IF(MOD(COUNT($Q137:BQ137)+1,12)=0,(BQ137*$E9)+BQ137,BQ137)),\"NÃO\"),\"NÃO\")","v":"NÃO"},{"$f":"IF(AND(BS$8>=$M9,BS$8<=$N9),IF($F9=\"ANUAL\",IF(BR137=\"NÃO\",$D9,IF(MOD(COUNT($Q137:BR137)+1,12)=0,(BR137*$E9)+BR137,BR137)),\"NÃO\"),\"NÃO\")","v":"NÃO"},{"$f":"IF(AND(BT$8>=$M9,BT$8<=$N9),IF($F9=\"ANUAL\",IF(BS137=\"NÃO\",$D9,IF(MOD(COUNT($Q137:BS137)+1,12)=0,(BS137*$E9)+BS137,BS137)),\"NÃO\"),\"NÃO\")","v":"NÃO"},{"$f":"IF(AND(BU$8>=$M9,BU$8<=$N9),IF($F9=\"ANUAL\",IF(BT137=\"NÃO\",$D9,IF(MOD(COUNT($Q137:BT137)+1,12)=0,(BT137*$E9)+BT137,BT137)),\"NÃO\"),\"NÃO\")","v":"NÃO"},{"$f":"IF(AND(BV$8>=$M9,BV$8<=$N9),IF($F9=\"ANUAL\",IF(BU137=\"NÃO\",$D9,IF(MOD(COUNT($Q137:BU137)+1,12)=0,(BU137*$E9)+BU137,BU137)),\"NÃO\"),\"NÃO\")","v":"NÃO"},{"$f":"IF(AND(BW$8>=$M9,BW$8<=$N9),IF($F9=\"ANUAL\",IF(BV137=\"NÃO\",$D9,IF(MOD(COUNT($Q137:BV137)+1,12)=0,(BV137*$E9)+BV137,BV137)),\"NÃO\"),\"NÃO\")","v":"NÃO"},{"$f":"IF(AND(BX$8>=$M9,BX$8<=$N9),IF($F9=\"ANUAL\",IF(BW137=\"NÃO\",$D9,IF(MOD(COUNT($Q137:BW137)+1,12)=0,(BW137*$E9)+BW137,BW137)),\"NÃO\"),\"NÃO\")","v":"NÃO"}]
[null,null,null,null,null,null,null,null,null,null,null,null,null,null,null,2,{"$f":"IF(AND(Q$8>=$M10,Q$8<=$N10),IF($F10=\"ANUAL\",$D10,\"NÃO\"),\"NÃO\")","v":"NÃO"},{"$f":"IF(AND(R$8>=$M10,R$8<=$N10),IF($F10=\"ANUAL\",IF(Q138=\"NÃO\",$D10,IF(MOD(COUNT($Q138:Q138)+1,12)=0,(Q138*$E10)+Q138,Q138)),\"NÃO\"),\"NÃO\")","v":"NÃO"},{"$f":"IF(AND(S$8>=$M10,S$8<=$N10),IF($F10=\"ANUAL\",IF(R138=\"NÃO\",$D10,IF(MOD(COUNT($Q138:R138)+1,12)=0,(R138*$E10)+R138,R138)),\"NÃO\"),\"NÃO\")","v":"NÃO"},{"$f":"IF(AND(T$8>=$M10,T$8<=$N10),IF($F10=\"ANUAL\",IF(S138=\"NÃO\",$D10,IF(MOD(COUNT($Q138:S138)+1,12)=0,(S138*$E10)+S138,S138)),\"NÃO\"),\"NÃO\")","v":"NÃO"},{"$f":"IF(AND(U$8>=$M10,U$8<=$N10),IF($F10=\"ANUAL\",IF(T138=\"NÃO\",$D10,IF(MOD(COUNT($Q138:T138)+1,12)=0,(T138*$E10)+T138,T138)),\"NÃO\"),\"NÃO\")","v":"NÃO"},{"$f":"IF(AND(V$8>=$M10,V$8<=$N10),IF($F10=\"ANUAL\",IF(U138=\"NÃO\",$D10,IF(MOD(COUNT($Q138:U138)+1,12)=0,(U138*$E10)+U138,U138)),\"NÃO\"),\"NÃO\")","v":"NÃO"},{"$f":"IF(AND(W$8>=$M10,W$8<=$N10),IF($F10=\"ANUAL\",IF(V138=\"NÃO\",$D10,IF(MOD(COUNT($Q138:V138)+1,12)=0,(V138*$E10)+V138,V138)),\"NÃO\"),\"NÃO\")","v":"NÃO"},{"$f":"IF(AND(X$8>=$M10,X$8<=$N10),IF($F10=\"ANUAL\",IF(W138=\"NÃO\",$D10,IF(MOD(COUNT($Q138:W138)+1,12)=0,(W138*$E10)+W138,W138)),\"NÃO\"),\"NÃO\")","v":"NÃO"},{"$f":"IF(AND(Y$8>=$M10,Y$8<=$N10),IF($F10=\"ANUAL\",IF(X138=\"NÃO\",$D10,IF(MOD(COUNT($Q138:X138)+1,12)=0,(X138*$E10)+X138,X138)),\"NÃO\"),\"NÃO\")","v":"NÃO"},{"$f":"IF(AND(Z$8>=$M10,Z$8<=$N10),IF($F10=\"ANUAL\",IF(Y138=\"NÃO\",$D10,IF(MOD(COUNT($Q138:Y138)+1,12)=0,(Y138*$E10)+Y138,Y138)),\"NÃO\"),\"NÃO\")","v":"NÃO"},{"$f":"IF(AND(AA$8>=$M10,AA$8<=$N10),IF($F10=\"ANUAL\",IF(Z138=\"NÃO\",$D10,IF(MOD(COUNT($Q138:Z138)+1,12)=0,(Z138*$E10)+Z138,Z138)),\"NÃO\"),\"NÃO\")","v":"NÃO"},{"$f":"IF(AND(AB$8>=$M10,AB$8<=$N10),IF($F10=\"ANUAL\",IF(AA138=\"NÃO\",$D10,IF(MOD(COUNT($Q138:AA138)+1,12)=0,(AA138*$E10)+AA138,AA138)),\"NÃO\"),\"NÃO\")","v":"NÃO"},{"$f":"IF(AND(AC$8>=$M10,AC$8<=$N10),IF($F10=\"ANUAL\",IF(AB138=\"NÃO\",$D10,IF(MOD(COUNT($Q138:AB138)+1,12)=0,(AB138*$E10)+AB138,AB138)),\"NÃO\"),\"NÃO\")","v":"NÃO"},{"$f":"IF(AND(AD$8>=$M10,AD$8<=$N10),IF($F10=\"ANUAL\",IF(AC138=\"NÃO\",$D10,IF(MOD(COUNT($Q138:AC138)+1,12)=0,(AC138*$E10)+AC138,AC138)),\"NÃO\"),\"NÃO\")","v":"NÃO"},{"$f":"IF(AND(AE$8>=$M10,AE$8<=$N10),IF($F10=\"ANUAL\",IF(AD138=\"NÃO\",$D10,IF(MOD(COUNT($Q138:AD138)+1,12)=0,(AD138*$E10)+AD138,AD138)),\"NÃO\"),\"NÃO\")","v":"NÃO"},{"$f":"IF(AND(AF$8>=$M10,AF$8<=$N10),IF($F10=\"ANUAL\",IF(AE138=\"NÃO\",$D10,IF(MOD(COUNT($Q138:AE138)+1,12)=0,(AE138*$E10)+AE138,AE138)),\"NÃO\"),\"NÃO\")","v":"NÃO"},{"$f":"IF(AND(AG$8>=$M10,AG$8<=$N10),IF($F10=\"ANUAL\",IF(AF138=\"NÃO\",$D10,IF(MOD(COUNT($Q138:AF138)+1,12)=0,(AF138*$E10)+AF138,AF138)),\"NÃO\"),\"NÃO\")","v":"NÃO"},{"$f":"IF(AND(AH$8>=$M10,AH$8<=$N10),IF($F10=\"ANUAL\",IF(AG138=\"NÃO\",$D10,IF(MOD(COUNT($Q138:AG138)+1,12)=0,(AG138*$E10)+AG138,AG138)),\"NÃO\"),\"NÃO\")","v":"NÃO"},{"$f":"IF(AND(AI$8>=$M10,AI$8<=$N10),IF($F10=\"ANUAL\",IF(AH138=\"NÃO\",$D10,IF(MOD(COUNT($Q138:AH138)+1,12)=0,(AH138*$E10)+AH138,AH138)),\"NÃO\"),\"NÃO\")","v":"NÃO"},{"$f":"IF(AND(AJ$8>=$M10,AJ$8<=$N10),IF($F10=\"ANUAL\",IF(AI138=\"NÃO\",$D10,IF(MOD(COUNT($Q138:AI138)+1,12)=0,(AI138*$E10)+AI138,AI138)),\"NÃO\"),\"NÃO\")","v":"NÃO"},{"$f":"IF(AND(AK$8>=$M10,AK$8<=$N10),IF($F10=\"ANUAL\",IF(AJ138=\"NÃO\",$D10,IF(MOD(COUNT($Q138:AJ138)+1,12)=0,(AJ138*$E10)+AJ138,AJ138)),\"NÃO\"),\"NÃO\")","v":"NÃO"},{"$f":"IF(AND(AL$8>=$M10,AL$8<=$N10),IF($F10=\"ANUAL\",IF(AK138=\"NÃO\",$D10,IF(MOD(COUNT($Q138:AK138)+1,12)=0,(AK138*$E10)+AK138,AK138)),\"NÃO\"),\"NÃO\")","v":"NÃO"},{"$f":"IF(AND(AM$8>=$M10,AM$8<=$N10),IF($F10=\"ANUAL\",IF(AL138=\"NÃO\",$D10,IF(MOD(COUNT($Q138:AL138)+1,12)=0,(AL138*$E10)+AL138,AL138)),\"NÃO\"),\"NÃO\")","v":"NÃO"},{"$f":"IF(AND(AN$8>=$M10,AN$8<=$N10),IF($F10=\"ANUAL\",IF(AM138=\"NÃO\",$D10,IF(MOD(COUNT($Q138:AM138)+1,12)=0,(AM138*$E10)+AM138,AM138)),\"NÃO\"),\"NÃO\")","v":"NÃO"},{"$f":"IF(AND(AO$8>=$M10,AO$8<=$N10),IF($F10=\"ANUAL\",IF(AN138=\"NÃO\",$D10,IF(MOD(COUNT($Q138:AN138)+1,12)=0,(AN138*$E10)+AN138,AN138)),\"NÃO\"),\"NÃO\")","v":"NÃO"},{"$f":"IF(AND(AP$8>=$M10,AP$8<=$N10),IF($F10=\"ANUAL\",IF(AO138=\"NÃO\",$D10,IF(MOD(COUNT($Q138:AO138)+1,12)=0,(AO138*$E10)+AO138,AO138)),\"NÃO\"),\"NÃO\")","v":"NÃO"},{"$f":"IF(AND(AQ$8>=$M10,AQ$8<=$N10),IF($F10=\"ANUAL\",IF(AP138=\"NÃO\",$D10,IF(MOD(COUNT($Q138:AP138)+1,12)=0,(AP138*$E10)+AP138,AP138)),\"NÃO\"),\"NÃO\")","v":"NÃO"},{"$f":"IF(AND(AR$8>=$M10,AR$8<=$N10),IF($F10=\"ANUAL\",IF(AQ138=\"NÃO\",$D10,IF(MOD(COUNT($Q138:AQ138)+1,12)=0,(AQ138*$E10)+AQ138,AQ138)),\"NÃO\"),\"NÃO\")","v":"NÃO"},{"$f":"IF(AND(AS$8>=$M10,AS$8<=$N10),IF($F10=\"ANUAL\",IF(AR138=\"NÃO\",$D10,IF(MOD(COUNT($Q138:AR138)+1,12)=0,(AR138*$E10)+AR138,AR138)),\"NÃO\"),\"NÃO\")","v":"NÃO"},{"$f":"IF(AND(AT$8>=$M10,AT$8<=$N10),IF($F10=\"ANUAL\",IF(AS138=\"NÃO\",$D10,IF(MOD(COUNT($Q138:AS138)+1,12)=0,(AS138*$E10)+AS138,AS138)),\"NÃO\"),\"NÃO\")","v":"NÃO"},{"$f":"IF(AND(AU$8>=$M10,AU$8<=$N10),IF($F10=\"ANUAL\",IF(AT138=\"NÃO\",$D10,IF(MOD(COUNT($Q138:AT138)+1,12)=0,(AT138*$E10)+AT138,AT138)),\"NÃO\"),\"NÃO\")","v":"NÃO"},{"$f":"IF(AND(AV$8>=$M10,AV$8<=$N10),IF($F10=\"ANUAL\",IF(AU138=\"NÃO\",$D10,IF(MOD(COUNT($Q138:AU138)+1,12)=0,(AU138*$E10)+AU138,AU138)),\"NÃO\"),\"NÃO\")","v":"NÃO"},{"$f":"IF(AND(AW$8>=$M10,AW$8<=$N10),IF($F10=\"ANUAL\",IF(AV138=\"NÃO\",$D10,IF(MOD(COUNT($Q138:AV138)+1,12)=0,(AV138*$E10)+AV138,AV138)),\"NÃO\"),\"NÃO\")","v":"NÃO"},{"$f":"IF(AND(AX$8>=$M10,AX$8<=$N10),IF($F10=\"ANUAL\",IF(AW138=\"NÃO\",$D10,IF(MOD(COUNT($Q138:AW138)+1,12)=0,(AW138*$E10)+AW138,AW138)),\"NÃO\"),\"NÃO\")","v":"NÃO"},{"$f":"IF(AND(AY$8>=$M10,AY$8<=$N10),IF($F10=\"ANUAL\",IF(AX138=\"NÃO\",$D10,IF(MOD(COUNT($Q138:AX138)+1,12)=0,(AX138*$E10)+AX138,AX138)),\"NÃO\"),\"NÃO\")","v":"NÃO"},{"$f":"IF(AND(AZ$8>=$M10,AZ$8<=$N10),IF($F10=\"ANUAL\",IF(AY138=\"NÃO\",$D10,IF(MOD(COUNT($Q138:AY138)+1,12)=0,(AY138*$E10)+AY138,AY138)),\"NÃO\"),\"NÃO\")","v":"NÃO"},{"$f":"IF(AND(BA$8>=$M10,BA$8<=$N10),IF($F10=\"ANUAL\",IF(AZ138=\"NÃO\",$D10,IF(MOD(COUNT($Q138:AZ138)+1,12)=0,(AZ138*$E10)+AZ138,AZ138)),\"NÃO\"),\"NÃO\")","v":"NÃO"},{"$f":"IF(AND(BB$8>=$M10,BB$8<=$N10),IF($F10=\"ANUAL\",IF(BA138=\"NÃO\",$D10,IF(MOD(COUNT($Q138:BA138)+1,12)=0,(BA138*$E10)+BA138,BA138)),\"NÃO\"),\"NÃO\")","v":"NÃO"},{"$f":"IF(AND(BC$8>=$M10,BC$8<=$N10),IF($F10=\"ANUAL\",IF(BB138=\"NÃO\",$D10,IF(MOD(COUNT($Q138:BB138)+1,12)=0,(BB138*$E10)+BB138,BB138)),\"NÃO\"),\"NÃO\")","v":"NÃO"},{"$f":"IF(AND(BD$8>=$M10,BD$8<=$N10),IF($F10=\"ANUAL\",IF(BC138=\"NÃO\",$D10,IF(MOD(COUNT($Q138:BC138)+1,12)=0,(BC138*$E10)+BC138,BC138)),\"NÃO\"),\"NÃO\")","v":"NÃO"},{"$f":"IF(AND(BE$8>=$M10,BE$8<=$N10),IF($F10=\"ANUAL\",IF(BD138=\"NÃO\",$D10,IF(MOD(COUNT($Q138:BD138)+1,12)=0,(BD138*$E10)+BD138,BD138)),\"NÃO\"),\"NÃO\")","v":"NÃO"},{"$f":"IF(AND(BF$8>=$M10,BF$8<=$N10),IF($F10=\"ANUAL\",IF(BE138=\"NÃO\",$D10,IF(MOD(COUNT($Q138:BE138)+1,12)=0,(BE138*$E10)+BE138,BE138)),\"NÃO\"),\"NÃO\")","v":"NÃO"},{"$f":"IF(AND(BG$8>=$M10,BG$8<=$N10),IF($F10=\"ANUAL\",IF(BF138=\"NÃO\",$D10,IF(MOD(COUNT($Q138:BF138)+1,12)=0,(BF138*$E10)+BF138,BF138)),\"NÃO\"),\"NÃO\")","v":"NÃO"},{"$f":"IF(AND(BH$8>=$M10,BH$8<=$N10),IF($F10=\"ANUAL\",IF(BG138=\"NÃO\",$D10,IF(MOD(COUNT($Q138:BG138)+1,12)=0,(BG138*$E10)+BG138,BG138)),\"NÃO\"),\"NÃO\")","v":"NÃO"},{"$f":"IF(AND(BI$8>=$M10,BI$8<=$N10),IF($F10=\"ANUAL\",IF(BH138=\"NÃO\",$D10,IF(MOD(COUNT($Q138:BH138)+1,12)=0,(BH138*$E10)+BH138,BH138)),\"NÃO\"),\"NÃO\")","v":"NÃO"},{"$f":"IF(AND(BJ$8>=$M10,BJ$8<=$N10),IF($F10=\"ANUAL\",IF(BI138=\"NÃO\",$D10,IF(MOD(COUNT($Q138:BI138)+1,12)=0,(BI138*$E10)+BI138,BI138)),\"NÃO\"),\"NÃO\")","v":"NÃO"},{"$f":"IF(AND(BK$8>=$M10,BK$8<=$N10),IF($F10=\"ANUAL\",IF(BJ138=\"NÃO\",$D10,IF(MOD(COUNT($Q138:BJ138)+1,12)=0,(BJ138*$E10)+BJ138,BJ138)),\"NÃO\"),\"NÃO\")","v":"NÃO"},{"$f":"IF(AND(BL$8>=$M10,BL$8<=$N10),IF($F10=\"ANUAL\",IF(BK138=\"NÃO\",$D10,IF(MOD(COUNT($Q138:BK138)+1,12)=0,(BK138*$E10)+BK138,BK138)),\"NÃO\"),\"NÃO\")","v":"NÃO"},{"$f":"IF(AND(BM$8>=$M10,BM$8<=$N10),IF($F10=\"ANUAL\",IF(BL138=\"NÃO\",$D10,IF(MOD(COUNT($Q138:BL138)+1,12)=0,(BL138*$E10)+BL138,BL138)),\"NÃO\"),\"NÃO\")","v":"NÃO"},{"$f":"IF(AND(BN$8>=$M10,BN$8<=$N10),IF($F10=\"ANUAL\",IF(BM138=\"NÃO\",$D10,IF(MOD(COUNT($Q138:BM138)+1,12)=0,(BM138*$E10)+BM138,BM138)),\"NÃO\"),\"NÃO\")","v":"NÃO"},{"$f":"IF(AND(BO$8>=$M10,BO$8<=$N10),IF($F10=\"ANUAL\",IF(BN138=\"NÃO\",$D10,IF(MOD(COUNT($Q138:BN138)+1,12)=0,(BN138*$E10)+BN138,BN138)),\"NÃO\"),\"NÃO\")","v":"NÃO"},{"$f":"IF(AND(BP$8>=$M10,BP$8<=$N10),IF($F10=\"ANUAL\",IF(BO138=\"NÃO\",$D10,IF(MOD(COUNT($Q138:BO138)+1,12)=0,(BO138*$E10)+BO138,BO138)),\"NÃO\"),\"NÃO\")","v":"NÃO"},{"$f":"IF(AND(BQ$8>=$M10,BQ$8<=$N10),IF($F10=\"ANUAL\",IF(BP138=\"NÃO\",$D10,IF(MOD(COUNT($Q138:BP138)+1,12)=0,(BP138*$E10)+BP138,BP138)),\"NÃO\"),\"NÃO\")","v":"NÃO"},{"$f":"IF(AND(BR$8>=$M10,BR$8<=$N10),IF($F10=\"ANUAL\",IF(BQ138=\"NÃO\",$D10,IF(MOD(COUNT($Q138:BQ138)+1,12)=0,(BQ138*$E10)+BQ138,BQ138)),\"NÃO\"),\"NÃO\")","v":"NÃO"},{"$f":"IF(AND(BS$8>=$M10,BS$8<=$N10),IF($F10=\"ANUAL\",IF(BR138=\"NÃO\",$D10,IF(MOD(COUNT($Q138:BR138)+1,12)=0,(BR138*$E10)+BR138,BR138)),\"NÃO\"),\"NÃO\")","v":"NÃO"},{"$f":"IF(AND(BT$8>=$M10,BT$8<=$N10),IF($F10=\"ANUAL\",IF(BS138=\"NÃO\",$D10,IF(MOD(COUNT($Q138:BS138)+1,12)=0,(BS138*$E10)+BS138,BS138)),\"NÃO\"),\"NÃO\")","v":"NÃO"},{"$f":"IF(AND(BU$8>=$M10,BU$8<=$N10),IF($F10=\"ANUAL\",IF(BT138=\"NÃO\",$D10,IF(MOD(COUNT($Q138:BT138)+1,12)=0,(BT138*$E10)+BT138,BT138)),\"NÃO\"),\"NÃO\")","v":"NÃO"},{"$f":"IF(AND(BV$8>=$M10,BV$8<=$N10),IF($F10=\"ANUAL\",IF(BU138=\"NÃO\",$D10,IF(MOD(COUNT($Q138:BU138)+1,12)=0,(BU138*$E10)+BU138,BU138)),\"NÃO\"),\"NÃO\")","v":"NÃO"},{"$f":"IF(AND(BW$8>=$M10,BW$8<=$N10),IF($F10=\"ANUAL\",IF(BV138=\"NÃO\",$D10,IF(MOD(COUNT($Q138:BV138)+1,12)=0,(BV138*$E10)+BV138,BV138)),\"NÃO\"),\"NÃO\")","v":"NÃO"},{"$f":"IF(AND(BX$8>=$M10,BX$8<=$N10),IF($F10=\"ANUAL\",IF(BW138=\"NÃO\",$D10,IF(MOD(COUNT($Q138:BW138)+1,12)=0,(BW138*$E10)+BW138,BW138)),\"NÃO\"),\"NÃO\")","v":"NÃO"}]
[null,null,null,null,null,null,null,null,null,null,null,null,null,null,null,3,"NÃO",{"$f":"IF(AND(R$8>=$M11,R$8<=$N11),IF($F11=\"ANUAL\",IF(Q139=\"NÃO\",$D11,IF(MOD(COUNT($Q139:Q139)+1,12)=0,(Q139*$E11)+Q139,Q139)),\"NÃO\"),\"NÃO\")","v":"NÃO"},{"$f":"IF(AND(S$8>=$M11,S$8<=$N11),IF($F11=\"ANUAL\",IF(R139=\"NÃO\",$D11,IF(MOD(COUNT($Q139:R139)+1,12)=0,(R139*$E11)+R139,R139)),\"NÃO\"),\"NÃO\")","v":"NÃO"},{"$f":"IF(AND(T$8>=$M11,T$8<=$N11),IF($F11=\"ANUAL\",IF(S139=\"NÃO\",$D11,IF(MOD(COUNT($Q139:S139)+1,12)=0,(S139*$E11)+S139,S139)),\"NÃO\"),\"NÃO\")","v":"NÃO"},{"$f":"IF(AND(U$8>=$M11,U$8<=$N11),IF($F11=\"ANUAL\",IF(T139=\"NÃO\",$D11,IF(MOD(COUNT($Q139:T139)+1,12)=0,(T139*$E11)+T139,T139)),\"NÃO\"),\"NÃO\")","v":"NÃO"},{"$f":"IF(AND(V$8>=$M11,V$8<=$N11),IF($F11=\"ANUAL\",IF(U139=\"NÃO\",$D11,IF(MOD(COUNT($Q139:U139)+1,12)=0,(U139*$E11)+U139,U139)),\"NÃO\"),\"NÃO\")","v":"NÃO"},{"$f":"IF(AND(W$8>=$M11,W$8<=$N11),IF($F11=\"ANUAL\",IF(V139=\"NÃO\",$D11,IF(MOD(COUNT($Q139:V139)+1,12)=0,(V139*$E11)+V139,V139)),\"NÃO\"),\"NÃO\")","v":"NÃO"},{"$f":"IF(AND(X$8>=$M11,X$8<=$N11),IF($F11=\"ANUAL\",IF(W139=\"NÃO\",$D11,IF(MOD(COUNT($Q139:W139)+1,12)=0,(W139*$E11)+W139,W139)),\"NÃO\"),\"NÃO\")","v":"NÃO"},{"$f":"IF(AND(Y$8>=$M11,Y$8<=$N11),IF($F11=\"ANUAL\",IF(X139=\"NÃO\",$D11,IF(MOD(COUNT($Q139:X139)+1,12)=0,(X139*$E11)+X139,X139)),\"NÃO\"),\"NÃO\")","v":"NÃO"},{"$f":"IF(AND(Z$8>=$M11,Z$8<=$N11),IF($F11=\"ANUAL\",IF(Y139=\"NÃO\",$D11,IF(MOD(COUNT($Q139:Y139)+1,12)=0,(Y139*$E11)+Y139,Y139)),\"NÃO\"),\"NÃO\")","v":"NÃO"},{"$f":"IF(AND(AA$8>=$M11,AA$8<=$N11),IF($F11=\"ANUAL\",IF(Z139=\"NÃO\",$D11,IF(MOD(COUNT($Q139:Z139)+1,12)=0,(Z139*$E11)+Z139,Z139)),\"NÃO\"),\"NÃO\")","v":"NÃO"},{"$f":"IF(AND(AB$8>=$M11,AB$8<=$N11),IF($F11=\"ANUAL\",IF(AA139=\"NÃO\",$D11,IF(MOD(COUNT($Q139:AA139)+1,12)=0,(AA139*$E11)+AA139,AA139)),\"NÃO\"),\"NÃO\")","v":"NÃO"},{"$f":"IF(AND(AC$8>=$M11,AC$8<=$N11),IF($F11=\"ANUAL\",IF(AB139=\"NÃO\",$D11,IF(MOD(COUNT($Q139:AB139)+1,12)=0,(AB139*$E11)+AB139,AB139)),\"NÃO\"),\"NÃO\")","v":"NÃO"},{"$f":"IF(AND(AD$8>=$M11,AD$8<=$N11),IF($F11=\"ANUAL\",IF(AC139=\"NÃO\",$D11,IF(MOD(COUNT($Q139:AC139)+1,12)=0,(AC139*$E11)+AC139,AC139)),\"NÃO\"),\"NÃO\")","v":"NÃO"},{"$f":"IF(AND(AE$8>=$M11,AE$8<=$N11),IF($F11=\"ANUAL\",IF(AD139=\"NÃO\",$D11,IF(MOD(COUNT($Q139:AD139)+1,12)=0,(AD139*$E11)+AD139,AD139)),\"NÃO\"),\"NÃO\")","v":"NÃO"},{"$f":"IF(AND(AF$8>=$M11,AF$8<=$N11),IF($F11=\"ANUAL\",IF(AE139=\"NÃO\",$D11,IF(MOD(COUNT($Q139:AE139)+1,12)=0,(AE139*$E11)+AE139,AE139)),\"NÃO\"),\"NÃO\")","v":"NÃO"},{"$f":"IF(AND(AG$8>=$M11,AG$8<=$N11),IF($F11=\"ANUAL\",IF(AF139=\"NÃO\",$D11,IF(MOD(COUNT($Q139:AF139)+1,12)=0,(AF139*$E11)+AF139,AF139)),\"NÃO\"),\"NÃO\")","v":"NÃO"},{"$f":"IF(AND(AH$8>=$M11,AH$8<=$N11),IF($F11=\"ANUAL\",IF(AG139=\"NÃO\",$D11,IF(MOD(COUNT($Q139:AG139)+1,12)=0,(AG139*$E11)+AG139,AG139)),\"NÃO\"),\"NÃO\")","v":"NÃO"},{"$f":"IF(AND(AI$8>=$M11,AI$8<=$N11),IF($F11=\"ANUAL\",IF(AH139=\"NÃO\",$D11,IF(MOD(COUNT($Q139:AH139)+1,12)=0,(AH139*$E11)+AH139,AH139)),\"NÃO\"),\"NÃO\")","v":"NÃO"},{"$f":"IF(AND(AJ$8>=$M11,AJ$8<=$N11),IF($F11=\"ANUAL\",IF(AI139=\"NÃO\",$D11,IF(MOD(COUNT($Q139:AI139)+1,12)=0,(AI139*$E11)+AI139,AI139)),\"NÃO\"),\"NÃO\")","v":"NÃO"},{"$f":"IF(AND(AK$8>=$M11,AK$8<=$N11),IF($F11=\"ANUAL\",IF(AJ139=\"NÃO\",$D11,IF(MOD(COUNT($Q139:AJ139)+1,12)=0,(AJ139*$E11)+AJ139,AJ139)),\"NÃO\"),\"NÃO\")","v":"NÃO"},{"$f":"IF(AND(AL$8>=$M11,AL$8<=$N11),IF($F11=\"ANUAL\",IF(AK139=\"NÃO\",$D11,IF(MOD(COUNT($Q139:AK139)+1,12)=0,(AK139*$E11)+AK139,AK139)),\"NÃO\"),\"NÃO\")","v":"NÃO"},{"$f":"IF(AND(AM$8>=$M11,AM$8<=$N11),IF($F11=\"ANUAL\",IF(AL139=\"NÃO\",$D11,IF(MOD(COUNT($Q139:AL139)+1,12)=0,(AL139*$E11)+AL139,AL139)),\"NÃO\"),\"NÃO\")","v":"NÃO"},{"$f":"IF(AND(AN$8>=$M11,AN$8<=$N11),IF($F11=\"ANUAL\",IF(AM139=\"NÃO\",$D11,IF(MOD(COUNT($Q139:AM139)+1,12)=0,(AM139*$E11)+AM139,AM139)),\"NÃO\"),\"NÃO\")","v":"NÃO"},{"$f":"IF(AND(AO$8>=$M11,AO$8<=$N11),IF($F11=\"ANUAL\",IF(AN139=\"NÃO\",$D11,IF(MOD(COUNT($Q139:AN139)+1,12)=0,(AN139*$E11)+AN139,AN139)),\"NÃO\"),\"NÃO\")","v":"NÃO"},{"$f":"IF(AND(AP$8>=$M11,AP$8<=$N11),IF($F11=\"ANUAL\",IF(AO139=\"NÃO\",$D11,IF(MOD(COUNT($Q139:AO139)+1,12)=0,(AO139*$E11)+AO139,AO139)),\"NÃO\"),\"NÃO\")","v":"NÃO"},{"$f":"IF(AND(AQ$8>=$M11,AQ$8<=$N11),IF($F11=\"ANUAL\",IF(AP139=\"NÃO\",$D11,IF(MOD(COUNT($Q139:AP139)+1,12)=0,(AP139*$E11)+AP139,AP139)),\"NÃO\"),\"NÃO\")","v":"NÃO"},{"$f":"IF(AND(AR$8>=$M11,AR$8<=$N11),IF($F11=\"ANUAL\",IF(AQ139=\"NÃO\",$D11,IF(MOD(COUNT($Q139:AQ139)+1,12)=0,(AQ139*$E11)+AQ139,AQ139)),\"NÃO\"),\"NÃO\")","v":"NÃO"},{"$f":"IF(AND(AS$8>=$M11,AS$8<=$N11),IF($F11=\"ANUAL\",IF(AR139=\"NÃO\",$D11,IF(MOD(COUNT($Q139:AR139)+1,12)=0,(AR139*$E11)+AR139,AR139)),\"NÃO\"),\"NÃO\")","v":"NÃO"},{"$f":"IF(AND(AT$8>=$M11,AT$8<=$N11),IF($F11=\"ANUAL\",IF(AS139=\"NÃO\",$D11,IF(MOD(COUNT($Q139:AS139)+1,12)=0,(AS139*$E11)+AS139,AS139)),\"NÃO\"),\"NÃO\")","v":"NÃO"},{"$f":"IF(AND(AU$8>=$M11,AU$8<=$N11),IF($F11=\"ANUAL\",IF(AT139=\"NÃO\",$D11,IF(MOD(COUNT($Q139:AT139)+1,12)=0,(AT139*$E11)+AT139,AT139)),\"NÃO\"),\"NÃO\")","v":"NÃO"},{"$f":"IF(AND(AV$8>=$M11,AV$8<=$N11),IF($F11=\"ANUAL\",IF(AU139=\"NÃO\",$D11,IF(MOD(COUNT($Q139:AU139)+1,12)=0,(AU139*$E11)+AU139,AU139)),\"NÃO\"),\"NÃO\")","v":"NÃO"},{"$f":"IF(AND(AW$8>=$M11,AW$8<=$N11),IF($F11=\"ANUAL\",IF(AV139=\"NÃO\",$D11,IF(MOD(COUNT($Q139:AV139)+1,12)=0,(AV139*$E11)+AV139,AV139)),\"NÃO\"),\"NÃO\")","v":"NÃO"},{"$f":"IF(AND(AX$8>=$M11,AX$8<=$N11),IF($F11=\"ANUAL\",IF(AW139=\"NÃO\",$D11,IF(MOD(COUNT($Q139:AW139)+1,12)=0,(AW139*$E11)+AW139,AW139)),\"NÃO\"),\"NÃO\")","v":"NÃO"},{"$f":"IF(AND(AY$8>=$M11,AY$8<=$N11),IF($F11=\"ANUAL\",IF(AX139=\"NÃO\",$D11,IF(MOD(COUNT($Q139:AX139)+1,12)=0,(AX139*$E11)+AX139,AX139)),\"NÃO\"),\"NÃO\")","v":"NÃO"},{"$f":"IF(AND(AZ$8>=$M11,AZ$8<=$N11),IF($F11=\"ANUAL\",IF(AY139=\"NÃO\",$D11,IF(MOD(COUNT($Q139:AY139)+1,12)=0,(AY139*$E11)+AY139,AY139)),\"NÃO\"),\"NÃO\")","v":"NÃO"},{"$f":"IF(AND(BA$8>=$M11,BA$8<=$N11),IF($F11=\"ANUAL\",IF(AZ139=\"NÃO\",$D11,IF(MOD(COUNT($Q139:AZ139)+1,12)=0,(AZ139*$E11)+AZ139,AZ139)),\"NÃO\"),\"NÃO\")","v":"NÃO"},{"$f":"IF(AND(BB$8>=$M11,BB$8<=$N11),IF($F11=\"ANUAL\",IF(BA139=\"NÃO\",$D11,IF(MOD(COUNT($Q139:BA139)+1,12)=0,(BA139*$E11)+BA139,BA139)),\"NÃO\"),\"NÃO\")","v":"NÃO"},{"$f":"IF(AND(BC$8>=$M11,BC$8<=$N11),IF($F11=\"ANUAL\",IF(BB139=\"NÃO\",$D11,IF(MOD(COUNT($Q139:BB139)+1,12)=0,(BB139*$E11)+BB139,BB139)),\"NÃO\"),\"NÃO\")","v":"NÃO"},{"$f":"IF(AND(BD$8>=$M11,BD$8<=$N11),IF($F11=\"ANUAL\",IF(BC139=\"NÃO\",$D11,IF(MOD(COUNT($Q139:BC139)+1,12)=0,(BC139*$E11)+BC139,BC139)),\"NÃO\"),\"NÃO\")","v":"NÃO"},{"$f":"IF(AND(BE$8>=$M11,BE$8<=$N11),IF($F11=\"ANUAL\",IF(BD139=\"NÃO\",$D11,IF(MOD(COUNT($Q139:BD139)+1,12)=0,(BD139*$E11)+BD139,BD139)),\"NÃO\"),\"NÃO\")","v":"NÃO"},{"$f":"IF(AND(BF$8>=$M11,BF$8<=$N11),IF($F11=\"ANUAL\",IF(BE139=\"NÃO\",$D11,IF(MOD(COUNT($Q139:BE139)+1,12)=0,(BE139*$E11)+BE139,BE139)),\"NÃO\"),\"NÃO\")","v":"NÃO"},{"$f":"IF(AND(BG$8>=$M11,BG$8<=$N11),IF($F11=\"ANUAL\",IF(BF139=\"NÃO\",$D11,IF(MOD(COUNT($Q139:BF139)+1,12)=0,(BF139*$E11)+BF139,BF139)),\"NÃO\"),\"NÃO\")","v":"NÃO"},{"$f":"IF(AND(BH$8>=$M11,BH$8<=$N11),IF($F11=\"ANUAL\",IF(BG139=\"NÃO\",$D11,IF(MOD(COUNT($Q139:BG139)+1,12)=0,(BG139*$E11)+BG139,BG139)),\"NÃO\"),\"NÃO\")","v":"NÃO"},{"$f":"IF(AND(BI$8>=$M11,BI$8<=$N11),IF($F11=\"ANUAL\",IF(BH139=\"NÃO\",$D11,IF(MOD(COUNT($Q139:BH139)+1,12)=0,(BH139*$E11)+BH139,BH139)),\"NÃO\"),\"NÃO\")","v":"NÃO"},{"$f":"IF(AND(BJ$8>=$M11,BJ$8<=$N11),IF($F11=\"ANUAL\",IF(BI139=\"NÃO\",$D11,IF(MOD(COUNT($Q139:BI139)+1,12)=0,(BI139*$E11)+BI139,BI139)),\"NÃO\"),\"NÃO\")","v":"NÃO"},{"$f":"IF(AND(BK$8>=$M11,BK$8<=$N11),IF($F11=\"ANUAL\",IF(BJ139=\"NÃO\",$D11,IF(MOD(COUNT($Q139:BJ139)+1,12)=0,(BJ139*$E11)+BJ139,BJ139)),\"NÃO\"),\"NÃO\")","v":"NÃO"},{"$f":"IF(AND(BL$8>=$M11,BL$8<=$N11),IF($F11=\"ANUAL\",IF(BK139=\"NÃO\",$D11,IF(MOD(COUNT($Q139:BK139)+1,12)=0,(BK139*$E11)+BK139,BK139)),\"NÃO\"),\"NÃO\")","v":"NÃO"},{"$f":"IF(AND(BM$8>=$M11,BM$8<=$N11),IF($F11=\"ANUAL\",IF(BL139=\"NÃO\",$D11,IF(MOD(COUNT($Q139:BL139)+1,12)=0,(BL139*$E11)+BL139,BL139)),\"NÃO\"),\"NÃO\")","v":"NÃO"},{"$f":"IF(AND(BN$8>=$M11,BN$8<=$N11),IF($F11=\"ANUAL\",IF(BM139=\"NÃO\",$D11,IF(MOD(COUNT($Q139:BM139)+1,12)=0,(BM139*$E11)+BM139,BM139)),\"NÃO\"),\"NÃO\")","v":"NÃO"},{"$f":"IF(AND(BO$8>=$M11,BO$8<=$N11),IF($F11=\"ANUAL\",IF(BN139=\"NÃO\",$D11,IF(MOD(COUNT($Q139:BN139)+1,12)=0,(BN139*$E11)+BN139,BN139)),\"NÃO\"),\"NÃO\")","v":"NÃO"},{"$f":"IF(AND(BP$8>=$M11,BP$8<=$N11),IF($F11=\"ANUAL\",IF(BO139=\"NÃO\",$D11,IF(MOD(COUNT($Q139:BO139)+1,12)=0,(BO139*$E11)+BO139,BO139)),\"NÃO\"),\"NÃO\")","v":"NÃO"},{"$f":"IF(AND(BQ$8>=$M11,BQ$8<=$N11),IF($F11=\"ANUAL\",IF(BP139=\"NÃO\",$D11,IF(MOD(COUNT($Q139:BP139)+1,12)=0,(BP139*$E11)+BP139,BP139)),\"NÃO\"),\"NÃO\")","v":"NÃO"},{"$f":"IF(AND(BR$8>=$M11,BR$8<=$N11),IF($F11=\"ANUAL\",IF(BQ139=\"NÃO\",$D11,IF(MOD(COUNT($Q139:BQ139)+1,12)=0,(BQ139*$E11)+BQ139,BQ139)),\"NÃO\"),\"NÃO\")","v":"NÃO"},{"$f":"IF(AND(BS$8>=$M11,BS$8<=$N11),IF($F11=\"ANUAL\",IF(BR139=\"NÃO\",$D11,IF(MOD(COUNT($Q139:BR139)+1,12)=0,(BR139*$E11)+BR139,BR139)),\"NÃO\"),\"NÃO\")","v":"NÃO"},{"$f":"IF(AND(BT$8>=$M11,BT$8<=$N11),IF($F11=\"ANUAL\",IF(BS139=\"NÃO\",$D11,IF(MOD(COUNT($Q139:BS139)+1,12)=0,(BS139*$E11)+BS139,BS139)),\"NÃO\"),\"NÃO\")","v":"NÃO"},{"$f":"IF(AND(BU$8>=$M11,BU$8<=$N11),IF($F11=\"ANUAL\",IF(BT139=\"NÃO\",$D11,IF(MOD(COUNT($Q139:BT139)+1,12)=0,(BT139*$E11)+BT139,BT139)),\"NÃO\"),\"NÃO\")","v":"NÃO"},{"$f":"IF(AND(BV$8>=$M11,BV$8<=$N11),IF($F11=\"ANUAL\",IF(BU139=\"NÃO\",$D11,IF(MOD(COUNT($Q139:BU139)+1,12)=0,(BU139*$E11)+BU139,BU139)),\"NÃO\"),\"NÃO\")","v":"NÃO"},{"$f":"IF(AND(BW$8>=$M11,BW$8<=$N11),IF($F11=\"ANUAL\",IF(BV139=\"NÃO\",$D11,IF(MOD(COUNT($Q139:BV139)+1,12)=0,(BV139*$E11)+BV139,BV139)),\"NÃO\"),\"NÃO\")","v":"NÃO"},{"$f":"IF(AND(BX$8>=$M11,BX$8<=$N11),IF($F11=\"ANUAL\",IF(BW139=\"NÃO\",$D11,IF(MOD(COUNT($Q139:BW139)+1,12)=0,(BW139*$E11)+BW139,BW139)),\"NÃO\"),\"NÃO\")","v":"NÃO"}]
[null,null,null,null,null,null,null,null,null,null,null,null,null,null,null,4,"NÃO",{"$f":"IF(AND(R$8>=$M12,R$8<=$N12),IF($F12=\"ANUAL\",IF(Q140=\"NÃO\",$D12,IF(MOD(COUNT($Q140:Q140)+1,12)=0,(Q140*$E12)+Q140,Q140)),\"NÃO\"),\"NÃO\")","v":"NÃO"},{"$f":"IF(AND(S$8>=$M12,S$8<=$N12),IF($F12=\"ANUAL\",IF(R140=\"NÃO\",$D12,IF(MOD(COUNT($Q140:R140)+1,12)=0,(R140*$E12)+R140,R140)),\"NÃO\"),\"NÃO\")","v":"NÃO"},{"$f":"IF(AND(T$8>=$M12,T$8<=$N12),IF($F12=\"ANUAL\",IF(S140=\"NÃO\",$D12,IF(MOD(COUNT($Q140:S140)+1,12)=0,(S140*$E12)+S140,S140)),\"NÃO\"),\"NÃO\")","v":"NÃO"},{"$f":"IF(AND(U$8>=$M12,U$8<=$N12),IF($F12=\"ANUAL\",IF(T140=\"NÃO\",$D12,IF(MOD(COUNT($Q140:T140)+1,12)=0,(T140*$E12)+T140,T140)),\"NÃO\"),\"NÃO\")","v":"NÃO"},{"$f":"IF(AND(V$8>=$M12,V$8<=$N12),IF($F12=\"ANUAL\",IF(U140=\"NÃO\",$D12,IF(MOD(COUNT($Q140:U140)+1,12)=0,(U140*$E12)+U140,U140)),\"NÃO\"),\"NÃO\")","v":"NÃO"},{"$f":"IF(AND(W$8>=$M12,W$8<=$N12),IF($F12=\"ANUAL\",IF(V140=\"NÃO\",$D12,IF(MOD(COUNT($Q140:V140)+1,12)=0,(V140*$E12)+V140,V140)),\"NÃO\"),\"NÃO\")","v":"NÃO"},{"$f":"IF(AND(X$8>=$M12,X$8<=$N12),IF($F12=\"ANUAL\",IF(W140=\"NÃO\",$D12,IF(MOD(COUNT($Q140:W140)+1,12)=0,(W140*$E12)+W140,W140)),\"NÃO\"),\"NÃO\")","v":"NÃO"},{"$f":"IF(AND(Y$8>=$M12,Y$8<=$N12),IF($F12=\"ANUAL\",IF(X140=\"NÃO\",$D12,IF(MOD(COUNT($Q140:X140)+1,12)=0,(X140*$E12)+X140,X140)),\"NÃO\"),\"NÃO\")","v":"NÃO"},{"$f":"IF(AND(Z$8>=$M12,Z$8<=$N12),IF($F12=\"ANUAL\",IF(Y140=\"NÃO\",$D12,IF(MOD(COUNT($Q140:Y140)+1,12)=0,(Y140*$E12)+Y140,Y140)),\"NÃO\"),\"NÃO\")","v":"NÃO"},{"$f":"IF(AND(AA$8>=$M12,AA$8<=$N12),IF($F12=\"ANUAL\",IF(Z140=\"NÃO\",$D12,IF(MOD(COUNT($Q140:Z140)+1,12)=0,(Z140*$E12)+Z140,Z140)),\"NÃO\"),\"NÃO\")","v":"NÃO"},{"$f":"IF(AND(AB$8>=$M12,AB$8<=$N12),IF($F12=\"ANUAL\",IF(AA140=\"NÃO\",$D12,IF(MOD(COUNT($Q140:AA140)+1,12)=0,(AA140*$E12)+AA140,AA140)),\"NÃO\"),\"NÃO\")","v":"NÃO"},{"$f":"IF(AND(AC$8>=$M12,AC$8<=$N12),IF($F12=\"ANUAL\",IF(AB140=\"NÃO\",$D12,IF(MOD(COUNT($Q140:AB140)+1,12)=0,(AB140*$E12)+AB140,AB140)),\"NÃO\"),\"NÃO\")","v":"NÃO"},{"$f":"IF(AND(AD$8>=$M12,AD$8<=$N12),IF($F12=\"ANUAL\",IF(AC140=\"NÃO\",$D12,IF(MOD(COUNT($Q140:AC140)+1,12)=0,(AC140*$E12)+AC140,AC140)),\"NÃO\"),\"NÃO\")","v":"NÃO"},{"$f":"IF(AND(AE$8>=$M12,AE$8<=$N12),IF($F12=\"ANUAL\",IF(AD140=\"NÃO\",$D12,IF(MOD(COUNT($Q140:AD140)+1,12)=0,(AD140*$E12)+AD140,AD140)),\"NÃO\"),\"NÃO\")","v":"NÃO"},{"$f":"IF(AND(AF$8>=$M12,AF$8<=$N12),IF($F12=\"ANUAL\",IF(AE140=\"NÃO\",$D12,IF(MOD(COUNT($Q140:AE140)+1,12)=0,(AE140*$E12)+AE140,AE140)),\"NÃO\"),\"NÃO\")","v":"NÃO"},{"$f":"IF(AND(AG$8>=$M12,AG$8<=$N12),IF($F12=\"ANUAL\",IF(AF140=\"NÃO\",$D12,IF(MOD(COUNT($Q140:AF140)+1,12)=0,(AF140*$E12)+AF140,AF140)),\"NÃO\"),\"NÃO\")","v":"NÃO"},{"$f":"IF(AND(AH$8>=$M12,AH$8<=$N12),IF($F12=\"ANUAL\",IF(AG140=\"NÃO\",$D12,IF(MOD(COUNT($Q140:AG140)+1,12)=0,(AG140*$E12)+AG140,AG140)),\"NÃO\"),\"NÃO\")","v":"NÃO"},{"$f":"IF(AND(AI$8>=$M12,AI$8<=$N12),IF($F12=\"ANUAL\",IF(AH140=\"NÃO\",$D12,IF(MOD(COUNT($Q140:AH140)+1,12)=0,(AH140*$E12)+AH140,AH140)),\"NÃO\"),\"NÃO\")","v":"NÃO"},{"$f":"IF(AND(AJ$8>=$M12,AJ$8<=$N12),IF($F12=\"ANUAL\",IF(AI140=\"NÃO\",$D12,IF(MOD(COUNT($Q140:AI140)+1,12)=0,(AI140*$E12)+AI140,AI140)),\"NÃO\"),\"NÃO\")","v":"NÃO"},{"$f":"IF(AND(AK$8>=$M12,AK$8<=$N12),IF($F12=\"ANUAL\",IF(AJ140=\"NÃO\",$D12,IF(MOD(COUNT($Q140:AJ140)+1,12)=0,(AJ140*$E12)+AJ140,AJ140)),\"NÃO\"),\"NÃO\")","v":"NÃO"},{"$f":"IF(AND(AL$8>=$M12,AL$8<=$N12),IF($F12=\"ANUAL\",IF(AK140=\"NÃO\",$D12,IF(MOD(COUNT($Q140:AK140)+1,12)=0,(AK140*$E12)+AK140,AK140)),\"NÃO\"),\"NÃO\")","v":"NÃO"},{"$f":"IF(AND(AM$8>=$M12,AM$8<=$N12),IF($F12=\"ANUAL\",IF(AL140=\"NÃO\",$D12,IF(MOD(COUNT($Q140:AL140)+1,12)=0,(AL140*$E12)+AL140,AL140)),\"NÃO\"),\"NÃO\")","v":"NÃO"},{"$f":"IF(AND(AN$8>=$M12,AN$8<=$N12),IF($F12=\"ANUAL\",IF(AM140=\"NÃO\",$D12,IF(MOD(COUNT($Q140:AM140)+1,12)=0,(AM140*$E12)+AM140,AM140)),\"NÃO\"),\"NÃO\")","v":"NÃO"},{"$f":"IF(AND(AO$8>=$M12,AO$8<=$N12),IF($F12=\"ANUAL\",IF(AN140=\"NÃO\",$D12,IF(MOD(COUNT($Q140:AN140)+1,12)=0,(AN140*$E12)+AN140,AN140)),\"NÃO\"),\"NÃO\")","v":"NÃO"},{"$f":"IF(AND(AP$8>=$M12,AP$8<=$N12),IF($F12=\"ANUAL\",IF(AO140=\"NÃO\",$D12,IF(MOD(COUNT($Q140:AO140)+1,12)=0,(AO140*$E12)+AO140,AO140)),\"NÃO\"),\"NÃO\")","v":"NÃO"},{"$f":"IF(AND(AQ$8>=$M12,AQ$8<=$N12),IF($F12=\"ANUAL\",IF(AP140=\"NÃO\",$D12,IF(MOD(COUNT($Q140:AP140)+1,12)=0,(AP140*$E12)+AP140,AP140)),\"NÃO\"),\"NÃO\")","v":"NÃO"},{"$f":"IF(AND(AR$8>=$M12,AR$8<=$N12),IF($F12=\"ANUAL\",IF(AQ140=\"NÃO\",$D12,IF(MOD(COUNT($Q140:AQ140)+1,12)=0,(AQ140*$E12)+AQ140,AQ140)),\"NÃO\"),\"NÃO\")","v":"NÃO"},{"$f":"IF(AND(AS$8>=$M12,AS$8<=$N12),IF($F12=\"ANUAL\",IF(AR140=\"NÃO\",$D12,IF(MOD(COUNT($Q140:AR140)+1,12)=0,(AR140*$E12)+AR140,AR140)),\"NÃO\"),\"NÃO\")","v":"NÃO"},{"$f":"IF(AND(AT$8>=$M12,AT$8<=$N12),IF($F12=\"ANUAL\",IF(AS140=\"NÃO\",$D12,IF(MOD(COUNT($Q140:AS140)+1,12)=0,(AS140*$E12)+AS140,AS140)),\"NÃO\"),\"NÃO\")","v":"NÃO"},{"$f":"IF(AND(AU$8>=$M12,AU$8<=$N12),IF($F12=\"ANUAL\",IF(AT140=\"NÃO\",$D12,IF(MOD(COUNT($Q140:AT140)+1,12)=0,(AT140*$E12)+AT140,AT140)),\"NÃO\"),\"NÃO\")","v":"NÃO"},{"$f":"IF(AND(AV$8>=$M12,AV$8<=$N12),IF($F12=\"ANUAL\",IF(AU140=\"NÃO\",$D12,IF(MOD(COUNT($Q140:AU140)+1,12)=0,(AU140*$E12)+AU140,AU140)),\"NÃO\"),\"NÃO\")","v":"NÃO"},{"$f":"IF(AND(AW$8>=$M12,AW$8<=$N12),IF($F12=\"ANUAL\",IF(AV140=\"NÃO\",$D12,IF(MOD(COUNT($Q140:AV140)+1,12)=0,(AV140*$E12)+AV140,AV140)),\"NÃO\"),\"NÃO\")","v":"NÃO"},{"$f":"IF(AND(AX$8>=$M12,AX$8<=$N12),IF($F12=\"ANUAL\",IF(AW140=\"NÃO\",$D12,IF(MOD(COUNT($Q140:AW140)+1,12)=0,(AW140*$E12)+AW140,AW140)),\"NÃO\"),\"NÃO\")","v":"NÃO"},{"$f":"IF(AND(AY$8>=$M12,AY$8<=$N12),IF($F12=\"ANUAL\",IF(AX140=\"NÃO\",$D12,IF(MOD(COUNT($Q140:AX140)+1,12)=0,(AX140*$E12)+AX140,AX140)),\"NÃO\"),\"NÃO\")","v":"NÃO"},{"$f":"IF(AND(AZ$8>=$M12,AZ$8<=$N12),IF($F12=\"ANUAL\",IF(AY140=\"NÃO\",$D12,IF(MOD(COUNT($Q140:AY140)+1,12)=0,(AY140*$E12)+AY140,AY140)),\"NÃO\"),\"NÃO\")","v":"NÃO"},{"$f":"IF(AND(BA$8>=$M12,BA$8<=$N12),IF($F12=\"ANUAL\",IF(AZ140=\"NÃO\",$D12,IF(MOD(COUNT($Q140:AZ140)+1,12)=0,(AZ140*$E12)+AZ140,AZ140)),\"NÃO\"),\"NÃO\")","v":"NÃO"},{"$f":"IF(AND(BB$8>=$M12,BB$8<=$N12),IF($F12=\"ANUAL\",IF(BA140=\"NÃO\",$D12,IF(MOD(COUNT($Q140:BA140)+1,12)=0,(BA140*$E12)+BA140,BA140)),\"NÃO\"),\"NÃO\")","v":"NÃO"},{"$f":"IF(AND(BC$8>=$M12,BC$8<=$N12),IF($F12=\"ANUAL\",IF(BB140=\"NÃO\",$D12,IF(MOD(COUNT($Q140:BB140)+1,12)=0,(BB140*$E12)+BB140,BB140)),\"NÃO\"),\"NÃO\")","v":"NÃO"},{"$f":"IF(AND(BD$8>=$M12,BD$8<=$N12),IF($F12=\"ANUAL\",IF(BC140=\"NÃO\",$D12,IF(MOD(COUNT($Q140:BC140)+1,12)=0,(BC140*$E12)+BC140,BC140)),\"NÃO\"),\"NÃO\")","v":"NÃO"},{"$f":"IF(AND(BE$8>=$M12,BE$8<=$N12),IF($F12=\"ANUAL\",IF(BD140=\"NÃO\",$D12,IF(MOD(COUNT($Q140:BD140)+1,12)=0,(BD140*$E12)+BD140,BD140)),\"NÃO\"),\"NÃO\")","v":"NÃO"},{"$f":"IF(AND(BF$8>=$M12,BF$8<=$N12),IF($F12=\"ANUAL\",IF(BE140=\"NÃO\",$D12,IF(MOD(COUNT($Q140:BE140)+1,12)=0,(BE140*$E12)+BE140,BE140)),\"NÃO\"),\"NÃO\")","v":"NÃO"},{"$f":"IF(AND(BG$8>=$M12,BG$8<=$N12),IF($F12=\"ANUAL\",IF(BF140=\"NÃO\",$D12,IF(MOD(COUNT($Q140:BF140)+1,12)=0,(BF140*$E12)+BF140,BF140)),\"NÃO\"),\"NÃO\")","v":"NÃO"},{"$f":"IF(AND(BH$8>=$M12,BH$8<=$N12),IF($F12=\"ANUAL\",IF(BG140=\"NÃO\",$D12,IF(MOD(COUNT($Q140:BG140)+1,12)=0,(BG140*$E12)+BG140,BG140)),\"NÃO\"),\"NÃO\")","v":"NÃO"},{"$f":"IF(AND(BI$8>=$M12,BI$8<=$N12),IF($F12=\"ANUAL\",IF(BH140=\"NÃO\",$D12,IF(MOD(COUNT($Q140:BH140)+1,12)=0,(BH140*$E12)+BH140,BH140)),\"NÃO\"),\"NÃO\")","v":"NÃO"},{"$f":"IF(AND(BJ$8>=$M12,BJ$8<=$N12),IF($F12=\"ANUAL\",IF(BI140=\"NÃO\",$D12,IF(MOD(COUNT($Q140:BI140)+1,12)=0,(BI140*$E12)+BI140,BI140)),\"NÃO\"),\"NÃO\")","v":"NÃO"},{"$f":"IF(AND(BK$8>=$M12,BK$8<=$N12),IF($F12=\"ANUAL\",IF(BJ140=\"NÃO\",$D12,IF(MOD(COUNT($Q140:BJ140)+1,12)=0,(BJ140*$E12)+BJ140,BJ140)),\"NÃO\"),\"NÃO\")","v":"NÃO"},{"$f":"IF(AND(BL$8>=$M12,BL$8<=$N12),IF($F12=\"ANUAL\",IF(BK140=\"NÃO\",$D12,IF(MOD(COUNT($Q140:BK140)+1,12)=0,(BK140*$E12)+BK140,BK140)),\"NÃO\"),\"NÃO\")","v":"NÃO"},{"$f":"IF(AND(BM$8>=$M12,BM$8<=$N12),IF($F12=\"ANUAL\",IF(BL140=\"NÃO\",$D12,IF(MOD(COUNT($Q140:BL140)+1,12)=0,(BL140*$E12)+BL140,BL140)),\"NÃO\"),\"NÃO\")","v":"NÃO"},{"$f":"IF(AND(BN$8>=$M12,BN$8<=$N12),IF($F12=\"ANUAL\",IF(BM140=\"NÃO\",$D12,IF(MOD(COUNT($Q140:BM140)+1,12)=0,(BM140*$E12)+BM140,BM140)),\"NÃO\"),\"NÃO\")","v":"NÃO"},{"$f":"IF(AND(BO$8>=$M12,BO$8<=$N12),IF($F12=\"ANUAL\",IF(BN140=\"NÃO\",$D12,IF(MOD(COUNT($Q140:BN140)+1,12)=0,(BN140*$E12)+BN140,BN140)),\"NÃO\"),\"NÃO\")","v":"NÃO"},{"$f":"IF(AND(BP$8>=$M12,BP$8<=$N12),IF($F12=\"ANUAL\",IF(BO140=\"NÃO\",$D12,IF(MOD(COUNT($Q140:BO140)+1,12)=0,(BO140*$E12)+BO140,BO140)),\"NÃO\"),\"NÃO\")","v":"NÃO"},{"$f":"IF(AND(BQ$8>=$M12,BQ$8<=$N12),IF($F12=\"ANUAL\",IF(BP140=\"NÃO\",$D12,IF(MOD(COUNT($Q140:BP140)+1,12)=0,(BP140*$E12)+BP140,BP140)),\"NÃO\"),\"NÃO\")","v":"NÃO"},{"$f":"IF(AND(BR$8>=$M12,BR$8<=$N12),IF($F12=\"ANUAL\",IF(BQ140=\"NÃO\",$D12,IF(MOD(COUNT($Q140:BQ140)+1,12)=0,(BQ140*$E12)+BQ140,BQ140)),\"NÃO\"),\"NÃO\")","v":"NÃO"},{"$f":"IF(AND(BS$8>=$M12,BS$8<=$N12),IF($F12=\"ANUAL\",IF(BR140=\"NÃO\",$D12,IF(MOD(COUNT($Q140:BR140)+1,12)=0,(BR140*$E12)+BR140,BR140)),\"NÃO\"),\"NÃO\")","v":"NÃO"},{"$f":"IF(AND(BT$8>=$M12,BT$8<=$N12),IF($F12=\"ANUAL\",IF(BS140=\"NÃO\",$D12,IF(MOD(COUNT($Q140:BS140)+1,12)=0,(BS140*$E12)+BS140,BS140)),\"NÃO\"),\"NÃO\")","v":"NÃO"},{"$f":"IF(AND(BU$8>=$M12,BU$8<=$N12),IF($F12=\"ANUAL\",IF(BT140=\"NÃO\",$D12,IF(MOD(COUNT($Q140:BT140)+1,12)=0,(BT140*$E12)+BT140,BT140)),\"NÃO\"),\"NÃO\")","v":"NÃO"},{"$f":"IF(AND(BV$8>=$M12,BV$8<=$N12),IF($F12=\"ANUAL\",IF(BU140=\"NÃO\",$D12,IF(MOD(COUNT($Q140:BU140)+1,12)=0,(BU140*$E12)+BU140,BU140)),\"NÃO\"),\"NÃO\")","v":"NÃO"},{"$f":"IF(AND(BW$8>=$M12,BW$8<=$N12),IF($F12=\"ANUAL\",IF(BV140=\"NÃO\",$D12,IF(MOD(COUNT($Q140:BV140)+1,12)=0,(BV140*$E12)+BV140,BV140)),\"NÃO\"),\"NÃO\")","v":"NÃO"},{"$f":"IF(AND(BX$8>=$M12,BX$8<=$N12),IF($F12=\"ANUAL\",IF(BW140=\"NÃO\",$D12,IF(MOD(COUNT($Q140:BW140)+1,12)=0,(BW140*$E12)+BW140,BW140)),\"NÃO\"),\"NÃO\")","v":"NÃO"}]
[null,null,null,null,null,null,null,null,null,null,null,null,null,null,null,5,"NÃO",{"$f":"IF(AND(R$8>=$M13,R$8<=$N13),IF($F13=\"ANUAL\",IF(Q141=\"NÃO\",$D13,IF(MOD(COUNT($Q141:Q141)+1,12)=0,(Q141*$E13)+Q141,Q141)),\"NÃO\"),\"NÃO\")","v":"NÃO"},{"$f":"IF(AND(S$8>=$M13,S$8<=$N13),IF($F13=\"ANUAL\",IF(R141=\"NÃO\",$D13,IF(MOD(COUNT($Q141:R141)+1,12)=0,(R141*$E13)+R141,R141)),\"NÃO\"),\"NÃO\")","v":"NÃO"},{"$f":"IF(AND(T$8>=$M13,T$8<=$N13),IF($F13=\"ANUAL\",IF(S141=\"NÃO\",$D13,IF(MOD(COUNT($Q141:S141)+1,12)=0,(S141*$E13)+S141,S141)),\"NÃO\"),\"NÃO\")","v":"NÃO"},{"$f":"IF(AND(U$8>=$M13,U$8<=$N13),IF($F13=\"ANUAL\",IF(T141=\"NÃO\",$D13,IF(MOD(COUNT($Q141:T141)+1,12)=0,(T141*$E13)+T141,T141)),\"NÃO\"),\"NÃO\")","v":"NÃO"},{"$f":"IF(AND(V$8>=$M13,V$8<=$N13),IF($F13=\"ANUAL\",IF(U141=\"NÃO\",$D13,IF(MOD(COUNT($Q141:U141)+1,12)=0,(U141*$E13)+U141,U141)),\"NÃO\"),\"NÃO\")","v":"NÃO"},{"$f":"IF(AND(W$8>=$M13,W$8<=$N13),IF($F13=\"ANUAL\",IF(V141=\"NÃO\",$D13,IF(MOD(COUNT($Q141:V141)+1,12)=0,(V141*$E13)+V141,V141)),\"NÃO\"),\"NÃO\")","v":"NÃO"},{"$f":"IF(AND(X$8>=$M13,X$8<=$N13),IF($F13=\"ANUAL\",IF(W141=\"NÃO\",$D13,IF(MOD(COUNT($Q141:W141)+1,12)=0,(W141*$E13)+W141,W141)),\"NÃO\"),\"NÃO\")","v":"NÃO"},{"$f":"IF(AND(Y$8>=$M13,Y$8<=$N13),IF($F13=\"ANUAL\",IF(X141=\"NÃO\",$D13,IF(MOD(COUNT($Q141:X141)+1,12)=0,(X141*$E13)+X141,X141)),\"NÃO\"),\"NÃO\")","v":"NÃO"},{"$f":"IF(AND(Z$8>=$M13,Z$8<=$N13),IF($F13=\"ANUAL\",IF(Y141=\"NÃO\",$D13,IF(MOD(COUNT($Q141:Y141)+1,12)=0,(Y141*$E13)+Y141,Y141)),\"NÃO\"),\"NÃO\")","v":"NÃO"},{"$f":"IF(AND(AA$8>=$M13,AA$8<=$N13),IF($F13=\"ANUAL\",IF(Z141=\"NÃO\",$D13,IF(MOD(COUNT($Q141:Z141)+1,12)=0,(Z141*$E13)+Z141,Z141)),\"NÃO\"),\"NÃO\")","v":"NÃO"},{"$f":"IF(AND(AB$8>=$M13,AB$8<=$N13),IF($F13=\"ANUAL\",IF(AA141=\"NÃO\",$D13,IF(MOD(COUNT($Q141:AA141)+1,12)=0,(AA141*$E13)+AA141,AA141)),\"NÃO\"),\"NÃO\")","v":"NÃO"},{"$f":"IF(AND(AC$8>=$M13,AC$8<=$N13),IF($F13=\"ANUAL\",IF(AB141=\"NÃO\",$D13,IF(MOD(COUNT($Q141:AB141)+1,12)=0,(AB141*$E13)+AB141,AB141)),\"NÃO\"),\"NÃO\")","v":"NÃO"},{"$f":"IF(AND(AD$8>=$M13,AD$8<=$N13),IF($F13=\"ANUAL\",IF(AC141=\"NÃO\",$D13,IF(MOD(COUNT($Q141:AC141)+1,12)=0,(AC141*$E13)+AC141,AC141)),\"NÃO\"),\"NÃO\")","v":"NÃO"},{"$f":"IF(AND(AE$8>=$M13,AE$8<=$N13),IF($F13=\"ANUAL\",IF(AD141=\"NÃO\",$D13,IF(MOD(COUNT($Q141:AD141)+1,12)=0,(AD141*$E13)+AD141,AD141)),\"NÃO\"),\"NÃO\")","v":"NÃO"},{"$f":"IF(AND(AF$8>=$M13,AF$8<=$N13),IF($F13=\"ANUAL\",IF(AE141=\"NÃO\",$D13,IF(MOD(COUNT($Q141:AE141)+1,12)=0,(AE141*$E13)+AE141,AE141)),\"NÃO\"),\"NÃO\")","v":"NÃO"},{"$f":"IF(AND(AG$8>=$M13,AG$8<=$N13),IF($F13=\"ANUAL\",IF(AF141=\"NÃO\",$D13,IF(MOD(COUNT($Q141:AF141)+1,12)=0,(AF141*$E13)+AF141,AF141)),\"NÃO\"),\"NÃO\")","v":"NÃO"},{"$f":"IF(AND(AH$8>=$M13,AH$8<=$N13),IF($F13=\"ANUAL\",IF(AG141=\"NÃO\",$D13,IF(MOD(COUNT($Q141:AG141)+1,12)=0,(AG141*$E13)+AG141,AG141)),\"NÃO\"),\"NÃO\")","v":"NÃO"},{"$f":"IF(AND(AI$8>=$M13,AI$8<=$N13),IF($F13=\"ANUAL\",IF(AH141=\"NÃO\",$D13,IF(MOD(COUNT($Q141:AH141)+1,12)=0,(AH141*$E13)+AH141,AH141)),\"NÃO\"),\"NÃO\")","v":"NÃO"},{"$f":"IF(AND(AJ$8>=$M13,AJ$8<=$N13),IF($F13=\"ANUAL\",IF(AI141=\"NÃO\",$D13,IF(MOD(COUNT($Q141:AI141)+1,12)=0,(AI141*$E13)+AI141,AI141)),\"NÃO\"),\"NÃO\")","v":"NÃO"},{"$f":"IF(AND(AK$8>=$M13,AK$8<=$N13),IF($F13=\"ANUAL\",IF(AJ141=\"NÃO\",$D13,IF(MOD(COUNT($Q141:AJ141)+1,12)=0,(AJ141*$E13)+AJ141,AJ141)),\"NÃO\"),\"NÃO\")","v":"NÃO"},{"$f":"IF(AND(AL$8>=$M13,AL$8<=$N13),IF($F13=\"ANUAL\",IF(AK141=\"NÃO\",$D13,IF(MOD(COUNT($Q141:AK141)+1,12)=0,(AK141*$E13)+AK141,AK141)),\"NÃO\"),\"NÃO\")","v":"NÃO"},{"$f":"IF(AND(AM$8>=$M13,AM$8<=$N13),IF($F13=\"ANUAL\",IF(AL141=\"NÃO\",$D13,IF(MOD(COUNT($Q141:AL141)+1,12)=0,(AL141*$E13)+AL141,AL141)),\"NÃO\"),\"NÃO\")","v":"NÃO"},{"$f":"IF(AND(AN$8>=$M13,AN$8<=$N13),IF($F13=\"ANUAL\",IF(AM141=\"NÃO\",$D13,IF(MOD(COUNT($Q141:AM141)+1,12)=0,(AM141*$E13)+AM141,AM141)),\"NÃO\"),\"NÃO\")","v":"NÃO"},{"$f":"IF(AND(AO$8>=$M13,AO$8<=$N13),IF($F13=\"ANUAL\",IF(AN141=\"NÃO\",$D13,IF(MOD(COUNT($Q141:AN141)+1,12)=0,(AN141*$E13)+AN141,AN141)),\"NÃO\"),\"NÃO\")","v":"NÃO"},{"$f":"IF(AND(AP$8>=$M13,AP$8<=$N13),IF($F13=\"ANUAL\",IF(AO141=\"NÃO\",$D13,IF(MOD(COUNT($Q141:AO141)+1,12)=0,(AO141*$E13)+AO141,AO141)),\"NÃO\"),\"NÃO\")","v":"NÃO"},{"$f":"IF(AND(AQ$8>=$M13,AQ$8<=$N13),IF($F13=\"ANUAL\",IF(AP141=\"NÃO\",$D13,IF(MOD(COUNT($Q141:AP141)+1,12)=0,(AP141*$E13)+AP141,AP141)),\"NÃO\"),\"NÃO\")","v":"NÃO"},{"$f":"IF(AND(AR$8>=$M13,AR$8<=$N13),IF($F13=\"ANUAL\",IF(AQ141=\"NÃO\",$D13,IF(MOD(COUNT($Q141:AQ141)+1,12)=0,(AQ141*$E13)+AQ141,AQ141)),\"NÃO\"),\"NÃO\")","v":"NÃO"},{"$f":"IF(AND(AS$8>=$M13,AS$8<=$N13),IF($F13=\"ANUAL\",IF(AR141=\"NÃO\",$D13,IF(MOD(COUNT($Q141:AR141)+1,12)=0,(AR141*$E13)+AR141,AR141)),\"NÃO\"),\"NÃO\")","v":"NÃO"},{"$f":"IF(AND(AT$8>=$M13,AT$8<=$N13),IF($F13=\"ANUAL\",IF(AS141=\"NÃO\",$D13,IF(MOD(COUNT($Q141:AS141)+1,12)=0,(AS141*$E13)+AS141,AS141)),\"NÃO\"),\"NÃO\")","v":"NÃO"},{"$f":"IF(AND(AU$8>=$M13,AU$8<=$N13),IF($F13=\"ANUAL\",IF(AT141=\"NÃO\",$D13,IF(MOD(COUNT($Q141:AT141)+1,12)=0,(AT141*$E13)+AT141,AT141)),\"NÃO\"),\"NÃO\")","v":"NÃO"},{"$f":"IF(AND(AV$8>=$M13,AV$8<=$N13),IF($F13=\"ANUAL\",IF(AU141=\"NÃO\",$D13,IF(MOD(COUNT($Q141:AU141)+1,12)=0,(AU141*$E13)+AU141,AU141)),\"NÃO\"),\"NÃO\")","v":"NÃO"},{"$f":"IF(AND(AW$8>=$M13,AW$8<=$N13),IF($F13=\"ANUAL\",IF(AV141=\"NÃO\",$D13,IF(MOD(COUNT($Q141:AV141)+1,12)=0,(AV141*$E13)+AV141,AV141)),\"NÃO\"),\"NÃO\")","v":"NÃO"},{"$f":"IF(AND(AX$8>=$M13,AX$8<=$N13),IF($F13=\"ANUAL\",IF(AW141=\"NÃO\",$D13,IF(MOD(COUNT($Q141:AW141)+1,12)=0,(AW141*$E13)+AW141,AW141)),\"NÃO\"),\"NÃO\")","v":"NÃO"},{"$f":"IF(AND(AY$8>=$M13,AY$8<=$N13),IF($F13=\"ANUAL\",IF(AX141=\"NÃO\",$D13,IF(MOD(COUNT($Q141:AX141)+1,12)=0,(AX141*$E13)+AX141,AX141)),\"NÃO\"),\"NÃO\")","v":"NÃO"},{"$f":"IF(AND(AZ$8>=$M13,AZ$8<=$N13),IF($F13=\"ANUAL\",IF(AY141=\"NÃO\",$D13,IF(MOD(COUNT($Q141:AY141)+1,12)=0,(AY141*$E13)+AY141,AY141)),\"NÃO\"),\"NÃO\")","v":"NÃO"},{"$f":"IF(AND(BA$8>=$M13,BA$8<=$N13),IF($F13=\"ANUAL\",IF(AZ141=\"NÃO\",$D13,IF(MOD(COUNT($Q141:AZ141)+1,12)=0,(AZ141*$E13)+AZ141,AZ141)),\"NÃO\"),\"NÃO\")","v":"NÃO"},{"$f":"IF(AND(BB$8>=$M13,BB$8<=$N13),IF($F13=\"ANUAL\",IF(BA141=\"NÃO\",$D13,IF(MOD(COUNT($Q141:BA141)+1,12)=0,(BA141*$E13)+BA141,BA141)),\"NÃO\"),\"NÃO\")","v":"NÃO"},{"$f":"IF(AND(BC$8>=$M13,BC$8<=$N13),IF($F13=\"ANUAL\",IF(BB141=\"NÃO\",$D13,IF(MOD(COUNT($Q141:BB141)+1,12)=0,(BB141*$E13)+BB141,BB141)),\"NÃO\"),\"NÃO\")","v":"NÃO"},{"$f":"IF(AND(BD$8>=$M13,BD$8<=$N13),IF($F13=\"ANUAL\",IF(BC141=\"NÃO\",$D13,IF(MOD(COUNT($Q141:BC141)+1,12)=0,(BC141*$E13)+BC141,BC141)),\"NÃO\"),\"NÃO\")","v":"NÃO"},{"$f":"IF(AND(BE$8>=$M13,BE$8<=$N13),IF($F13=\"ANUAL\",IF(BD141=\"NÃO\",$D13,IF(MOD(COUNT($Q141:BD141)+1,12)=0,(BD141*$E13)+BD141,BD141)),\"NÃO\"),\"NÃO\")","v":"NÃO"},{"$f":"IF(AND(BF$8>=$M13,BF$8<=$N13),IF($F13=\"ANUAL\",IF(BE141=\"NÃO\",$D13,IF(MOD(COUNT($Q141:BE141)+1,12)=0,(BE141*$E13)+BE141,BE141)),\"NÃO\"),\"NÃO\")","v":"NÃO"},{"$f":"IF(AND(BG$8>=$M13,BG$8<=$N13),IF($F13=\"ANUAL\",IF(BF141=\"NÃO\",$D13,IF(MOD(COUNT($Q141:BF141)+1,12)=0,(BF141*$E13)+BF141,BF141)),\"NÃO\"),\"NÃO\")","v":"NÃO"},{"$f":"IF(AND(BH$8>=$M13,BH$8<=$N13),IF($F13=\"ANUAL\",IF(BG141=\"NÃO\",$D13,IF(MOD(COUNT($Q141:BG141)+1,12)=0,(BG141*$E13)+BG141,BG141)),\"NÃO\"),\"NÃO\")","v":"NÃO"},{"$f":"IF(AND(BI$8>=$M13,BI$8<=$N13),IF($F13=\"ANUAL\",IF(BH141=\"NÃO\",$D13,IF(MOD(COUNT($Q141:BH141)+1,12)=0,(BH141*$E13)+BH141,BH141)),\"NÃO\"),\"NÃO\")","v":"NÃO"},{"$f":"IF(AND(BJ$8>=$M13,BJ$8<=$N13),IF($F13=\"ANUAL\",IF(BI141=\"NÃO\",$D13,IF(MOD(COUNT($Q141:BI141)+1,12)=0,(BI141*$E13)+BI141,BI141)),\"NÃO\"),\"NÃO\")","v":"NÃO"},{"$f":"IF(AND(BK$8>=$M13,BK$8<=$N13),IF($F13=\"ANUAL\",IF(BJ141=\"NÃO\",$D13,IF(MOD(COUNT($Q141:BJ141)+1,12)=0,(BJ141*$E13)+BJ141,BJ141)),\"NÃO\"),\"NÃO\")","v":"NÃO"},{"$f":"IF(AND(BL$8>=$M13,BL$8<=$N13),IF($F13=\"ANUAL\",IF(BK141=\"NÃO\",$D13,IF(MOD(COUNT($Q141:BK141)+1,12)=0,(BK141*$E13)+BK141,BK141)),\"NÃO\"),\"NÃO\")","v":"NÃO"},{"$f":"IF(AND(BM$8>=$M13,BM$8<=$N13),IF($F13=\"ANUAL\",IF(BL141=\"NÃO\",$D13,IF(MOD(COUNT($Q141:BL141)+1,12)=0,(BL141*$E13)+BL141,BL141)),\"NÃO\"),\"NÃO\")","v":"NÃO"},{"$f":"IF(AND(BN$8>=$M13,BN$8<=$N13),IF($F13=\"ANUAL\",IF(BM141=\"NÃO\",$D13,IF(MOD(COUNT($Q141:BM141)+1,12)=0,(BM141*$E13)+BM141,BM141)),\"NÃO\"),\"NÃO\")","v":"NÃO"},{"$f":"IF(AND(BO$8>=$M13,BO$8<=$N13),IF($F13=\"ANUAL\",IF(BN141=\"NÃO\",$D13,IF(MOD(COUNT($Q141:BN141)+1,12)=0,(BN141*$E13)+BN141,BN141)),\"NÃO\"),\"NÃO\")","v":"NÃO"},{"$f":"IF(AND(BP$8>=$M13,BP$8<=$N13),IF($F13=\"ANUAL\",IF(BO141=\"NÃO\",$D13,IF(MOD(COUNT($Q141:BO141)+1,12)=0,(BO141*$E13)+BO141,BO141)),\"NÃO\"),\"NÃO\")","v":"NÃO"},{"$f":"IF(AND(BQ$8>=$M13,BQ$8<=$N13),IF($F13=\"ANUAL\",IF(BP141=\"NÃO\",$D13,IF(MOD(COUNT($Q141:BP141)+1,12)=0,(BP141*$E13)+BP141,BP141)),\"NÃO\"),\"NÃO\")","v":"NÃO"},{"$f":"IF(AND(BR$8>=$M13,BR$8<=$N13),IF($F13=\"ANUAL\",IF(BQ141=\"NÃO\",$D13,IF(MOD(COUNT($Q141:BQ141)+1,12)=0,(BQ141*$E13)+BQ141,BQ141)),\"NÃO\"),\"NÃO\")","v":"NÃO"},{"$f":"IF(AND(BS$8>=$M13,BS$8<=$N13),IF($F13=\"ANUAL\",IF(BR141=\"NÃO\",$D13,IF(MOD(COUNT($Q141:BR141)+1,12)=0,(BR141*$E13)+BR141,BR141)),\"NÃO\"),\"NÃO\")","v":"NÃO"},{"$f":"IF(AND(BT$8>=$M13,BT$8<=$N13),IF($F13=\"ANUAL\",IF(BS141=\"NÃO\",$D13,IF(MOD(COUNT($Q141:BS141)+1,12)=0,(BS141*$E13)+BS141,BS141)),\"NÃO\"),\"NÃO\")","v":"NÃO"},{"$f":"IF(AND(BU$8>=$M13,BU$8<=$N13),IF($F13=\"ANUAL\",IF(BT141=\"NÃO\",$D13,IF(MOD(COUNT($Q141:BT141)+1,12)=0,(BT141*$E13)+BT141,BT141)),\"NÃO\"),\"NÃO\")","v":"NÃO"},{"$f":"IF(AND(BV$8>=$M13,BV$8<=$N13),IF($F13=\"ANUAL\",IF(BU141=\"NÃO\",$D13,IF(MOD(COUNT($Q141:BU141)+1,12)=0,(BU141*$E13)+BU141,BU141)),\"NÃO\"),\"NÃO\")","v":"NÃO"},{"$f":"IF(AND(BW$8>=$M13,BW$8<=$N13),IF($F13=\"ANUAL\",IF(BV141=\"NÃO\",$D13,IF(MOD(COUNT($Q141:BV141)+1,12)=0,(BV141*$E13)+BV141,BV141)),\"NÃO\"),\"NÃO\")","v":"NÃO"},{"$f":"IF(AND(BX$8>=$M13,BX$8<=$N13),IF($F13=\"ANUAL\",IF(BW141=\"NÃO\",$D13,IF(MOD(COUNT($Q141:BW141)+1,12)=0,(BW141*$E13)+BW141,BW141)),\"NÃO\"),\"NÃO\")","v":"NÃO"}]
[null,null,null,null,null,null,null,null,null,null,null,null,null,null,null,6,"NÃO",{"$f":"IF(AND(R$8>=$M14,R$8<=$N14),IF($F14=\"ANUAL\",IF(Q142=\"NÃO\",$D14,IF(MOD(COUNT($Q142:Q142)+1,12)=0,(Q142*$E14)+Q142,Q142)),\"NÃO\"),\"NÃO\")","v":"NÃO"},{"$f":"IF(AND(S$8>=$M14,S$8<=$N14),IF($F14=\"ANUAL\",IF(R142=\"NÃO\",$D14,IF(MOD(COUNT($Q142:R142)+1,12)=0,(R142*$E14)+R142,R142)),\"NÃO\"),\"NÃO\")","v":"NÃO"},{"$f":"IF(AND(T$8>=$M14,T$8<=$N14),IF($F14=\"ANUAL\",IF(S142=\"NÃO\",$D14,IF(MOD(COUNT($Q142:S142)+1,12)=0,(S142*$E14)+S142,S142)),\"NÃO\"),\"NÃO\")","v":"NÃO"},{"$f":"IF(AND(U$8>=$M14,U$8<=$N14),IF($F14=\"ANUAL\",IF(T142=\"NÃO\",$D14,IF(MOD(COUNT($Q142:T142)+1,12)=0,(T142*$E14)+T142,T142)),\"NÃO\"),\"NÃO\")","v":"NÃO"},{"$f":"IF(AND(V$8>=$M14,V$8<=$N14),IF($F14=\"ANUAL\",IF(U142=\"NÃO\",$D14,IF(MOD(COUNT($Q142:U142)+1,12)=0,(U142*$E14)+U142,U142)),\"NÃO\"),\"NÃO\")","v":"NÃO"},{"$f":"IF(AND(W$8>=$M14,W$8<=$N14),IF($F14=\"ANUAL\",IF(V142=\"NÃO\",$D14,IF(MOD(COUNT($Q142:V142)+1,12)=0,(V142*$E14)+V142,V142)),\"NÃO\"),\"NÃO\")","v":"NÃO"},{"$f":"IF(AND(X$8>=$M14,X$8<=$N14),IF($F14=\"ANUAL\",IF(W142=\"NÃO\",$D14,IF(MOD(COUNT($Q142:W142)+1,12)=0,(W142*$E14)+W142,W142)),\"NÃO\"),\"NÃO\")","v":"NÃO"},{"$f":"IF(AND(Y$8>=$M14,Y$8<=$N14),IF($F14=\"ANUAL\",IF(X142=\"NÃO\",$D14,IF(MOD(COUNT($Q142:X142)+1,12)=0,(X142*$E14)+X142,X142)),\"NÃO\"),\"NÃO\")","v":"NÃO"},{"$f":"IF(AND(Z$8>=$M14,Z$8<=$N14),IF($F14=\"ANUAL\",IF(Y142=\"NÃO\",$D14,IF(MOD(COUNT($Q142:Y142)+1,12)=0,(Y142*$E14)+Y142,Y142)),\"NÃO\"),\"NÃO\")","v":"NÃO"},{"$f":"IF(AND(AA$8>=$M14,AA$8<=$N14),IF($F14=\"ANUAL\",IF(Z142=\"NÃO\",$D14,IF(MOD(COUNT($Q142:Z142)+1,12)=0,(Z142*$E14)+Z142,Z142)),\"NÃO\"),\"NÃO\")","v":"NÃO"},{"$f":"IF(AND(AB$8>=$M14,AB$8<=$N14),IF($F14=\"ANUAL\",IF(AA142=\"NÃO\",$D14,IF(MOD(COUNT($Q142:AA142)+1,12)=0,(AA142*$E14)+AA142,AA142)),\"NÃO\"),\"NÃO\")","v":"NÃO"},{"$f":"IF(AND(AC$8>=$M14,AC$8<=$N14),IF($F14=\"ANUAL\",IF(AB142=\"NÃO\",$D14,IF(MOD(COUNT($Q142:AB142)+1,12)=0,(AB142*$E14)+AB142,AB142)),\"NÃO\"),\"NÃO\")","v":"NÃO"},{"$f":"IF(AND(AD$8>=$M14,AD$8<=$N14),IF($F14=\"ANUAL\",IF(AC142=\"NÃO\",$D14,IF(MOD(COUNT($Q142:AC142)+1,12)=0,(AC142*$E14)+AC142,AC142)),\"NÃO\"),\"NÃO\")","v":"NÃO"},{"$f":"IF(AND(AE$8>=$M14,AE$8<=$N14),IF($F14=\"ANUAL\",IF(AD142=\"NÃO\",$D14,IF(MOD(COUNT($Q142:AD142)+1,12)=0,(AD142*$E14)+AD142,AD142)),\"NÃO\"),\"NÃO\")","v":"NÃO"},{"$f":"IF(AND(AF$8>=$M14,AF$8<=$N14),IF($F14=\"ANUAL\",IF(AE142=\"NÃO\",$D14,IF(MOD(COUNT($Q142:AE142)+1,12)=0,(AE142*$E14)+AE142,AE142)),\"NÃO\"),\"NÃO\")","v":"NÃO"},{"$f":"IF(AND(AG$8>=$M14,AG$8<=$N14),IF($F14=\"ANUAL\",IF(AF142=\"NÃO\",$D14,IF(MOD(COUNT($Q142:AF142)+1,12)=0,(AF142*$E14)+AF142,AF142)),\"NÃO\"),\"NÃO\")","v":"NÃO"},{"$f":"IF(AND(AH$8>=$M14,AH$8<=$N14),IF($F14=\"ANUAL\",IF(AG142=\"NÃO\",$D14,IF(MOD(COUNT($Q142:AG142)+1,12)=0,(AG142*$E14)+AG142,AG142)),\"NÃO\"),\"NÃO\")","v":"NÃO"},{"$f":"IF(AND(AI$8>=$M14,AI$8<=$N14),IF($F14=\"ANUAL\",IF(AH142=\"NÃO\",$D14,IF(MOD(COUNT($Q142:AH142)+1,12)=0,(AH142*$E14)+AH142,AH142)),\"NÃO\"),\"NÃO\")","v":"NÃO"},{"$f":"IF(AND(AJ$8>=$M14,AJ$8<=$N14),IF($F14=\"ANUAL\",IF(AI142=\"NÃO\",$D14,IF(MOD(COUNT($Q142:AI142)+1,12)=0,(AI142*$E14)+AI142,AI142)),\"NÃO\"),\"NÃO\")","v":"NÃO"},{"$f":"IF(AND(AK$8>=$M14,AK$8<=$N14),IF($F14=\"ANUAL\",IF(AJ142=\"NÃO\",$D14,IF(MOD(COUNT($Q142:AJ142)+1,12)=0,(AJ142*$E14)+AJ142,AJ142)),\"NÃO\"),\"NÃO\")","v":"NÃO"},{"$f":"IF(AND(AL$8>=$M14,AL$8<=$N14),IF($F14=\"ANUAL\",IF(AK142=\"NÃO\",$D14,IF(MOD(COUNT($Q142:AK142)+1,12)=0,(AK142*$E14)+AK142,AK142)),\"NÃO\"),\"NÃO\")","v":"NÃO"},{"$f":"IF(AND(AM$8>=$M14,AM$8<=$N14),IF($F14=\"ANUAL\",IF(AL142=\"NÃO\",$D14,IF(MOD(COUNT($Q142:AL142)+1,12)=0,(AL142*$E14)+AL142,AL142)),\"NÃO\"),\"NÃO\")","v":"NÃO"},{"$f":"IF(AND(AN$8>=$M14,AN$8<=$N14),IF($F14=\"ANUAL\",IF(AM142=\"NÃO\",$D14,IF(MOD(COUNT($Q142:AM142)+1,12)=0,(AM142*$E14)+AM142,AM142)),\"NÃO\"),\"NÃO\")","v":"NÃO"},{"$f":"IF(AND(AO$8>=$M14,AO$8<=$N14),IF($F14=\"ANUAL\",IF(AN142=\"NÃO\",$D14,IF(MOD(COUNT($Q142:AN142)+1,12)=0,(AN142*$E14)+AN142,AN142)),\"NÃO\"),\"NÃO\")","v":"NÃO"},{"$f":"IF(AND(AP$8>=$M14,AP$8<=$N14),IF($F14=\"ANUAL\",IF(AO142=\"NÃO\",$D14,IF(MOD(COUNT($Q142:AO142)+1,12)=0,(AO142*$E14)+AO142,AO142)),\"NÃO\"),\"NÃO\")","v":"NÃO"},{"$f":"IF(AND(AQ$8>=$M14,AQ$8<=$N14),IF($F14=\"ANUAL\",IF(AP142=\"NÃO\",$D14,IF(MOD(COUNT($Q142:AP142)+1,12)=0,(AP142*$E14)+AP142,AP142)),\"NÃO\"),\"NÃO\")","v":"NÃO"},{"$f":"IF(AND(AR$8>=$M14,AR$8<=$N14),IF($F14=\"ANUAL\",IF(AQ142=\"NÃO\",$D14,IF(MOD(COUNT($Q142:AQ142)+1,12)=0,(AQ142*$E14)+AQ142,AQ142)),\"NÃO\"),\"NÃO\")","v":"NÃO"},{"$f":"IF(AND(AS$8>=$M14,AS$8<=$N14),IF($F14=\"ANUAL\",IF(AR142=\"NÃO\",$D14,IF(MOD(COUNT($Q142:AR142)+1,12)=0,(AR142*$E14)+AR142,AR142)),\"NÃO\"),\"NÃO\")","v":"NÃO"},{"$f":"IF(AND(AT$8>=$M14,AT$8<=$N14),IF($F14=\"ANUAL\",IF(AS142=\"NÃO\",$D14,IF(MOD(COUNT($Q142:AS142)+1,12)=0,(AS142*$E14)+AS142,AS142)),\"NÃO\"),\"NÃO\")","v":"NÃO"},{"$f":"IF(AND(AU$8>=$M14,AU$8<=$N14),IF($F14=\"ANUAL\",IF(AT142=\"NÃO\",$D14,IF(MOD(COUNT($Q142:AT142)+1,12)=0,(AT142*$E14)+AT142,AT142)),\"NÃO\"),\"NÃO\")","v":"NÃO"},{"$f":"IF(AND(AV$8>=$M14,AV$8<=$N14),IF($F14=\"ANUAL\",IF(AU142=\"NÃO\",$D14,IF(MOD(COUNT($Q142:AU142)+1,12)=0,(AU142*$E14)+AU142,AU142)),\"NÃO\"),\"NÃO\")","v":"NÃO"},{"$f":"IF(AND(AW$8>=$M14,AW$8<=$N14),IF($F14=\"ANUAL\",IF(AV142=\"NÃO\",$D14,IF(MOD(COUNT($Q142:AV142)+1,12)=0,(AV142*$E14)+AV142,AV142)),\"NÃO\"),\"NÃO\")","v":"NÃO"},{"$f":"IF(AND(AX$8>=$M14,AX$8<=$N14),IF($F14=\"ANUAL\",IF(AW142=\"NÃO\",$D14,IF(MOD(COUNT($Q142:AW142)+1,12)=0,(AW142*$E14)+AW142,AW142)),\"NÃO\"),\"NÃO\")","v":"NÃO"},{"$f":"IF(AND(AY$8>=$M14,AY$8<=$N14),IF($F14=\"ANUAL\",IF(AX142=\"NÃO\",$D14,IF(MOD(COUNT($Q142:AX142)+1,12)=0,(AX142*$E14)+AX142,AX142)),\"NÃO\"),\"NÃO\")","v":"NÃO"},{"$f":"IF(AND(AZ$8>=$M14,AZ$8<=$N14),IF($F14=\"ANUAL\",IF(AY142=\"NÃO\",$D14,IF(MOD(COUNT($Q142:AY142)+1,12)=0,(AY142*$E14)+AY142,AY142)),\"NÃO\"),\"NÃO\")","v":"NÃO"},{"$f":"IF(AND(BA$8>=$M14,BA$8<=$N14),IF($F14=\"ANUAL\",IF(AZ142=\"NÃO\",$D14,IF(MOD(COUNT($Q142:AZ142)+1,12)=0,(AZ142*$E14)+AZ142,AZ142)),\"NÃO\"),\"NÃO\")","v":"NÃO"},{"$f":"IF(AND(BB$8>=$M14,BB$8<=$N14),IF($F14=\"ANUAL\",IF(BA142=\"NÃO\",$D14,IF(MOD(COUNT($Q142:BA142)+1,12)=0,(BA142*$E14)+BA142,BA142)),\"NÃO\"),\"NÃO\")","v":"NÃO"},{"$f":"IF(AND(BC$8>=$M14,BC$8<=$N14),IF($F14=\"ANUAL\",IF(BB142=\"NÃO\",$D14,IF(MOD(COUNT($Q142:BB142)+1,12)=0,(BB142*$E14)+BB142,BB142)),\"NÃO\"),\"NÃO\")","v":"NÃO"},{"$f":"IF(AND(BD$8>=$M14,BD$8<=$N14),IF($F14=\"ANUAL\",IF(BC142=\"NÃO\",$D14,IF(MOD(COUNT($Q142:BC142)+1,12)=0,(BC142*$E14)+BC142,BC142)),\"NÃO\"),\"NÃO\")","v":"NÃO"},{"$f":"IF(AND(BE$8>=$M14,BE$8<=$N14),IF($F14=\"ANUAL\",IF(BD142=\"NÃO\",$D14,IF(MOD(COUNT($Q142:BD142)+1,12)=0,(BD142*$E14)+BD142,BD142)),\"NÃO\"),\"NÃO\")","v":"NÃO"},{"$f":"IF(AND(BF$8>=$M14,BF$8<=$N14),IF($F14=\"ANUAL\",IF(BE142=\"NÃO\",$D14,IF(MOD(COUNT($Q142:BE142)+1,12)=0,(BE142*$E14)+BE142,BE142)),\"NÃO\"),\"NÃO\")","v":"NÃO"},{"$f":"IF(AND(BG$8>=$M14,BG$8<=$N14),IF($F14=\"ANUAL\",IF(BF142=\"NÃO\",$D14,IF(MOD(COUNT($Q142:BF142)+1,12)=0,(BF142*$E14)+BF142,BF142)),\"NÃO\"),\"NÃO\")","v":"NÃO"},{"$f":"IF(AND(BH$8>=$M14,BH$8<=$N14),IF($F14=\"ANUAL\",IF(BG142=\"NÃO\",$D14,IF(MOD(COUNT($Q142:BG142)+1,12)=0,(BG142*$E14)+BG142,BG142)),\"NÃO\"),\"NÃO\")","v":"NÃO"},{"$f":"IF(AND(BI$8>=$M14,BI$8<=$N14),IF($F14=\"ANUAL\",IF(BH142=\"NÃO\",$D14,IF(MOD(COUNT($Q142:BH142)+1,12)=0,(BH142*$E14)+BH142,BH142)),\"NÃO\"),\"NÃO\")","v":"NÃO"},{"$f":"IF(AND(BJ$8>=$M14,BJ$8<=$N14),IF($F14=\"ANUAL\",IF(BI142=\"NÃO\",$D14,IF(MOD(COUNT($Q142:BI142)+1,12)=0,(BI142*$E14)+BI142,BI142)),\"NÃO\"),\"NÃO\")","v":"NÃO"},{"$f":"IF(AND(BK$8>=$M14,BK$8<=$N14),IF($F14=\"ANUAL\",IF(BJ142=\"NÃO\",$D14,IF(MOD(COUNT($Q142:BJ142)+1,12)=0,(BJ142*$E14)+BJ142,BJ142)),\"NÃO\"),\"NÃO\")","v":"NÃO"},{"$f":"IF(AND(BL$8>=$M14,BL$8<=$N14),IF($F14=\"ANUAL\",IF(BK142=\"NÃO\",$D14,IF(MOD(COUNT($Q142:BK142)+1,12)=0,(BK142*$E14)+BK142,BK142)),\"NÃO\"),\"NÃO\")","v":"NÃO"},{"$f":"IF(AND(BM$8>=$M14,BM$8<=$N14),IF($F14=\"ANUAL\",IF(BL142=\"NÃO\",$D14,IF(MOD(COUNT($Q142:BL142)+1,12)=0,(BL142*$E14)+BL142,BL142)),\"NÃO\"),\"NÃO\")","v":"NÃO"},{"$f":"IF(AND(BN$8>=$M14,BN$8<=$N14),IF($F14=\"ANUAL\",IF(BM142=\"NÃO\",$D14,IF(MOD(COUNT($Q142:BM142)+1,12)=0,(BM142*$E14)+BM142,BM142)),\"NÃO\"),\"NÃO\")","v":"NÃO"},{"$f":"IF(AND(BO$8>=$M14,BO$8<=$N14),IF($F14=\"ANUAL\",IF(BN142=\"NÃO\",$D14,IF(MOD(COUNT($Q142:BN142)+1,12)=0,(BN142*$E14)+BN142,BN142)),\"NÃO\"),\"NÃO\")","v":"NÃO"},{"$f":"IF(AND(BP$8>=$M14,BP$8<=$N14),IF($F14=\"ANUAL\",IF(BO142=\"NÃO\",$D14,IF(MOD(COUNT($Q142:BO142)+1,12)=0,(BO142*$E14)+BO142,BO142)),\"NÃO\"),\"NÃO\")","v":"NÃO"},{"$f":"IF(AND(BQ$8>=$M14,BQ$8<=$N14),IF($F14=\"ANUAL\",IF(BP142=\"NÃO\",$D14,IF(MOD(COUNT($Q142:BP142)+1,12)=0,(BP142*$E14)+BP142,BP142)),\"NÃO\"),\"NÃO\")","v":"NÃO"},{"$f":"IF(AND(BR$8>=$M14,BR$8<=$N14),IF($F14=\"ANUAL\",IF(BQ142=\"NÃO\",$D14,IF(MOD(COUNT($Q142:BQ142)+1,12)=0,(BQ142*$E14)+BQ142,BQ142)),\"NÃO\"),\"NÃO\")","v":"NÃO"},{"$f":"IF(AND(BS$8>=$M14,BS$8<=$N14),IF($F14=\"ANUAL\",IF(BR142=\"NÃO\",$D14,IF(MOD(COUNT($Q142:BR142)+1,12)=0,(BR142*$E14)+BR142,BR142)),\"NÃO\"),\"NÃO\")","v":"NÃO"},{"$f":"IF(AND(BT$8>=$M14,BT$8<=$N14),IF($F14=\"ANUAL\",IF(BS142=\"NÃO\",$D14,IF(MOD(COUNT($Q142:BS142)+1,12)=0,(BS142*$E14)+BS142,BS142)),\"NÃO\"),\"NÃO\")","v":"NÃO"},{"$f":"IF(AND(BU$8>=$M14,BU$8<=$N14),IF($F14=\"ANUAL\",IF(BT142=\"NÃO\",$D14,IF(MOD(COUNT($Q142:BT142)+1,12)=0,(BT142*$E14)+BT142,BT142)),\"NÃO\"),\"NÃO\")","v":"NÃO"},{"$f":"IF(AND(BV$8>=$M14,BV$8<=$N14),IF($F14=\"ANUAL\",IF(BU142=\"NÃO\",$D14,IF(MOD(COUNT($Q142:BU142)+1,12)=0,(BU142*$E14)+BU142,BU142)),\"NÃO\"),\"NÃO\")","v":"NÃO"},{"$f":"IF(AND(BW$8>=$M14,BW$8<=$N14),IF($F14=\"ANUAL\",IF(BV142=\"NÃO\",$D14,IF(MOD(COUNT($Q142:BV142)+1,12)=0,(BV142*$E14)+BV142,BV142)),\"NÃO\"),\"NÃO\")","v":"NÃO"},{"$f":"IF(AND(BX$8>=$M14,BX$8<=$N14),IF($F14=\"ANUAL\",IF(BW142=\"NÃO\",$D14,IF(MOD(COUNT($Q142:BW142)+1,12)=0,(BW142*$E14)+BW142,BW142)),\"NÃO\"),\"NÃO\")","v":"NÃO"}]
[null,null,null,null,null,null,null,null,null,null,null,null,null,null,null,7,"NÃO",{"$f":"IF(AND(R$8>=$M15,R$8<=$N15),IF($F15=\"ANUAL\",IF(Q143=\"NÃO\",$D15,IF(MOD(COUNT($Q143:Q143)+1,12)=0,(Q143*$E15)+Q143,Q143)),\"NÃO\"),\"NÃO\")","v":"NÃO"},{"$f":"IF(AND(S$8>=$M15,S$8<=$N15),IF($F15=\"ANUAL\",IF(R143=\"NÃO\",$D15,IF(MOD(COUNT($Q143:R143)+1,12)=0,(R143*$E15)+R143,R143)),\"NÃO\"),\"NÃO\")","v":"NÃO"},{"$f":"IF(AND(T$8>=$M15,T$8<=$N15),IF($F15=\"ANUAL\",IF(S143=\"NÃO\",$D15,IF(MOD(COUNT($Q143:S143)+1,12)=0,(S143*$E15)+S143,S143)),\"NÃO\"),\"NÃO\")","v":"NÃO"},{"$f":"IF(AND(U$8>=$M15,U$8<=$N15),IF($F15=\"ANUAL\",IF(T143=\"NÃO\",$D15,IF(MOD(COUNT($Q143:T143)+1,12)=0,(T143*$E15)+T143,T143)),\"NÃO\"),\"NÃO\")","v":"NÃO"},{"$f":"IF(AND(V$8>=$M15,V$8<=$N15),IF($F15=\"ANUAL\",IF(U143=\"NÃO\",$D15,IF(MOD(COUNT($Q143:U143)+1,12)=0,(U143*$E15)+U143,U143)),\"NÃO\"),\"NÃO\")","v":"NÃO"},{"$f":"IF(AND(W$8>=$M15,W$8<=$N15),IF($F15=\"ANUAL\",IF(V143=\"NÃO\",$D15,IF(MOD(COUNT($Q143:V143)+1,12)=0,(V143*$E15)+V143,V143)),\"NÃO\"),\"NÃO\")","v":"NÃO"},{"$f":"IF(AND(X$8>=$M15,X$8<=$N15),IF($F15=\"ANUAL\",IF(W143=\"NÃO\",$D15,IF(MOD(COUNT($Q143:W143)+1,12)=0,(W143*$E15)+W143,W143)),\"NÃO\"),\"NÃO\")","v":"NÃO"},{"$f":"IF(AND(Y$8>=$M15,Y$8<=$N15),IF($F15=\"ANUAL\",IF(X143=\"NÃO\",$D15,IF(MOD(COUNT($Q143:X143)+1,12)=0,(X143*$E15)+X143,X143)),\"NÃO\"),\"NÃO\")","v":"NÃO"},{"$f":"IF(AND(Z$8>=$M15,Z$8<=$N15),IF($F15=\"ANUAL\",IF(Y143=\"NÃO\",$D15,IF(MOD(COUNT($Q143:Y143)+1,12)=0,(Y143*$E15)+Y143,Y143)),\"NÃO\"),\"NÃO\")","v":"NÃO"},{"$f":"IF(AND(AA$8>=$M15,AA$8<=$N15),IF($F15=\"ANUAL\",IF(Z143=\"NÃO\",$D15,IF(MOD(COUNT($Q143:Z143)+1,12)=0,(Z143*$E15)+Z143,Z143)),\"NÃO\"),\"NÃO\")","v":"NÃO"},{"$f":"IF(AND(AB$8>=$M15,AB$8<=$N15),IF($F15=\"ANUAL\",IF(AA143=\"NÃO\",$D15,IF(MOD(COUNT($Q143:AA143)+1,12)=0,(AA143*$E15)+AA143,AA143)),\"NÃO\"),\"NÃO\")","v":"NÃO"},{"$f":"IF(AND(AC$8>=$M15,AC$8<=$N15),IF($F15=\"ANUAL\",IF(AB143=\"NÃO\",$D15,IF(MOD(COUNT($Q143:AB143)+1,12)=0,(AB143*$E15)+AB143,AB143)),\"NÃO\"),\"NÃO\")","v":"NÃO"},{"$f":"IF(AND(AD$8>=$M15,AD$8<=$N15),IF($F15=\"ANUAL\",IF(AC143=\"NÃO\",$D15,IF(MOD(COUNT($Q143:AC143)+1,12)=0,(AC143*$E15)+AC143,AC143)),\"NÃO\"),\"NÃO\")","v":"NÃO"},{"$f":"IF(AND(AE$8>=$M15,AE$8<=$N15),IF($F15=\"ANUAL\",IF(AD143=\"NÃO\",$D15,IF(MOD(COUNT($Q143:AD143)+1,12)=0,(AD143*$E15)+AD143,AD143)),\"NÃO\"),\"NÃO\")","v":"NÃO"},{"$f":"IF(AND(AF$8>=$M15,AF$8<=$N15),IF($F15=\"ANUAL\",IF(AE143=\"NÃO\",$D15,IF(MOD(COUNT($Q143:AE143)+1,12)=0,(AE143*$E15)+AE143,AE143)),\"NÃO\"),\"NÃO\")","v":"NÃO"},{"$f":"IF(AND(AG$8>=$M15,AG$8<=$N15),IF($F15=\"ANUAL\",IF(AF143=\"NÃO\",$D15,IF(MOD(COUNT($Q143:AF143)+1,12)=0,(AF143*$E15)+AF143,AF143)),\"NÃO\"),\"NÃO\")","v":"NÃO"},{"$f":"IF(AND(AH$8>=$M15,AH$8<=$N15),IF($F15=\"ANUAL\",IF(AG143=\"NÃO\",$D15,IF(MOD(COUNT($Q143:AG143)+1,12)=0,(AG143*$E15)+AG143,AG143)),\"NÃO\"),\"NÃO\")","v":"NÃO"},{"$f":"IF(AND(AI$8>=$M15,AI$8<=$N15),IF($F15=\"ANUAL\",IF(AH143=\"NÃO\",$D15,IF(MOD(COUNT($Q143:AH143)+1,12)=0,(AH143*$E15)+AH143,AH143)),\"NÃO\"),\"NÃO\")","v":"NÃO"},{"$f":"IF(AND(AJ$8>=$M15,AJ$8<=$N15),IF($F15=\"ANUAL\",IF(AI143=\"NÃO\",$D15,IF(MOD(COUNT($Q143:AI143)+1,12)=0,(AI143*$E15)+AI143,AI143)),\"NÃO\"),\"NÃO\")","v":"NÃO"},{"$f":"IF(AND(AK$8>=$M15,AK$8<=$N15),IF($F15=\"ANUAL\",IF(AJ143=\"NÃO\",$D15,IF(MOD(COUNT($Q143:AJ143)+1,12)=0,(AJ143*$E15)+AJ143,AJ143)),\"NÃO\"),\"NÃO\")","v":"NÃO"},{"$f":"IF(AND(AL$8>=$M15,AL$8<=$N15),IF($F15=\"ANUAL\",IF(AK143=\"NÃO\",$D15,IF(MOD(COUNT($Q143:AK143)+1,12)=0,(AK143*$E15)+AK143,AK143)),\"NÃO\"),\"NÃO\")","v":"NÃO"},{"$f":"IF(AND(AM$8>=$M15,AM$8<=$N15),IF($F15=\"ANUAL\",IF(AL143=\"NÃO\",$D15,IF(MOD(COUNT($Q143:AL143)+1,12)=0,(AL143*$E15)+AL143,AL143)),\"NÃO\"),\"NÃO\")","v":"NÃO"},{"$f":"IF(AND(AN$8>=$M15,AN$8<=$N15),IF($F15=\"ANUAL\",IF(AM143=\"NÃO\",$D15,IF(MOD(COUNT($Q143:AM143)+1,12)=0,(AM143*$E15)+AM143,AM143)),\"NÃO\"),\"NÃO\")","v":"NÃO"},{"$f":"IF(AND(AO$8>=$M15,AO$8<=$N15),IF($F15=\"ANUAL\",IF(AN143=\"NÃO\",$D15,IF(MOD(COUNT($Q143:AN143)+1,12)=0,(AN143*$E15)+AN143,AN143)),\"NÃO\"),\"NÃO\")","v":"NÃO"},{"$f":"IF(AND(AP$8>=$M15,AP$8<=$N15),IF($F15=\"ANUAL\",IF(AO143=\"NÃO\",$D15,IF(MOD(COUNT($Q143:AO143)+1,12)=0,(AO143*$E15)+AO143,AO143)),\"NÃO\"),\"NÃO\")","v":"NÃO"},{"$f":"IF(AND(AQ$8>=$M15,AQ$8<=$N15),IF($F15=\"ANUAL\",IF(AP143=\"NÃO\",$D15,IF(MOD(COUNT($Q143:AP143)+1,12)=0,(AP143*$E15)+AP143,AP143)),\"NÃO\"),\"NÃO\")","v":"NÃO"},{"$f":"IF(AND(AR$8>=$M15,AR$8<=$N15),IF($F15=\"ANUAL\",IF(AQ143=\"NÃO\",$D15,IF(MOD(COUNT($Q143:AQ143)+1,12)=0,(AQ143*$E15)+AQ143,AQ143)),\"NÃO\"),\"NÃO\")","v":"NÃO"},{"$f":"IF(AND(AS$8>=$M15,AS$8<=$N15),IF($F15=\"ANUAL\",IF(AR143=\"NÃO\",$D15,IF(MOD(COUNT($Q143:AR143)+1,12)=0,(AR143*$E15)+AR143,AR143)),\"NÃO\"),\"NÃO\")","v":"NÃO"},{"$f":"IF(AND(AT$8>=$M15,AT$8<=$N15),IF($F15=\"ANUAL\",IF(AS143=\"NÃO\",$D15,IF(MOD(COUNT($Q143:AS143)+1,12)=0,(AS143*$E15)+AS143,AS143)),\"NÃO\"),\"NÃO\")","v":"NÃO"},{"$f":"IF(AND(AU$8>=$M15,AU$8<=$N15),IF($F15=\"ANUAL\",IF(AT143=\"NÃO\",$D15,IF(MOD(COUNT($Q143:AT143)+1,12)=0,(AT143*$E15)+AT143,AT143)),\"NÃO\"),\"NÃO\")","v":"NÃO"},{"$f":"IF(AND(AV$8>=$M15,AV$8<=$N15),IF($F15=\"ANUAL\",IF(AU143=\"NÃO\",$D15,IF(MOD(COUNT($Q143:AU143)+1,12)=0,(AU143*$E15)+AU143,AU143)),\"NÃO\"),\"NÃO\")","v":"NÃO"},{"$f":"IF(AND(AW$8>=$M15,AW$8<=$N15),IF($F15=\"ANUAL\",IF(AV143=\"NÃO\",$D15,IF(MOD(COUNT($Q143:AV143)+1,12)=0,(AV143*$E15)+AV143,AV143)),\"NÃO\"),\"NÃO\")","v":"NÃO"},{"$f":"IF(AND(AX$8>=$M15,AX$8<=$N15),IF($F15=\"ANUAL\",IF(AW143=\"NÃO\",$D15,IF(MOD(COUNT($Q143:AW143)+1,12)=0,(AW143*$E15)+AW143,AW143)),\"NÃO\"),\"NÃO\")","v":"NÃO"},{"$f":"IF(AND(AY$8>=$M15,AY$8<=$N15),IF($F15=\"ANUAL\",IF(AX143=\"NÃO\",$D15,IF(MOD(COUNT($Q143:AX143)+1,12)=0,(AX143*$E15)+AX143,AX143)),\"NÃO\"),\"NÃO\")","v":"NÃO"},{"$f":"IF(AND(AZ$8>=$M15,AZ$8<=$N15),IF($F15=\"ANUAL\",IF(AY143=\"NÃO\",$D15,IF(MOD(COUNT($Q143:AY143)+1,12)=0,(AY143*$E15)+AY143,AY143)),\"NÃO\"),\"NÃO\")","v":"NÃO"},{"$f":"IF(AND(BA$8>=$M15,BA$8<=$N15),IF($F15=\"ANUAL\",IF(AZ143=\"NÃO\",$D15,IF(MOD(COUNT($Q143:AZ143)+1,12)=0,(AZ143*$E15)+AZ143,AZ143)),\"NÃO\"),\"NÃO\")","v":"NÃO"},{"$f":"IF(AND(BB$8>=$M15,BB$8<=$N15),IF($F15=\"ANUAL\",IF(BA143=\"NÃO\",$D15,IF(MOD(COUNT($Q143:BA143)+1,12)=0,(BA143*$E15)+BA143,BA143)),\"NÃO\"),\"NÃO\")","v":"NÃO"},{"$f":"IF(AND(BC$8>=$M15,BC$8<=$N15),IF($F15=\"ANUAL\",IF(BB143=\"NÃO\",$D15,IF(MOD(COUNT($Q143:BB143)+1,12)=0,(BB143*$E15)+BB143,BB143)),\"NÃO\"),\"NÃO\")","v":"NÃO"},{"$f":"IF(AND(BD$8>=$M15,BD$8<=$N15),IF($F15=\"ANUAL\",IF(BC143=\"NÃO\",$D15,IF(MOD(COUNT($Q143:BC143)+1,12)=0,(BC143*$E15)+BC143,BC143)),\"NÃO\"),\"NÃO\")","v":"NÃO"},{"$f":"IF(AND(BE$8>=$M15,BE$8<=$N15),IF($F15=\"ANUAL\",IF(BD143=\"NÃO\",$D15,IF(MOD(COUNT($Q143:BD143)+1,12)=0,(BD143*$E15)+BD143,BD143)),\"NÃO\"),\"NÃO\")","v":"NÃO"},{"$f":"IF(AND(BF$8>=$M15,BF$8<=$N15),IF($F15=\"ANUAL\",IF(BE143=\"NÃO\",$D15,IF(MOD(COUNT($Q143:BE143)+1,12)=0,(BE143*$E15)+BE143,BE143)),\"NÃO\"),\"NÃO\")","v":"NÃO"},{"$f":"IF(AND(BG$8>=$M15,BG$8<=$N15),IF($F15=\"ANUAL\",IF(BF143=\"NÃO\",$D15,IF(MOD(COUNT($Q143:BF143)+1,12)=0,(BF143*$E15)+BF143,BF143)),\"NÃO\"),\"NÃO\")","v":"NÃO"},{"$f":"IF(AND(BH$8>=$M15,BH$8<=$N15),IF($F15=\"ANUAL\",IF(BG143=\"NÃO\",$D15,IF(MOD(COUNT($Q143:BG143)+1,12)=0,(BG143*$E15)+BG143,BG143)),\"NÃO\"),\"NÃO\")","v":"NÃO"},{"$f":"IF(AND(BI$8>=$M15,BI$8<=$N15),IF($F15=\"ANUAL\",IF(BH143=\"NÃO\",$D15,IF(MOD(COUNT($Q143:BH143)+1,12)=0,(BH143*$E15)+BH143,BH143)),\"NÃO\"),\"NÃO\")","v":"NÃO"},{"$f":"IF(AND(BJ$8>=$M15,BJ$8<=$N15),IF($F15=\"ANUAL\",IF(BI143=\"NÃO\",$D15,IF(MOD(COUNT($Q143:BI143)+1,12)=0,(BI143*$E15)+BI143,BI143)),\"NÃO\"),\"NÃO\")","v":"NÃO"},{"$f":"IF(AND(BK$8>=$M15,BK$8<=$N15),IF($F15=\"ANUAL\",IF(BJ143=\"NÃO\",$D15,IF(MOD(COUNT($Q143:BJ143)+1,12)=0,(BJ143*$E15)+BJ143,BJ143)),\"NÃO\"),\"NÃO\")","v":"NÃO"},{"$f":"IF(AND(BL$8>=$M15,BL$8<=$N15),IF($F15=\"ANUAL\",IF(BK143=\"NÃO\",$D15,IF(MOD(COUNT($Q143:BK143)+1,12)=0,(BK143*$E15)+BK143,BK143)),\"NÃO\"),\"NÃO\")","v":"NÃO"},{"$f":"IF(AND(BM$8>=$M15,BM$8<=$N15),IF($F15=\"ANUAL\",IF(BL143=\"NÃO\",$D15,IF(MOD(COUNT($Q143:BL143)+1,12)=0,(BL143*$E15)+BL143,BL143)),\"NÃO\"),\"NÃO\")","v":"NÃO"},{"$f":"IF(AND(BN$8>=$M15,BN$8<=$N15),IF($F15=\"ANUAL\",IF(BM143=\"NÃO\",$D15,IF(MOD(COUNT($Q143:BM143)+1,12)=0,(BM143*$E15)+BM143,BM143)),\"NÃO\"),\"NÃO\")","v":"NÃO"},{"$f":"IF(AND(BO$8>=$M15,BO$8<=$N15),IF($F15=\"ANUAL\",IF(BN143=\"NÃO\",$D15,IF(MOD(COUNT($Q143:BN143)+1,12)=0,(BN143*$E15)+BN143,BN143)),\"NÃO\"),\"NÃO\")","v":"NÃO"},{"$f":"IF(AND(BP$8>=$M15,BP$8<=$N15),IF($F15=\"ANUAL\",IF(BO143=\"NÃO\",$D15,IF(MOD(COUNT($Q143:BO143)+1,12)=0,(BO143*$E15)+BO143,BO143)),\"NÃO\"),\"NÃO\")","v":"NÃO"},{"$f":"IF(AND(BQ$8>=$M15,BQ$8<=$N15),IF($F15=\"ANUAL\",IF(BP143=\"NÃO\",$D15,IF(MOD(COUNT($Q143:BP143)+1,12)=0,(BP143*$E15)+BP143,BP143)),\"NÃO\"),\"NÃO\")","v":"NÃO"},{"$f":"IF(AND(BR$8>=$M15,BR$8<=$N15),IF($F15=\"ANUAL\",IF(BQ143=\"NÃO\",$D15,IF(MOD(COUNT($Q143:BQ143)+1,12)=0,(BQ143*$E15)+BQ143,BQ143)),\"NÃO\"),\"NÃO\")","v":"NÃO"},{"$f":"IF(AND(BS$8>=$M15,BS$8<=$N15),IF($F15=\"ANUAL\",IF(BR143=\"NÃO\",$D15,IF(MOD(COUNT($Q143:BR143)+1,12)=0,(BR143*$E15)+BR143,BR143)),\"NÃO\"),\"NÃO\")","v":"NÃO"},{"$f":"IF(AND(BT$8>=$M15,BT$8<=$N15),IF($F15=\"ANUAL\",IF(BS143=\"NÃO\",$D15,IF(MOD(COUNT($Q143:BS143)+1,12)=0,(BS143*$E15)+BS143,BS143)),\"NÃO\"),\"NÃO\")","v":"NÃO"},{"$f":"IF(AND(BU$8>=$M15,BU$8<=$N15),IF($F15=\"ANUAL\",IF(BT143=\"NÃO\",$D15,IF(MOD(COUNT($Q143:BT143)+1,12)=0,(BT143*$E15)+BT143,BT143)),\"NÃO\"),\"NÃO\")","v":"NÃO"},{"$f":"IF(AND(BV$8>=$M15,BV$8<=$N15),IF($F15=\"ANUAL\",IF(BU143=\"NÃO\",$D15,IF(MOD(COUNT($Q143:BU143)+1,12)=0,(BU143*$E15)+BU143,BU143)),\"NÃO\"),\"NÃO\")","v":"NÃO"},{"$f":"IF(AND(BW$8>=$M15,BW$8<=$N15),IF($F15=\"ANUAL\",IF(BV143=\"NÃO\",$D15,IF(MOD(COUNT($Q143:BV143)+1,12)=0,(BV143*$E15)+BV143,BV143)),\"NÃO\"),\"NÃO\")","v":"NÃO"},{"$f":"IF(AND(BX$8>=$M15,BX$8<=$N15),IF($F15=\"ANUAL\",IF(BW143=\"NÃO\",$D15,IF(MOD(COUNT($Q143:BW143)+1,12)=0,(BW143*$E15)+BW143,BW143)),\"NÃO\"),\"NÃO\")","v":"NÃO"}]
[null,null,null,null,null,null,null,null,null,null,null,null,null,null,null,8,"NÃO",{"$f":"IF(AND(R$8>=$M16,R$8<=$N16),IF($F16=\"ANUAL\",IF(Q144=\"NÃO\",$D16,IF(MOD(COUNT($Q144:Q144)+1,12)=0,(Q144*$E16)+Q144,Q144)),\"NÃO\"),\"NÃO\")","v":"NÃO"},{"$f":"IF(AND(S$8>=$M16,S$8<=$N16),IF($F16=\"ANUAL\",IF(R144=\"NÃO\",$D16,IF(MOD(COUNT($Q144:R144)+1,12)=0,(R144*$E16)+R144,R144)),\"NÃO\"),\"NÃO\")","v":"NÃO"},{"$f":"IF(AND(T$8>=$M16,T$8<=$N16),IF($F16=\"ANUAL\",IF(S144=\"NÃO\",$D16,IF(MOD(COUNT($Q144:S144)+1,12)=0,(S144*$E16)+S144,S144)),\"NÃO\"),\"NÃO\")","v":"NÃO"},{"$f":"IF(AND(U$8>=$M16,U$8<=$N16),IF($F16=\"ANUAL\",IF(T144=\"NÃO\",$D16,IF(MOD(COUNT($Q144:T144)+1,12)=0,(T144*$E16)+T144,T144)),\"NÃO\"),\"NÃO\")","v":"NÃO"},{"$f":"IF(AND(V$8>=$M16,V$8<=$N16),IF($F16=\"ANUAL\",IF(U144=\"NÃO\",$D16,IF(MOD(COUNT($Q144:U144)+1,12)=0,(U144*$E16)+U144,U144)),\"NÃO\"),\"NÃO\")","v":"NÃO"},{"$f":"IF(AND(W$8>=$M16,W$8<=$N16),IF($F16=\"ANUAL\",IF(V144=\"NÃO\",$D16,IF(MOD(COUNT($Q144:V144)+1,12)=0,(V144*$E16)+V144,V144)),\"NÃO\"),\"NÃO\")","v":"NÃO"},{"$f":"IF(AND(X$8>=$M16,X$8<=$N16),IF($F16=\"ANUAL\",IF(W144=\"NÃO\",$D16,IF(MOD(COUNT($Q144:W144)+1,12)=0,(W144*$E16)+W144,W144)),\"NÃO\"),\"NÃO\")","v":"NÃO"},{"$f":"IF(AND(Y$8>=$M16,Y$8<=$N16),IF($F16=\"ANUAL\",IF(X144=\"NÃO\",$D16,IF(MOD(COUNT($Q144:X144)+1,12)=0,(X144*$E16)+X144,X144)),\"NÃO\"),\"NÃO\")","v":"NÃO"},{"$f":"IF(AND(Z$8>=$M16,Z$8<=$N16),IF($F16=\"ANUAL\",IF(Y144=\"NÃO\",$D16,IF(MOD(COUNT($Q144:Y144)+1,12)=0,(Y144*$E16)+Y144,Y144)),\"NÃO\"),\"NÃO\")","v":"NÃO"},{"$f":"IF(AND(AA$8>=$M16,AA$8<=$N16),IF($F16=\"ANUAL\",IF(Z144=\"NÃO\",$D16,IF(MOD(COUNT($Q144:Z144)+1,12)=0,(Z144*$E16)+Z144,Z144)),\"NÃO\"),\"NÃO\")","v":"NÃO"},{"$f":"IF(AND(AB$8>=$M16,AB$8<=$N16),IF($F16=\"ANUAL\",IF(AA144=\"NÃO\",$D16,IF(MOD(COUNT($Q144:AA144)+1,12)=0,(AA144*$E16)+AA144,AA144)),\"NÃO\"),\"NÃO\")","v":"NÃO"},{"$f":"IF(AND(AC$8>=$M16,AC$8<=$N16),IF($F16=\"ANUAL\",IF(AB144=\"NÃO\",$D16,IF(MOD(COUNT($Q144:AB144)+1,12)=0,(AB144*$E16)+AB144,AB144)),\"NÃO\"),\"NÃO\")","v":"NÃO"},{"$f":"IF(AND(AD$8>=$M16,AD$8<=$N16),IF($F16=\"ANUAL\",IF(AC144=\"NÃO\",$D16,IF(MOD(COUNT($Q144:AC144)+1,12)=0,(AC144*$E16)+AC144,AC144)),\"NÃO\"),\"NÃO\")","v":"NÃO"},{"$f":"IF(AND(AE$8>=$M16,AE$8<=$N16),IF($F16=\"ANUAL\",IF(AD144=\"NÃO\",$D16,IF(MOD(COUNT($Q144:AD144)+1,12)=0,(AD144*$E16)+AD144,AD144)),\"NÃO\"),\"NÃO\")","v":"NÃO"},{"$f":"IF(AND(AF$8>=$M16,AF$8<=$N16),IF($F16=\"ANUAL\",IF(AE144=\"NÃO\",$D16,IF(MOD(COUNT($Q144:AE144)+1,12)=0,(AE144*$E16)+AE144,AE144)),\"NÃO\"),\"NÃO\")","v":"NÃO"},{"$f":"IF(AND(AG$8>=$M16,AG$8<=$N16),IF($F16=\"ANUAL\",IF(AF144=\"NÃO\",$D16,IF(MOD(COUNT($Q144:AF144)+1,12)=0,(AF144*$E16)+AF144,AF144)),\"NÃO\"),\"NÃO\")","v":"NÃO"},{"$f":"IF(AND(AH$8>=$M16,AH$8<=$N16),IF($F16=\"ANUAL\",IF(AG144=\"NÃO\",$D16,IF(MOD(COUNT($Q144:AG144)+1,12)=0,(AG144*$E16)+AG144,AG144)),\"NÃO\"),\"NÃO\")","v":"NÃO"},{"$f":"IF(AND(AI$8>=$M16,AI$8<=$N16),IF($F16=\"ANUAL\",IF(AH144=\"NÃO\",$D16,IF(MOD(COUNT($Q144:AH144)+1,12)=0,(AH144*$E16)+AH144,AH144)),\"NÃO\"),\"NÃO\")","v":"NÃO"},{"$f":"IF(AND(AJ$8>=$M16,AJ$8<=$N16),IF($F16=\"ANUAL\",IF(AI144=\"NÃO\",$D16,IF(MOD(COUNT($Q144:AI144)+1,12)=0,(AI144*$E16)+AI144,AI144)),\"NÃO\"),\"NÃO\")","v":"NÃO"},{"$f":"IF(AND(AK$8>=$M16,AK$8<=$N16),IF($F16=\"ANUAL\",IF(AJ144=\"NÃO\",$D16,IF(MOD(COUNT($Q144:AJ144)+1,12)=0,(AJ144*$E16)+AJ144,AJ144)),\"NÃO\"),\"NÃO\")","v":"NÃO"},{"$f":"IF(AND(AL$8>=$M16,AL$8<=$N16),IF($F16=\"ANUAL\",IF(AK144=\"NÃO\",$D16,IF(MOD(COUNT($Q144:AK144)+1,12)=0,(AK144*$E16)+AK144,AK144)),\"NÃO\"),\"NÃO\")","v":"NÃO"},{"$f":"IF(AND(AM$8>=$M16,AM$8<=$N16),IF($F16=\"ANUAL\",IF(AL144=\"NÃO\",$D16,IF(MOD(COUNT($Q144:AL144)+1,12)=0,(AL144*$E16)+AL144,AL144)),\"NÃO\"),\"NÃO\")","v":"NÃO"},{"$f":"IF(AND(AN$8>=$M16,AN$8<=$N16),IF($F16=\"ANUAL\",IF(AM144=\"NÃO\",$D16,IF(MOD(COUNT($Q144:AM144)+1,12)=0,(AM144*$E16)+AM144,AM144)),\"NÃO\"),\"NÃO\")","v":"NÃO"},{"$f":"IF(AND(AO$8>=$M16,AO$8<=$N16),IF($F16=\"ANUAL\",IF(AN144=\"NÃO\",$D16,IF(MOD(COUNT($Q144:AN144)+1,12)=0,(AN144*$E16)+AN144,AN144)),\"NÃO\"),\"NÃO\")","v":"NÃO"},{"$f":"IF(AND(AP$8>=$M16,AP$8<=$N16),IF($F16=\"ANUAL\",IF(AO144=\"NÃO\",$D16,IF(MOD(COUNT($Q144:AO144)+1,12)=0,(AO144*$E16)+AO144,AO144)),\"NÃO\"),\"NÃO\")","v":"NÃO"},{"$f":"IF(AND(AQ$8>=$M16,AQ$8<=$N16),IF($F16=\"ANUAL\",IF(AP144=\"NÃO\",$D16,IF(MOD(COUNT($Q144:AP144)+1,12)=0,(AP144*$E16)+AP144,AP144)),\"NÃO\"),\"NÃO\")","v":"NÃO"},{"$f":"IF(AND(AR$8>=$M16,AR$8<=$N16),IF($F16=\"ANUAL\",IF(AQ144=\"NÃO\",$D16,IF(MOD(COUNT($Q144:AQ144)+1,12)=0,(AQ144*$E16)+AQ144,AQ144)),\"NÃO\"),\"NÃO\")","v":"NÃO"},{"$f":"IF(AND(AS$8>=$M16,AS$8<=$N16),IF($F16=\"ANUAL\",IF(AR144=\"NÃO\",$D16,IF(MOD(COUNT($Q144:AR144)+1,12)=0,(AR144*$E16)+AR144,AR144)),\"NÃO\"),\"NÃO\")","v":"NÃO"},{"$f":"IF(AND(AT$8>=$M16,AT$8<=$N16),IF($F16=\"ANUAL\",IF(AS144=\"NÃO\",$D16,IF(MOD(COUNT($Q144:AS144)+1,12)=0,(AS144*$E16)+AS144,AS144)),\"NÃO\"),\"NÃO\")","v":"NÃO"},{"$f":"IF(AND(AU$8>=$M16,AU$8<=$N16),IF($F16=\"ANUAL\",IF(AT144=\"NÃO\",$D16,IF(MOD(COUNT($Q144:AT144)+1,12)=0,(AT144*$E16)+AT144,AT144)),\"NÃO\"),\"NÃO\")","v":"NÃO"},{"$f":"IF(AND(AV$8>=$M16,AV$8<=$N16),IF($F16=\"ANUAL\",IF(AU144=\"NÃO\",$D16,IF(MOD(COUNT($Q144:AU144)+1,12)=0,(AU144*$E16)+AU144,AU144)),\"NÃO\"),\"NÃO\")","v":"NÃO"},{"$f":"IF(AND(AW$8>=$M16,AW$8<=$N16),IF($F16=\"ANUAL\",IF(AV144=\"NÃO\",$D16,IF(MOD(COUNT($Q144:AV144)+1,12)=0,(AV144*$E16)+AV144,AV144)),\"NÃO\"),\"NÃO\")","v":"NÃO"},{"$f":"IF(AND(AX$8>=$M16,AX$8<=$N16),IF($F16=\"ANUAL\",IF(AW144=\"NÃO\",$D16,IF(MOD(COUNT($Q144:AW144)+1,12)=0,(AW144*$E16)+AW144,AW144)),\"NÃO\"),\"NÃO\")","v":"NÃO"},{"$f":"IF(AND(AY$8>=$M16,AY$8<=$N16),IF($F16=\"ANUAL\",IF(AX144=\"NÃO\",$D16,IF(MOD(COUNT($Q144:AX144)+1,12)=0,(AX144*$E16)+AX144,AX144)),\"NÃO\"),\"NÃO\")","v":"NÃO"},{"$f":"IF(AND(AZ$8>=$M16,AZ$8<=$N16),IF($F16=\"ANUAL\",IF(AY144=\"NÃO\",$D16,IF(MOD(COUNT($Q144:AY144)+1,12)=0,(AY144*$E16)+AY144,AY144)),\"NÃO\"),\"NÃO\")","v":"NÃO"},{"$f":"IF(AND(BA$8>=$M16,BA$8<=$N16),IF($F16=\"ANUAL\",IF(AZ144=\"NÃO\",$D16,IF(MOD(COUNT($Q144:AZ144)+1,12)=0,(AZ144*$E16)+AZ144,AZ144)),\"NÃO\"),\"NÃO\")","v":"NÃO"},{"$f":"IF(AND(BB$8>=$M16,BB$8<=$N16),IF($F16=\"ANUAL\",IF(BA144=\"NÃO\",$D16,IF(MOD(COUNT($Q144:BA144)+1,12)=0,(BA144*$E16)+BA144,BA144)),\"NÃO\"),\"NÃO\")","v":"NÃO"},{"$f":"IF(AND(BC$8>=$M16,BC$8<=$N16),IF($F16=\"ANUAL\",IF(BB144=\"NÃO\",$D16,IF(MOD(COUNT($Q144:BB144)+1,12)=0,(BB144*$E16)+BB144,BB144)),\"NÃO\"),\"NÃO\")","v":"NÃO"},{"$f":"IF(AND(BD$8>=$M16,BD$8<=$N16),IF($F16=\"ANUAL\",IF(BC144=\"NÃO\",$D16,IF(MOD(COUNT($Q144:BC144)+1,12)=0,(BC144*$E16)+BC144,BC144)),\"NÃO\"),\"NÃO\")","v":"NÃO"},{"$f":"IF(AND(BE$8>=$M16,BE$8<=$N16),IF($F16=\"ANUAL\",IF(BD144=\"NÃO\",$D16,IF(MOD(COUNT($Q144:BD144)+1,12)=0,(BD144*$E16)+BD144,BD144)),\"NÃO\"),\"NÃO\")","v":"NÃO"},{"$f":"IF(AND(BF$8>=$M16,BF$8<=$N16),IF($F16=\"ANUAL\",IF(BE144=\"NÃO\",$D16,IF(MOD(COUNT($Q144:BE144)+1,12)=0,(BE144*$E16)+BE144,BE144)),\"NÃO\"),\"NÃO\")","v":"NÃO"},{"$f":"IF(AND(BG$8>=$M16,BG$8<=$N16),IF($F16=\"ANUAL\",IF(BF144=\"NÃO\",$D16,IF(MOD(COUNT($Q144:BF144)+1,12)=0,(BF144*$E16)+BF144,BF144)),\"NÃO\"),\"NÃO\")","v":"NÃO"},{"$f":"IF(AND(BH$8>=$M16,BH$8<=$N16),IF($F16=\"ANUAL\",IF(BG144=\"NÃO\",$D16,IF(MOD(COUNT($Q144:BG144)+1,12)=0,(BG144*$E16)+BG144,BG144)),\"NÃO\"),\"NÃO\")","v":"NÃO"},{"$f":"IF(AND(BI$8>=$M16,BI$8<=$N16),IF($F16=\"ANUAL\",IF(BH144=\"NÃO\",$D16,IF(MOD(COUNT($Q144:BH144)+1,12)=0,(BH144*$E16)+BH144,BH144)),\"NÃO\"),\"NÃO\")","v":"NÃO"},{"$f":"IF(AND(BJ$8>=$M16,BJ$8<=$N16),IF($F16=\"ANUAL\",IF(BI144=\"NÃO\",$D16,IF(MOD(COUNT($Q144:BI144)+1,12)=0,(BI144*$E16)+BI144,BI144)),\"NÃO\"),\"NÃO\")","v":"NÃO"},{"$f":"IF(AND(BK$8>=$M16,BK$8<=$N16),IF($F16=\"ANUAL\",IF(BJ144=\"NÃO\",$D16,IF(MOD(COUNT($Q144:BJ144)+1,12)=0,(BJ144*$E16)+BJ144,BJ144)),\"NÃO\"),\"NÃO\")","v":"NÃO"},{"$f":"IF(AND(BL$8>=$M16,BL$8<=$N16),IF($F16=\"ANUAL\",IF(BK144=\"NÃO\",$D16,IF(MOD(COUNT($Q144:BK144)+1,12)=0,(BK144*$E16)+BK144,BK144)),\"NÃO\"),\"NÃO\")","v":"NÃO"},{"$f":"IF(AND(BM$8>=$M16,BM$8<=$N16),IF($F16=\"ANUAL\",IF(BL144=\"NÃO\",$D16,IF(MOD(COUNT($Q144:BL144)+1,12)=0,(BL144*$E16)+BL144,BL144)),\"NÃO\"),\"NÃO\")","v":"NÃO"},{"$f":"IF(AND(BN$8>=$M16,BN$8<=$N16),IF($F16=\"ANUAL\",IF(BM144=\"NÃO\",$D16,IF(MOD(COUNT($Q144:BM144)+1,12)=0,(BM144*$E16)+BM144,BM144)),\"NÃO\"),\"NÃO\")","v":"NÃO"},{"$f":"IF(AND(BO$8>=$M16,BO$8<=$N16),IF($F16=\"ANUAL\",IF(BN144=\"NÃO\",$D16,IF(MOD(COUNT($Q144:BN144)+1,12)=0,(BN144*$E16)+BN144,BN144)),\"NÃO\"),\"NÃO\")","v":"NÃO"},{"$f":"IF(AND(BP$8>=$M16,BP$8<=$N16),IF($F16=\"ANUAL\",IF(BO144=\"NÃO\",$D16,IF(MOD(COUNT($Q144:BO144)+1,12)=0,(BO144*$E16)+BO144,BO144)),\"NÃO\"),\"NÃO\")","v":"NÃO"},{"$f":"IF(AND(BQ$8>=$M16,BQ$8<=$N16),IF($F16=\"ANUAL\",IF(BP144=\"NÃO\",$D16,IF(MOD(COUNT($Q144:BP144)+1,12)=0,(BP144*$E16)+BP144,BP144)),\"NÃO\"),\"NÃO\")","v":"NÃO"},{"$f":"IF(AND(BR$8>=$M16,BR$8<=$N16),IF($F16=\"ANUAL\",IF(BQ144=\"NÃO\",$D16,IF(MOD(COUNT($Q144:BQ144)+1,12)=0,(BQ144*$E16)+BQ144,BQ144)),\"NÃO\"),\"NÃO\")","v":"NÃO"},{"$f":"IF(AND(BS$8>=$M16,BS$8<=$N16),IF($F16=\"ANUAL\",IF(BR144=\"NÃO\",$D16,IF(MOD(COUNT($Q144:BR144)+1,12)=0,(BR144*$E16)+BR144,BR144)),\"NÃO\"),\"NÃO\")","v":"NÃO"},{"$f":"IF(AND(BT$8>=$M16,BT$8<=$N16),IF($F16=\"ANUAL\",IF(BS144=\"NÃO\",$D16,IF(MOD(COUNT($Q144:BS144)+1,12)=0,(BS144*$E16)+BS144,BS144)),\"NÃO\"),\"NÃO\")","v":"NÃO"},{"$f":"IF(AND(BU$8>=$M16,BU$8<=$N16),IF($F16=\"ANUAL\",IF(BT144=\"NÃO\",$D16,IF(MOD(COUNT($Q144:BT144)+1,12)=0,(BT144*$E16)+BT144,BT144)),\"NÃO\"),\"NÃO\")","v":"NÃO"},{"$f":"IF(AND(BV$8>=$M16,BV$8<=$N16),IF($F16=\"ANUAL\",IF(BU144=\"NÃO\",$D16,IF(MOD(COUNT($Q144:BU144)+1,12)=0,(BU144*$E16)+BU144,BU144)),\"NÃO\"),\"NÃO\")","v":"NÃO"},{"$f":"IF(AND(BW$8>=$M16,BW$8<=$N16),IF($F16=\"ANUAL\",IF(BV144=\"NÃO\",$D16,IF(MOD(COUNT($Q144:BV144)+1,12)=0,(BV144*$E16)+BV144,BV144)),\"NÃO\"),\"NÃO\")","v":"NÃO"},{"$f":"IF(AND(BX$8>=$M16,BX$8<=$N16),IF($F16=\"ANUAL\",IF(BW144=\"NÃO\",$D16,IF(MOD(COUNT($Q144:BW144)+1,12)=0,(BW144*$E16)+BW144,BW144)),\"NÃO\"),\"NÃO\")","v":"NÃO"}]
[null,null,null,null,null,null,null,null,null,null,null,null,null,null,null,9,"NÃO",{"$f":"IF(AND(R$8>=$M17,R$8<=$N17),IF($F17=\"ANUAL\",IF(Q145=\"NÃO\",$D17,IF(MOD(COUNT($Q145:Q145)+1,12)=0,(Q145*$E17)+Q145,Q145)),\"NÃO\"),\"NÃO\")","v":"NÃO"},{"$f":"IF(AND(S$8>=$M17,S$8<=$N17),IF($F17=\"ANUAL\",IF(R145=\"NÃO\",$D17,IF(MOD(COUNT($Q145:R145)+1,12)=0,(R145*$E17)+R145,R145)),\"NÃO\"),\"NÃO\")","v":"NÃO"},{"$f":"IF(AND(T$8>=$M17,T$8<=$N17),IF($F17=\"ANUAL\",IF(S145=\"NÃO\",$D17,IF(MOD(COUNT($Q145:S145)+1,12)=0,(S145*$E17)+S145,S145)),\"NÃO\"),\"NÃO\")","v":"NÃO"},{"$f":"IF(AND(U$8>=$M17,U$8<=$N17),IF($F17=\"ANUAL\",IF(T145=\"NÃO\",$D17,IF(MOD(COUNT($Q145:T145)+1,12)=0,(T145*$E17)+T145,T145)),\"NÃO\"),\"NÃO\")","v":"NÃO"},{"$f":"IF(AND(V$8>=$M17,V$8<=$N17),IF($F17=\"ANUAL\",IF(U145=\"NÃO\",$D17,IF(MOD(COUNT($Q145:U145)+1,12)=0,(U145*$E17)+U145,U145)),\"NÃO\"),\"NÃO\")","v":"NÃO"},{"$f":"IF(AND(W$8>=$M17,W$8<=$N17),IF($F17=\"ANUAL\",IF(V145=\"NÃO\",$D17,IF(MOD(COUNT($Q145:V145)+1,12)=0,(V145*$E17)+V145,V145)),\"NÃO\"),\"NÃO\")","v":"NÃO"},{"$f":"IF(AND(X$8>=$M17,X$8<=$N17),IF($F17=\"ANUAL\",IF(W145=\"NÃO\",$D17,IF(MOD(COUNT($Q145:W145)+1,12)=0,(W145*$E17)+W145,W145)),\"NÃO\"),\"NÃO\")","v":"NÃO"},{"$f":"IF(AND(Y$8>=$M17,Y$8<=$N17),IF($F17=\"ANUAL\",IF(X145=\"NÃO\",$D17,IF(MOD(COUNT($Q145:X145)+1,12)=0,(X145*$E17)+X145,X145)),\"NÃO\"),\"NÃO\")","v":"NÃO"},{"$f":"IF(AND(Z$8>=$M17,Z$8<=$N17),IF($F17=\"ANUAL\",IF(Y145=\"NÃO\",$D17,IF(MOD(COUNT($Q145:Y145)+1,12)=0,(Y145*$E17)+Y145,Y145)),\"NÃO\"),\"NÃO\")","v":"NÃO"},{"$f":"IF(AND(AA$8>=$M17,AA$8<=$N17),IF($F17=\"ANUAL\",IF(Z145=\"NÃO\",$D17,IF(MOD(COUNT($Q145:Z145)+1,12)=0,(Z145*$E17)+Z145,Z145)),\"NÃO\"),\"NÃO\")","v":"NÃO"},{"$f":"IF(AND(AB$8>=$M17,AB$8<=$N17),IF($F17=\"ANUAL\",IF(AA145=\"NÃO\",$D17,IF(MOD(COUNT($Q145:AA145)+1,12)=0,(AA145*$E17)+AA145,AA145)),\"NÃO\"),\"NÃO\")","v":"NÃO"},{"$f":"IF(AND(AC$8>=$M17,AC$8<=$N17),IF($F17=\"ANUAL\",IF(AB145=\"NÃO\",$D17,IF(MOD(COUNT($Q145:AB145)+1,12)=0,(AB145*$E17)+AB145,AB145)),\"NÃO\"),\"NÃO\")","v":"NÃO"},{"$f":"IF(AND(AD$8>=$M17,AD$8<=$N17),IF($F17=\"ANUAL\",IF(AC145=\"NÃO\",$D17,IF(MOD(COUNT($Q145:AC145)+1,12)=0,(AC145*$E17)+AC145,AC145)),\"NÃO\"),\"NÃO\")","v":"NÃO"},{"$f":"IF(AND(AE$8>=$M17,AE$8<=$N17),IF($F17=\"ANUAL\",IF(AD145=\"NÃO\",$D17,IF(MOD(COUNT($Q145:AD145)+1,12)=0,(AD145*$E17)+AD145,AD145)),\"NÃO\"),\"NÃO\")","v":"NÃO"},{"$f":"IF(AND(AF$8>=$M17,AF$8<=$N17),IF($F17=\"ANUAL\",IF(AE145=\"NÃO\",$D17,IF(MOD(COUNT($Q145:AE145)+1,12)=0,(AE145*$E17)+AE145,AE145)),\"NÃO\"),\"NÃO\")","v":"NÃO"},{"$f":"IF(AND(AG$8>=$M17,AG$8<=$N17),IF($F17=\"ANUAL\",IF(AF145=\"NÃO\",$D17,IF(MOD(COUNT($Q145:AF145)+1,12)=0,(AF145*$E17)+AF145,AF145)),\"NÃO\"),\"NÃO\")","v":"NÃO"},{"$f":"IF(AND(AH$8>=$M17,AH$8<=$N17),IF($F17=\"ANUAL\",IF(AG145=\"NÃO\",$D17,IF(MOD(COUNT($Q145:AG145)+1,12)=0,(AG145*$E17)+AG145,AG145)),\"NÃO\"),\"NÃO\")","v":"NÃO"},{"$f":"IF(AND(AI$8>=$M17,AI$8<=$N17),IF($F17=\"ANUAL\",IF(AH145=\"NÃO\",$D17,IF(MOD(COUNT($Q145:AH145)+1,12)=0,(AH145*$E17)+AH145,AH145)),\"NÃO\"),\"NÃO\")","v":"NÃO"},{"$f":"IF(AND(AJ$8>=$M17,AJ$8<=$N17),IF($F17=\"ANUAL\",IF(AI145=\"NÃO\",$D17,IF(MOD(COUNT($Q145:AI145)+1,12)=0,(AI145*$E17)+AI145,AI145)),\"NÃO\"),\"NÃO\")","v":"NÃO"},{"$f":"IF(AND(AK$8>=$M17,AK$8<=$N17),IF($F17=\"ANUAL\",IF(AJ145=\"NÃO\",$D17,IF(MOD(COUNT($Q145:AJ145)+1,12)=0,(AJ145*$E17)+AJ145,AJ145)),\"NÃO\"),\"NÃO\")","v":"NÃO"},{"$f":"IF(AND(AL$8>=$M17,AL$8<=$N17),IF($F17=\"ANUAL\",IF(AK145=\"NÃO\",$D17,IF(MOD(COUNT($Q145:AK145)+1,12)=0,(AK145*$E17)+AK145,AK145)),\"NÃO\"),\"NÃO\")","v":"NÃO"},{"$f":"IF(AND(AM$8>=$M17,AM$8<=$N17),IF($F17=\"ANUAL\",IF(AL145=\"NÃO\",$D17,IF(MOD(COUNT($Q145:AL145)+1,12)=0,(AL145*$E17)+AL145,AL145)),\"NÃO\"),\"NÃO\")","v":"NÃO"},{"$f":"IF(AND(AN$8>=$M17,AN$8<=$N17),IF($F17=\"ANUAL\",IF(AM145=\"NÃO\",$D17,IF(MOD(COUNT($Q145:AM145)+1,12)=0,(AM145*$E17)+AM145,AM145)),\"NÃO\"),\"NÃO\")","v":"NÃO"},{"$f":"IF(AND(AO$8>=$M17,AO$8<=$N17),IF($F17=\"ANUAL\",IF(AN145=\"NÃO\",$D17,IF(MOD(COUNT($Q145:AN145)+1,12)=0,(AN145*$E17)+AN145,AN145)),\"NÃO\"),\"NÃO\")","v":"NÃO"},{"$f":"IF(AND(AP$8>=$M17,AP$8<=$N17),IF($F17=\"ANUAL\",IF(AO145=\"NÃO\",$D17,IF(MOD(COUNT($Q145:AO145)+1,12)=0,(AO145*$E17)+AO145,AO145)),\"NÃO\"),\"NÃO\")","v":"NÃO"},{"$f":"IF(AND(AQ$8>=$M17,AQ$8<=$N17),IF($F17=\"ANUAL\",IF(AP145=\"NÃO\",$D17,IF(MOD(COUNT($Q145:AP145)+1,12)=0,(AP145*$E17)+AP145,AP145)),\"NÃO\"),\"NÃO\")","v":"NÃO"},{"$f":"IF(AND(AR$8>=$M17,AR$8<=$N17),IF($F17=\"ANUAL\",IF(AQ145=\"NÃO\",$D17,IF(MOD(COUNT($Q145:AQ145)+1,12)=0,(AQ145*$E17)+AQ145,AQ145)),\"NÃO\"),\"NÃO\")","v":"NÃO"},{"$f":"IF(AND(AS$8>=$M17,AS$8<=$N17),IF($F17=\"ANUAL\",IF(AR145=\"NÃO\",$D17,IF(MOD(COUNT($Q145:AR145)+1,12)=0,(AR145*$E17)+AR145,AR145)),\"NÃO\"),\"NÃO\")","v":"NÃO"},{"$f":"IF(AND(AT$8>=$M17,AT$8<=$N17),IF($F17=\"ANUAL\",IF(AS145=\"NÃO\",$D17,IF(MOD(COUNT($Q145:AS145)+1,12)=0,(AS145*$E17)+AS145,AS145)),\"NÃO\"),\"NÃO\")","v":"NÃO"},{"$f":"IF(AND(AU$8>=$M17,AU$8<=$N17),IF($F17=\"ANUAL\",IF(AT145=\"NÃO\",$D17,IF(MOD(COUNT($Q145:AT145)+1,12)=0,(AT145*$E17)+AT145,AT145)),\"NÃO\"),\"NÃO\")","v":"NÃO"},{"$f":"IF(AND(AV$8>=$M17,AV$8<=$N17),IF($F17=\"ANUAL\",IF(AU145=\"NÃO\",$D17,IF(MOD(COUNT($Q145:AU145)+1,12)=0,(AU145*$E17)+AU145,AU145)),\"NÃO\"),\"NÃO\")","v":"NÃO"},{"$f":"IF(AND(AW$8>=$M17,AW$8<=$N17),IF($F17=\"ANUAL\",IF(AV145=\"NÃO\",$D17,IF(MOD(COUNT($Q145:AV145)+1,12)=0,(AV145*$E17)+AV145,AV145)),\"NÃO\"),\"NÃO\")","v":"NÃO"},{"$f":"IF(AND(AX$8>=$M17,AX$8<=$N17),IF($F17=\"ANUAL\",IF(AW145=\"NÃO\",$D17,IF(MOD(COUNT($Q145:AW145)+1,12)=0,(AW145*$E17)+AW145,AW145)),\"NÃO\"),\"NÃO\")","v":"NÃO"},{"$f":"IF(AND(AY$8>=$M17,AY$8<=$N17),IF($F17=\"ANUAL\",IF(AX145=\"NÃO\",$D17,IF(MOD(COUNT($Q145:AX145)+1,12)=0,(AX145*$E17)+AX145,AX145)),\"NÃO\"),\"NÃO\")","v":"NÃO"},{"$f":"IF(AND(AZ$8>=$M17,AZ$8<=$N17),IF($F17=\"ANUAL\",IF(AY145=\"NÃO\",$D17,IF(MOD(COUNT($Q145:AY145)+1,12)=0,(AY145*$E17)+AY145,AY145)),\"NÃO\"),\"NÃO\")","v":"NÃO"},{"$f":"IF(AND(BA$8>=$M17,BA$8<=$N17),IF($F17=\"ANUAL\",IF(AZ145=\"NÃO\",$D17,IF(MOD(COUNT($Q145:AZ145)+1,12)=0,(AZ145*$E17)+AZ145,AZ145)),\"NÃO\"),\"NÃO\")","v":"NÃO"},{"$f":"IF(AND(BB$8>=$M17,BB$8<=$N17),IF($F17=\"ANUAL\",IF(BA145=\"NÃO\",$D17,IF(MOD(COUNT($Q145:BA145)+1,12)=0,(BA145*$E17)+BA145,BA145)),\"NÃO\"),\"NÃO\")","v":"NÃO"},{"$f":"IF(AND(BC$8>=$M17,BC$8<=$N17),IF($F17=\"ANUAL\",IF(BB145=\"NÃO\",$D17,IF(MOD(COUNT($Q145:BB145)+1,12)=0,(BB145*$E17)+BB145,BB145)),\"NÃO\"),\"NÃO\")","v":"NÃO"},{"$f":"IF(AND(BD$8>=$M17,BD$8<=$N17),IF($F17=\"ANUAL\",IF(BC145=\"NÃO\",$D17,IF(MOD(COUNT($Q145:BC145)+1,12)=0,(BC145*$E17)+BC145,BC145)),\"NÃO\"),\"NÃO\")","v":"NÃO"},{"$f":"IF(AND(BE$8>=$M17,BE$8<=$N17),IF($F17=\"ANUAL\",IF(BD145=\"NÃO\",$D17,IF(MOD(COUNT($Q145:BD145)+1,12)=0,(BD145*$E17)+BD145,BD145)),\"NÃO\"),\"NÃO\")","v":"NÃO"},{"$f":"IF(AND(BF$8>=$M17,BF$8<=$N17),IF($F17=\"ANUAL\",IF(BE145=\"NÃO\",$D17,IF(MOD(COUNT($Q145:BE145)+1,12)=0,(BE145*$E17)+BE145,BE145)),\"NÃO\"),\"NÃO\")","v":"NÃO"},{"$f":"IF(AND(BG$8>=$M17,BG$8<=$N17),IF($F17=\"ANUAL\",IF(BF145=\"NÃO\",$D17,IF(MOD(COUNT($Q145:BF145)+1,12)=0,(BF145*$E17)+BF145,BF145)),\"NÃO\"),\"NÃO\")","v":"NÃO"},{"$f":"IF(AND(BH$8>=$M17,BH$8<=$N17),IF($F17=\"ANUAL\",IF(BG145=\"NÃO\",$D17,IF(MOD(COUNT($Q145:BG145)+1,12)=0,(BG145*$E17)+BG145,BG145)),\"NÃO\"),\"NÃO\")","v":"NÃO"},{"$f":"IF(AND(BI$8>=$M17,BI$8<=$N17),IF($F17=\"ANUAL\",IF(BH145=\"NÃO\",$D17,IF(MOD(COUNT($Q145:BH145)+1,12)=0,(BH145*$E17)+BH145,BH145)),\"NÃO\"),\"NÃO\")","v":"NÃO"},{"$f":"IF(AND(BJ$8>=$M17,BJ$8<=$N17),IF($F17=\"ANUAL\",IF(BI145=\"NÃO\",$D17,IF(MOD(COUNT($Q145:BI145)+1,12)=0,(BI145*$E17)+BI145,BI145)),\"NÃO\"),\"NÃO\")","v":"NÃO"},{"$f":"IF(AND(BK$8>=$M17,BK$8<=$N17),IF($F17=\"ANUAL\",IF(BJ145=\"NÃO\",$D17,IF(MOD(COUNT($Q145:BJ145)+1,12)=0,(BJ145*$E17)+BJ145,BJ145)),\"NÃO\"),\"NÃO\")","v":"NÃO"},{"$f":"IF(AND(BL$8>=$M17,BL$8<=$N17),IF($F17=\"ANUAL\",IF(BK145=\"NÃO\",$D17,IF(MOD(COUNT($Q145:BK145)+1,12)=0,(BK145*$E17)+BK145,BK145)),\"NÃO\"),\"NÃO\")","v":"NÃO"},{"$f":"IF(AND(BM$8>=$M17,BM$8<=$N17),IF($F17=\"ANUAL\",IF(BL145=\"NÃO\",$D17,IF(MOD(COUNT($Q145:BL145)+1,12)=0,(BL145*$E17)+BL145,BL145)),\"NÃO\"),\"NÃO\")","v":"NÃO"},{"$f":"IF(AND(BN$8>=$M17,BN$8<=$N17),IF($F17=\"ANUAL\",IF(BM145=\"NÃO\",$D17,IF(MOD(COUNT($Q145:BM145)+1,12)=0,(BM145*$E17)+BM145,BM145)),\"NÃO\"),\"NÃO\")","v":"NÃO"},{"$f":"IF(AND(BO$8>=$M17,BO$8<=$N17),IF($F17=\"ANUAL\",IF(BN145=\"NÃO\",$D17,IF(MOD(COUNT($Q145:BN145)+1,12)=0,(BN145*$E17)+BN145,BN145)),\"NÃO\"),\"NÃO\")","v":"NÃO"},{"$f":"IF(AND(BP$8>=$M17,BP$8<=$N17),IF($F17=\"ANUAL\",IF(BO145=\"NÃO\",$D17,IF(MOD(COUNT($Q145:BO145)+1,12)=0,(BO145*$E17)+BO145,BO145)),\"NÃO\"),\"NÃO\")","v":"NÃO"},{"$f":"IF(AND(BQ$8>=$M17,BQ$8<=$N17),IF($F17=\"ANUAL\",IF(BP145=\"NÃO\",$D17,IF(MOD(COUNT($Q145:BP145)+1,12)=0,(BP145*$E17)+BP145,BP145)),\"NÃO\"),\"NÃO\")","v":"NÃO"},{"$f":"IF(AND(BR$8>=$M17,BR$8<=$N17),IF($F17=\"ANUAL\",IF(BQ145=\"NÃO\",$D17,IF(MOD(COUNT($Q145:BQ145)+1,12)=0,(BQ145*$E17)+BQ145,BQ145)),\"NÃO\"),\"NÃO\")","v":"NÃO"},{"$f":"IF(AND(BS$8>=$M17,BS$8<=$N17),IF($F17=\"ANUAL\",IF(BR145=\"NÃO\",$D17,IF(MOD(COUNT($Q145:BR145)+1,12)=0,(BR145*$E17)+BR145,BR145)),\"NÃO\"),\"NÃO\")","v":"NÃO"},{"$f":"IF(AND(BT$8>=$M17,BT$8<=$N17),IF($F17=\"ANUAL\",IF(BS145=\"NÃO\",$D17,IF(MOD(COUNT($Q145:BS145)+1,12)=0,(BS145*$E17)+BS145,BS145)),\"NÃO\"),\"NÃO\")","v":"NÃO"},{"$f":"IF(AND(BU$8>=$M17,BU$8<=$N17),IF($F17=\"ANUAL\",IF(BT145=\"NÃO\",$D17,IF(MOD(COUNT($Q145:BT145)+1,12)=0,(BT145*$E17)+BT145,BT145)),\"NÃO\"),\"NÃO\")","v":"NÃO"},{"$f":"IF(AND(BV$8>=$M17,BV$8<=$N17),IF($F17=\"ANUAL\",IF(BU145=\"NÃO\",$D17,IF(MOD(COUNT($Q145:BU145)+1,12)=0,(BU145*$E17)+BU145,BU145)),\"NÃO\"),\"NÃO\")","v":"NÃO"},{"$f":"IF(AND(BW$8>=$M17,BW$8<=$N17),IF($F17=\"ANUAL\",IF(BV145=\"NÃO\",$D17,IF(MOD(COUNT($Q145:BV145)+1,12)=0,(BV145*$E17)+BV145,BV145)),\"NÃO\"),\"NÃO\")","v":"NÃO"},{"$f":"IF(AND(BX$8>=$M17,BX$8<=$N17),IF($F17=\"ANUAL\",IF(BW145=\"NÃO\",$D17,IF(MOD(COUNT($Q145:BW145)+1,12)=0,(BW145*$E17)+BW145,BW145)),\"NÃO\"),\"NÃO\")","v":"NÃO"}]
[null,null,null,null,null,null,null,null,null,null,null,null,null,null,null,10,"NÃO",{"$f":"IF(AND(R$8>=$M18,R$8<=$N18),IF($F18=\"ANUAL\",IF(Q146=\"NÃO\",$D18,IF(MOD(COUNT($Q146:Q146)+1,12)=0,(Q146*$E18)+Q146,Q146)),\"NÃO\"),\"NÃO\")","v":"NÃO"},{"$f":"IF(AND(S$8>=$M18,S$8<=$N18),IF($F18=\"ANUAL\",IF(R146=\"NÃO\",$D18,IF(MOD(COUNT($Q146:R146)+1,12)=0,(R146*$E18)+R146,R146)),\"NÃO\"),\"NÃO\")","v":"NÃO"},{"$f":"IF(AND(T$8>=$M18,T$8<=$N18),IF($F18=\"ANUAL\",IF(S146=\"NÃO\",$D18,IF(MOD(COUNT($Q146:S146)+1,12)=0,(S146*$E18)+S146,S146)),\"NÃO\"),\"NÃO\")","v":"NÃO"},{"$f":"IF(AND(U$8>=$M18,U$8<=$N18),IF($F18=\"ANUAL\",IF(T146=\"NÃO\",$D18,IF(MOD(COUNT($Q146:T146)+1,12)=0,(T146*$E18)+T146,T146)),\"NÃO\"),\"NÃO\")","v":"NÃO"},{"$f":"IF(AND(V$8>=$M18,V$8<=$N18),IF($F18=\"ANUAL\",IF(U146=\"NÃO\",$D18,IF(MOD(COUNT($Q146:U146)+1,12)=0,(U146*$E18)+U146,U146)),\"NÃO\"),\"NÃO\")","v":"NÃO"},{"$f":"IF(AND(W$8>=$M18,W$8<=$N18),IF($F18=\"ANUAL\",IF(V146=\"NÃO\",$D18,IF(MOD(COUNT($Q146:V146)+1,12)=0,(V146*$E18)+V146,V146)),\"NÃO\"),\"NÃO\")","v":"NÃO"},{"$f":"IF(AND(X$8>=$M18,X$8<=$N18),IF($F18=\"ANUAL\",IF(W146=\"NÃO\",$D18,IF(MOD(COUNT($Q146:W146)+1,12)=0,(W146*$E18)+W146,W146)),\"NÃO\"),\"NÃO\")","v":"NÃO"},{"$f":"IF(AND(Y$8>=$M18,Y$8<=$N18),IF($F18=\"ANUAL\",IF(X146=\"NÃO\",$D18,IF(MOD(COUNT($Q146:X146)+1,12)=0,(X146*$E18)+X146,X146)),\"NÃO\"),\"NÃO\")","v":"NÃO"},{"$f":"IF(AND(Z$8>=$M18,Z$8<=$N18),IF($F18=\"ANUAL\",IF(Y146=\"NÃO\",$D18,IF(MOD(COUNT($Q146:Y146)+1,12)=0,(Y146*$E18)+Y146,Y146)),\"NÃO\"),\"NÃO\")","v":"NÃO"},{"$f":"IF(AND(AA$8>=$M18,AA$8<=$N18),IF($F18=\"ANUAL\",IF(Z146=\"NÃO\",$D18,IF(MOD(COUNT($Q146:Z146)+1,12)=0,(Z146*$E18)+Z146,Z146)),\"NÃO\"),\"NÃO\")","v":"NÃO"},{"$f":"IF(AND(AB$8>=$M18,AB$8<=$N18),IF($F18=\"ANUAL\",IF(AA146=\"NÃO\",$D18,IF(MOD(COUNT($Q146:AA146)+1,12)=0,(AA146*$E18)+AA146,AA146)),\"NÃO\"),\"NÃO\")","v":"NÃO"},{"$f":"IF(AND(AC$8>=$M18,AC$8<=$N18),IF($F18=\"ANUAL\",IF(AB146=\"NÃO\",$D18,IF(MOD(COUNT($Q146:AB146)+1,12)=0,(AB146*$E18)+AB146,AB146)),\"NÃO\"),\"NÃO\")","v":"NÃO"},{"$f":"IF(AND(AD$8>=$M18,AD$8<=$N18),IF($F18=\"ANUAL\",IF(AC146=\"NÃO\",$D18,IF(MOD(COUNT($Q146:AC146)+1,12)=0,(AC146*$E18)+AC146,AC146)),\"NÃO\"),\"NÃO\")","v":"NÃO"},{"$f":"IF(AND(AE$8>=$M18,AE$8<=$N18),IF($F18=\"ANUAL\",IF(AD146=\"NÃO\",$D18,IF(MOD(COUNT($Q146:AD146)+1,12)=0,(AD146*$E18)+AD146,AD146)),\"NÃO\"),\"NÃO\")","v":"NÃO"},{"$f":"IF(AND(AF$8>=$M18,AF$8<=$N18),IF($F18=\"ANUAL\",IF(AE146=\"NÃO\",$D18,IF(MOD(COUNT($Q146:AE146)+1,12)=0,(AE146*$E18)+AE146,AE146)),\"NÃO\"),\"NÃO\")","v":"NÃO"},{"$f":"IF(AND(AG$8>=$M18,AG$8<=$N18),IF($F18=\"ANUAL\",IF(AF146=\"NÃO\",$D18,IF(MOD(COUNT($Q146:AF146)+1,12)=0,(AF146*$E18)+AF146,AF146)),\"NÃO\"),\"NÃO\")","v":"NÃO"},{"$f":"IF(AND(AH$8>=$M18,AH$8<=$N18),IF($F18=\"ANUAL\",IF(AG146=\"NÃO\",$D18,IF(MOD(COUNT($Q146:AG146)+1,12)=0,(AG146*$E18)+AG146,AG146)),\"NÃO\"),\"NÃO\")","v":"NÃO"},{"$f":"IF(AND(AI$8>=$M18,AI$8<=$N18),IF($F18=\"ANUAL\",IF(AH146=\"NÃO\",$D18,IF(MOD(COUNT($Q146:AH146)+1,12)=0,(AH146*$E18)+AH146,AH146)),\"NÃO\"),\"NÃO\")","v":"NÃO"},{"$f":"IF(AND(AJ$8>=$M18,AJ$8<=$N18),IF($F18=\"ANUAL\",IF(AI146=\"NÃO\",$D18,IF(MOD(COUNT($Q146:AI146)+1,12)=0,(AI146*$E18)+AI146,AI146)),\"NÃO\"),\"NÃO\")","v":"NÃO"},{"$f":"IF(AND(AK$8>=$M18,AK$8<=$N18),IF($F18=\"ANUAL\",IF(AJ146=\"NÃO\",$D18,IF(MOD(COUNT($Q146:AJ146)+1,12)=0,(AJ146*$E18)+AJ146,AJ146)),\"NÃO\"),\"NÃO\")","v":"NÃO"},{"$f":"IF(AND(AL$8>=$M18,AL$8<=$N18),IF($F18=\"ANUAL\",IF(AK146=\"NÃO\",$D18,IF(MOD(COUNT($Q146:AK146)+1,12)=0,(AK146*$E18)+AK146,AK146)),\"NÃO\"),\"NÃO\")","v":"NÃO"},{"$f":"IF(AND(AM$8>=$M18,AM$8<=$N18),IF($F18=\"ANUAL\",IF(AL146=\"NÃO\",$D18,IF(MOD(COUNT($Q146:AL146)+1,12)=0,(AL146*$E18)+AL146,AL146)),\"NÃO\"),\"NÃO\")","v":"NÃO"},{"$f":"IF(AND(AN$8>=$M18,AN$8<=$N18),IF($F18=\"ANUAL\",IF(AM146=\"NÃO\",$D18,IF(MOD(COUNT($Q146:AM146)+1,12)=0,(AM146*$E18)+AM146,AM146)),\"NÃO\"),\"NÃO\")","v":"NÃO"},{"$f":"IF(AND(AO$8>=$M18,AO$8<=$N18),IF($F18=\"ANUAL\",IF(AN146=\"NÃO\",$D18,IF(MOD(COUNT($Q146:AN146)+1,12)=0,(AN146*$E18)+AN146,AN146)),\"NÃO\"),\"NÃO\")","v":"NÃO"},{"$f":"IF(AND(AP$8>=$M18,AP$8<=$N18),IF($F18=\"ANUAL\",IF(AO146=\"NÃO\",$D18,IF(MOD(COUNT($Q146:AO146)+1,12)=0,(AO146*$E18)+AO146,AO146)),\"NÃO\"),\"NÃO\")","v":"NÃO"},{"$f":"IF(AND(AQ$8>=$M18,AQ$8<=$N18),IF($F18=\"ANUAL\",IF(AP146=\"NÃO\",$D18,IF(MOD(COUNT($Q146:AP146)+1,12)=0,(AP146*$E18)+AP146,AP146)),\"NÃO\"),\"NÃO\")","v":"NÃO"},{"$f":"IF(AND(AR$8>=$M18,AR$8<=$N18),IF($F18=\"ANUAL\",IF(AQ146=\"NÃO\",$D18,IF(MOD(COUNT($Q146:AQ146)+1,12)=0,(AQ146*$E18)+AQ146,AQ146)),\"NÃO\"),\"NÃO\")","v":"NÃO"},{"$f":"IF(AND(AS$8>=$M18,AS$8<=$N18),IF($F18=\"ANUAL\",IF(AR146=\"NÃO\",$D18,IF(MOD(COUNT($Q146:AR146)+1,12)=0,(AR146*$E18)+AR146,AR146)),\"NÃO\"),\"NÃO\")","v":"NÃO"},{"$f":"IF(AND(AT$8>=$M18,AT$8<=$N18),IF($F18=\"ANUAL\",IF(AS146=\"NÃO\",$D18,IF(MOD(COUNT($Q146:AS146)+1,12)=0,(AS146*$E18)+AS146,AS146)),\"NÃO\"),\"NÃO\")","v":"NÃO"},{"$f":"IF(AND(AU$8>=$M18,AU$8<=$N18),IF($F18=\"ANUAL\",IF(AT146=\"NÃO\",$D18,IF(MOD(COUNT($Q146:AT146)+1,12)=0,(AT146*$E18)+AT146,AT146)),\"NÃO\"),\"NÃO\")","v":"NÃO"},{"$f":"IF(AND(AV$8>=$M18,AV$8<=$N18),IF($F18=\"ANUAL\",IF(AU146=\"NÃO\",$D18,IF(MOD(COUNT($Q146:AU146)+1,12)=0,(AU146*$E18)+AU146,AU146)),\"NÃO\"),\"NÃO\")","v":"NÃO"},{"$f":"IF(AND(AW$8>=$M18,AW$8<=$N18),IF($F18=\"ANUAL\",IF(AV146=\"NÃO\",$D18,IF(MOD(COUNT($Q146:AV146)+1,12)=0,(AV146*$E18)+AV146,AV146)),\"NÃO\"),\"NÃO\")","v":"NÃO"},{"$f":"IF(AND(AX$8>=$M18,AX$8<=$N18),IF($F18=\"ANUAL\",IF(AW146=\"NÃO\",$D18,IF(MOD(COUNT($Q146:AW146)+1,12)=0,(AW146*$E18)+AW146,AW146)),\"NÃO\"),\"NÃO\")","v":"NÃO"},{"$f":"IF(AND(AY$8>=$M18,AY$8<=$N18),IF($F18=\"ANUAL\",IF(AX146=\"NÃO\",$D18,IF(MOD(COUNT($Q146:AX146)+1,12)=0,(AX146*$E18)+AX146,AX146)),\"NÃO\"),\"NÃO\")","v":"NÃO"},{"$f":"IF(AND(AZ$8>=$M18,AZ$8<=$N18),IF($F18=\"ANUAL\",IF(AY146=\"NÃO\",$D18,IF(MOD(COUNT($Q146:AY146)+1,12)=0,(AY146*$E18)+AY146,AY146)),\"NÃO\"),\"NÃO\")","v":"NÃO"},{"$f":"IF(AND(BA$8>=$M18,BA$8<=$N18),IF($F18=\"ANUAL\",IF(AZ146=\"NÃO\",$D18,IF(MOD(COUNT($Q146:AZ146)+1,12)=0,(AZ146*$E18)+AZ146,AZ146)),\"NÃO\"),\"NÃO\")","v":"NÃO"},{"$f":"IF(AND(BB$8>=$M18,BB$8<=$N18),IF($F18=\"ANUAL\",IF(BA146=\"NÃO\",$D18,IF(MOD(COUNT($Q146:BA146)+1,12)=0,(BA146*$E18)+BA146,BA146)),\"NÃO\"),\"NÃO\")","v":"NÃO"},{"$f":"IF(AND(BC$8>=$M18,BC$8<=$N18),IF($F18=\"ANUAL\",IF(BB146=\"NÃO\",$D18,IF(MOD(COUNT($Q146:BB146)+1,12)=0,(BB146*$E18)+BB146,BB146)),\"NÃO\"),\"NÃO\")","v":"NÃO"},{"$f":"IF(AND(BD$8>=$M18,BD$8<=$N18),IF($F18=\"ANUAL\",IF(BC146=\"NÃO\",$D18,IF(MOD(COUNT($Q146:BC146)+1,12)=0,(BC146*$E18)+BC146,BC146)),\"NÃO\"),\"NÃO\")","v":"NÃO"},{"$f":"IF(AND(BE$8>=$M18,BE$8<=$N18),IF($F18=\"ANUAL\",IF(BD146=\"NÃO\",$D18,IF(MOD(COUNT($Q146:BD146)+1,12)=0,(BD146*$E18)+BD146,BD146)),\"NÃO\"),\"NÃO\")","v":"NÃO"},{"$f":"IF(AND(BF$8>=$M18,BF$8<=$N18),IF($F18=\"ANUAL\",IF(BE146=\"NÃO\",$D18,IF(MOD(COUNT($Q146:BE146)+1,12)=0,(BE146*$E18)+BE146,BE146)),\"NÃO\"),\"NÃO\")","v":"NÃO"},{"$f":"IF(AND(BG$8>=$M18,BG$8<=$N18),IF($F18=\"ANUAL\",IF(BF146=\"NÃO\",$D18,IF(MOD(COUNT($Q146:BF146)+1,12)=0,(BF146*$E18)+BF146,BF146)),\"NÃO\"),\"NÃO\")","v":"NÃO"},{"$f":"IF(AND(BH$8>=$M18,BH$8<=$N18),IF($F18=\"ANUAL\",IF(BG146=\"NÃO\",$D18,IF(MOD(COUNT($Q146:BG146)+1,12)=0,(BG146*$E18)+BG146,BG146)),\"NÃO\"),\"NÃO\")","v":"NÃO"},{"$f":"IF(AND(BI$8>=$M18,BI$8<=$N18),IF($F18=\"ANUAL\",IF(BH146=\"NÃO\",$D18,IF(MOD(COUNT($Q146:BH146)+1,12)=0,(BH146*$E18)+BH146,BH146)),\"NÃO\"),\"NÃO\")","v":"NÃO"},{"$f":"IF(AND(BJ$8>=$M18,BJ$8<=$N18),IF($F18=\"ANUAL\",IF(BI146=\"NÃO\",$D18,IF(MOD(COUNT($Q146:BI146)+1,12)=0,(BI146*$E18)+BI146,BI146)),\"NÃO\"),\"NÃO\")","v":"NÃO"},{"$f":"IF(AND(BK$8>=$M18,BK$8<=$N18),IF($F18=\"ANUAL\",IF(BJ146=\"NÃO\",$D18,IF(MOD(COUNT($Q146:BJ146)+1,12)=0,(BJ146*$E18)+BJ146,BJ146)),\"NÃO\"),\"NÃO\")","v":"NÃO"},{"$f":"IF(AND(BL$8>=$M18,BL$8<=$N18),IF($F18=\"ANUAL\",IF(BK146=\"NÃO\",$D18,IF(MOD(COUNT($Q146:BK146)+1,12)=0,(BK146*$E18)+BK146,BK146)),\"NÃO\"),\"NÃO\")","v":"NÃO"},{"$f":"IF(AND(BM$8>=$M18,BM$8<=$N18),IF($F18=\"ANUAL\",IF(BL146=\"NÃO\",$D18,IF(MOD(COUNT($Q146:BL146)+1,12)=0,(BL146*$E18)+BL146,BL146)),\"NÃO\"),\"NÃO\")","v":"NÃO"},{"$f":"IF(AND(BN$8>=$M18,BN$8<=$N18),IF($F18=\"ANUAL\",IF(BM146=\"NÃO\",$D18,IF(MOD(COUNT($Q146:BM146)+1,12)=0,(BM146*$E18)+BM146,BM146)),\"NÃO\"),\"NÃO\")","v":"NÃO"},{"$f":"IF(AND(BO$8>=$M18,BO$8<=$N18),IF($F18=\"ANUAL\",IF(BN146=\"NÃO\",$D18,IF(MOD(COUNT($Q146:BN146)+1,12)=0,(BN146*$E18)+BN146,BN146)),\"NÃO\"),\"NÃO\")","v":"NÃO"},{"$f":"IF(AND(BP$8>=$M18,BP$8<=$N18),IF($F18=\"ANUAL\",IF(BO146=\"NÃO\",$D18,IF(MOD(COUNT($Q146:BO146)+1,12)=0,(BO146*$E18)+BO146,BO146)),\"NÃO\"),\"NÃO\")","v":"NÃO"},{"$f":"IF(AND(BQ$8>=$M18,BQ$8<=$N18),IF($F18=\"ANUAL\",IF(BP146=\"NÃO\",$D18,IF(MOD(COUNT($Q146:BP146)+1,12)=0,(BP146*$E18)+BP146,BP146)),\"NÃO\"),\"NÃO\")","v":"NÃO"},{"$f":"IF(AND(BR$8>=$M18,BR$8<=$N18),IF($F18=\"ANUAL\",IF(BQ146=\"NÃO\",$D18,IF(MOD(COUNT($Q146:BQ146)+1,12)=0,(BQ146*$E18)+BQ146,BQ146)),\"NÃO\"),\"NÃO\")","v":"NÃO"},{"$f":"IF(AND(BS$8>=$M18,BS$8<=$N18),IF($F18=\"ANUAL\",IF(BR146=\"NÃO\",$D18,IF(MOD(COUNT($Q146:BR146)+1,12)=0,(BR146*$E18)+BR146,BR146)),\"NÃO\"),\"NÃO\")","v":"NÃO"},{"$f":"IF(AND(BT$8>=$M18,BT$8<=$N18),IF($F18=\"ANUAL\",IF(BS146=\"NÃO\",$D18,IF(MOD(COUNT($Q146:BS146)+1,12)=0,(BS146*$E18)+BS146,BS146)),\"NÃO\"),\"NÃO\")","v":"NÃO"},{"$f":"IF(AND(BU$8>=$M18,BU$8<=$N18),IF($F18=\"ANUAL\",IF(BT146=\"NÃO\",$D18,IF(MOD(COUNT($Q146:BT146)+1,12)=0,(BT146*$E18)+BT146,BT146)),\"NÃO\"),\"NÃO\")","v":"NÃO"},{"$f":"IF(AND(BV$8>=$M18,BV$8<=$N18),IF($F18=\"ANUAL\",IF(BU146=\"NÃO\",$D18,IF(MOD(COUNT($Q146:BU146)+1,12)=0,(BU146*$E18)+BU146,BU146)),\"NÃO\"),\"NÃO\")","v":"NÃO"},{"$f":"IF(AND(BW$8>=$M18,BW$8<=$N18),IF($F18=\"ANUAL\",IF(BV146=\"NÃO\",$D18,IF(MOD(COUNT($Q146:BV146)+1,12)=0,(BV146*$E18)+BV146,BV146)),\"NÃO\"),\"NÃO\")","v":"NÃO"},{"$f":"IF(AND(BX$8>=$M18,BX$8<=$N18),IF($F18=\"ANUAL\",IF(BW146=\"NÃO\",$D18,IF(MOD(COUNT($Q146:BW146)+1,12)=0,(BW146*$E18)+BW146,BW146)),\"NÃO\"),\"NÃO\")","v":"NÃO"}]
[null,null,null,null,null,null,null,null,null,null,null,null,null,null,null,11,"NÃO",{"$f":"IF(AND(R$8>=$M19,R$8<=$N19),IF($F19=\"ANUAL\",IF(Q147=\"NÃO\",$D19,IF(MOD(COUNT($Q147:Q147)+1,12)=0,(Q147*$E19)+Q147,Q147)),\"NÃO\"),\"NÃO\")","v":"NÃO"},{"$f":"IF(AND(S$8>=$M19,S$8<=$N19),IF($F19=\"ANUAL\",IF(R147=\"NÃO\",$D19,IF(MOD(COUNT($Q147:R147)+1,12)=0,(R147*$E19)+R147,R147)),\"NÃO\"),\"NÃO\")","v":"NÃO"},{"$f":"IF(AND(T$8>=$M19,T$8<=$N19),IF($F19=\"ANUAL\",IF(S147=\"NÃO\",$D19,IF(MOD(COUNT($Q147:S147)+1,12)=0,(S147*$E19)+S147,S147)),\"NÃO\"),\"NÃO\")","v":"NÃO"},{"$f":"IF(AND(U$8>=$M19,U$8<=$N19),IF($F19=\"ANUAL\",IF(T147=\"NÃO\",$D19,IF(MOD(COUNT($Q147:T147)+1,12)=0,(T147*$E19)+T147,T147)),\"NÃO\"),\"NÃO\")","v":"NÃO"},{"$f":"IF(AND(V$8>=$M19,V$8<=$N19),IF($F19=\"ANUAL\",IF(U147=\"NÃO\",$D19,IF(MOD(COUNT($Q147:U147)+1,12)=0,(U147*$E19)+U147,U147)),\"NÃO\"),\"NÃO\")","v":"NÃO"},{"$f":"IF(AND(W$8>=$M19,W$8<=$N19),IF($F19=\"ANUAL\",IF(V147=\"NÃO\",$D19,IF(MOD(COUNT($Q147:V147)+1,12)=0,(V147*$E19)+V147,V147)),\"NÃO\"),\"NÃO\")","v":"NÃO"},{"$f":"IF(AND(X$8>=$M19,X$8<=$N19),IF($F19=\"ANUAL\",IF(W147=\"NÃO\",$D19,IF(MOD(COUNT($Q147:W147)+1,12)=0,(W147*$E19)+W147,W147)),\"NÃO\"),\"NÃO\")","v":"NÃO"},{"$f":"IF(AND(Y$8>=$M19,Y$8<=$N19),IF($F19=\"ANUAL\",IF(X147=\"NÃO\",$D19,IF(MOD(COUNT($Q147:X147)+1,12)=0,(X147*$E19)+X147,X147)),\"NÃO\"),\"NÃO\")","v":"NÃO"},{"$f":"IF(AND(Z$8>=$M19,Z$8<=$N19),IF($F19=\"ANUAL\",IF(Y147=\"NÃO\",$D19,IF(MOD(COUNT($Q147:Y147)+1,12)=0,(Y147*$E19)+Y147,Y147)),\"NÃO\"),\"NÃO\")","v":"NÃO"},{"$f":"IF(AND(AA$8>=$M19,AA$8<=$N19),IF($F19=\"ANUAL\",IF(Z147=\"NÃO\",$D19,IF(MOD(COUNT($Q147:Z147)+1,12)=0,(Z147*$E19)+Z147,Z147)),\"NÃO\"),\"NÃO\")","v":"NÃO"},{"$f":"IF(AND(AB$8>=$M19,AB$8<=$N19),IF($F19=\"ANUAL\",IF(AA147=\"NÃO\",$D19,IF(MOD(COUNT($Q147:AA147)+1,12)=0,(AA147*$E19)+AA147,AA147)),\"NÃO\"),\"NÃO\")","v":"NÃO"},{"$f":"IF(AND(AC$8>=$M19,AC$8<=$N19),IF($F19=\"ANUAL\",IF(AB147=\"NÃO\",$D19,IF(MOD(COUNT($Q147:AB147)+1,12)=0,(AB147*$E19)+AB147,AB147)),\"NÃO\"),\"NÃO\")","v":"NÃO"},{"$f":"IF(AND(AD$8>=$M19,AD$8<=$N19),IF($F19=\"ANUAL\",IF(AC147=\"NÃO\",$D19,IF(MOD(COUNT($Q147:AC147)+1,12)=0,(AC147*$E19)+AC147,AC147)),\"NÃO\"),\"NÃO\")","v":"NÃO"},{"$f":"IF(AND(AE$8>=$M19,AE$8<=$N19),IF($F19=\"ANUAL\",IF(AD147=\"NÃO\",$D19,IF(MOD(COUNT($Q147:AD147)+1,12)=0,(AD147*$E19)+AD147,AD147)),\"NÃO\"),\"NÃO\")","v":"NÃO"},{"$f":"IF(AND(AF$8>=$M19,AF$8<=$N19),IF($F19=\"ANUAL\",IF(AE147=\"NÃO\",$D19,IF(MOD(COUNT($Q147:AE147)+1,12)=0,(AE147*$E19)+AE147,AE147)),\"NÃO\"),\"NÃO\")","v":"NÃO"},{"$f":"IF(AND(AG$8>=$M19,AG$8<=$N19),IF($F19=\"ANUAL\",IF(AF147=\"NÃO\",$D19,IF(MOD(COUNT($Q147:AF147)+1,12)=0,(AF147*$E19)+AF147,AF147)),\"NÃO\"),\"NÃO\")","v":"NÃO"},{"$f":"IF(AND(AH$8>=$M19,AH$8<=$N19),IF($F19=\"ANUAL\",IF(AG147=\"NÃO\",$D19,IF(MOD(COUNT($Q147:AG147)+1,12)=0,(AG147*$E19)+AG147,AG147)),\"NÃO\"),\"NÃO\")","v":"NÃO"},{"$f":"IF(AND(AI$8>=$M19,AI$8<=$N19),IF($F19=\"ANUAL\",IF(AH147=\"NÃO\",$D19,IF(MOD(COUNT($Q147:AH147)+1,12)=0,(AH147*$E19)+AH147,AH147)),\"NÃO\"),\"NÃO\")","v":"NÃO"},{"$f":"IF(AND(AJ$8>=$M19,AJ$8<=$N19),IF($F19=\"ANUAL\",IF(AI147=\"NÃO\",$D19,IF(MOD(COUNT($Q147:AI147)+1,12)=0,(AI147*$E19)+AI147,AI147)),\"NÃO\"),\"NÃO\")","v":"NÃO"},{"$f":"IF(AND(AK$8>=$M19,AK$8<=$N19),IF($F19=\"ANUAL\",IF(AJ147=\"NÃO\",$D19,IF(MOD(COUNT($Q147:AJ147)+1,12)=0,(AJ147*$E19)+AJ147,AJ147)),\"NÃO\"),\"NÃO\")","v":"NÃO"},{"$f":"IF(AND(AL$8>=$M19,AL$8<=$N19),IF($F19=\"ANUAL\",IF(AK147=\"NÃO\",$D19,IF(MOD(COUNT($Q147:AK147)+1,12)=0,(AK147*$E19)+AK147,AK147)),\"NÃO\"),\"NÃO\")","v":"NÃO"},{"$f":"IF(AND(AM$8>=$M19,AM$8<=$N19),IF($F19=\"ANUAL\",IF(AL147=\"NÃO\",$D19,IF(MOD(COUNT($Q147:AL147)+1,12)=0,(AL147*$E19)+AL147,AL147)),\"NÃO\"),\"NÃO\")","v":"NÃO"},{"$f":"IF(AND(AN$8>=$M19,AN$8<=$N19),IF($F19=\"ANUAL\",IF(AM147=\"NÃO\",$D19,IF(MOD(COUNT($Q147:AM147)+1,12)=0,(AM147*$E19)+AM147,AM147)),\"NÃO\"),\"NÃO\")","v":"NÃO"},{"$f":"IF(AND(AO$8>=$M19,AO$8<=$N19),IF($F19=\"ANUAL\",IF(AN147=\"NÃO\",$D19,IF(MOD(COUNT($Q147:AN147)+1,12)=0,(AN147*$E19)+AN147,AN147)),\"NÃO\"),\"NÃO\")","v":"NÃO"},{"$f":"IF(AND(AP$8>=$M19,AP$8<=$N19),IF($F19=\"ANUAL\",IF(AO147=\"NÃO\",$D19,IF(MOD(COUNT($Q147:AO147)+1,12)=0,(AO147*$E19)+AO147,AO147)),\"NÃO\"),\"NÃO\")","v":"NÃO"},{"$f":"IF(AND(AQ$8>=$M19,AQ$8<=$N19),IF($F19=\"ANUAL\",IF(AP147=\"NÃO\",$D19,IF(MOD(COUNT($Q147:AP147)+1,12)=0,(AP147*$E19)+AP147,AP147)),\"NÃO\"),\"NÃO\")","v":"NÃO"},{"$f":"IF(AND(AR$8>=$M19,AR$8<=$N19),IF($F19=\"ANUAL\",IF(AQ147=\"NÃO\",$D19,IF(MOD(COUNT($Q147:AQ147)+1,12)=0,(AQ147*$E19)+AQ147,AQ147)),\"NÃO\"),\"NÃO\")","v":"NÃO"},{"$f":"IF(AND(AS$8>=$M19,AS$8<=$N19),IF($F19=\"ANUAL\",IF(AR147=\"NÃO\",$D19,IF(MOD(COUNT($Q147:AR147)+1,12)=0,(AR147*$E19)+AR147,AR147)),\"NÃO\"),\"NÃO\")","v":"NÃO"},{"$f":"IF(AND(AT$8>=$M19,AT$8<=$N19),IF($F19=\"ANUAL\",IF(AS147=\"NÃO\",$D19,IF(MOD(COUNT($Q147:AS147)+1,12)=0,(AS147*$E19)+AS147,AS147)),\"NÃO\"),\"NÃO\")","v":"NÃO"},{"$f":"IF(AND(AU$8>=$M19,AU$8<=$N19),IF($F19=\"ANUAL\",IF(AT147=\"NÃO\",$D19,IF(MOD(COUNT($Q147:AT147)+1,12)=0,(AT147*$E19)+AT147,AT147)),\"NÃO\"),\"NÃO\")","v":"NÃO"},{"$f":"IF(AND(AV$8>=$M19,AV$8<=$N19),IF($F19=\"ANUAL\",IF(AU147=\"NÃO\",$D19,IF(MOD(COUNT($Q147:AU147)+1,12)=0,(AU147*$E19)+AU147,AU147)),\"NÃO\"),\"NÃO\")","v":"NÃO"},{"$f":"IF(AND(AW$8>=$M19,AW$8<=$N19),IF($F19=\"ANUAL\",IF(AV147=\"NÃO\",$D19,IF(MOD(COUNT($Q147:AV147)+1,12)=0,(AV147*$E19)+AV147,AV147)),\"NÃO\"),\"NÃO\")","v":"NÃO"},{"$f":"IF(AND(AX$8>=$M19,AX$8<=$N19),IF($F19=\"ANUAL\",IF(AW147=\"NÃO\",$D19,IF(MOD(COUNT($Q147:AW147)+1,12)=0,(AW147*$E19)+AW147,AW147)),\"NÃO\"),\"NÃO\")","v":"NÃO"},{"$f":"IF(AND(AY$8>=$M19,AY$8<=$N19),IF($F19=\"ANUAL\",IF(AX147=\"NÃO\",$D19,IF(MOD(COUNT($Q147:AX147)+1,12)=0,(AX147*$E19)+AX147,AX147)),\"NÃO\"),\"NÃO\")","v":"NÃO"},{"$f":"IF(AND(AZ$8>=$M19,AZ$8<=$N19),IF($F19=\"ANUAL\",IF(AY147=\"NÃO\",$D19,IF(MOD(COUNT($Q147:AY147)+1,12)=0,(AY147*$E19)+AY147,AY147)),\"NÃO\"),\"NÃO\")","v":"NÃO"},{"$f":"IF(AND(BA$8>=$M19,BA$8<=$N19),IF($F19=\"ANUAL\",IF(AZ147=\"NÃO\",$D19,IF(MOD(COUNT($Q147:AZ147)+1,12)=0,(AZ147*$E19)+AZ147,AZ147)),\"NÃO\"),\"NÃO\")","v":"NÃO"},{"$f":"IF(AND(BB$8>=$M19,BB$8<=$N19),IF($F19=\"ANUAL\",IF(BA147=\"NÃO\",$D19,IF(MOD(COUNT($Q147:BA147)+1,12)=0,(BA147*$E19)+BA147,BA147)),\"NÃO\"),\"NÃO\")","v":"NÃO"},{"$f":"IF(AND(BC$8>=$M19,BC$8<=$N19),IF($F19=\"ANUAL\",IF(BB147=\"NÃO\",$D19,IF(MOD(COUNT($Q147:BB147)+1,12)=0,(BB147*$E19)+BB147,BB147)),\"NÃO\"),\"NÃO\")","v":"NÃO"},{"$f":"IF(AND(BD$8>=$M19,BD$8<=$N19),IF($F19=\"ANUAL\",IF(BC147=\"NÃO\",$D19,IF(MOD(COUNT($Q147:BC147)+1,12)=0,(BC147*$E19)+BC147,BC147)),\"NÃO\"),\"NÃO\")","v":"NÃO"},{"$f":"IF(AND(BE$8>=$M19,BE$8<=$N19),IF($F19=\"ANUAL\",IF(BD147=\"NÃO\",$D19,IF(MOD(COUNT($Q147:BD147)+1,12)=0,(BD147*$E19)+BD147,BD147)),\"NÃO\"),\"NÃO\")","v":"NÃO"},{"$f":"IF(AND(BF$8>=$M19,BF$8<=$N19),IF($F19=\"ANUAL\",IF(BE147=\"NÃO\",$D19,IF(MOD(COUNT($Q147:BE147)+1,12)=0,(BE147*$E19)+BE147,BE147)),\"NÃO\"),\"NÃO\")","v":"NÃO"},{"$f":"IF(AND(BG$8>=$M19,BG$8<=$N19),IF($F19=\"ANUAL\",IF(BF147=\"NÃO\",$D19,IF(MOD(COUNT($Q147:BF147)+1,12)=0,(BF147*$E19)+BF147,BF147)),\"NÃO\"),\"NÃO\")","v":"NÃO"},{"$f":"IF(AND(BH$8>=$M19,BH$8<=$N19),IF($F19=\"ANUAL\",IF(BG147=\"NÃO\",$D19,IF(MOD(COUNT($Q147:BG147)+1,12)=0,(BG147*$E19)+BG147,BG147)),\"NÃO\"),\"NÃO\")","v":"NÃO"},{"$f":"IF(AND(BI$8>=$M19,BI$8<=$N19),IF($F19=\"ANUAL\",IF(BH147=\"NÃO\",$D19,IF(MOD(COUNT($Q147:BH147)+1,12)=0,(BH147*$E19)+BH147,BH147)),\"NÃO\"),\"NÃO\")","v":"NÃO"},{"$f":"IF(AND(BJ$8>=$M19,BJ$8<=$N19),IF($F19=\"ANUAL\",IF(BI147=\"NÃO\",$D19,IF(MOD(COUNT($Q147:BI147)+1,12)=0,(BI147*$E19)+BI147,BI147)),\"NÃO\"),\"NÃO\")","v":"NÃO"},{"$f":"IF(AND(BK$8>=$M19,BK$8<=$N19),IF($F19=\"ANUAL\",IF(BJ147=\"NÃO\",$D19,IF(MOD(COUNT($Q147:BJ147)+1,12)=0,(BJ147*$E19)+BJ147,BJ147)),\"NÃO\"),\"NÃO\")","v":"NÃO"},{"$f":"IF(AND(BL$8>=$M19,BL$8<=$N19),IF($F19=\"ANUAL\",IF(BK147=\"NÃO\",$D19,IF(MOD(COUNT($Q147:BK147)+1,12)=0,(BK147*$E19)+BK147,BK147)),\"NÃO\"),\"NÃO\")","v":"NÃO"},{"$f":"IF(AND(BM$8>=$M19,BM$8<=$N19),IF($F19=\"ANUAL\",IF(BL147=\"NÃO\",$D19,IF(MOD(COUNT($Q147:BL147)+1,12)=0,(BL147*$E19)+BL147,BL147)),\"NÃO\"),\"NÃO\")","v":"NÃO"},{"$f":"IF(AND(BN$8>=$M19,BN$8<=$N19),IF($F19=\"ANUAL\",IF(BM147=\"NÃO\",$D19,IF(MOD(COUNT($Q147:BM147)+1,12)=0,(BM147*$E19)+BM147,BM147)),\"NÃO\"),\"NÃO\")","v":"NÃO"},{"$f":"IF(AND(BO$8>=$M19,BO$8<=$N19),IF($F19=\"ANUAL\",IF(BN147=\"NÃO\",$D19,IF(MOD(COUNT($Q147:BN147)+1,12)=0,(BN147*$E19)+BN147,BN147)),\"NÃO\"),\"NÃO\")","v":"NÃO"},{"$f":"IF(AND(BP$8>=$M19,BP$8<=$N19),IF($F19=\"ANUAL\",IF(BO147=\"NÃO\",$D19,IF(MOD(COUNT($Q147:BO147)+1,12)=0,(BO147*$E19)+BO147,BO147)),\"NÃO\"),\"NÃO\")","v":"NÃO"},{"$f":"IF(AND(BQ$8>=$M19,BQ$8<=$N19),IF($F19=\"ANUAL\",IF(BP147=\"NÃO\",$D19,IF(MOD(COUNT($Q147:BP147)+1,12)=0,(BP147*$E19)+BP147,BP147)),\"NÃO\"),\"NÃO\")","v":"NÃO"},{"$f":"IF(AND(BR$8>=$M19,BR$8<=$N19),IF($F19=\"ANUAL\",IF(BQ147=\"NÃO\",$D19,IF(MOD(COUNT($Q147:BQ147)+1,12)=0,(BQ147*$E19)+BQ147,BQ147)),\"NÃO\"),\"NÃO\")","v":"NÃO"},{"$f":"IF(AND(BS$8>=$M19,BS$8<=$N19),IF($F19=\"ANUAL\",IF(BR147=\"NÃO\",$D19,IF(MOD(COUNT($Q147:BR147)+1,12)=0,(BR147*$E19)+BR147,BR147)),\"NÃO\"),\"NÃO\")","v":"NÃO"},{"$f":"IF(AND(BT$8>=$M19,BT$8<=$N19),IF($F19=\"ANUAL\",IF(BS147=\"NÃO\",$D19,IF(MOD(COUNT($Q147:BS147)+1,12)=0,(BS147*$E19)+BS147,BS147)),\"NÃO\"),\"NÃO\")","v":"NÃO"},{"$f":"IF(AND(BU$8>=$M19,BU$8<=$N19),IF($F19=\"ANUAL\",IF(BT147=\"NÃO\",$D19,IF(MOD(COUNT($Q147:BT147)+1,12)=0,(BT147*$E19)+BT147,BT147)),\"NÃO\"),\"NÃO\")","v":"NÃO"},{"$f":"IF(AND(BV$8>=$M19,BV$8<=$N19),IF($F19=\"ANUAL\",IF(BU147=\"NÃO\",$D19,IF(MOD(COUNT($Q147:BU147)+1,12)=0,(BU147*$E19)+BU147,BU147)),\"NÃO\"),\"NÃO\")","v":"NÃO"},{"$f":"IF(AND(BW$8>=$M19,BW$8<=$N19),IF($F19=\"ANUAL\",IF(BV147=\"NÃO\",$D19,IF(MOD(COUNT($Q147:BV147)+1,12)=0,(BV147*$E19)+BV147,BV147)),\"NÃO\"),\"NÃO\")","v":"NÃO"},{"$f":"IF(AND(BX$8>=$M19,BX$8<=$N19),IF($F19=\"ANUAL\",IF(BW147=\"NÃO\",$D19,IF(MOD(COUNT($Q147:BW147)+1,12)=0,(BW147*$E19)+BW147,BW147)),\"NÃO\"),\"NÃO\")","v":"NÃO"}]
[null,null,null,null,null,null,null,null,null,null,null,null,null,null,null,12,"NÃO",{"$f":"IF(AND(R$8>=$M20,R$8<=$N20),IF($F20=\"ANUAL\",IF(Q148=\"NÃO\",$D20,IF(MOD(COUNT($Q148:Q148)+1,12)=0,(Q148*$E20)+Q148,Q148)),\"NÃO\"),\"NÃO\")","v":"NÃO"},{"$f":"IF(AND(S$8>=$M20,S$8<=$N20),IF($F20=\"ANUAL\",IF(R148=\"NÃO\",$D20,IF(MOD(COUNT($Q148:R148)+1,12)=0,(R148*$E20)+R148,R148)),\"NÃO\"),\"NÃO\")","v":"NÃO"},{"$f":"IF(AND(T$8>=$M20,T$8<=$N20),IF($F20=\"ANUAL\",IF(S148=\"NÃO\",$D20,IF(MOD(COUNT($Q148:S148)+1,12)=0,(S148*$E20)+S148,S148)),\"NÃO\"),\"NÃO\")","v":"NÃO"},{"$f":"IF(AND(U$8>=$M20,U$8<=$N20),IF($F20=\"ANUAL\",IF(T148=\"NÃO\",$D20,IF(MOD(COUNT($Q148:T148)+1,12)=0,(T148*$E20)+T148,T148)),\"NÃO\"),\"NÃO\")","v":"NÃO"},{"$f":"IF(AND(V$8>=$M20,V$8<=$N20),IF($F20=\"ANUAL\",IF(U148=\"NÃO\",$D20,IF(MOD(COUNT($Q148:U148)+1,12)=0,(U148*$E20)+U148,U148)),\"NÃO\"),\"NÃO\")","v":"NÃO"},{"$f":"IF(AND(W$8>=$M20,W$8<=$N20),IF($F20=\"ANUAL\",IF(V148=\"NÃO\",$D20,IF(MOD(COUNT($Q148:V148)+1,12)=0,(V148*$E20)+V148,V148)),\"NÃO\"),\"NÃO\")","v":"NÃO"},{"$f":"IF(AND(X$8>=$M20,X$8<=$N20),IF($F20=\"ANUAL\",IF(W148=\"NÃO\",$D20,IF(MOD(COUNT($Q148:W148)+1,12)=0,(W148*$E20)+W148,W148)),\"NÃO\"),\"NÃO\")","v":"NÃO"},{"$f":"IF(AND(Y$8>=$M20,Y$8<=$N20),IF($F20=\"ANUAL\",IF(X148=\"NÃO\",$D20,IF(MOD(COUNT($Q148:X148)+1,12)=0,(X148*$E20)+X148,X148)),\"NÃO\"),\"NÃO\")","v":"NÃO"},{"$f":"IF(AND(Z$8>=$M20,Z$8<=$N20),IF($F20=\"ANUAL\",IF(Y148=\"NÃO\",$D20,IF(MOD(COUNT($Q148:Y148)+1,12)=0,(Y148*$E20)+Y148,Y148)),\"NÃO\"),\"NÃO\")","v":"NÃO"},{"$f":"IF(AND(AA$8>=$M20,AA$8<=$N20),IF($F20=\"ANUAL\",IF(Z148=\"NÃO\",$D20,IF(MOD(COUNT($Q148:Z148)+1,12)=0,(Z148*$E20)+Z148,Z148)),\"NÃO\"),\"NÃO\")","v":"NÃO"},{"$f":"IF(AND(AB$8>=$M20,AB$8<=$N20),IF($F20=\"ANUAL\",IF(AA148=\"NÃO\",$D20,IF(MOD(COUNT($Q148:AA148)+1,12)=0,(AA148*$E20)+AA148,AA148)),\"NÃO\"),\"NÃO\")","v":"NÃO"},{"$f":"IF(AND(AC$8>=$M20,AC$8<=$N20),IF($F20=\"ANUAL\",IF(AB148=\"NÃO\",$D20,IF(MOD(COUNT($Q148:AB148)+1,12)=0,(AB148*$E20)+AB148,AB148)),\"NÃO\"),\"NÃO\")","v":"NÃO"},{"$f":"IF(AND(AD$8>=$M20,AD$8<=$N20),IF($F20=\"ANUAL\",IF(AC148=\"NÃO\",$D20,IF(MOD(COUNT($Q148:AC148)+1,12)=0,(AC148*$E20)+AC148,AC148)),\"NÃO\"),\"NÃO\")","v":"NÃO"},{"$f":"IF(AND(AE$8>=$M20,AE$8<=$N20),IF($F20=\"ANUAL\",IF(AD148=\"NÃO\",$D20,IF(MOD(COUNT($Q148:AD148)+1,12)=0,(AD148*$E20)+AD148,AD148)),\"NÃO\"),\"NÃO\")","v":"NÃO"},{"$f":"IF(AND(AF$8>=$M20,AF$8<=$N20),IF($F20=\"ANUAL\",IF(AE148=\"NÃO\",$D20,IF(MOD(COUNT($Q148:AE148)+1,12)=0,(AE148*$E20)+AE148,AE148)),\"NÃO\"),\"NÃO\")","v":"NÃO"},{"$f":"IF(AND(AG$8>=$M20,AG$8<=$N20),IF($F20=\"ANUAL\",IF(AF148=\"NÃO\",$D20,IF(MOD(COUNT($Q148:AF148)+1,12)=0,(AF148*$E20)+AF148,AF148)),\"NÃO\"),\"NÃO\")","v":"NÃO"},{"$f":"IF(AND(AH$8>=$M20,AH$8<=$N20),IF($F20=\"ANUAL\",IF(AG148=\"NÃO\",$D20,IF(MOD(COUNT($Q148:AG148)+1,12)=0,(AG148*$E20)+AG148,AG148)),\"NÃO\"),\"NÃO\")","v":"NÃO"},{"$f":"IF(AND(AI$8>=$M20,AI$8<=$N20),IF($F20=\"ANUAL\",IF(AH148=\"NÃO\",$D20,IF(MOD(COUNT($Q148:AH148)+1,12)=0,(AH148*$E20)+AH148,AH148)),\"NÃO\"),\"NÃO\")","v":"NÃO"},{"$f":"IF(AND(AJ$8>=$M20,AJ$8<=$N20),IF($F20=\"ANUAL\",IF(AI148=\"NÃO\",$D20,IF(MOD(COUNT($Q148:AI148)+1,12)=0,(AI148*$E20)+AI148,AI148)),\"NÃO\"),\"NÃO\")","v":"NÃO"},{"$f":"IF(AND(AK$8>=$M20,AK$8<=$N20),IF($F20=\"ANUAL\",IF(AJ148=\"NÃO\",$D20,IF(MOD(COUNT($Q148:AJ148)+1,12)=0,(AJ148*$E20)+AJ148,AJ148)),\"NÃO\"),\"NÃO\")","v":"NÃO"},{"$f":"IF(AND(AL$8>=$M20,AL$8<=$N20),IF($F20=\"ANUAL\",IF(AK148=\"NÃO\",$D20,IF(MOD(COUNT($Q148:AK148)+1,12)=0,(AK148*$E20)+AK148,AK148)),\"NÃO\"),\"NÃO\")","v":"NÃO"},{"$f":"IF(AND(AM$8>=$M20,AM$8<=$N20),IF($F20=\"ANUAL\",IF(AL148=\"NÃO\",$D20,IF(MOD(COUNT($Q148:AL148)+1,12)=0,(AL148*$E20)+AL148,AL148)),\"NÃO\"),\"NÃO\")","v":"NÃO"},{"$f":"IF(AND(AN$8>=$M20,AN$8<=$N20),IF($F20=\"ANUAL\",IF(AM148=\"NÃO\",$D20,IF(MOD(COUNT($Q148:AM148)+1,12)=0,(AM148*$E20)+AM148,AM148)),\"NÃO\"),\"NÃO\")","v":"NÃO"},{"$f":"IF(AND(AO$8>=$M20,AO$8<=$N20),IF($F20=\"ANUAL\",IF(AN148=\"NÃO\",$D20,IF(MOD(COUNT($Q148:AN148)+1,12)=0,(AN148*$E20)+AN148,AN148)),\"NÃO\"),\"NÃO\")","v":"NÃO"},{"$f":"IF(AND(AP$8>=$M20,AP$8<=$N20),IF($F20=\"ANUAL\",IF(AO148=\"NÃO\",$D20,IF(MOD(COUNT($Q148:AO148)+1,12)=0,(AO148*$E20)+AO148,AO148)),\"NÃO\"),\"NÃO\")","v":"NÃO"},{"$f":"IF(AND(AQ$8>=$M20,AQ$8<=$N20),IF($F20=\"ANUAL\",IF(AP148=\"NÃO\",$D20,IF(MOD(COUNT($Q148:AP148)+1,12)=0,(AP148*$E20)+AP148,AP148)),\"NÃO\"),\"NÃO\")","v":"NÃO"},{"$f":"IF(AND(AR$8>=$M20,AR$8<=$N20),IF($F20=\"ANUAL\",IF(AQ148=\"NÃO\",$D20,IF(MOD(COUNT($Q148:AQ148)+1,12)=0,(AQ148*$E20)+AQ148,AQ148)),\"NÃO\"),\"NÃO\")","v":"NÃO"},{"$f":"IF(AND(AS$8>=$M20,AS$8<=$N20),IF($F20=\"ANUAL\",IF(AR148=\"NÃO\",$D20,IF(MOD(COUNT($Q148:AR148)+1,12)=0,(AR148*$E20)+AR148,AR148)),\"NÃO\"),\"NÃO\")","v":"NÃO"},{"$f":"IF(AND(AT$8>=$M20,AT$8<=$N20),IF($F20=\"ANUAL\",IF(AS148=\"NÃO\",$D20,IF(MOD(COUNT($Q148:AS148)+1,12)=0,(AS148*$E20)+AS148,AS148)),\"NÃO\"),\"NÃO\")","v":"NÃO"},{"$f":"IF(AND(AU$8>=$M20,AU$8<=$N20),IF($F20=\"ANUAL\",IF(AT148=\"NÃO\",$D20,IF(MOD(COUNT($Q148:AT148)+1,12)=0,(AT148*$E20)+AT148,AT148)),\"NÃO\"),\"NÃO\")","v":"NÃO"},{"$f":"IF(AND(AV$8>=$M20,AV$8<=$N20),IF($F20=\"ANUAL\",IF(AU148=\"NÃO\",$D20,IF(MOD(COUNT($Q148:AU148)+1,12)=0,(AU148*$E20)+AU148,AU148)),\"NÃO\"),\"NÃO\")","v":"NÃO"},{"$f":"IF(AND(AW$8>=$M20,AW$8<=$N20),IF($F20=\"ANUAL\",IF(AV148=\"NÃO\",$D20,IF(MOD(COUNT($Q148:AV148)+1,12)=0,(AV148*$E20)+AV148,AV148)),\"NÃO\"),\"NÃO\")","v":"NÃO"},{"$f":"IF(AND(AX$8>=$M20,AX$8<=$N20),IF($F20=\"ANUAL\",IF(AW148=\"NÃO\",$D20,IF(MOD(COUNT($Q148:AW148)+1,12)=0,(AW148*$E20)+AW148,AW148)),\"NÃO\"),\"NÃO\")","v":"NÃO"},{"$f":"IF(AND(AY$8>=$M20,AY$8<=$N20),IF($F20=\"ANUAL\",IF(AX148=\"NÃO\",$D20,IF(MOD(COUNT($Q148:AX148)+1,12)=0,(AX148*$E20)+AX148,AX148)),\"NÃO\"),\"NÃO\")","v":"NÃO"},{"$f":"IF(AND(AZ$8>=$M20,AZ$8<=$N20),IF($F20=\"ANUAL\",IF(AY148=\"NÃO\",$D20,IF(MOD(COUNT($Q148:AY148)+1,12)=0,(AY148*$E20)+AY148,AY148)),\"NÃO\"),\"NÃO\")","v":"NÃO"},{"$f":"IF(AND(BA$8>=$M20,BA$8<=$N20),IF($F20=\"ANUAL\",IF(AZ148=\"NÃO\",$D20,IF(MOD(COUNT($Q148:AZ148)+1,12)=0,(AZ148*$E20)+AZ148,AZ148)),\"NÃO\"),\"NÃO\")","v":"NÃO"},{"$f":"IF(AND(BB$8>=$M20,BB$8<=$N20),IF($F20=\"ANUAL\",IF(BA148=\"NÃO\",$D20,IF(MOD(COUNT($Q148:BA148)+1,12)=0,(BA148*$E20)+BA148,BA148)),\"NÃO\"),\"NÃO\")","v":"NÃO"},{"$f":"IF(AND(BC$8>=$M20,BC$8<=$N20),IF($F20=\"ANUAL\",IF(BB148=\"NÃO\",$D20,IF(MOD(COUNT($Q148:BB148)+1,12)=0,(BB148*$E20)+BB148,BB148)),\"NÃO\"),\"NÃO\")","v":"NÃO"},{"$f":"IF(AND(BD$8>=$M20,BD$8<=$N20),IF($F20=\"ANUAL\",IF(BC148=\"NÃO\",$D20,IF(MOD(COUNT($Q148:BC148)+1,12)=0,(BC148*$E20)+BC148,BC148)),\"NÃO\"),\"NÃO\")","v":"NÃO"},{"$f":"IF(AND(BE$8>=$M20,BE$8<=$N20),IF($F20=\"ANUAL\",IF(BD148=\"NÃO\",$D20,IF(MOD(COUNT($Q148:BD148)+1,12)=0,(BD148*$E20)+BD148,BD148)),\"NÃO\"),\"NÃO\")","v":"NÃO"},{"$f":"IF(AND(BF$8>=$M20,BF$8<=$N20),IF($F20=\"ANUAL\",IF(BE148=\"NÃO\",$D20,IF(MOD(COUNT($Q148:BE148)+1,12)=0,(BE148*$E20)+BE148,BE148)),\"NÃO\"),\"NÃO\")","v":"NÃO"},{"$f":"IF(AND(BG$8>=$M20,BG$8<=$N20),IF($F20=\"ANUAL\",IF(BF148=\"NÃO\",$D20,IF(MOD(COUNT($Q148:BF148)+1,12)=0,(BF148*$E20)+BF148,BF148)),\"NÃO\"),\"NÃO\")","v":"NÃO"},{"$f":"IF(AND(BH$8>=$M20,BH$8<=$N20),IF($F20=\"ANUAL\",IF(BG148=\"NÃO\",$D20,IF(MOD(COUNT($Q148:BG148)+1,12)=0,(BG148*$E20)+BG148,BG148)),\"NÃO\"),\"NÃO\")","v":"NÃO"},{"$f":"IF(AND(BI$8>=$M20,BI$8<=$N20),IF($F20=\"ANUAL\",IF(BH148=\"NÃO\",$D20,IF(MOD(COUNT($Q148:BH148)+1,12)=0,(BH148*$E20)+BH148,BH148)),\"NÃO\"),\"NÃO\")","v":"NÃO"},{"$f":"IF(AND(BJ$8>=$M20,BJ$8<=$N20),IF($F20=\"ANUAL\",IF(BI148=\"NÃO\",$D20,IF(MOD(COUNT($Q148:BI148)+1,12)=0,(BI148*$E20)+BI148,BI148)),\"NÃO\"),\"NÃO\")","v":"NÃO"},{"$f":"IF(AND(BK$8>=$M20,BK$8<=$N20),IF($F20=\"ANUAL\",IF(BJ148=\"NÃO\",$D20,IF(MOD(COUNT($Q148:BJ148)+1,12)=0,(BJ148*$E20)+BJ148,BJ148)),\"NÃO\"),\"NÃO\")","v":"NÃO"},{"$f":"IF(AND(BL$8>=$M20,BL$8<=$N20),IF($F20=\"ANUAL\",IF(BK148=\"NÃO\",$D20,IF(MOD(COUNT($Q148:BK148)+1,12)=0,(BK148*$E20)+BK148,BK148)),\"NÃO\"),\"NÃO\")","v":"NÃO"},{"$f":"IF(AND(BM$8>=$M20,BM$8<=$N20),IF($F20=\"ANUAL\",IF(BL148=\"NÃO\",$D20,IF(MOD(COUNT($Q148:BL148)+1,12)=0,(BL148*$E20)+BL148,BL148)),\"NÃO\"),\"NÃO\")","v":"NÃO"},{"$f":"IF(AND(BN$8>=$M20,BN$8<=$N20),IF($F20=\"ANUAL\",IF(BM148=\"NÃO\",$D20,IF(MOD(COUNT($Q148:BM148)+1,12)=0,(BM148*$E20)+BM148,BM148)),\"NÃO\"),\"NÃO\")","v":"NÃO"},{"$f":"IF(AND(BO$8>=$M20,BO$8<=$N20),IF($F20=\"ANUAL\",IF(BN148=\"NÃO\",$D20,IF(MOD(COUNT($Q148:BN148)+1,12)=0,(BN148*$E20)+BN148,BN148)),\"NÃO\"),\"NÃO\")","v":"NÃO"},{"$f":"IF(AND(BP$8>=$M20,BP$8<=$N20),IF($F20=\"ANUAL\",IF(BO148=\"NÃO\",$D20,IF(MOD(COUNT($Q148:BO148)+1,12)=0,(BO148*$E20)+BO148,BO148)),\"NÃO\"),\"NÃO\")","v":"NÃO"},{"$f":"IF(AND(BQ$8>=$M20,BQ$8<=$N20),IF($F20=\"ANUAL\",IF(BP148=\"NÃO\",$D20,IF(MOD(COUNT($Q148:BP148)+1,12)=0,(BP148*$E20)+BP148,BP148)),\"NÃO\"),\"NÃO\")","v":"NÃO"},{"$f":"IF(AND(BR$8>=$M20,BR$8<=$N20),IF($F20=\"ANUAL\",IF(BQ148=\"NÃO\",$D20,IF(MOD(COUNT($Q148:BQ148)+1,12)=0,(BQ148*$E20)+BQ148,BQ148)),\"NÃO\"),\"NÃO\")","v":"NÃO"},{"$f":"IF(AND(BS$8>=$M20,BS$8<=$N20),IF($F20=\"ANUAL\",IF(BR148=\"NÃO\",$D20,IF(MOD(COUNT($Q148:BR148)+1,12)=0,(BR148*$E20)+BR148,BR148)),\"NÃO\"),\"NÃO\")","v":"NÃO"},{"$f":"IF(AND(BT$8>=$M20,BT$8<=$N20),IF($F20=\"ANUAL\",IF(BS148=\"NÃO\",$D20,IF(MOD(COUNT($Q148:BS148)+1,12)=0,(BS148*$E20)+BS148,BS148)),\"NÃO\"),\"NÃO\")","v":"NÃO"},{"$f":"IF(AND(BU$8>=$M20,BU$8<=$N20),IF($F20=\"ANUAL\",IF(BT148=\"NÃO\",$D20,IF(MOD(COUNT($Q148:BT148)+1,12)=0,(BT148*$E20)+BT148,BT148)),\"NÃO\"),\"NÃO\")","v":"NÃO"},{"$f":"IF(AND(BV$8>=$M20,BV$8<=$N20),IF($F20=\"ANUAL\",IF(BU148=\"NÃO\",$D20,IF(MOD(COUNT($Q148:BU148)+1,12)=0,(BU148*$E20)+BU148,BU148)),\"NÃO\"),\"NÃO\")","v":"NÃO"},{"$f":"IF(AND(BW$8>=$M20,BW$8<=$N20),IF($F20=\"ANUAL\",IF(BV148=\"NÃO\",$D20,IF(MOD(COUNT($Q148:BV148)+1,12)=0,(BV148*$E20)+BV148,BV148)),\"NÃO\"),\"NÃO\")","v":"NÃO"},{"$f":"IF(AND(BX$8>=$M20,BX$8<=$N20),IF($F20=\"ANUAL\",IF(BW148=\"NÃO\",$D20,IF(MOD(COUNT($Q148:BW148)+1,12)=0,(BW148*$E20)+BW148,BW148)),\"NÃO\"),\"NÃO\")","v":"NÃO"}]
[null,null,null,null,null,null,null,null,null,null,null,null,null,null,null,13,"NÃO",{"$f":"IF(AND(R$8>=$M21,R$8<=$N21),IF($F21=\"ANUAL\",IF(Q149=\"NÃO\",$D21,IF(MOD(COUNT($Q149:Q149)+1,12)=0,(Q149*$E21)+Q149,Q149)),\"NÃO\"),\"NÃO\")","v":"NÃO"},{"$f":"IF(AND(S$8>=$M21,S$8<=$N21),IF($F21=\"ANUAL\",IF(R149=\"NÃO\",$D21,IF(MOD(COUNT($Q149:R149)+1,12)=0,(R149*$E21)+R149,R149)),\"NÃO\"),\"NÃO\")","v":"NÃO"},{"$f":"IF(AND(T$8>=$M21,T$8<=$N21),IF($F21=\"ANUAL\",IF(S149=\"NÃO\",$D21,IF(MOD(COUNT($Q149:S149)+1,12)=0,(S149*$E21)+S149,S149)),\"NÃO\"),\"NÃO\")","v":"NÃO"},{"$f":"IF(AND(U$8>=$M21,U$8<=$N21),IF($F21=\"ANUAL\",IF(T149=\"NÃO\",$D21,IF(MOD(COUNT($Q149:T149)+1,12)=0,(T149*$E21)+T149,T149)),\"NÃO\"),\"NÃO\")","v":"NÃO"},{"$f":"IF(AND(V$8>=$M21,V$8<=$N21),IF($F21=\"ANUAL\",IF(U149=\"NÃO\",$D21,IF(MOD(COUNT($Q149:U149)+1,12)=0,(U149*$E21)+U149,U149)),\"NÃO\"),\"NÃO\")","v":"NÃO"},{"$f":"IF(AND(W$8>=$M21,W$8<=$N21),IF($F21=\"ANUAL\",IF(V149=\"NÃO\",$D21,IF(MOD(COUNT($Q149:V149)+1,12)=0,(V149*$E21)+V149,V149)),\"NÃO\"),\"NÃO\")","v":"NÃO"},{"$f":"IF(AND(X$8>=$M21,X$8<=$N21),IF($F21=\"ANUAL\",IF(W149=\"NÃO\",$D21,IF(MOD(COUNT($Q149:W149)+1,12)=0,(W149*$E21)+W149,W149)),\"NÃO\"),\"NÃO\")","v":"NÃO"},{"$f":"IF(AND(Y$8>=$M21,Y$8<=$N21),IF($F21=\"ANUAL\",IF(X149=\"NÃO\",$D21,IF(MOD(COUNT($Q149:X149)+1,12)=0,(X149*$E21)+X149,X149)),\"NÃO\"),\"NÃO\")","v":"NÃO"},{"$f":"IF(AND(Z$8>=$M21,Z$8<=$N21),IF($F21=\"ANUAL\",IF(Y149=\"NÃO\",$D21,IF(MOD(COUNT($Q149:Y149)+1,12)=0,(Y149*$E21)+Y149,Y149)),\"NÃO\"),\"NÃO\")","v":"NÃO"},{"$f":"IF(AND(AA$8>=$M21,AA$8<=$N21),IF($F21=\"ANUAL\",IF(Z149=\"NÃO\",$D21,IF(MOD(COUNT($Q149:Z149)+1,12)=0,(Z149*$E21)+Z149,Z149)),\"NÃO\"),\"NÃO\")","v":"NÃO"},{"$f":"IF(AND(AB$8>=$M21,AB$8<=$N21),IF($F21=\"ANUAL\",IF(AA149=\"NÃO\",$D21,IF(MOD(COUNT($Q149:AA149)+1,12)=0,(AA149*$E21)+AA149,AA149)),\"NÃO\"),\"NÃO\")","v":"NÃO"},{"$f":"IF(AND(AC$8>=$M21,AC$8<=$N21),IF($F21=\"ANUAL\",IF(AB149=\"NÃO\",$D21,IF(MOD(COUNT($Q149:AB149)+1,12)=0,(AB149*$E21)+AB149,AB149)),\"NÃO\"),\"NÃO\")","v":"NÃO"},{"$f":"IF(AND(AD$8>=$M21,AD$8<=$N21),IF($F21=\"ANUAL\",IF(AC149=\"NÃO\",$D21,IF(MOD(COUNT($Q149:AC149)+1,12)=0,(AC149*$E21)+AC149,AC149)),\"NÃO\"),\"NÃO\")","v":"NÃO"},{"$f":"IF(AND(AE$8>=$M21,AE$8<=$N21),IF($F21=\"ANUAL\",IF(AD149=\"NÃO\",$D21,IF(MOD(COUNT($Q149:AD149)+1,12)=0,(AD149*$E21)+AD149,AD149)),\"NÃO\"),\"NÃO\")","v":"NÃO"},{"$f":"IF(AND(AF$8>=$M21,AF$8<=$N21),IF($F21=\"ANUAL\",IF(AE149=\"NÃO\",$D21,IF(MOD(COUNT($Q149:AE149)+1,12)=0,(AE149*$E21)+AE149,AE149)),\"NÃO\"),\"NÃO\")","v":"NÃO"},{"$f":"IF(AND(AG$8>=$M21,AG$8<=$N21),IF($F21=\"ANUAL\",IF(AF149=\"NÃO\",$D21,IF(MOD(COUNT($Q149:AF149)+1,12)=0,(AF149*$E21)+AF149,AF149)),\"NÃO\"),\"NÃO\")","v":"NÃO"},{"$f":"IF(AND(AH$8>=$M21,AH$8<=$N21),IF($F21=\"ANUAL\",IF(AG149=\"NÃO\",$D21,IF(MOD(COUNT($Q149:AG149)+1,12)=0,(AG149*$E21)+AG149,AG149)),\"NÃO\"),\"NÃO\")","v":"NÃO"},{"$f":"IF(AND(AI$8>=$M21,AI$8<=$N21),IF($F21=\"ANUAL\",IF(AH149=\"NÃO\",$D21,IF(MOD(COUNT($Q149:AH149)+1,12)=0,(AH149*$E21)+AH149,AH149)),\"NÃO\"),\"NÃO\")","v":"NÃO"},{"$f":"IF(AND(AJ$8>=$M21,AJ$8<=$N21),IF($F21=\"ANUAL\",IF(AI149=\"NÃO\",$D21,IF(MOD(COUNT($Q149:AI149)+1,12)=0,(AI149*$E21)+AI149,AI149)),\"NÃO\"),\"NÃO\")","v":"NÃO"},{"$f":"IF(AND(AK$8>=$M21,AK$8<=$N21),IF($F21=\"ANUAL\",IF(AJ149=\"NÃO\",$D21,IF(MOD(COUNT($Q149:AJ149)+1,12)=0,(AJ149*$E21)+AJ149,AJ149)),\"NÃO\"),\"NÃO\")","v":"NÃO"},{"$f":"IF(AND(AL$8>=$M21,AL$8<=$N21),IF($F21=\"ANUAL\",IF(AK149=\"NÃO\",$D21,IF(MOD(COUNT($Q149:AK149)+1,12)=0,(AK149*$E21)+AK149,AK149)),\"NÃO\"),\"NÃO\")","v":"NÃO"},{"$f":"IF(AND(AM$8>=$M21,AM$8<=$N21),IF($F21=\"ANUAL\",IF(AL149=\"NÃO\",$D21,IF(MOD(COUNT($Q149:AL149)+1,12)=0,(AL149*$E21)+AL149,AL149)),\"NÃO\"),\"NÃO\")","v":"NÃO"},{"$f":"IF(AND(AN$8>=$M21,AN$8<=$N21),IF($F21=\"ANUAL\",IF(AM149=\"NÃO\",$D21,IF(MOD(COUNT($Q149:AM149)+1,12)=0,(AM149*$E21)+AM149,AM149)),\"NÃO\"),\"NÃO\")","v":"NÃO"},{"$f":"IF(AND(AO$8>=$M21,AO$8<=$N21),IF($F21=\"ANUAL\",IF(AN149=\"NÃO\",$D21,IF(MOD(COUNT($Q149:AN149)+1,12)=0,(AN149*$E21)+AN149,AN149)),\"NÃO\"),\"NÃO\")","v":"NÃO"},{"$f":"IF(AND(AP$8>=$M21,AP$8<=$N21),IF($F21=\"ANUAL\",IF(AO149=\"NÃO\",$D21,IF(MOD(COUNT($Q149:AO149)+1,12)=0,(AO149*$E21)+AO149,AO149)),\"NÃO\"),\"NÃO\")","v":"NÃO"},{"$f":"IF(AND(AQ$8>=$M21,AQ$8<=$N21),IF($F21=\"ANUAL\",IF(AP149=\"NÃO\",$D21,IF(MOD(COUNT($Q149:AP149)+1,12)=0,(AP149*$E21)+AP149,AP149)),\"NÃO\"),\"NÃO\")","v":"NÃO"},{"$f":"IF(AND(AR$8>=$M21,AR$8<=$N21),IF($F21=\"ANUAL\",IF(AQ149=\"NÃO\",$D21,IF(MOD(COUNT($Q149:AQ149)+1,12)=0,(AQ149*$E21)+AQ149,AQ149)),\"NÃO\"),\"NÃO\")","v":"NÃO"},{"$f":"IF(AND(AS$8>=$M21,AS$8<=$N21),IF($F21=\"ANUAL\",IF(AR149=\"NÃO\",$D21,IF(MOD(COUNT($Q149:AR149)+1,12)=0,(AR149*$E21)+AR149,AR149)),\"NÃO\"),\"NÃO\")","v":"NÃO"},{"$f":"IF(AND(AT$8>=$M21,AT$8<=$N21),IF($F21=\"ANUAL\",IF(AS149=\"NÃO\",$D21,IF(MOD(COUNT($Q149:AS149)+1,12)=0,(AS149*$E21)+AS149,AS149)),\"NÃO\"),\"NÃO\")","v":"NÃO"},{"$f":"IF(AND(AU$8>=$M21,AU$8<=$N21),IF($F21=\"ANUAL\",IF(AT149=\"NÃO\",$D21,IF(MOD(COUNT($Q149:AT149)+1,12)=0,(AT149*$E21)+AT149,AT149)),\"NÃO\"),\"NÃO\")","v":"NÃO"},{"$f":"IF(AND(AV$8>=$M21,AV$8<=$N21),IF($F21=\"ANUAL\",IF(AU149=\"NÃO\",$D21,IF(MOD(COUNT($Q149:AU149)+1,12)=0,(AU149*$E21)+AU149,AU149)),\"NÃO\"),\"NÃO\")","v":"NÃO"},{"$f":"IF(AND(AW$8>=$M21,AW$8<=$N21),IF($F21=\"ANUAL\",IF(AV149=\"NÃO\",$D21,IF(MOD(COUNT($Q149:AV149)+1,12)=0,(AV149*$E21)+AV149,AV149)),\"NÃO\"),\"NÃO\")","v":"NÃO"},{"$f":"IF(AND(AX$8>=$M21,AX$8<=$N21),IF($F21=\"ANUAL\",IF(AW149=\"NÃO\",$D21,IF(MOD(COUNT($Q149:AW149)+1,12)=0,(AW149*$E21)+AW149,AW149)),\"NÃO\"),\"NÃO\")","v":"NÃO"},{"$f":"IF(AND(AY$8>=$M21,AY$8<=$N21),IF($F21=\"ANUAL\",IF(AX149=\"NÃO\",$D21,IF(MOD(COUNT($Q149:AX149)+1,12)=0,(AX149*$E21)+AX149,AX149)),\"NÃO\"),\"NÃO\")","v":"NÃO"},{"$f":"IF(AND(AZ$8>=$M21,AZ$8<=$N21),IF($F21=\"ANUAL\",IF(AY149=\"NÃO\",$D21,IF(MOD(COUNT($Q149:AY149)+1,12)=0,(AY149*$E21)+AY149,AY149)),\"NÃO\"),\"NÃO\")","v":"NÃO"},{"$f":"IF(AND(BA$8>=$M21,BA$8<=$N21),IF($F21=\"ANUAL\",IF(AZ149=\"NÃO\",$D21,IF(MOD(COUNT($Q149:AZ149)+1,12)=0,(AZ149*$E21)+AZ149,AZ149)),\"NÃO\"),\"NÃO\")","v":"NÃO"},{"$f":"IF(AND(BB$8>=$M21,BB$8<=$N21),IF($F21=\"ANUAL\",IF(BA149=\"NÃO\",$D21,IF(MOD(COUNT($Q149:BA149)+1,12)=0,(BA149*$E21)+BA149,BA149)),\"NÃO\"),\"NÃO\")","v":"NÃO"},{"$f":"IF(AND(BC$8>=$M21,BC$8<=$N21),IF($F21=\"ANUAL\",IF(BB149=\"NÃO\",$D21,IF(MOD(COUNT($Q149:BB149)+1,12)=0,(BB149*$E21)+BB149,BB149)),\"NÃO\"),\"NÃO\")","v":"NÃO"},{"$f":"IF(AND(BD$8>=$M21,BD$8<=$N21),IF($F21=\"ANUAL\",IF(BC149=\"NÃO\",$D21,IF(MOD(COUNT($Q149:BC149)+1,12)=0,(BC149*$E21)+BC149,BC149)),\"NÃO\"),\"NÃO\")","v":"NÃO"},{"$f":"IF(AND(BE$8>=$M21,BE$8<=$N21),IF($F21=\"ANUAL\",IF(BD149=\"NÃO\",$D21,IF(MOD(COUNT($Q149:BD149)+1,12)=0,(BD149*$E21)+BD149,BD149)),\"NÃO\"),\"NÃO\")","v":"NÃO"},{"$f":"IF(AND(BF$8>=$M21,BF$8<=$N21),IF($F21=\"ANUAL\",IF(BE149=\"NÃO\",$D21,IF(MOD(COUNT($Q149:BE149)+1,12)=0,(BE149*$E21)+BE149,BE149)),\"NÃO\"),\"NÃO\")","v":"NÃO"},{"$f":"IF(AND(BG$8>=$M21,BG$8<=$N21),IF($F21=\"ANUAL\",IF(BF149=\"NÃO\",$D21,IF(MOD(COUNT($Q149:BF149)+1,12)=0,(BF149*$E21)+BF149,BF149)),\"NÃO\"),\"NÃO\")","v":"NÃO"},{"$f":"IF(AND(BH$8>=$M21,BH$8<=$N21),IF($F21=\"ANUAL\",IF(BG149=\"NÃO\",$D21,IF(MOD(COUNT($Q149:BG149)+1,12)=0,(BG149*$E21)+BG149,BG149)),\"NÃO\"),\"NÃO\")","v":"NÃO"},{"$f":"IF(AND(BI$8>=$M21,BI$8<=$N21),IF($F21=\"ANUAL\",IF(BH149=\"NÃO\",$D21,IF(MOD(COUNT($Q149:BH149)+1,12)=0,(BH149*$E21)+BH149,BH149)),\"NÃO\"),\"NÃO\")","v":"NÃO"},{"$f":"IF(AND(BJ$8>=$M21,BJ$8<=$N21),IF($F21=\"ANUAL\",IF(BI149=\"NÃO\",$D21,IF(MOD(COUNT($Q149:BI149)+1,12)=0,(BI149*$E21)+BI149,BI149)),\"NÃO\"),\"NÃO\")","v":"NÃO"},{"$f":"IF(AND(BK$8>=$M21,BK$8<=$N21),IF($F21=\"ANUAL\",IF(BJ149=\"NÃO\",$D21,IF(MOD(COUNT($Q149:BJ149)+1,12)=0,(BJ149*$E21)+BJ149,BJ149)),\"NÃO\"),\"NÃO\")","v":"NÃO"},{"$f":"IF(AND(BL$8>=$M21,BL$8<=$N21),IF($F21=\"ANUAL\",IF(BK149=\"NÃO\",$D21,IF(MOD(COUNT($Q149:BK149)+1,12)=0,(BK149*$E21)+BK149,BK149)),\"NÃO\"),\"NÃO\")","v":"NÃO"},{"$f":"IF(AND(BM$8>=$M21,BM$8<=$N21),IF($F21=\"ANUAL\",IF(BL149=\"NÃO\",$D21,IF(MOD(COUNT($Q149:BL149)+1,12)=0,(BL149*$E21)+BL149,BL149)),\"NÃO\"),\"NÃO\")","v":"NÃO"},{"$f":"IF(AND(BN$8>=$M21,BN$8<=$N21),IF($F21=\"ANUAL\",IF(BM149=\"NÃO\",$D21,IF(MOD(COUNT($Q149:BM149)+1,12)=0,(BM149*$E21)+BM149,BM149)),\"NÃO\"),\"NÃO\")","v":"NÃO"},{"$f":"IF(AND(BO$8>=$M21,BO$8<=$N21),IF($F21=\"ANUAL\",IF(BN149=\"NÃO\",$D21,IF(MOD(COUNT($Q149:BN149)+1,12)=0,(BN149*$E21)+BN149,BN149)),\"NÃO\"),\"NÃO\")","v":"NÃO"},{"$f":"IF(AND(BP$8>=$M21,BP$8<=$N21),IF($F21=\"ANUAL\",IF(BO149=\"NÃO\",$D21,IF(MOD(COUNT($Q149:BO149)+1,12)=0,(BO149*$E21)+BO149,BO149)),\"NÃO\"),\"NÃO\")","v":"NÃO"},{"$f":"IF(AND(BQ$8>=$M21,BQ$8<=$N21),IF($F21=\"ANUAL\",IF(BP149=\"NÃO\",$D21,IF(MOD(COUNT($Q149:BP149)+1,12)=0,(BP149*$E21)+BP149,BP149)),\"NÃO\"),\"NÃO\")","v":"NÃO"},{"$f":"IF(AND(BR$8>=$M21,BR$8<=$N21),IF($F21=\"ANUAL\",IF(BQ149=\"NÃO\",$D21,IF(MOD(COUNT($Q149:BQ149)+1,12)=0,(BQ149*$E21)+BQ149,BQ149)),\"NÃO\"),\"NÃO\")","v":"NÃO"},{"$f":"IF(AND(BS$8>=$M21,BS$8<=$N21),IF($F21=\"ANUAL\",IF(BR149=\"NÃO\",$D21,IF(MOD(COUNT($Q149:BR149)+1,12)=0,(BR149*$E21)+BR149,BR149)),\"NÃO\"),\"NÃO\")","v":"NÃO"},{"$f":"IF(AND(BT$8>=$M21,BT$8<=$N21),IF($F21=\"ANUAL\",IF(BS149=\"NÃO\",$D21,IF(MOD(COUNT($Q149:BS149)+1,12)=0,(BS149*$E21)+BS149,BS149)),\"NÃO\"),\"NÃO\")","v":"NÃO"},{"$f":"IF(AND(BU$8>=$M21,BU$8<=$N21),IF($F21=\"ANUAL\",IF(BT149=\"NÃO\",$D21,IF(MOD(COUNT($Q149:BT149)+1,12)=0,(BT149*$E21)+BT149,BT149)),\"NÃO\"),\"NÃO\")","v":"NÃO"},{"$f":"IF(AND(BV$8>=$M21,BV$8<=$N21),IF($F21=\"ANUAL\",IF(BU149=\"NÃO\",$D21,IF(MOD(COUNT($Q149:BU149)+1,12)=0,(BU149*$E21)+BU149,BU149)),\"NÃO\"),\"NÃO\")","v":"NÃO"},{"$f":"IF(AND(BW$8>=$M21,BW$8<=$N21),IF($F21=\"ANUAL\",IF(BV149=\"NÃO\",$D21,IF(MOD(COUNT($Q149:BV149)+1,12)=0,(BV149*$E21)+BV149,BV149)),\"NÃO\"),\"NÃO\")","v":"NÃO"},{"$f":"IF(AND(BX$8>=$M21,BX$8<=$N21),IF($F21=\"ANUAL\",IF(BW149=\"NÃO\",$D21,IF(MOD(COUNT($Q149:BW149)+1,12)=0,(BW149*$E21)+BW149,BW149)),\"NÃO\"),\"NÃO\")","v":"NÃO"}]
[null,null,null,null,null,null,null,null,null,null,null,null,null,null,null,14,"NÃO",{"$f":"IF(AND(R$8>=$M22,R$8<=$N22),IF($F22=\"ANUAL\",IF(Q150=\"NÃO\",$D22,IF(MOD(COUNT($Q150:Q150)+1,12)=0,(Q150*$E22)+Q150,Q150)),\"NÃO\"),\"NÃO\")","v":"NÃO"},{"$f":"IF(AND(S$8>=$M22,S$8<=$N22),IF($F22=\"ANUAL\",IF(R150=\"NÃO\",$D22,IF(MOD(COUNT($Q150:R150)+1,12)=0,(R150*$E22)+R150,R150)),\"NÃO\"),\"NÃO\")","v":"NÃO"},{"$f":"IF(AND(T$8>=$M22,T$8<=$N22),IF($F22=\"ANUAL\",IF(S150=\"NÃO\",$D22,IF(MOD(COUNT($Q150:S150)+1,12)=0,(S150*$E22)+S150,S150)),\"NÃO\"),\"NÃO\")","v":"NÃO"},{"$f":"IF(AND(U$8>=$M22,U$8<=$N22),IF($F22=\"ANUAL\",IF(T150=\"NÃO\",$D22,IF(MOD(COUNT($Q150:T150)+1,12)=0,(T150*$E22)+T150,T150)),\"NÃO\"),\"NÃO\")","v":"NÃO"},{"$f":"IF(AND(V$8>=$M22,V$8<=$N22),IF($F22=\"ANUAL\",IF(U150=\"NÃO\",$D22,IF(MOD(COUNT($Q150:U150)+1,12)=0,(U150*$E22)+U150,U150)),\"NÃO\"),\"NÃO\")","v":"NÃO"},{"$f":"IF(AND(W$8>=$M22,W$8<=$N22),IF($F22=\"ANUAL\",IF(V150=\"NÃO\",$D22,IF(MOD(COUNT($Q150:V150)+1,12)=0,(V150*$E22)+V150,V150)),\"NÃO\"),\"NÃO\")","v":"NÃO"},{"$f":"IF(AND(X$8>=$M22,X$8<=$N22),IF($F22=\"ANUAL\",IF(W150=\"NÃO\",$D22,IF(MOD(COUNT($Q150:W150)+1,12)=0,(W150*$E22)+W150,W150)),\"NÃO\"),\"NÃO\")","v":"NÃO"},{"$f":"IF(AND(Y$8>=$M22,Y$8<=$N22),IF($F22=\"ANUAL\",IF(X150=\"NÃO\",$D22,IF(MOD(COUNT($Q150:X150)+1,12)=0,(X150*$E22)+X150,X150)),\"NÃO\"),\"NÃO\")","v":"NÃO"},{"$f":"IF(AND(Z$8>=$M22,Z$8<=$N22),IF($F22=\"ANUAL\",IF(Y150=\"NÃO\",$D22,IF(MOD(COUNT($Q150:Y150)+1,12)=0,(Y150*$E22)+Y150,Y150)),\"NÃO\"),\"NÃO\")","v":"NÃO"},{"$f":"IF(AND(AA$8>=$M22,AA$8<=$N22),IF($F22=\"ANUAL\",IF(Z150=\"NÃO\",$D22,IF(MOD(COUNT($Q150:Z150)+1,12)=0,(Z150*$E22)+Z150,Z150)),\"NÃO\"),\"NÃO\")","v":"NÃO"},{"$f":"IF(AND(AB$8>=$M22,AB$8<=$N22),IF($F22=\"ANUAL\",IF(AA150=\"NÃO\",$D22,IF(MOD(COUNT($Q150:AA150)+1,12)=0,(AA150*$E22)+AA150,AA150)),\"NÃO\"),\"NÃO\")","v":"NÃO"},{"$f":"IF(AND(AC$8>=$M22,AC$8<=$N22),IF($F22=\"ANUAL\",IF(AB150=\"NÃO\",$D22,IF(MOD(COUNT($Q150:AB150)+1,12)=0,(AB150*$E22)+AB150,AB150)),\"NÃO\"),\"NÃO\")","v":"NÃO"},{"$f":"IF(AND(AD$8>=$M22,AD$8<=$N22),IF($F22=\"ANUAL\",IF(AC150=\"NÃO\",$D22,IF(MOD(COUNT($Q150:AC150)+1,12)=0,(AC150*$E22)+AC150,AC150)),\"NÃO\"),\"NÃO\")","v":"NÃO"},{"$f":"IF(AND(AE$8>=$M22,AE$8<=$N22),IF($F22=\"ANUAL\",IF(AD150=\"NÃO\",$D22,IF(MOD(COUNT($Q150:AD150)+1,12)=0,(AD150*$E22)+AD150,AD150)),\"NÃO\"),\"NÃO\")","v":"NÃO"},{"$f":"IF(AND(AF$8>=$M22,AF$8<=$N22),IF($F22=\"ANUAL\",IF(AE150=\"NÃO\",$D22,IF(MOD(COUNT($Q150:AE150)+1,12)=0,(AE150*$E22)+AE150,AE150)),\"NÃO\"),\"NÃO\")","v":"NÃO"},{"$f":"IF(AND(AG$8>=$M22,AG$8<=$N22),IF($F22=\"ANUAL\",IF(AF150=\"NÃO\",$D22,IF(MOD(COUNT($Q150:AF150)+1,12)=0,(AF150*$E22)+AF150,AF150)),\"NÃO\"),\"NÃO\")","v":"NÃO"},{"$f":"IF(AND(AH$8>=$M22,AH$8<=$N22),IF($F22=\"ANUAL\",IF(AG150=\"NÃO\",$D22,IF(MOD(COUNT($Q150:AG150)+1,12)=0,(AG150*$E22)+AG150,AG150)),\"NÃO\"),\"NÃO\")","v":"NÃO"},{"$f":"IF(AND(AI$8>=$M22,AI$8<=$N22),IF($F22=\"ANUAL\",IF(AH150=\"NÃO\",$D22,IF(MOD(COUNT($Q150:AH150)+1,12)=0,(AH150*$E22)+AH150,AH150)),\"NÃO\"),\"NÃO\")","v":"NÃO"},{"$f":"IF(AND(AJ$8>=$M22,AJ$8<=$N22),IF($F22=\"ANUAL\",IF(AI150=\"NÃO\",$D22,IF(MOD(COUNT($Q150:AI150)+1,12)=0,(AI150*$E22)+AI150,AI150)),\"NÃO\"),\"NÃO\")","v":"NÃO"},{"$f":"IF(AND(AK$8>=$M22,AK$8<=$N22),IF($F22=\"ANUAL\",IF(AJ150=\"NÃO\",$D22,IF(MOD(COUNT($Q150:AJ150)+1,12)=0,(AJ150*$E22)+AJ150,AJ150)),\"NÃO\"),\"NÃO\")","v":"NÃO"},{"$f":"IF(AND(AL$8>=$M22,AL$8<=$N22),IF($F22=\"ANUAL\",IF(AK150=\"NÃO\",$D22,IF(MOD(COUNT($Q150:AK150)+1,12)=0,(AK150*$E22)+AK150,AK150)),\"NÃO\"),\"NÃO\")","v":"NÃO"},{"$f":"IF(AND(AM$8>=$M22,AM$8<=$N22),IF($F22=\"ANUAL\",IF(AL150=\"NÃO\",$D22,IF(MOD(COUNT($Q150:AL150)+1,12)=0,(AL150*$E22)+AL150,AL150)),\"NÃO\"),\"NÃO\")","v":"NÃO"},{"$f":"IF(AND(AN$8>=$M22,AN$8<=$N22),IF($F22=\"ANUAL\",IF(AM150=\"NÃO\",$D22,IF(MOD(COUNT($Q150:AM150)+1,12)=0,(AM150*$E22)+AM150,AM150)),\"NÃO\"),\"NÃO\")","v":"NÃO"},{"$f":"IF(AND(AO$8>=$M22,AO$8<=$N22),IF($F22=\"ANUAL\",IF(AN150=\"NÃO\",$D22,IF(MOD(COUNT($Q150:AN150)+1,12)=0,(AN150*$E22)+AN150,AN150)),\"NÃO\"),\"NÃO\")","v":"NÃO"},{"$f":"IF(AND(AP$8>=$M22,AP$8<=$N22),IF($F22=\"ANUAL\",IF(AO150=\"NÃO\",$D22,IF(MOD(COUNT($Q150:AO150)+1,12)=0,(AO150*$E22)+AO150,AO150)),\"NÃO\"),\"NÃO\")","v":"NÃO"},{"$f":"IF(AND(AQ$8>=$M22,AQ$8<=$N22),IF($F22=\"ANUAL\",IF(AP150=\"NÃO\",$D22,IF(MOD(COUNT($Q150:AP150)+1,12)=0,(AP150*$E22)+AP150,AP150)),\"NÃO\"),\"NÃO\")","v":"NÃO"},{"$f":"IF(AND(AR$8>=$M22,AR$8<=$N22),IF($F22=\"ANUAL\",IF(AQ150=\"NÃO\",$D22,IF(MOD(COUNT($Q150:AQ150)+1,12)=0,(AQ150*$E22)+AQ150,AQ150)),\"NÃO\"),\"NÃO\")","v":"NÃO"},{"$f":"IF(AND(AS$8>=$M22,AS$8<=$N22),IF($F22=\"ANUAL\",IF(AR150=\"NÃO\",$D22,IF(MOD(COUNT($Q150:AR150)+1,12)=0,(AR150*$E22)+AR150,AR150)),\"NÃO\"),\"NÃO\")","v":"NÃO"},{"$f":"IF(AND(AT$8>=$M22,AT$8<=$N22),IF($F22=\"ANUAL\",IF(AS150=\"NÃO\",$D22,IF(MOD(COUNT($Q150:AS150)+1,12)=0,(AS150*$E22)+AS150,AS150)),\"NÃO\"),\"NÃO\")","v":"NÃO"},{"$f":"IF(AND(AU$8>=$M22,AU$8<=$N22),IF($F22=\"ANUAL\",IF(AT150=\"NÃO\",$D22,IF(MOD(COUNT($Q150:AT150)+1,12)=0,(AT150*$E22)+AT150,AT150)),\"NÃO\"),\"NÃO\")","v":"NÃO"},{"$f":"IF(AND(AV$8>=$M22,AV$8<=$N22),IF($F22=\"ANUAL\",IF(AU150=\"NÃO\",$D22,IF(MOD(COUNT($Q150:AU150)+1,12)=0,(AU150*$E22)+AU150,AU150)),\"NÃO\"),\"NÃO\")","v":"NÃO"},{"$f":"IF(AND(AW$8>=$M22,AW$8<=$N22),IF($F22=\"ANUAL\",IF(AV150=\"NÃO\",$D22,IF(MOD(COUNT($Q150:AV150)+1,12)=0,(AV150*$E22)+AV150,AV150)),\"NÃO\"),\"NÃO\")","v":"NÃO"},{"$f":"IF(AND(AX$8>=$M22,AX$8<=$N22),IF($F22=\"ANUAL\",IF(AW150=\"NÃO\",$D22,IF(MOD(COUNT($Q150:AW150)+1,12)=0,(AW150*$E22)+AW150,AW150)),\"NÃO\"),\"NÃO\")","v":"NÃO"},{"$f":"IF(AND(AY$8>=$M22,AY$8<=$N22),IF($F22=\"ANUAL\",IF(AX150=\"NÃO\",$D22,IF(MOD(COUNT($Q150:AX150)+1,12)=0,(AX150*$E22)+AX150,AX150)),\"NÃO\"),\"NÃO\")","v":"NÃO"},{"$f":"IF(AND(AZ$8>=$M22,AZ$8<=$N22),IF($F22=\"ANUAL\",IF(AY150=\"NÃO\",$D22,IF(MOD(COUNT($Q150:AY150)+1,12)=0,(AY150*$E22)+AY150,AY150)),\"NÃO\"),\"NÃO\")","v":"NÃO"},{"$f":"IF(AND(BA$8>=$M22,BA$8<=$N22),IF($F22=\"ANUAL\",IF(AZ150=\"NÃO\",$D22,IF(MOD(COUNT($Q150:AZ150)+1,12)=0,(AZ150*$E22)+AZ150,AZ150)),\"NÃO\"),\"NÃO\")","v":"NÃO"},{"$f":"IF(AND(BB$8>=$M22,BB$8<=$N22),IF($F22=\"ANUAL\",IF(BA150=\"NÃO\",$D22,IF(MOD(COUNT($Q150:BA150)+1,12)=0,(BA150*$E22)+BA150,BA150)),\"NÃO\"),\"NÃO\")","v":"NÃO"},{"$f":"IF(AND(BC$8>=$M22,BC$8<=$N22),IF($F22=\"ANUAL\",IF(BB150=\"NÃO\",$D22,IF(MOD(COUNT($Q150:BB150)+1,12)=0,(BB150*$E22)+BB150,BB150)),\"NÃO\"),\"NÃO\")","v":"NÃO"},{"$f":"IF(AND(BD$8>=$M22,BD$8<=$N22),IF($F22=\"ANUAL\",IF(BC150=\"NÃO\",$D22,IF(MOD(COUNT($Q150:BC150)+1,12)=0,(BC150*$E22)+BC150,BC150)),\"NÃO\"),\"NÃO\")","v":"NÃO"},{"$f":"IF(AND(BE$8>=$M22,BE$8<=$N22),IF($F22=\"ANUAL\",IF(BD150=\"NÃO\",$D22,IF(MOD(COUNT($Q150:BD150)+1,12)=0,(BD150*$E22)+BD150,BD150)),\"NÃO\"),\"NÃO\")","v":"NÃO"},{"$f":"IF(AND(BF$8>=$M22,BF$8<=$N22),IF($F22=\"ANUAL\",IF(BE150=\"NÃO\",$D22,IF(MOD(COUNT($Q150:BE150)+1,12)=0,(BE150*$E22)+BE150,BE150)),\"NÃO\"),\"NÃO\")","v":"NÃO"},{"$f":"IF(AND(BG$8>=$M22,BG$8<=$N22),IF($F22=\"ANUAL\",IF(BF150=\"NÃO\",$D22,IF(MOD(COUNT($Q150:BF150)+1,12)=0,(BF150*$E22)+BF150,BF150)),\"NÃO\"),\"NÃO\")","v":"NÃO"},{"$f":"IF(AND(BH$8>=$M22,BH$8<=$N22),IF($F22=\"ANUAL\",IF(BG150=\"NÃO\",$D22,IF(MOD(COUNT($Q150:BG150)+1,12)=0,(BG150*$E22)+BG150,BG150)),\"NÃO\"),\"NÃO\")","v":"NÃO"},{"$f":"IF(AND(BI$8>=$M22,BI$8<=$N22),IF($F22=\"ANUAL\",IF(BH150=\"NÃO\",$D22,IF(MOD(COUNT($Q150:BH150)+1,12)=0,(BH150*$E22)+BH150,BH150)),\"NÃO\"),\"NÃO\")","v":"NÃO"},{"$f":"IF(AND(BJ$8>=$M22,BJ$8<=$N22),IF($F22=\"ANUAL\",IF(BI150=\"NÃO\",$D22,IF(MOD(COUNT($Q150:BI150)+1,12)=0,(BI150*$E22)+BI150,BI150)),\"NÃO\"),\"NÃO\")","v":"NÃO"},{"$f":"IF(AND(BK$8>=$M22,BK$8<=$N22),IF($F22=\"ANUAL\",IF(BJ150=\"NÃO\",$D22,IF(MOD(COUNT($Q150:BJ150)+1,12)=0,(BJ150*$E22)+BJ150,BJ150)),\"NÃO\"),\"NÃO\")","v":"NÃO"},{"$f":"IF(AND(BL$8>=$M22,BL$8<=$N22),IF($F22=\"ANUAL\",IF(BK150=\"NÃO\",$D22,IF(MOD(COUNT($Q150:BK150)+1,12)=0,(BK150*$E22)+BK150,BK150)),\"NÃO\"),\"NÃO\")","v":"NÃO"},{"$f":"IF(AND(BM$8>=$M22,BM$8<=$N22),IF($F22=\"ANUAL\",IF(BL150=\"NÃO\",$D22,IF(MOD(COUNT($Q150:BL150)+1,12)=0,(BL150*$E22)+BL150,BL150)),\"NÃO\"),\"NÃO\")","v":"NÃO"},{"$f":"IF(AND(BN$8>=$M22,BN$8<=$N22),IF($F22=\"ANUAL\",IF(BM150=\"NÃO\",$D22,IF(MOD(COUNT($Q150:BM150)+1,12)=0,(BM150*$E22)+BM150,BM150)),\"NÃO\"),\"NÃO\")","v":"NÃO"},{"$f":"IF(AND(BO$8>=$M22,BO$8<=$N22),IF($F22=\"ANUAL\",IF(BN150=\"NÃO\",$D22,IF(MOD(COUNT($Q150:BN150)+1,12)=0,(BN150*$E22)+BN150,BN150)),\"NÃO\"),\"NÃO\")","v":"NÃO"},{"$f":"IF(AND(BP$8>=$M22,BP$8<=$N22),IF($F22=\"ANUAL\",IF(BO150=\"NÃO\",$D22,IF(MOD(COUNT($Q150:BO150)+1,12)=0,(BO150*$E22)+BO150,BO150)),\"NÃO\"),\"NÃO\")","v":"NÃO"},{"$f":"IF(AND(BQ$8>=$M22,BQ$8<=$N22),IF($F22=\"ANUAL\",IF(BP150=\"NÃO\",$D22,IF(MOD(COUNT($Q150:BP150)+1,12)=0,(BP150*$E22)+BP150,BP150)),\"NÃO\"),\"NÃO\")","v":"NÃO"},{"$f":"IF(AND(BR$8>=$M22,BR$8<=$N22),IF($F22=\"ANUAL\",IF(BQ150=\"NÃO\",$D22,IF(MOD(COUNT($Q150:BQ150)+1,12)=0,(BQ150*$E22)+BQ150,BQ150)),\"NÃO\"),\"NÃO\")","v":"NÃO"},{"$f":"IF(AND(BS$8>=$M22,BS$8<=$N22),IF($F22=\"ANUAL\",IF(BR150=\"NÃO\",$D22,IF(MOD(COUNT($Q150:BR150)+1,12)=0,(BR150*$E22)+BR150,BR150)),\"NÃO\"),\"NÃO\")","v":"NÃO"},{"$f":"IF(AND(BT$8>=$M22,BT$8<=$N22),IF($F22=\"ANUAL\",IF(BS150=\"NÃO\",$D22,IF(MOD(COUNT($Q150:BS150)+1,12)=0,(BS150*$E22)+BS150,BS150)),\"NÃO\"),\"NÃO\")","v":"NÃO"},{"$f":"IF(AND(BU$8>=$M22,BU$8<=$N22),IF($F22=\"ANUAL\",IF(BT150=\"NÃO\",$D22,IF(MOD(COUNT($Q150:BT150)+1,12)=0,(BT150*$E22)+BT150,BT150)),\"NÃO\"),\"NÃO\")","v":"NÃO"},{"$f":"IF(AND(BV$8>=$M22,BV$8<=$N22),IF($F22=\"ANUAL\",IF(BU150=\"NÃO\",$D22,IF(MOD(COUNT($Q150:BU150)+1,12)=0,(BU150*$E22)+BU150,BU150)),\"NÃO\"),\"NÃO\")","v":"NÃO"},{"$f":"IF(AND(BW$8>=$M22,BW$8<=$N22),IF($F22=\"ANUAL\",IF(BV150=\"NÃO\",$D22,IF(MOD(COUNT($Q150:BV150)+1,12)=0,(BV150*$E22)+BV150,BV150)),\"NÃO\"),\"NÃO\")","v":"NÃO"},{"$f":"IF(AND(BX$8>=$M22,BX$8<=$N22),IF($F22=\"ANUAL\",IF(BW150=\"NÃO\",$D22,IF(MOD(COUNT($Q150:BW150)+1,12)=0,(BW150*$E22)+BW150,BW150)),\"NÃO\"),\"NÃO\")","v":"NÃO"}]
[null,null,null,null,null,null,null,null,null,null,null,null,null,null,null,15,"NÃO",{"$f":"IF(AND(R$8>=$M23,R$8<=$N23),IF($F23=\"ANUAL\",IF(Q151=\"NÃO\",$D23,IF(MOD(COUNT($Q151:Q151)+1,12)=0,(Q151*$E23)+Q151,Q151)),\"NÃO\"),\"NÃO\")","v":"NÃO"},{"$f":"IF(AND(S$8>=$M23,S$8<=$N23),IF($F23=\"ANUAL\",IF(R151=\"NÃO\",$D23,IF(MOD(COUNT($Q151:R151)+1,12)=0,(R151*$E23)+R151,R151)),\"NÃO\"),\"NÃO\")","v":"NÃO"},{"$f":"IF(AND(T$8>=$M23,T$8<=$N23),IF($F23=\"ANUAL\",IF(S151=\"NÃO\",$D23,IF(MOD(COUNT($Q151:S151)+1,12)=0,(S151*$E23)+S151,S151)),\"NÃO\"),\"NÃO\")","v":"NÃO"},{"$f":"IF(AND(U$8>=$M23,U$8<=$N23),IF($F23=\"ANUAL\",IF(T151=\"NÃO\",$D23,IF(MOD(COUNT($Q151:T151)+1,12)=0,(T151*$E23)+T151,T151)),\"NÃO\"),\"NÃO\")","v":"NÃO"},{"$f":"IF(AND(V$8>=$M23,V$8<=$N23),IF($F23=\"ANUAL\",IF(U151=\"NÃO\",$D23,IF(MOD(COUNT($Q151:U151)+1,12)=0,(U151*$E23)+U151,U151)),\"NÃO\"),\"NÃO\")","v":"NÃO"},{"$f":"IF(AND(W$8>=$M23,W$8<=$N23),IF($F23=\"ANUAL\",IF(V151=\"NÃO\",$D23,IF(MOD(COUNT($Q151:V151)+1,12)=0,(V151*$E23)+V151,V151)),\"NÃO\"),\"NÃO\")","v":"NÃO"},{"$f":"IF(AND(X$8>=$M23,X$8<=$N23),IF($F23=\"ANUAL\",IF(W151=\"NÃO\",$D23,IF(MOD(COUNT($Q151:W151)+1,12)=0,(W151*$E23)+W151,W151)),\"NÃO\"),\"NÃO\")","v":"NÃO"},{"$f":"IF(AND(Y$8>=$M23,Y$8<=$N23),IF($F23=\"ANUAL\",IF(X151=\"NÃO\",$D23,IF(MOD(COUNT($Q151:X151)+1,12)=0,(X151*$E23)+X151,X151)),\"NÃO\"),\"NÃO\")","v":"NÃO"},{"$f":"IF(AND(Z$8>=$M23,Z$8<=$N23),IF($F23=\"ANUAL\",IF(Y151=\"NÃO\",$D23,IF(MOD(COUNT($Q151:Y151)+1,12)=0,(Y151*$E23)+Y151,Y151)),\"NÃO\"),\"NÃO\")","v":"NÃO"},{"$f":"IF(AND(AA$8>=$M23,AA$8<=$N23),IF($F23=\"ANUAL\",IF(Z151=\"NÃO\",$D23,IF(MOD(COUNT($Q151:Z151)+1,12)=0,(Z151*$E23)+Z151,Z151)),\"NÃO\"),\"NÃO\")","v":"NÃO"},{"$f":"IF(AND(AB$8>=$M23,AB$8<=$N23),IF($F23=\"ANUAL\",IF(AA151=\"NÃO\",$D23,IF(MOD(COUNT($Q151:AA151)+1,12)=0,(AA151*$E23)+AA151,AA151)),\"NÃO\"),\"NÃO\")","v":"NÃO"},{"$f":"IF(AND(AC$8>=$M23,AC$8<=$N23),IF($F23=\"ANUAL\",IF(AB151=\"NÃO\",$D23,IF(MOD(COUNT($Q151:AB151)+1,12)=0,(AB151*$E23)+AB151,AB151)),\"NÃO\"),\"NÃO\")","v":"NÃO"},{"$f":"IF(AND(AD$8>=$M23,AD$8<=$N23),IF($F23=\"ANUAL\",IF(AC151=\"NÃO\",$D23,IF(MOD(COUNT($Q151:AC151)+1,12)=0,(AC151*$E23)+AC151,AC151)),\"NÃO\"),\"NÃO\")","v":"NÃO"},{"$f":"IF(AND(AE$8>=$M23,AE$8<=$N23),IF($F23=\"ANUAL\",IF(AD151=\"NÃO\",$D23,IF(MOD(COUNT($Q151:AD151)+1,12)=0,(AD151*$E23)+AD151,AD151)),\"NÃO\"),\"NÃO\")","v":"NÃO"},{"$f":"IF(AND(AF$8>=$M23,AF$8<=$N23),IF($F23=\"ANUAL\",IF(AE151=\"NÃO\",$D23,IF(MOD(COUNT($Q151:AE151)+1,12)=0,(AE151*$E23)+AE151,AE151)),\"NÃO\"),\"NÃO\")","v":"NÃO"},{"$f":"IF(AND(AG$8>=$M23,AG$8<=$N23),IF($F23=\"ANUAL\",IF(AF151=\"NÃO\",$D23,IF(MOD(COUNT($Q151:AF151)+1,12)=0,(AF151*$E23)+AF151,AF151)),\"NÃO\"),\"NÃO\")","v":"NÃO"},{"$f":"IF(AND(AH$8>=$M23,AH$8<=$N23),IF($F23=\"ANUAL\",IF(AG151=\"NÃO\",$D23,IF(MOD(COUNT($Q151:AG151)+1,12)=0,(AG151*$E23)+AG151,AG151)),\"NÃO\"),\"NÃO\")","v":"NÃO"},{"$f":"IF(AND(AI$8>=$M23,AI$8<=$N23),IF($F23=\"ANUAL\",IF(AH151=\"NÃO\",$D23,IF(MOD(COUNT($Q151:AH151)+1,12)=0,(AH151*$E23)+AH151,AH151)),\"NÃO\"),\"NÃO\")","v":"NÃO"},{"$f":"IF(AND(AJ$8>=$M23,AJ$8<=$N23),IF($F23=\"ANUAL\",IF(AI151=\"NÃO\",$D23,IF(MOD(COUNT($Q151:AI151)+1,12)=0,(AI151*$E23)+AI151,AI151)),\"NÃO\"),\"NÃO\")","v":"NÃO"},{"$f":"IF(AND(AK$8>=$M23,AK$8<=$N23),IF($F23=\"ANUAL\",IF(AJ151=\"NÃO\",$D23,IF(MOD(COUNT($Q151:AJ151)+1,12)=0,(AJ151*$E23)+AJ151,AJ151)),\"NÃO\"),\"NÃO\")","v":"NÃO"},{"$f":"IF(AND(AL$8>=$M23,AL$8<=$N23),IF($F23=\"ANUAL\",IF(AK151=\"NÃO\",$D23,IF(MOD(COUNT($Q151:AK151)+1,12)=0,(AK151*$E23)+AK151,AK151)),\"NÃO\"),\"NÃO\")","v":"NÃO"},{"$f":"IF(AND(AM$8>=$M23,AM$8<=$N23),IF($F23=\"ANUAL\",IF(AL151=\"NÃO\",$D23,IF(MOD(COUNT($Q151:AL151)+1,12)=0,(AL151*$E23)+AL151,AL151)),\"NÃO\"),\"NÃO\")","v":"NÃO"},{"$f":"IF(AND(AN$8>=$M23,AN$8<=$N23),IF($F23=\"ANUAL\",IF(AM151=\"NÃO\",$D23,IF(MOD(COUNT($Q151:AM151)+1,12)=0,(AM151*$E23)+AM151,AM151)),\"NÃO\"),\"NÃO\")","v":"NÃO"},{"$f":"IF(AND(AO$8>=$M23,AO$8<=$N23),IF($F23=\"ANUAL\",IF(AN151=\"NÃO\",$D23,IF(MOD(COUNT($Q151:AN151)+1,12)=0,(AN151*$E23)+AN151,AN151)),\"NÃO\"),\"NÃO\")","v":"NÃO"},{"$f":"IF(AND(AP$8>=$M23,AP$8<=$N23),IF($F23=\"ANUAL\",IF(AO151=\"NÃO\",$D23,IF(MOD(COUNT($Q151:AO151)+1,12)=0,(AO151*$E23)+AO151,AO151)),\"NÃO\"),\"NÃO\")","v":"NÃO"},{"$f":"IF(AND(AQ$8>=$M23,AQ$8<=$N23),IF($F23=\"ANUAL\",IF(AP151=\"NÃO\",$D23,IF(MOD(COUNT($Q151:AP151)+1,12)=0,(AP151*$E23)+AP151,AP151)),\"NÃO\"),\"NÃO\")","v":"NÃO"},{"$f":"IF(AND(AR$8>=$M23,AR$8<=$N23),IF($F23=\"ANUAL\",IF(AQ151=\"NÃO\",$D23,IF(MOD(COUNT($Q151:AQ151)+1,12)=0,(AQ151*$E23)+AQ151,AQ151)),\"NÃO\"),\"NÃO\")","v":"NÃO"},{"$f":"IF(AND(AS$8>=$M23,AS$8<=$N23),IF($F23=\"ANUAL\",IF(AR151=\"NÃO\",$D23,IF(MOD(COUNT($Q151:AR151)+1,12)=0,(AR151*$E23)+AR151,AR151)),\"NÃO\"),\"NÃO\")","v":"NÃO"},{"$f":"IF(AND(AT$8>=$M23,AT$8<=$N23),IF($F23=\"ANUAL\",IF(AS151=\"NÃO\",$D23,IF(MOD(COUNT($Q151:AS151)+1,12)=0,(AS151*$E23)+AS151,AS151)),\"NÃO\"),\"NÃO\")","v":"NÃO"},{"$f":"IF(AND(AU$8>=$M23,AU$8<=$N23),IF($F23=\"ANUAL\",IF(AT151=\"NÃO\",$D23,IF(MOD(COUNT($Q151:AT151)+1,12)=0,(AT151*$E23)+AT151,AT151)),\"NÃO\"),\"NÃO\")","v":"NÃO"},{"$f":"IF(AND(AV$8>=$M23,AV$8<=$N23),IF($F23=\"ANUAL\",IF(AU151=\"NÃO\",$D23,IF(MOD(COUNT($Q151:AU151)+1,12)=0,(AU151*$E23)+AU151,AU151)),\"NÃO\"),\"NÃO\")","v":"NÃO"},{"$f":"IF(AND(AW$8>=$M23,AW$8<=$N23),IF($F23=\"ANUAL\",IF(AV151=\"NÃO\",$D23,IF(MOD(COUNT($Q151:AV151)+1,12)=0,(AV151*$E23)+AV151,AV151)),\"NÃO\"),\"NÃO\")","v":"NÃO"},{"$f":"IF(AND(AX$8>=$M23,AX$8<=$N23),IF($F23=\"ANUAL\",IF(AW151=\"NÃO\",$D23,IF(MOD(COUNT($Q151:AW151)+1,12)=0,(AW151*$E23)+AW151,AW151)),\"NÃO\"),\"NÃO\")","v":"NÃO"},{"$f":"IF(AND(AY$8>=$M23,AY$8<=$N23),IF($F23=\"ANUAL\",IF(AX151=\"NÃO\",$D23,IF(MOD(COUNT($Q151:AX151)+1,12)=0,(AX151*$E23)+AX151,AX151)),\"NÃO\"),\"NÃO\")","v":"NÃO"},{"$f":"IF(AND(AZ$8>=$M23,AZ$8<=$N23),IF($F23=\"ANUAL\",IF(AY151=\"NÃO\",$D23,IF(MOD(COUNT($Q151:AY151)+1,12)=0,(AY151*$E23)+AY151,AY151)),\"NÃO\"),\"NÃO\")","v":"NÃO"},{"$f":"IF(AND(BA$8>=$M23,BA$8<=$N23),IF($F23=\"ANUAL\",IF(AZ151=\"NÃO\",$D23,IF(MOD(COUNT($Q151:AZ151)+1,12)=0,(AZ151*$E23)+AZ151,AZ151)),\"NÃO\"),\"NÃO\")","v":"NÃO"},{"$f":"IF(AND(BB$8>=$M23,BB$8<=$N23),IF($F23=\"ANUAL\",IF(BA151=\"NÃO\",$D23,IF(MOD(COUNT($Q151:BA151)+1,12)=0,(BA151*$E23)+BA151,BA151)),\"NÃO\"),\"NÃO\")","v":"NÃO"},{"$f":"IF(AND(BC$8>=$M23,BC$8<=$N23),IF($F23=\"ANUAL\",IF(BB151=\"NÃO\",$D23,IF(MOD(COUNT($Q151:BB151)+1,12)=0,(BB151*$E23)+BB151,BB151)),\"NÃO\"),\"NÃO\")","v":"NÃO"},{"$f":"IF(AND(BD$8>=$M23,BD$8<=$N23),IF($F23=\"ANUAL\",IF(BC151=\"NÃO\",$D23,IF(MOD(COUNT($Q151:BC151)+1,12)=0,(BC151*$E23)+BC151,BC151)),\"NÃO\"),\"NÃO\")","v":"NÃO"},{"$f":"IF(AND(BE$8>=$M23,BE$8<=$N23),IF($F23=\"ANUAL\",IF(BD151=\"NÃO\",$D23,IF(MOD(COUNT($Q151:BD151)+1,12)=0,(BD151*$E23)+BD151,BD151)),\"NÃO\"),\"NÃO\")","v":"NÃO"},{"$f":"IF(AND(BF$8>=$M23,BF$8<=$N23),IF($F23=\"ANUAL\",IF(BE151=\"NÃO\",$D23,IF(MOD(COUNT($Q151:BE151)+1,12)=0,(BE151*$E23)+BE151,BE151)),\"NÃO\"),\"NÃO\")","v":"NÃO"},{"$f":"IF(AND(BG$8>=$M23,BG$8<=$N23),IF($F23=\"ANUAL\",IF(BF151=\"NÃO\",$D23,IF(MOD(COUNT($Q151:BF151)+1,12)=0,(BF151*$E23)+BF151,BF151)),\"NÃO\"),\"NÃO\")","v":"NÃO"},{"$f":"IF(AND(BH$8>=$M23,BH$8<=$N23),IF($F23=\"ANUAL\",IF(BG151=\"NÃO\",$D23,IF(MOD(COUNT($Q151:BG151)+1,12)=0,(BG151*$E23)+BG151,BG151)),\"NÃO\"),\"NÃO\")","v":"NÃO"},{"$f":"IF(AND(BI$8>=$M23,BI$8<=$N23),IF($F23=\"ANUAL\",IF(BH151=\"NÃO\",$D23,IF(MOD(COUNT($Q151:BH151)+1,12)=0,(BH151*$E23)+BH151,BH151)),\"NÃO\"),\"NÃO\")","v":"NÃO"},{"$f":"IF(AND(BJ$8>=$M23,BJ$8<=$N23),IF($F23=\"ANUAL\",IF(BI151=\"NÃO\",$D23,IF(MOD(COUNT($Q151:BI151)+1,12)=0,(BI151*$E23)+BI151,BI151)),\"NÃO\"),\"NÃO\")","v":"NÃO"},{"$f":"IF(AND(BK$8>=$M23,BK$8<=$N23),IF($F23=\"ANUAL\",IF(BJ151=\"NÃO\",$D23,IF(MOD(COUNT($Q151:BJ151)+1,12)=0,(BJ151*$E23)+BJ151,BJ151)),\"NÃO\"),\"NÃO\")","v":"NÃO"},{"$f":"IF(AND(BL$8>=$M23,BL$8<=$N23),IF($F23=\"ANUAL\",IF(BK151=\"NÃO\",$D23,IF(MOD(COUNT($Q151:BK151)+1,12)=0,(BK151*$E23)+BK151,BK151)),\"NÃO\"),\"NÃO\")","v":"NÃO"},{"$f":"IF(AND(BM$8>=$M23,BM$8<=$N23),IF($F23=\"ANUAL\",IF(BL151=\"NÃO\",$D23,IF(MOD(COUNT($Q151:BL151)+1,12)=0,(BL151*$E23)+BL151,BL151)),\"NÃO\"),\"NÃO\")","v":"NÃO"},{"$f":"IF(AND(BN$8>=$M23,BN$8<=$N23),IF($F23=\"ANUAL\",IF(BM151=\"NÃO\",$D23,IF(MOD(COUNT($Q151:BM151)+1,12)=0,(BM151*$E23)+BM151,BM151)),\"NÃO\"),\"NÃO\")","v":"NÃO"},{"$f":"IF(AND(BO$8>=$M23,BO$8<=$N23),IF($F23=\"ANUAL\",IF(BN151=\"NÃO\",$D23,IF(MOD(COUNT($Q151:BN151)+1,12)=0,(BN151*$E23)+BN151,BN151)),\"NÃO\"),\"NÃO\")","v":"NÃO"},{"$f":"IF(AND(BP$8>=$M23,BP$8<=$N23),IF($F23=\"ANUAL\",IF(BO151=\"NÃO\",$D23,IF(MOD(COUNT($Q151:BO151)+1,12)=0,(BO151*$E23)+BO151,BO151)),\"NÃO\"),\"NÃO\")","v":"NÃO"},{"$f":"IF(AND(BQ$8>=$M23,BQ$8<=$N23),IF($F23=\"ANUAL\",IF(BP151=\"NÃO\",$D23,IF(MOD(COUNT($Q151:BP151)+1,12)=0,(BP151*$E23)+BP151,BP151)),\"NÃO\"),\"NÃO\")","v":"NÃO"},{"$f":"IF(AND(BR$8>=$M23,BR$8<=$N23),IF($F23=\"ANUAL\",IF(BQ151=\"NÃO\",$D23,IF(MOD(COUNT($Q151:BQ151)+1,12)=0,(BQ151*$E23)+BQ151,BQ151)),\"NÃO\"),\"NÃO\")","v":"NÃO"},{"$f":"IF(AND(BS$8>=$M23,BS$8<=$N23),IF($F23=\"ANUAL\",IF(BR151=\"NÃO\",$D23,IF(MOD(COUNT($Q151:BR151)+1,12)=0,(BR151*$E23)+BR151,BR151)),\"NÃO\"),\"NÃO\")","v":"NÃO"},{"$f":"IF(AND(BT$8>=$M23,BT$8<=$N23),IF($F23=\"ANUAL\",IF(BS151=\"NÃO\",$D23,IF(MOD(COUNT($Q151:BS151)+1,12)=0,(BS151*$E23)+BS151,BS151)),\"NÃO\"),\"NÃO\")","v":"NÃO"},{"$f":"IF(AND(BU$8>=$M23,BU$8<=$N23),IF($F23=\"ANUAL\",IF(BT151=\"NÃO\",$D23,IF(MOD(COUNT($Q151:BT151)+1,12)=0,(BT151*$E23)+BT151,BT151)),\"NÃO\"),\"NÃO\")","v":"NÃO"},{"$f":"IF(AND(BV$8>=$M23,BV$8<=$N23),IF($F23=\"ANUAL\",IF(BU151=\"NÃO\",$D23,IF(MOD(COUNT($Q151:BU151)+1,12)=0,(BU151*$E23)+BU151,BU151)),\"NÃO\"),\"NÃO\")","v":"NÃO"},{"$f":"IF(AND(BW$8>=$M23,BW$8<=$N23),IF($F23=\"ANUAL\",IF(BV151=\"NÃO\",$D23,IF(MOD(COUNT($Q151:BV151)+1,12)=0,(BV151*$E23)+BV151,BV151)),\"NÃO\"),\"NÃO\")","v":"NÃO"},{"$f":"IF(AND(BX$8>=$M23,BX$8<=$N23),IF($F23=\"ANUAL\",IF(BW151=\"NÃO\",$D23,IF(MOD(COUNT($Q151:BW151)+1,12)=0,(BW151*$E23)+BW151,BW151)),\"NÃO\"),\"NÃO\")","v":"NÃO"}]
[null,null,null,null,null,null,null,null,null,null,null,null,null,null,null,16,"NÃO",{"$f":"IF(AND(R$8>=$M24,R$8<=$N24),IF($F24=\"ANUAL\",IF(Q152=\"NÃO\",$D24,IF(MOD(COUNT($Q152:Q152)+1,12)=0,(Q152*$E24)+Q152,Q152)),\"NÃO\"),\"NÃO\")","v":"NÃO"},{"$f":"IF(AND(S$8>=$M24,S$8<=$N24),IF($F24=\"ANUAL\",IF(R152=\"NÃO\",$D24,IF(MOD(COUNT($Q152:R152)+1,12)=0,(R152*$E24)+R152,R152)),\"NÃO\"),\"NÃO\")","v":"NÃO"},{"$f":"IF(AND(T$8>=$M24,T$8<=$N24),IF($F24=\"ANUAL\",IF(S152=\"NÃO\",$D24,IF(MOD(COUNT($Q152:S152)+1,12)=0,(S152*$E24)+S152,S152)),\"NÃO\"),\"NÃO\")","v":"NÃO"},{"$f":"IF(AND(U$8>=$M24,U$8<=$N24),IF($F24=\"ANUAL\",IF(T152=\"NÃO\",$D24,IF(MOD(COUNT($Q152:T152)+1,12)=0,(T152*$E24)+T152,T152)),\"NÃO\"),\"NÃO\")","v":"NÃO"},{"$f":"IF(AND(V$8>=$M24,V$8<=$N24),IF($F24=\"ANUAL\",IF(U152=\"NÃO\",$D24,IF(MOD(COUNT($Q152:U152)+1,12)=0,(U152*$E24)+U152,U152)),\"NÃO\"),\"NÃO\")","v":"NÃO"},{"$f":"IF(AND(W$8>=$M24,W$8<=$N24),IF($F24=\"ANUAL\",IF(V152=\"NÃO\",$D24,IF(MOD(COUNT($Q152:V152)+1,12)=0,(V152*$E24)+V152,V152)),\"NÃO\"),\"NÃO\")","v":"NÃO"},{"$f":"IF(AND(X$8>=$M24,X$8<=$N24),IF($F24=\"ANUAL\",IF(W152=\"NÃO\",$D24,IF(MOD(COUNT($Q152:W152)+1,12)=0,(W152*$E24)+W152,W152)),\"NÃO\"),\"NÃO\")","v":"NÃO"},{"$f":"IF(AND(Y$8>=$M24,Y$8<=$N24),IF($F24=\"ANUAL\",IF(X152=\"NÃO\",$D24,IF(MOD(COUNT($Q152:X152)+1,12)=0,(X152*$E24)+X152,X152)),\"NÃO\"),\"NÃO\")","v":"NÃO"},{"$f":"IF(AND(Z$8>=$M24,Z$8<=$N24),IF($F24=\"ANUAL\",IF(Y152=\"NÃO\",$D24,IF(MOD(COUNT($Q152:Y152)+1,12)=0,(Y152*$E24)+Y152,Y152)),\"NÃO\"),\"NÃO\")","v":"NÃO"},{"$f":"IF(AND(AA$8>=$M24,AA$8<=$N24),IF($F24=\"ANUAL\",IF(Z152=\"NÃO\",$D24,IF(MOD(COUNT($Q152:Z152)+1,12)=0,(Z152*$E24)+Z152,Z152)),\"NÃO\"),\"NÃO\")","v":"NÃO"},{"$f":"IF(AND(AB$8>=$M24,AB$8<=$N24),IF($F24=\"ANUAL\",IF(AA152=\"NÃO\",$D24,IF(MOD(COUNT($Q152:AA152)+1,12)=0,(AA152*$E24)+AA152,AA152)),\"NÃO\"),\"NÃO\")","v":"NÃO"},{"$f":"IF(AND(AC$8>=$M24,AC$8<=$N24),IF($F24=\"ANUAL\",IF(AB152=\"NÃO\",$D24,IF(MOD(COUNT($Q152:AB152)+1,12)=0,(AB152*$E24)+AB152,AB152)),\"NÃO\"),\"NÃO\")","v":"NÃO"},{"$f":"IF(AND(AD$8>=$M24,AD$8<=$N24),IF($F24=\"ANUAL\",IF(AC152=\"NÃO\",$D24,IF(MOD(COUNT($Q152:AC152)+1,12)=0,(AC152*$E24)+AC152,AC152)),\"NÃO\"),\"NÃO\")","v":"NÃO"},{"$f":"IF(AND(AE$8>=$M24,AE$8<=$N24),IF($F24=\"ANUAL\",IF(AD152=\"NÃO\",$D24,IF(MOD(COUNT($Q152:AD152)+1,12)=0,(AD152*$E24)+AD152,AD152)),\"NÃO\"),\"NÃO\")","v":"NÃO"},{"$f":"IF(AND(AF$8>=$M24,AF$8<=$N24),IF($F24=\"ANUAL\",IF(AE152=\"NÃO\",$D24,IF(MOD(COUNT($Q152:AE152)+1,12)=0,(AE152*$E24)+AE152,AE152)),\"NÃO\"),\"NÃO\")","v":"NÃO"},{"$f":"IF(AND(AG$8>=$M24,AG$8<=$N24),IF($F24=\"ANUAL\",IF(AF152=\"NÃO\",$D24,IF(MOD(COUNT($Q152:AF152)+1,12)=0,(AF152*$E24)+AF152,AF152)),\"NÃO\"),\"NÃO\")","v":"NÃO"},{"$f":"IF(AND(AH$8>=$M24,AH$8<=$N24),IF($F24=\"ANUAL\",IF(AG152=\"NÃO\",$D24,IF(MOD(COUNT($Q152:AG152)+1,12)=0,(AG152*$E24)+AG152,AG152)),\"NÃO\"),\"NÃO\")","v":"NÃO"},{"$f":"IF(AND(AI$8>=$M24,AI$8<=$N24),IF($F24=\"ANUAL\",IF(AH152=\"NÃO\",$D24,IF(MOD(COUNT($Q152:AH152)+1,12)=0,(AH152*$E24)+AH152,AH152)),\"NÃO\"),\"NÃO\")","v":"NÃO"},{"$f":"IF(AND(AJ$8>=$M24,AJ$8<=$N24),IF($F24=\"ANUAL\",IF(AI152=\"NÃO\",$D24,IF(MOD(COUNT($Q152:AI152)+1,12)=0,(AI152*$E24)+AI152,AI152)),\"NÃO\"),\"NÃO\")","v":"NÃO"},{"$f":"IF(AND(AK$8>=$M24,AK$8<=$N24),IF($F24=\"ANUAL\",IF(AJ152=\"NÃO\",$D24,IF(MOD(COUNT($Q152:AJ152)+1,12)=0,(AJ152*$E24)+AJ152,AJ152)),\"NÃO\"),\"NÃO\")","v":"NÃO"},{"$f":"IF(AND(AL$8>=$M24,AL$8<=$N24),IF($F24=\"ANUAL\",IF(AK152=\"NÃO\",$D24,IF(MOD(COUNT($Q152:AK152)+1,12)=0,(AK152*$E24)+AK152,AK152)),\"NÃO\"),\"NÃO\")","v":"NÃO"},{"$f":"IF(AND(AM$8>=$M24,AM$8<=$N24),IF($F24=\"ANUAL\",IF(AL152=\"NÃO\",$D24,IF(MOD(COUNT($Q152:AL152)+1,12)=0,(AL152*$E24)+AL152,AL152)),\"NÃO\"),\"NÃO\")","v":"NÃO"},{"$f":"IF(AND(AN$8>=$M24,AN$8<=$N24),IF($F24=\"ANUAL\",IF(AM152=\"NÃO\",$D24,IF(MOD(COUNT($Q152:AM152)+1,12)=0,(AM152*$E24)+AM152,AM152)),\"NÃO\"),\"NÃO\")","v":"NÃO"},{"$f":"IF(AND(AO$8>=$M24,AO$8<=$N24),IF($F24=\"ANUAL\",IF(AN152=\"NÃO\",$D24,IF(MOD(COUNT($Q152:AN152)+1,12)=0,(AN152*$E24)+AN152,AN152)),\"NÃO\"),\"NÃO\")","v":"NÃO"},{"$f":"IF(AND(AP$8>=$M24,AP$8<=$N24),IF($F24=\"ANUAL\",IF(AO152=\"NÃO\",$D24,IF(MOD(COUNT($Q152:AO152)+1,12)=0,(AO152*$E24)+AO152,AO152)),\"NÃO\"),\"NÃO\")","v":"NÃO"},{"$f":"IF(AND(AQ$8>=$M24,AQ$8<=$N24),IF($F24=\"ANUAL\",IF(AP152=\"NÃO\",$D24,IF(MOD(COUNT($Q152:AP152)+1,12)=0,(AP152*$E24)+AP152,AP152)),\"NÃO\"),\"NÃO\")","v":"NÃO"},{"$f":"IF(AND(AR$8>=$M24,AR$8<=$N24),IF($F24=\"ANUAL\",IF(AQ152=\"NÃO\",$D24,IF(MOD(COUNT($Q152:AQ152)+1,12)=0,(AQ152*$E24)+AQ152,AQ152)),\"NÃO\"),\"NÃO\")","v":"NÃO"},{"$f":"IF(AND(AS$8>=$M24,AS$8<=$N24),IF($F24=\"ANUAL\",IF(AR152=\"NÃO\",$D24,IF(MOD(COUNT($Q152:AR152)+1,12)=0,(AR152*$E24)+AR152,AR152)),\"NÃO\"),\"NÃO\")","v":"NÃO"},{"$f":"IF(AND(AT$8>=$M24,AT$8<=$N24),IF($F24=\"ANUAL\",IF(AS152=\"NÃO\",$D24,IF(MOD(COUNT($Q152:AS152)+1,12)=0,(AS152*$E24)+AS152,AS152)),\"NÃO\"),\"NÃO\")","v":"NÃO"},{"$f":"IF(AND(AU$8>=$M24,AU$8<=$N24),IF($F24=\"ANUAL\",IF(AT152=\"NÃO\",$D24,IF(MOD(COUNT($Q152:AT152)+1,12)=0,(AT152*$E24)+AT152,AT152)),\"NÃO\"),\"NÃO\")","v":"NÃO"},{"$f":"IF(AND(AV$8>=$M24,AV$8<=$N24),IF($F24=\"ANUAL\",IF(AU152=\"NÃO\",$D24,IF(MOD(COUNT($Q152:AU152)+1,12)=0,(AU152*$E24)+AU152,AU152)),\"NÃO\"),\"NÃO\")","v":"NÃO"},{"$f":"IF(AND(AW$8>=$M24,AW$8<=$N24),IF($F24=\"ANUAL\",IF(AV152=\"NÃO\",$D24,IF(MOD(COUNT($Q152:AV152)+1,12)=0,(AV152*$E24)+AV152,AV152)),\"NÃO\"),\"NÃO\")","v":"NÃO"},{"$f":"IF(AND(AX$8>=$M24,AX$8<=$N24),IF($F24=\"ANUAL\",IF(AW152=\"NÃO\",$D24,IF(MOD(COUNT($Q152:AW152)+1,12)=0,(AW152*$E24)+AW152,AW152)),\"NÃO\"),\"NÃO\")","v":"NÃO"},{"$f":"IF(AND(AY$8>=$M24,AY$8<=$N24),IF($F24=\"ANUAL\",IF(AX152=\"NÃO\",$D24,IF(MOD(COUNT($Q152:AX152)+1,12)=0,(AX152*$E24)+AX152,AX152)),\"NÃO\"),\"NÃO\")","v":"NÃO"},{"$f":"IF(AND(AZ$8>=$M24,AZ$8<=$N24),IF($F24=\"ANUAL\",IF(AY152=\"NÃO\",$D24,IF(MOD(COUNT($Q152:AY152)+1,12)=0,(AY152*$E24)+AY152,AY152)),\"NÃO\"),\"NÃO\")","v":"NÃO"},{"$f":"IF(AND(BA$8>=$M24,BA$8<=$N24),IF($F24=\"ANUAL\",IF(AZ152=\"NÃO\",$D24,IF(MOD(COUNT($Q152:AZ152)+1,12)=0,(AZ152*$E24)+AZ152,AZ152)),\"NÃO\"),\"NÃO\")","v":"NÃO"},{"$f":"IF(AND(BB$8>=$M24,BB$8<=$N24),IF($F24=\"ANUAL\",IF(BA152=\"NÃO\",$D24,IF(MOD(COUNT($Q152:BA152)+1,12)=0,(BA152*$E24)+BA152,BA152)),\"NÃO\"),\"NÃO\")","v":"NÃO"},{"$f":"IF(AND(BC$8>=$M24,BC$8<=$N24),IF($F24=\"ANUAL\",IF(BB152=\"NÃO\",$D24,IF(MOD(COUNT($Q152:BB152)+1,12)=0,(BB152*$E24)+BB152,BB152)),\"NÃO\"),\"NÃO\")","v":"NÃO"},{"$f":"IF(AND(BD$8>=$M24,BD$8<=$N24),IF($F24=\"ANUAL\",IF(BC152=\"NÃO\",$D24,IF(MOD(COUNT($Q152:BC152)+1,12)=0,(BC152*$E24)+BC152,BC152)),\"NÃO\"),\"NÃO\")","v":"NÃO"},{"$f":"IF(AND(BE$8>=$M24,BE$8<=$N24),IF($F24=\"ANUAL\",IF(BD152=\"NÃO\",$D24,IF(MOD(COUNT($Q152:BD152)+1,12)=0,(BD152*$E24)+BD152,BD152)),\"NÃO\"),\"NÃO\")","v":"NÃO"},{"$f":"IF(AND(BF$8>=$M24,BF$8<=$N24),IF($F24=\"ANUAL\",IF(BE152=\"NÃO\",$D24,IF(MOD(COUNT($Q152:BE152)+1,12)=0,(BE152*$E24)+BE152,BE152)),\"NÃO\"),\"NÃO\")","v":"NÃO"},{"$f":"IF(AND(BG$8>=$M24,BG$8<=$N24),IF($F24=\"ANUAL\",IF(BF152=\"NÃO\",$D24,IF(MOD(COUNT($Q152:BF152)+1,12)=0,(BF152*$E24)+BF152,BF152)),\"NÃO\"),\"NÃO\")","v":"NÃO"},{"$f":"IF(AND(BH$8>=$M24,BH$8<=$N24),IF($F24=\"ANUAL\",IF(BG152=\"NÃO\",$D24,IF(MOD(COUNT($Q152:BG152)+1,12)=0,(BG152*$E24)+BG152,BG152)),\"NÃO\"),\"NÃO\")","v":"NÃO"},{"$f":"IF(AND(BI$8>=$M24,BI$8<=$N24),IF($F24=\"ANUAL\",IF(BH152=\"NÃO\",$D24,IF(MOD(COUNT($Q152:BH152)+1,12)=0,(BH152*$E24)+BH152,BH152)),\"NÃO\"),\"NÃO\")","v":"NÃO"},{"$f":"IF(AND(BJ$8>=$M24,BJ$8<=$N24),IF($F24=\"ANUAL\",IF(BI152=\"NÃO\",$D24,IF(MOD(COUNT($Q152:BI152)+1,12)=0,(BI152*$E24)+BI152,BI152)),\"NÃO\"),\"NÃO\")","v":"NÃO"},{"$f":"IF(AND(BK$8>=$M24,BK$8<=$N24),IF($F24=\"ANUAL\",IF(BJ152=\"NÃO\",$D24,IF(MOD(COUNT($Q152:BJ152)+1,12)=0,(BJ152*$E24)+BJ152,BJ152)),\"NÃO\"),\"NÃO\")","v":"NÃO"},{"$f":"IF(AND(BL$8>=$M24,BL$8<=$N24),IF($F24=\"ANUAL\",IF(BK152=\"NÃO\",$D24,IF(MOD(COUNT($Q152:BK152)+1,12)=0,(BK152*$E24)+BK152,BK152)),\"NÃO\"),\"NÃO\")","v":"NÃO"},{"$f":"IF(AND(BM$8>=$M24,BM$8<=$N24),IF($F24=\"ANUAL\",IF(BL152=\"NÃO\",$D24,IF(MOD(COUNT($Q152:BL152)+1,12)=0,(BL152*$E24)+BL152,BL152)),\"NÃO\"),\"NÃO\")","v":"NÃO"},{"$f":"IF(AND(BN$8>=$M24,BN$8<=$N24),IF($F24=\"ANUAL\",IF(BM152=\"NÃO\",$D24,IF(MOD(COUNT($Q152:BM152)+1,12)=0,(BM152*$E24)+BM152,BM152)),\"NÃO\"),\"NÃO\")","v":"NÃO"},{"$f":"IF(AND(BO$8>=$M24,BO$8<=$N24),IF($F24=\"ANUAL\",IF(BN152=\"NÃO\",$D24,IF(MOD(COUNT($Q152:BN152)+1,12)=0,(BN152*$E24)+BN152,BN152)),\"NÃO\"),\"NÃO\")","v":"NÃO"},{"$f":"IF(AND(BP$8>=$M24,BP$8<=$N24),IF($F24=\"ANUAL\",IF(BO152=\"NÃO\",$D24,IF(MOD(COUNT($Q152:BO152)+1,12)=0,(BO152*$E24)+BO152,BO152)),\"NÃO\"),\"NÃO\")","v":"NÃO"},{"$f":"IF(AND(BQ$8>=$M24,BQ$8<=$N24),IF($F24=\"ANUAL\",IF(BP152=\"NÃO\",$D24,IF(MOD(COUNT($Q152:BP152)+1,12)=0,(BP152*$E24)+BP152,BP152)),\"NÃO\"),\"NÃO\")","v":"NÃO"},{"$f":"IF(AND(BR$8>=$M24,BR$8<=$N24),IF($F24=\"ANUAL\",IF(BQ152=\"NÃO\",$D24,IF(MOD(COUNT($Q152:BQ152)+1,12)=0,(BQ152*$E24)+BQ152,BQ152)),\"NÃO\"),\"NÃO\")","v":"NÃO"},{"$f":"IF(AND(BS$8>=$M24,BS$8<=$N24),IF($F24=\"ANUAL\",IF(BR152=\"NÃO\",$D24,IF(MOD(COUNT($Q152:BR152)+1,12)=0,(BR152*$E24)+BR152,BR152)),\"NÃO\"),\"NÃO\")","v":"NÃO"},{"$f":"IF(AND(BT$8>=$M24,BT$8<=$N24),IF($F24=\"ANUAL\",IF(BS152=\"NÃO\",$D24,IF(MOD(COUNT($Q152:BS152)+1,12)=0,(BS152*$E24)+BS152,BS152)),\"NÃO\"),\"NÃO\")","v":"NÃO"},{"$f":"IF(AND(BU$8>=$M24,BU$8<=$N24),IF($F24=\"ANUAL\",IF(BT152=\"NÃO\",$D24,IF(MOD(COUNT($Q152:BT152)+1,12)=0,(BT152*$E24)+BT152,BT152)),\"NÃO\"),\"NÃO\")","v":"NÃO"},{"$f":"IF(AND(BV$8>=$M24,BV$8<=$N24),IF($F24=\"ANUAL\",IF(BU152=\"NÃO\",$D24,IF(MOD(COUNT($Q152:BU152)+1,12)=0,(BU152*$E24)+BU152,BU152)),\"NÃO\"),\"NÃO\")","v":"NÃO"},{"$f":"IF(AND(BW$8>=$M24,BW$8<=$N24),IF($F24=\"ANUAL\",IF(BV152=\"NÃO\",$D24,IF(MOD(COUNT($Q152:BV152)+1,12)=0,(BV152*$E24)+BV152,BV152)),\"NÃO\"),\"NÃO\")","v":"NÃO"},{"$f":"IF(AND(BX$8>=$M24,BX$8<=$N24),IF($F24=\"ANUAL\",IF(BW152=\"NÃO\",$D24,IF(MOD(COUNT($Q152:BW152)+1,12)=0,(BW152*$E24)+BW152,BW152)),\"NÃO\"),\"NÃO\")","v":"NÃO"}]
[null,null,null,null,null,null,null,null,null,null,null,null,null,null,null,17,"NÃO",{"$f":"IF(AND(R$8>=$M25,R$8<=$N25),IF($F25=\"ANUAL\",IF(Q153=\"NÃO\",$D25,IF(MOD(COUNT($Q153:Q153)+1,12)=0,(Q153*$E25)+Q153,Q153)),\"NÃO\"),\"NÃO\")","v":"NÃO"},{"$f":"IF(AND(S$8>=$M25,S$8<=$N25),IF($F25=\"ANUAL\",IF(R153=\"NÃO\",$D25,IF(MOD(COUNT($Q153:R153)+1,12)=0,(R153*$E25)+R153,R153)),\"NÃO\"),\"NÃO\")","v":"NÃO"},{"$f":"IF(AND(T$8>=$M25,T$8<=$N25),IF($F25=\"ANUAL\",IF(S153=\"NÃO\",$D25,IF(MOD(COUNT($Q153:S153)+1,12)=0,(S153*$E25)+S153,S153)),\"NÃO\"),\"NÃO\")","v":"NÃO"},{"$f":"IF(AND(U$8>=$M25,U$8<=$N25),IF($F25=\"ANUAL\",IF(T153=\"NÃO\",$D25,IF(MOD(COUNT($Q153:T153)+1,12)=0,(T153*$E25)+T153,T153)),\"NÃO\"),\"NÃO\")","v":"NÃO"},{"$f":"IF(AND(V$8>=$M25,V$8<=$N25),IF($F25=\"ANUAL\",IF(U153=\"NÃO\",$D25,IF(MOD(COUNT($Q153:U153)+1,12)=0,(U153*$E25)+U153,U153)),\"NÃO\"),\"NÃO\")","v":"NÃO"},{"$f":"IF(AND(W$8>=$M25,W$8<=$N25),IF($F25=\"ANUAL\",IF(V153=\"NÃO\",$D25,IF(MOD(COUNT($Q153:V153)+1,12)=0,(V153*$E25)+V153,V153)),\"NÃO\"),\"NÃO\")","v":"NÃO"},{"$f":"IF(AND(X$8>=$M25,X$8<=$N25),IF($F25=\"ANUAL\",IF(W153=\"NÃO\",$D25,IF(MOD(COUNT($Q153:W153)+1,12)=0,(W153*$E25)+W153,W153)),\"NÃO\"),\"NÃO\")","v":"NÃO"},{"$f":"IF(AND(Y$8>=$M25,Y$8<=$N25),IF($F25=\"ANUAL\",IF(X153=\"NÃO\",$D25,IF(MOD(COUNT($Q153:X153)+1,12)=0,(X153*$E25)+X153,X153)),\"NÃO\"),\"NÃO\")","v":"NÃO"},{"$f":"IF(AND(Z$8>=$M25,Z$8<=$N25),IF($F25=\"ANUAL\",IF(Y153=\"NÃO\",$D25,IF(MOD(COUNT($Q153:Y153)+1,12)=0,(Y153*$E25)+Y153,Y153)),\"NÃO\"),\"NÃO\")","v":"NÃO"},{"$f":"IF(AND(AA$8>=$M25,AA$8<=$N25),IF($F25=\"ANUAL\",IF(Z153=\"NÃO\",$D25,IF(MOD(COUNT($Q153:Z153)+1,12)=0,(Z153*$E25)+Z153,Z153)),\"NÃO\"),\"NÃO\")","v":"NÃO"},{"$f":"IF(AND(AB$8>=$M25,AB$8<=$N25),IF($F25=\"ANUAL\",IF(AA153=\"NÃO\",$D25,IF(MOD(COUNT($Q153:AA153)+1,12)=0,(AA153*$E25)+AA153,AA153)),\"NÃO\"),\"NÃO\")","v":"NÃO"},{"$f":"IF(AND(AC$8>=$M25,AC$8<=$N25),IF($F25=\"ANUAL\",IF(AB153=\"NÃO\",$D25,IF(MOD(COUNT($Q153:AB153)+1,12)=0,(AB153*$E25)+AB153,AB153)),\"NÃO\"),\"NÃO\")","v":"NÃO"},{"$f":"IF(AND(AD$8>=$M25,AD$8<=$N25),IF($F25=\"ANUAL\",IF(AC153=\"NÃO\",$D25,IF(MOD(COUNT($Q153:AC153)+1,12)=0,(AC153*$E25)+AC153,AC153)),\"NÃO\"),\"NÃO\")","v":"NÃO"},{"$f":"IF(AND(AE$8>=$M25,AE$8<=$N25),IF($F25=\"ANUAL\",IF(AD153=\"NÃO\",$D25,IF(MOD(COUNT($Q153:AD153)+1,12)=0,(AD153*$E25)+AD153,AD153)),\"NÃO\"),\"NÃO\")","v":"NÃO"},{"$f":"IF(AND(AF$8>=$M25,AF$8<=$N25),IF($F25=\"ANUAL\",IF(AE153=\"NÃO\",$D25,IF(MOD(COUNT($Q153:AE153)+1,12)=0,(AE153*$E25)+AE153,AE153)),\"NÃO\"),\"NÃO\")","v":"NÃO"},{"$f":"IF(AND(AG$8>=$M25,AG$8<=$N25),IF($F25=\"ANUAL\",IF(AF153=\"NÃO\",$D25,IF(MOD(COUNT($Q153:AF153)+1,12)=0,(AF153*$E25)+AF153,AF153)),\"NÃO\"),\"NÃO\")","v":"NÃO"},{"$f":"IF(AND(AH$8>=$M25,AH$8<=$N25),IF($F25=\"ANUAL\",IF(AG153=\"NÃO\",$D25,IF(MOD(COUNT($Q153:AG153)+1,12)=0,(AG153*$E25)+AG153,AG153)),\"NÃO\"),\"NÃO\")","v":"NÃO"},{"$f":"IF(AND(AI$8>=$M25,AI$8<=$N25),IF($F25=\"ANUAL\",IF(AH153=\"NÃO\",$D25,IF(MOD(COUNT($Q153:AH153)+1,12)=0,(AH153*$E25)+AH153,AH153)),\"NÃO\"),\"NÃO\")","v":"NÃO"},{"$f":"IF(AND(AJ$8>=$M25,AJ$8<=$N25),IF($F25=\"ANUAL\",IF(AI153=\"NÃO\",$D25,IF(MOD(COUNT($Q153:AI153)+1,12)=0,(AI153*$E25)+AI153,AI153)),\"NÃO\"),\"NÃO\")","v":"NÃO"},{"$f":"IF(AND(AK$8>=$M25,AK$8<=$N25),IF($F25=\"ANUAL\",IF(AJ153=\"NÃO\",$D25,IF(MOD(COUNT($Q153:AJ153)+1,12)=0,(AJ153*$E25)+AJ153,AJ153)),\"NÃO\"),\"NÃO\")","v":"NÃO"},{"$f":"IF(AND(AL$8>=$M25,AL$8<=$N25),IF($F25=\"ANUAL\",IF(AK153=\"NÃO\",$D25,IF(MOD(COUNT($Q153:AK153)+1,12)=0,(AK153*$E25)+AK153,AK153)),\"NÃO\"),\"NÃO\")","v":"NÃO"},{"$f":"IF(AND(AM$8>=$M25,AM$8<=$N25),IF($F25=\"ANUAL\",IF(AL153=\"NÃO\",$D25,IF(MOD(COUNT($Q153:AL153)+1,12)=0,(AL153*$E25)+AL153,AL153)),\"NÃO\"),\"NÃO\")","v":"NÃO"},{"$f":"IF(AND(AN$8>=$M25,AN$8<=$N25),IF($F25=\"ANUAL\",IF(AM153=\"NÃO\",$D25,IF(MOD(COUNT($Q153:AM153)+1,12)=0,(AM153*$E25)+AM153,AM153)),\"NÃO\"),\"NÃO\")","v":"NÃO"},{"$f":"IF(AND(AO$8>=$M25,AO$8<=$N25),IF($F25=\"ANUAL\",IF(AN153=\"NÃO\",$D25,IF(MOD(COUNT($Q153:AN153)+1,12)=0,(AN153*$E25)+AN153,AN153)),\"NÃO\"),\"NÃO\")","v":"NÃO"},{"$f":"IF(AND(AP$8>=$M25,AP$8<=$N25),IF($F25=\"ANUAL\",IF(AO153=\"NÃO\",$D25,IF(MOD(COUNT($Q153:AO153)+1,12)=0,(AO153*$E25)+AO153,AO153)),\"NÃO\"),\"NÃO\")","v":"NÃO"},{"$f":"IF(AND(AQ$8>=$M25,AQ$8<=$N25),IF($F25=\"ANUAL\",IF(AP153=\"NÃO\",$D25,IF(MOD(COUNT($Q153:AP153)+1,12)=0,(AP153*$E25)+AP153,AP153)),\"NÃO\"),\"NÃO\")","v":"NÃO"},{"$f":"IF(AND(AR$8>=$M25,AR$8<=$N25),IF($F25=\"ANUAL\",IF(AQ153=\"NÃO\",$D25,IF(MOD(COUNT($Q153:AQ153)+1,12)=0,(AQ153*$E25)+AQ153,AQ153)),\"NÃO\"),\"NÃO\")","v":"NÃO"},{"$f":"IF(AND(AS$8>=$M25,AS$8<=$N25),IF($F25=\"ANUAL\",IF(AR153=\"NÃO\",$D25,IF(MOD(COUNT($Q153:AR153)+1,12)=0,(AR153*$E25)+AR153,AR153)),\"NÃO\"),\"NÃO\")","v":"NÃO"},{"$f":"IF(AND(AT$8>=$M25,AT$8<=$N25),IF($F25=\"ANUAL\",IF(AS153=\"NÃO\",$D25,IF(MOD(COUNT($Q153:AS153)+1,12)=0,(AS153*$E25)+AS153,AS153)),\"NÃO\"),\"NÃO\")","v":"NÃO"},{"$f":"IF(AND(AU$8>=$M25,AU$8<=$N25),IF($F25=\"ANUAL\",IF(AT153=\"NÃO\",$D25,IF(MOD(COUNT($Q153:AT153)+1,12)=0,(AT153*$E25)+AT153,AT153)),\"NÃO\"),\"NÃO\")","v":"NÃO"},{"$f":"IF(AND(AV$8>=$M25,AV$8<=$N25),IF($F25=\"ANUAL\",IF(AU153=\"NÃO\",$D25,IF(MOD(COUNT($Q153:AU153)+1,12)=0,(AU153*$E25)+AU153,AU153)),\"NÃO\"),\"NÃO\")","v":"NÃO"},{"$f":"IF(AND(AW$8>=$M25,AW$8<=$N25),IF($F25=\"ANUAL\",IF(AV153=\"NÃO\",$D25,IF(MOD(COUNT($Q153:AV153)+1,12)=0,(AV153*$E25)+AV153,AV153)),\"NÃO\"),\"NÃO\")","v":"NÃO"},{"$f":"IF(AND(AX$8>=$M25,AX$8<=$N25),IF($F25=\"ANUAL\",IF(AW153=\"NÃO\",$D25,IF(MOD(COUNT($Q153:AW153)+1,12)=0,(AW153*$E25)+AW153,AW153)),\"NÃO\"),\"NÃO\")","v":"NÃO"},{"$f":"IF(AND(AY$8>=$M25,AY$8<=$N25),IF($F25=\"ANUAL\",IF(AX153=\"NÃO\",$D25,IF(MOD(COUNT($Q153:AX153)+1,12)=0,(AX153*$E25)+AX153,AX153)),\"NÃO\"),\"NÃO\")","v":"NÃO"},{"$f":"IF(AND(AZ$8>=$M25,AZ$8<=$N25),IF($F25=\"ANUAL\",IF(AY153=\"NÃO\",$D25,IF(MOD(COUNT($Q153:AY153)+1,12)=0,(AY153*$E25)+AY153,AY153)),\"NÃO\"),\"NÃO\")","v":"NÃO"},{"$f":"IF(AND(BA$8>=$M25,BA$8<=$N25),IF($F25=\"ANUAL\",IF(AZ153=\"NÃO\",$D25,IF(MOD(COUNT($Q153:AZ153)+1,12)=0,(AZ153*$E25)+AZ153,AZ153)),\"NÃO\"),\"NÃO\")","v":"NÃO"},{"$f":"IF(AND(BB$8>=$M25,BB$8<=$N25),IF($F25=\"ANUAL\",IF(BA153=\"NÃO\",$D25,IF(MOD(COUNT($Q153:BA153)+1,12)=0,(BA153*$E25)+BA153,BA153)),\"NÃO\"),\"NÃO\")","v":"NÃO"},{"$f":"IF(AND(BC$8>=$M25,BC$8<=$N25),IF($F25=\"ANUAL\",IF(BB153=\"NÃO\",$D25,IF(MOD(COUNT($Q153:BB153)+1,12)=0,(BB153*$E25)+BB153,BB153)),\"NÃO\"),\"NÃO\")","v":"NÃO"},{"$f":"IF(AND(BD$8>=$M25,BD$8<=$N25),IF($F25=\"ANUAL\",IF(BC153=\"NÃO\",$D25,IF(MOD(COUNT($Q153:BC153)+1,12)=0,(BC153*$E25)+BC153,BC153)),\"NÃO\"),\"NÃO\")","v":"NÃO"},{"$f":"IF(AND(BE$8>=$M25,BE$8<=$N25),IF($F25=\"ANUAL\",IF(BD153=\"NÃO\",$D25,IF(MOD(COUNT($Q153:BD153)+1,12)=0,(BD153*$E25)+BD153,BD153)),\"NÃO\"),\"NÃO\")","v":"NÃO"},{"$f":"IF(AND(BF$8>=$M25,BF$8<=$N25),IF($F25=\"ANUAL\",IF(BE153=\"NÃO\",$D25,IF(MOD(COUNT($Q153:BE153)+1,12)=0,(BE153*$E25)+BE153,BE153)),\"NÃO\"),\"NÃO\")","v":"NÃO"},{"$f":"IF(AND(BG$8>=$M25,BG$8<=$N25),IF($F25=\"ANUAL\",IF(BF153=\"NÃO\",$D25,IF(MOD(COUNT($Q153:BF153)+1,12)=0,(BF153*$E25)+BF153,BF153)),\"NÃO\"),\"NÃO\")","v":"NÃO"},{"$f":"IF(AND(BH$8>=$M25,BH$8<=$N25),IF($F25=\"ANUAL\",IF(BG153=\"NÃO\",$D25,IF(MOD(COUNT($Q153:BG153)+1,12)=0,(BG153*$E25)+BG153,BG153)),\"NÃO\"),\"NÃO\")","v":"NÃO"},{"$f":"IF(AND(BI$8>=$M25,BI$8<=$N25),IF($F25=\"ANUAL\",IF(BH153=\"NÃO\",$D25,IF(MOD(COUNT($Q153:BH153)+1,12)=0,(BH153*$E25)+BH153,BH153)),\"NÃO\"),\"NÃO\")","v":"NÃO"},{"$f":"IF(AND(BJ$8>=$M25,BJ$8<=$N25),IF($F25=\"ANUAL\",IF(BI153=\"NÃO\",$D25,IF(MOD(COUNT($Q153:BI153)+1,12)=0,(BI153*$E25)+BI153,BI153)),\"NÃO\"),\"NÃO\")","v":"NÃO"},{"$f":"IF(AND(BK$8>=$M25,BK$8<=$N25),IF($F25=\"ANUAL\",IF(BJ153=\"NÃO\",$D25,IF(MOD(COUNT($Q153:BJ153)+1,12)=0,(BJ153*$E25)+BJ153,BJ153)),\"NÃO\"),\"NÃO\")","v":"NÃO"},{"$f":"IF(AND(BL$8>=$M25,BL$8<=$N25),IF($F25=\"ANUAL\",IF(BK153=\"NÃO\",$D25,IF(MOD(COUNT($Q153:BK153)+1,12)=0,(BK153*$E25)+BK153,BK153)),\"NÃO\"),\"NÃO\")","v":"NÃO"},{"$f":"IF(AND(BM$8>=$M25,BM$8<=$N25),IF($F25=\"ANUAL\",IF(BL153=\"NÃO\",$D25,IF(MOD(COUNT($Q153:BL153)+1,12)=0,(BL153*$E25)+BL153,BL153)),\"NÃO\"),\"NÃO\")","v":"NÃO"},{"$f":"IF(AND(BN$8>=$M25,BN$8<=$N25),IF($F25=\"ANUAL\",IF(BM153=\"NÃO\",$D25,IF(MOD(COUNT($Q153:BM153)+1,12)=0,(BM153*$E25)+BM153,BM153)),\"NÃO\"),\"NÃO\")","v":"NÃO"},{"$f":"IF(AND(BO$8>=$M25,BO$8<=$N25),IF($F25=\"ANUAL\",IF(BN153=\"NÃO\",$D25,IF(MOD(COUNT($Q153:BN153)+1,12)=0,(BN153*$E25)+BN153,BN153)),\"NÃO\"),\"NÃO\")","v":"NÃO"},{"$f":"IF(AND(BP$8>=$M25,BP$8<=$N25),IF($F25=\"ANUAL\",IF(BO153=\"NÃO\",$D25,IF(MOD(COUNT($Q153:BO153)+1,12)=0,(BO153*$E25)+BO153,BO153)),\"NÃO\"),\"NÃO\")","v":"NÃO"},{"$f":"IF(AND(BQ$8>=$M25,BQ$8<=$N25),IF($F25=\"ANUAL\",IF(BP153=\"NÃO\",$D25,IF(MOD(COUNT($Q153:BP153)+1,12)=0,(BP153*$E25)+BP153,BP153)),\"NÃO\"),\"NÃO\")","v":"NÃO"},{"$f":"IF(AND(BR$8>=$M25,BR$8<=$N25),IF($F25=\"ANUAL\",IF(BQ153=\"NÃO\",$D25,IF(MOD(COUNT($Q153:BQ153)+1,12)=0,(BQ153*$E25)+BQ153,BQ153)),\"NÃO\"),\"NÃO\")","v":"NÃO"},{"$f":"IF(AND(BS$8>=$M25,BS$8<=$N25),IF($F25=\"ANUAL\",IF(BR153=\"NÃO\",$D25,IF(MOD(COUNT($Q153:BR153)+1,12)=0,(BR153*$E25)+BR153,BR153)),\"NÃO\"),\"NÃO\")","v":"NÃO"},{"$f":"IF(AND(BT$8>=$M25,BT$8<=$N25),IF($F25=\"ANUAL\",IF(BS153=\"NÃO\",$D25,IF(MOD(COUNT($Q153:BS153)+1,12)=0,(BS153*$E25)+BS153,BS153)),\"NÃO\"),\"NÃO\")","v":"NÃO"},{"$f":"IF(AND(BU$8>=$M25,BU$8<=$N25),IF($F25=\"ANUAL\",IF(BT153=\"NÃO\",$D25,IF(MOD(COUNT($Q153:BT153)+1,12)=0,(BT153*$E25)+BT153,BT153)),\"NÃO\"),\"NÃO\")","v":"NÃO"},{"$f":"IF(AND(BV$8>=$M25,BV$8<=$N25),IF($F25=\"ANUAL\",IF(BU153=\"NÃO\",$D25,IF(MOD(COUNT($Q153:BU153)+1,12)=0,(BU153*$E25)+BU153,BU153)),\"NÃO\"),\"NÃO\")","v":"NÃO"},{"$f":"IF(AND(BW$8>=$M25,BW$8<=$N25),IF($F25=\"ANUAL\",IF(BV153=\"NÃO\",$D25,IF(MOD(COUNT($Q153:BV153)+1,12)=0,(BV153*$E25)+BV153,BV153)),\"NÃO\"),\"NÃO\")","v":"NÃO"},{"$f":"IF(AND(BX$8>=$M25,BX$8<=$N25),IF($F25=\"ANUAL\",IF(BW153=\"NÃO\",$D25,IF(MOD(COUNT($Q153:BW153)+1,12)=0,(BW153*$E25)+BW153,BW153)),\"NÃO\"),\"NÃO\")","v":"NÃO"}]
[null,null,null,null,null,null,null,null,null,null,null,null,null,null,null,18,"NÃO",{"$f":"IF(AND(R$8>=$M26,R$8<=$N26),IF($F26=\"ANUAL\",IF(Q154=\"NÃO\",$D26,IF(MOD(COUNT($Q154:Q154)+1,12)=0,(Q154*$E26)+Q154,Q154)),\"NÃO\"),\"NÃO\")","v":"NÃO"},{"$f":"IF(AND(S$8>=$M26,S$8<=$N26),IF($F26=\"ANUAL\",IF(R154=\"NÃO\",$D26,IF(MOD(COUNT($Q154:R154)+1,12)=0,(R154*$E26)+R154,R154)),\"NÃO\"),\"NÃO\")","v":"NÃO"},{"$f":"IF(AND(T$8>=$M26,T$8<=$N26),IF($F26=\"ANUAL\",IF(S154=\"NÃO\",$D26,IF(MOD(COUNT($Q154:S154)+1,12)=0,(S154*$E26)+S154,S154)),\"NÃO\"),\"NÃO\")","v":"NÃO"},{"$f":"IF(AND(U$8>=$M26,U$8<=$N26),IF($F26=\"ANUAL\",IF(T154=\"NÃO\",$D26,IF(MOD(COUNT($Q154:T154)+1,12)=0,(T154*$E26)+T154,T154)),\"NÃO\"),\"NÃO\")","v":"NÃO"},{"$f":"IF(AND(V$8>=$M26,V$8<=$N26),IF($F26=\"ANUAL\",IF(U154=\"NÃO\",$D26,IF(MOD(COUNT($Q154:U154)+1,12)=0,(U154*$E26)+U154,U154)),\"NÃO\"),\"NÃO\")","v":"NÃO"},{"$f":"IF(AND(W$8>=$M26,W$8<=$N26),IF($F26=\"ANUAL\",IF(V154=\"NÃO\",$D26,IF(MOD(COUNT($Q154:V154)+1,12)=0,(V154*$E26)+V154,V154)),\"NÃO\"),\"NÃO\")","v":"NÃO"},{"$f":"IF(AND(X$8>=$M26,X$8<=$N26),IF($F26=\"ANUAL\",IF(W154=\"NÃO\",$D26,IF(MOD(COUNT($Q154:W154)+1,12)=0,(W154*$E26)+W154,W154)),\"NÃO\"),\"NÃO\")","v":"NÃO"},{"$f":"IF(AND(Y$8>=$M26,Y$8<=$N26),IF($F26=\"ANUAL\",IF(X154=\"NÃO\",$D26,IF(MOD(COUNT($Q154:X154)+1,12)=0,(X154*$E26)+X154,X154)),\"NÃO\"),\"NÃO\")","v":"NÃO"},{"$f":"IF(AND(Z$8>=$M26,Z$8<=$N26),IF($F26=\"ANUAL\",IF(Y154=\"NÃO\",$D26,IF(MOD(COUNT($Q154:Y154)+1,12)=0,(Y154*$E26)+Y154,Y154)),\"NÃO\"),\"NÃO\")","v":"NÃO"},{"$f":"IF(AND(AA$8>=$M26,AA$8<=$N26),IF($F26=\"ANUAL\",IF(Z154=\"NÃO\",$D26,IF(MOD(COUNT($Q154:Z154)+1,12)=0,(Z154*$E26)+Z154,Z154)),\"NÃO\"),\"NÃO\")","v":"NÃO"},{"$f":"IF(AND(AB$8>=$M26,AB$8<=$N26),IF($F26=\"ANUAL\",IF(AA154=\"NÃO\",$D26,IF(MOD(COUNT($Q154:AA154)+1,12)=0,(AA154*$E26)+AA154,AA154)),\"NÃO\"),\"NÃO\")","v":"NÃO"},{"$f":"IF(AND(AC$8>=$M26,AC$8<=$N26),IF($F26=\"ANUAL\",IF(AB154=\"NÃO\",$D26,IF(MOD(COUNT($Q154:AB154)+1,12)=0,(AB154*$E26)+AB154,AB154)),\"NÃO\"),\"NÃO\")","v":"NÃO"},{"$f":"IF(AND(AD$8>=$M26,AD$8<=$N26),IF($F26=\"ANUAL\",IF(AC154=\"NÃO\",$D26,IF(MOD(COUNT($Q154:AC154)+1,12)=0,(AC154*$E26)+AC154,AC154)),\"NÃO\"),\"NÃO\")","v":"NÃO"},{"$f":"IF(AND(AE$8>=$M26,AE$8<=$N26),IF($F26=\"ANUAL\",IF(AD154=\"NÃO\",$D26,IF(MOD(COUNT($Q154:AD154)+1,12)=0,(AD154*$E26)+AD154,AD154)),\"NÃO\"),\"NÃO\")","v":"NÃO"},{"$f":"IF(AND(AF$8>=$M26,AF$8<=$N26),IF($F26=\"ANUAL\",IF(AE154=\"NÃO\",$D26,IF(MOD(COUNT($Q154:AE154)+1,12)=0,(AE154*$E26)+AE154,AE154)),\"NÃO\"),\"NÃO\")","v":"NÃO"},{"$f":"IF(AND(AG$8>=$M26,AG$8<=$N26),IF($F26=\"ANUAL\",IF(AF154=\"NÃO\",$D26,IF(MOD(COUNT($Q154:AF154)+1,12)=0,(AF154*$E26)+AF154,AF154)),\"NÃO\"),\"NÃO\")","v":"NÃO"},{"$f":"IF(AND(AH$8>=$M26,AH$8<=$N26),IF($F26=\"ANUAL\",IF(AG154=\"NÃO\",$D26,IF(MOD(COUNT($Q154:AG154)+1,12)=0,(AG154*$E26)+AG154,AG154)),\"NÃO\"),\"NÃO\")","v":"NÃO"},{"$f":"IF(AND(AI$8>=$M26,AI$8<=$N26),IF($F26=\"ANUAL\",IF(AH154=\"NÃO\",$D26,IF(MOD(COUNT($Q154:AH154)+1,12)=0,(AH154*$E26)+AH154,AH154)),\"NÃO\"),\"NÃO\")","v":"NÃO"},{"$f":"IF(AND(AJ$8>=$M26,AJ$8<=$N26),IF($F26=\"ANUAL\",IF(AI154=\"NÃO\",$D26,IF(MOD(COUNT($Q154:AI154)+1,12)=0,(AI154*$E26)+AI154,AI154)),\"NÃO\"),\"NÃO\")","v":"NÃO"},{"$f":"IF(AND(AK$8>=$M26,AK$8<=$N26),IF($F26=\"ANUAL\",IF(AJ154=\"NÃO\",$D26,IF(MOD(COUNT($Q154:AJ154)+1,12)=0,(AJ154*$E26)+AJ154,AJ154)),\"NÃO\"),\"NÃO\")","v":"NÃO"},{"$f":"IF(AND(AL$8>=$M26,AL$8<=$N26),IF($F26=\"ANUAL\",IF(AK154=\"NÃO\",$D26,IF(MOD(COUNT($Q154:AK154)+1,12)=0,(AK154*$E26)+AK154,AK154)),\"NÃO\"),\"NÃO\")","v":"NÃO"},{"$f":"IF(AND(AM$8>=$M26,AM$8<=$N26),IF($F26=\"ANUAL\",IF(AL154=\"NÃO\",$D26,IF(MOD(COUNT($Q154:AL154)+1,12)=0,(AL154*$E26)+AL154,AL154)),\"NÃO\"),\"NÃO\")","v":"NÃO"},{"$f":"IF(AND(AN$8>=$M26,AN$8<=$N26),IF($F26=\"ANUAL\",IF(AM154=\"NÃO\",$D26,IF(MOD(COUNT($Q154:AM154)+1,12)=0,(AM154*$E26)+AM154,AM154)),\"NÃO\"),\"NÃO\")","v":"NÃO"},{"$f":"IF(AND(AO$8>=$M26,AO$8<=$N26),IF($F26=\"ANUAL\",IF(AN154=\"NÃO\",$D26,IF(MOD(COUNT($Q154:AN154)+1,12)=0,(AN154*$E26)+AN154,AN154)),\"NÃO\"),\"NÃO\")","v":"NÃO"},{"$f":"IF(AND(AP$8>=$M26,AP$8<=$N26),IF($F26=\"ANUAL\",IF(AO154=\"NÃO\",$D26,IF(MOD(COUNT($Q154:AO154)+1,12)=0,(AO154*$E26)+AO154,AO154)),\"NÃO\"),\"NÃO\")","v":"NÃO"},{"$f":"IF(AND(AQ$8>=$M26,AQ$8<=$N26),IF($F26=\"ANUAL\",IF(AP154=\"NÃO\",$D26,IF(MOD(COUNT($Q154:AP154)+1,12)=0,(AP154*$E26)+AP154,AP154)),\"NÃO\"),\"NÃO\")","v":"NÃO"},{"$f":"IF(AND(AR$8>=$M26,AR$8<=$N26),IF($F26=\"ANUAL\",IF(AQ154=\"NÃO\",$D26,IF(MOD(COUNT($Q154:AQ154)+1,12)=0,(AQ154*$E26)+AQ154,AQ154)),\"NÃO\"),\"NÃO\")","v":"NÃO"},{"$f":"IF(AND(AS$8>=$M26,AS$8<=$N26),IF($F26=\"ANUAL\",IF(AR154=\"NÃO\",$D26,IF(MOD(COUNT($Q154:AR154)+1,12)=0,(AR154*$E26)+AR154,AR154)),\"NÃO\"),\"NÃO\")","v":"NÃO"},{"$f":"IF(AND(AT$8>=$M26,AT$8<=$N26),IF($F26=\"ANUAL\",IF(AS154=\"NÃO\",$D26,IF(MOD(COUNT($Q154:AS154)+1,12)=0,(AS154*$E26)+AS154,AS154)),\"NÃO\"),\"NÃO\")","v":"NÃO"},{"$f":"IF(AND(AU$8>=$M26,AU$8<=$N26),IF($F26=\"ANUAL\",IF(AT154=\"NÃO\",$D26,IF(MOD(COUNT($Q154:AT154)+1,12)=0,(AT154*$E26)+AT154,AT154)),\"NÃO\"),\"NÃO\")","v":"NÃO"},{"$f":"IF(AND(AV$8>=$M26,AV$8<=$N26),IF($F26=\"ANUAL\",IF(AU154=\"NÃO\",$D26,IF(MOD(COUNT($Q154:AU154)+1,12)=0,(AU154*$E26)+AU154,AU154)),\"NÃO\"),\"NÃO\")","v":"NÃO"},{"$f":"IF(AND(AW$8>=$M26,AW$8<=$N26),IF($F26=\"ANUAL\",IF(AV154=\"NÃO\",$D26,IF(MOD(COUNT($Q154:AV154)+1,12)=0,(AV154*$E26)+AV154,AV154)),\"NÃO\"),\"NÃO\")","v":"NÃO"},{"$f":"IF(AND(AX$8>=$M26,AX$8<=$N26),IF($F26=\"ANUAL\",IF(AW154=\"NÃO\",$D26,IF(MOD(COUNT($Q154:AW154)+1,12)=0,(AW154*$E26)+AW154,AW154)),\"NÃO\"),\"NÃO\")","v":"NÃO"},{"$f":"IF(AND(AY$8>=$M26,AY$8<=$N26),IF($F26=\"ANUAL\",IF(AX154=\"NÃO\",$D26,IF(MOD(COUNT($Q154:AX154)+1,12)=0,(AX154*$E26)+AX154,AX154)),\"NÃO\"),\"NÃO\")","v":"NÃO"},{"$f":"IF(AND(AZ$8>=$M26,AZ$8<=$N26),IF($F26=\"ANUAL\",IF(AY154=\"NÃO\",$D26,IF(MOD(COUNT($Q154:AY154)+1,12)=0,(AY154*$E26)+AY154,AY154)),\"NÃO\"),\"NÃO\")","v":"NÃO"},{"$f":"IF(AND(BA$8>=$M26,BA$8<=$N26),IF($F26=\"ANUAL\",IF(AZ154=\"NÃO\",$D26,IF(MOD(COUNT($Q154:AZ154)+1,12)=0,(AZ154*$E26)+AZ154,AZ154)),\"NÃO\"),\"NÃO\")","v":"NÃO"},{"$f":"IF(AND(BB$8>=$M26,BB$8<=$N26),IF($F26=\"ANUAL\",IF(BA154=\"NÃO\",$D26,IF(MOD(COUNT($Q154:BA154)+1,12)=0,(BA154*$E26)+BA154,BA154)),\"NÃO\"),\"NÃO\")","v":"NÃO"},{"$f":"IF(AND(BC$8>=$M26,BC$8<=$N26),IF($F26=\"ANUAL\",IF(BB154=\"NÃO\",$D26,IF(MOD(COUNT($Q154:BB154)+1,12)=0,(BB154*$E26)+BB154,BB154)),\"NÃO\"),\"NÃO\")","v":"NÃO"},{"$f":"IF(AND(BD$8>=$M26,BD$8<=$N26),IF($F26=\"ANUAL\",IF(BC154=\"NÃO\",$D26,IF(MOD(COUNT($Q154:BC154)+1,12)=0,(BC154*$E26)+BC154,BC154)),\"NÃO\"),\"NÃO\")","v":"NÃO"},{"$f":"IF(AND(BE$8>=$M26,BE$8<=$N26),IF($F26=\"ANUAL\",IF(BD154=\"NÃO\",$D26,IF(MOD(COUNT($Q154:BD154)+1,12)=0,(BD154*$E26)+BD154,BD154)),\"NÃO\"),\"NÃO\")","v":"NÃO"},{"$f":"IF(AND(BF$8>=$M26,BF$8<=$N26),IF($F26=\"ANUAL\",IF(BE154=\"NÃO\",$D26,IF(MOD(COUNT($Q154:BE154)+1,12)=0,(BE154*$E26)+BE154,BE154)),\"NÃO\"),\"NÃO\")","v":"NÃO"},{"$f":"IF(AND(BG$8>=$M26,BG$8<=$N26),IF($F26=\"ANUAL\",IF(BF154=\"NÃO\",$D26,IF(MOD(COUNT($Q154:BF154)+1,12)=0,(BF154*$E26)+BF154,BF154)),\"NÃO\"),\"NÃO\")","v":"NÃO"},{"$f":"IF(AND(BH$8>=$M26,BH$8<=$N26),IF($F26=\"ANUAL\",IF(BG154=\"NÃO\",$D26,IF(MOD(COUNT($Q154:BG154)+1,12)=0,(BG154*$E26)+BG154,BG154)),\"NÃO\"),\"NÃO\")","v":"NÃO"},{"$f":"IF(AND(BI$8>=$M26,BI$8<=$N26),IF($F26=\"ANUAL\",IF(BH154=\"NÃO\",$D26,IF(MOD(COUNT($Q154:BH154)+1,12)=0,(BH154*$E26)+BH154,BH154)),\"NÃO\"),\"NÃO\")","v":"NÃO"},{"$f":"IF(AND(BJ$8>=$M26,BJ$8<=$N26),IF($F26=\"ANUAL\",IF(BI154=\"NÃO\",$D26,IF(MOD(COUNT($Q154:BI154)+1,12)=0,(BI154*$E26)+BI154,BI154)),\"NÃO\"),\"NÃO\")","v":"NÃO"},{"$f":"IF(AND(BK$8>=$M26,BK$8<=$N26),IF($F26=\"ANUAL\",IF(BJ154=\"NÃO\",$D26,IF(MOD(COUNT($Q154:BJ154)+1,12)=0,(BJ154*$E26)+BJ154,BJ154)),\"NÃO\"),\"NÃO\")","v":"NÃO"},{"$f":"IF(AND(BL$8>=$M26,BL$8<=$N26),IF($F26=\"ANUAL\",IF(BK154=\"NÃO\",$D26,IF(MOD(COUNT($Q154:BK154)+1,12)=0,(BK154*$E26)+BK154,BK154)),\"NÃO\"),\"NÃO\")","v":"NÃO"},{"$f":"IF(AND(BM$8>=$M26,BM$8<=$N26),IF($F26=\"ANUAL\",IF(BL154=\"NÃO\",$D26,IF(MOD(COUNT($Q154:BL154)+1,12)=0,(BL154*$E26)+BL154,BL154)),\"NÃO\"),\"NÃO\")","v":"NÃO"},{"$f":"IF(AND(BN$8>=$M26,BN$8<=$N26),IF($F26=\"ANUAL\",IF(BM154=\"NÃO\",$D26,IF(MOD(COUNT($Q154:BM154)+1,12)=0,(BM154*$E26)+BM154,BM154)),\"NÃO\"),\"NÃO\")","v":"NÃO"},{"$f":"IF(AND(BO$8>=$M26,BO$8<=$N26),IF($F26=\"ANUAL\",IF(BN154=\"NÃO\",$D26,IF(MOD(COUNT($Q154:BN154)+1,12)=0,(BN154*$E26)+BN154,BN154)),\"NÃO\"),\"NÃO\")","v":"NÃO"},{"$f":"IF(AND(BP$8>=$M26,BP$8<=$N26),IF($F26=\"ANUAL\",IF(BO154=\"NÃO\",$D26,IF(MOD(COUNT($Q154:BO154)+1,12)=0,(BO154*$E26)+BO154,BO154)),\"NÃO\"),\"NÃO\")","v":"NÃO"},{"$f":"IF(AND(BQ$8>=$M26,BQ$8<=$N26),IF($F26=\"ANUAL\",IF(BP154=\"NÃO\",$D26,IF(MOD(COUNT($Q154:BP154)+1,12)=0,(BP154*$E26)+BP154,BP154)),\"NÃO\"),\"NÃO\")","v":"NÃO"},{"$f":"IF(AND(BR$8>=$M26,BR$8<=$N26),IF($F26=\"ANUAL\",IF(BQ154=\"NÃO\",$D26,IF(MOD(COUNT($Q154:BQ154)+1,12)=0,(BQ154*$E26)+BQ154,BQ154)),\"NÃO\"),\"NÃO\")","v":"NÃO"},{"$f":"IF(AND(BS$8>=$M26,BS$8<=$N26),IF($F26=\"ANUAL\",IF(BR154=\"NÃO\",$D26,IF(MOD(COUNT($Q154:BR154)+1,12)=0,(BR154*$E26)+BR154,BR154)),\"NÃO\"),\"NÃO\")","v":"NÃO"},{"$f":"IF(AND(BT$8>=$M26,BT$8<=$N26),IF($F26=\"ANUAL\",IF(BS154=\"NÃO\",$D26,IF(MOD(COUNT($Q154:BS154)+1,12)=0,(BS154*$E26)+BS154,BS154)),\"NÃO\"),\"NÃO\")","v":"NÃO"},{"$f":"IF(AND(BU$8>=$M26,BU$8<=$N26),IF($F26=\"ANUAL\",IF(BT154=\"NÃO\",$D26,IF(MOD(COUNT($Q154:BT154)+1,12)=0,(BT154*$E26)+BT154,BT154)),\"NÃO\"),\"NÃO\")","v":"NÃO"},{"$f":"IF(AND(BV$8>=$M26,BV$8<=$N26),IF($F26=\"ANUAL\",IF(BU154=\"NÃO\",$D26,IF(MOD(COUNT($Q154:BU154)+1,12)=0,(BU154*$E26)+BU154,BU154)),\"NÃO\"),\"NÃO\")","v":"NÃO"},{"$f":"IF(AND(BW$8>=$M26,BW$8<=$N26),IF($F26=\"ANUAL\",IF(BV154=\"NÃO\",$D26,IF(MOD(COUNT($Q154:BV154)+1,12)=0,(BV154*$E26)+BV154,BV154)),\"NÃO\"),\"NÃO\")","v":"NÃO"},{"$f":"IF(AND(BX$8>=$M26,BX$8<=$N26),IF($F26=\"ANUAL\",IF(BW154=\"NÃO\",$D26,IF(MOD(COUNT($Q154:BW154)+1,12)=0,(BW154*$E26)+BW154,BW154)),\"NÃO\"),\"NÃO\")","v":"NÃO"}]
[null,null,null,null,null,null,null,null,null,null,null,null,null,null,null,19,"NÃO",{"$f":"IF(AND(R$8>=$M27,R$8<=$N27),IF($F27=\"ANUAL\",IF(Q155=\"NÃO\",$D27,IF(MOD(COUNT($Q155:Q155)+1,12)=0,(Q155*$E27)+Q155,Q155)),\"NÃO\"),\"NÃO\")","v":"NÃO"},{"$f":"IF(AND(S$8>=$M27,S$8<=$N27),IF($F27=\"ANUAL\",IF(R155=\"NÃO\",$D27,IF(MOD(COUNT($Q155:R155)+1,12)=0,(R155*$E27)+R155,R155)),\"NÃO\"),\"NÃO\")","v":"NÃO"},{"$f":"IF(AND(T$8>=$M27,T$8<=$N27),IF($F27=\"ANUAL\",IF(S155=\"NÃO\",$D27,IF(MOD(COUNT($Q155:S155)+1,12)=0,(S155*$E27)+S155,S155)),\"NÃO\"),\"NÃO\")","v":"NÃO"},{"$f":"IF(AND(U$8>=$M27,U$8<=$N27),IF($F27=\"ANUAL\",IF(T155=\"NÃO\",$D27,IF(MOD(COUNT($Q155:T155)+1,12)=0,(T155*$E27)+T155,T155)),\"NÃO\"),\"NÃO\")","v":"NÃO"},{"$f":"IF(AND(V$8>=$M27,V$8<=$N27),IF($F27=\"ANUAL\",IF(U155=\"NÃO\",$D27,IF(MOD(COUNT($Q155:U155)+1,12)=0,(U155*$E27)+U155,U155)),\"NÃO\"),\"NÃO\")","v":"NÃO"},{"$f":"IF(AND(W$8>=$M27,W$8<=$N27),IF($F27=\"ANUAL\",IF(V155=\"NÃO\",$D27,IF(MOD(COUNT($Q155:V155)+1,12)=0,(V155*$E27)+V155,V155)),\"NÃO\"),\"NÃO\")","v":"NÃO"},{"$f":"IF(AND(X$8>=$M27,X$8<=$N27),IF($F27=\"ANUAL\",IF(W155=\"NÃO\",$D27,IF(MOD(COUNT($Q155:W155)+1,12)=0,(W155*$E27)+W155,W155)),\"NÃO\"),\"NÃO\")","v":"NÃO"},{"$f":"IF(AND(Y$8>=$M27,Y$8<=$N27),IF($F27=\"ANUAL\",IF(X155=\"NÃO\",$D27,IF(MOD(COUNT($Q155:X155)+1,12)=0,(X155*$E27)+X155,X155)),\"NÃO\"),\"NÃO\")","v":"NÃO"},{"$f":"IF(AND(Z$8>=$M27,Z$8<=$N27),IF($F27=\"ANUAL\",IF(Y155=\"NÃO\",$D27,IF(MOD(COUNT($Q155:Y155)+1,12)=0,(Y155*$E27)+Y155,Y155)),\"NÃO\"),\"NÃO\")","v":"NÃO"},{"$f":"IF(AND(AA$8>=$M27,AA$8<=$N27),IF($F27=\"ANUAL\",IF(Z155=\"NÃO\",$D27,IF(MOD(COUNT($Q155:Z155)+1,12)=0,(Z155*$E27)+Z155,Z155)),\"NÃO\"),\"NÃO\")","v":"NÃO"},{"$f":"IF(AND(AB$8>=$M27,AB$8<=$N27),IF($F27=\"ANUAL\",IF(AA155=\"NÃO\",$D27,IF(MOD(COUNT($Q155:AA155)+1,12)=0,(AA155*$E27)+AA155,AA155)),\"NÃO\"),\"NÃO\")","v":"NÃO"},{"$f":"IF(AND(AC$8>=$M27,AC$8<=$N27),IF($F27=\"ANUAL\",IF(AB155=\"NÃO\",$D27,IF(MOD(COUNT($Q155:AB155)+1,12)=0,(AB155*$E27)+AB155,AB155)),\"NÃO\"),\"NÃO\")","v":"NÃO"},{"$f":"IF(AND(AD$8>=$M27,AD$8<=$N27),IF($F27=\"ANUAL\",IF(AC155=\"NÃO\",$D27,IF(MOD(COUNT($Q155:AC155)+1,12)=0,(AC155*$E27)+AC155,AC155)),\"NÃO\"),\"NÃO\")","v":"NÃO"},{"$f":"IF(AND(AE$8>=$M27,AE$8<=$N27),IF($F27=\"ANUAL\",IF(AD155=\"NÃO\",$D27,IF(MOD(COUNT($Q155:AD155)+1,12)=0,(AD155*$E27)+AD155,AD155)),\"NÃO\"),\"NÃO\")","v":"NÃO"},{"$f":"IF(AND(AF$8>=$M27,AF$8<=$N27),IF($F27=\"ANUAL\",IF(AE155=\"NÃO\",$D27,IF(MOD(COUNT($Q155:AE155)+1,12)=0,(AE155*$E27)+AE155,AE155)),\"NÃO\"),\"NÃO\")","v":"NÃO"},{"$f":"IF(AND(AG$8>=$M27,AG$8<=$N27),IF($F27=\"ANUAL\",IF(AF155=\"NÃO\",$D27,IF(MOD(COUNT($Q155:AF155)+1,12)=0,(AF155*$E27)+AF155,AF155)),\"NÃO\"),\"NÃO\")","v":"NÃO"},{"$f":"IF(AND(AH$8>=$M27,AH$8<=$N27),IF($F27=\"ANUAL\",IF(AG155=\"NÃO\",$D27,IF(MOD(COUNT($Q155:AG155)+1,12)=0,(AG155*$E27)+AG155,AG155)),\"NÃO\"),\"NÃO\")","v":"NÃO"},{"$f":"IF(AND(AI$8>=$M27,AI$8<=$N27),IF($F27=\"ANUAL\",IF(AH155=\"NÃO\",$D27,IF(MOD(COUNT($Q155:AH155)+1,12)=0,(AH155*$E27)+AH155,AH155)),\"NÃO\"),\"NÃO\")","v":"NÃO"},{"$f":"IF(AND(AJ$8>=$M27,AJ$8<=$N27),IF($F27=\"ANUAL\",IF(AI155=\"NÃO\",$D27,IF(MOD(COUNT($Q155:AI155)+1,12)=0,(AI155*$E27)+AI155,AI155)),\"NÃO\"),\"NÃO\")","v":"NÃO"},{"$f":"IF(AND(AK$8>=$M27,AK$8<=$N27),IF($F27=\"ANUAL\",IF(AJ155=\"NÃO\",$D27,IF(MOD(COUNT($Q155:AJ155)+1,12)=0,(AJ155*$E27)+AJ155,AJ155)),\"NÃO\"),\"NÃO\")","v":"NÃO"},{"$f":"IF(AND(AL$8>=$M27,AL$8<=$N27),IF($F27=\"ANUAL\",IF(AK155=\"NÃO\",$D27,IF(MOD(COUNT($Q155:AK155)+1,12)=0,(AK155*$E27)+AK155,AK155)),\"NÃO\"),\"NÃO\")","v":"NÃO"},{"$f":"IF(AND(AM$8>=$M27,AM$8<=$N27),IF($F27=\"ANUAL\",IF(AL155=\"NÃO\",$D27,IF(MOD(COUNT($Q155:AL155)+1,12)=0,(AL155*$E27)+AL155,AL155)),\"NÃO\"),\"NÃO\")","v":"NÃO"},{"$f":"IF(AND(AN$8>=$M27,AN$8<=$N27),IF($F27=\"ANUAL\",IF(AM155=\"NÃO\",$D27,IF(MOD(COUNT($Q155:AM155)+1,12)=0,(AM155*$E27)+AM155,AM155)),\"NÃO\"),\"NÃO\")","v":"NÃO"},{"$f":"IF(AND(AO$8>=$M27,AO$8<=$N27),IF($F27=\"ANUAL\",IF(AN155=\"NÃO\",$D27,IF(MOD(COUNT($Q155:AN155)+1,12)=0,(AN155*$E27)+AN155,AN155)),\"NÃO\"),\"NÃO\")","v":"NÃO"},{"$f":"IF(AND(AP$8>=$M27,AP$8<=$N27),IF($F27=\"ANUAL\",IF(AO155=\"NÃO\",$D27,IF(MOD(COUNT($Q155:AO155)+1,12)=0,(AO155*$E27)+AO155,AO155)),\"NÃO\"),\"NÃO\")","v":"NÃO"},{"$f":"IF(AND(AQ$8>=$M27,AQ$8<=$N27),IF($F27=\"ANUAL\",IF(AP155=\"NÃO\",$D27,IF(MOD(COUNT($Q155:AP155)+1,12)=0,(AP155*$E27)+AP155,AP155)),\"NÃO\"),\"NÃO\")","v":"NÃO"},{"$f":"IF(AND(AR$8>=$M27,AR$8<=$N27),IF($F27=\"ANUAL\",IF(AQ155=\"NÃO\",$D27,IF(MOD(COUNT($Q155:AQ155)+1,12)=0,(AQ155*$E27)+AQ155,AQ155)),\"NÃO\"),\"NÃO\")","v":"NÃO"},{"$f":"IF(AND(AS$8>=$M27,AS$8<=$N27),IF($F27=\"ANUAL\",IF(AR155=\"NÃO\",$D27,IF(MOD(COUNT($Q155:AR155)+1,12)=0,(AR155*$E27)+AR155,AR155)),\"NÃO\"),\"NÃO\")","v":"NÃO"},{"$f":"IF(AND(AT$8>=$M27,AT$8<=$N27),IF($F27=\"ANUAL\",IF(AS155=\"NÃO\",$D27,IF(MOD(COUNT($Q155:AS155)+1,12)=0,(AS155*$E27)+AS155,AS155)),\"NÃO\"),\"NÃO\")","v":"NÃO"},{"$f":"IF(AND(AU$8>=$M27,AU$8<=$N27),IF($F27=\"ANUAL\",IF(AT155=\"NÃO\",$D27,IF(MOD(COUNT($Q155:AT155)+1,12)=0,(AT155*$E27)+AT155,AT155)),\"NÃO\"),\"NÃO\")","v":"NÃO"},{"$f":"IF(AND(AV$8>=$M27,AV$8<=$N27),IF($F27=\"ANUAL\",IF(AU155=\"NÃO\",$D27,IF(MOD(COUNT($Q155:AU155)+1,12)=0,(AU155*$E27)+AU155,AU155)),\"NÃO\"),\"NÃO\")","v":"NÃO"},{"$f":"IF(AND(AW$8>=$M27,AW$8<=$N27),IF($F27=\"ANUAL\",IF(AV155=\"NÃO\",$D27,IF(MOD(COUNT($Q155:AV155)+1,12)=0,(AV155*$E27)+AV155,AV155)),\"NÃO\"),\"NÃO\")","v":"NÃO"},{"$f":"IF(AND(AX$8>=$M27,AX$8<=$N27),IF($F27=\"ANUAL\",IF(AW155=\"NÃO\",$D27,IF(MOD(COUNT($Q155:AW155)+1,12)=0,(AW155*$E27)+AW155,AW155)),\"NÃO\"),\"NÃO\")","v":"NÃO"},{"$f":"IF(AND(AY$8>=$M27,AY$8<=$N27),IF($F27=\"ANUAL\",IF(AX155=\"NÃO\",$D27,IF(MOD(COUNT($Q155:AX155)+1,12)=0,(AX155*$E27)+AX155,AX155)),\"NÃO\"),\"NÃO\")","v":"NÃO"},{"$f":"IF(AND(AZ$8>=$M27,AZ$8<=$N27),IF($F27=\"ANUAL\",IF(AY155=\"NÃO\",$D27,IF(MOD(COUNT($Q155:AY155)+1,12)=0,(AY155*$E27)+AY155,AY155)),\"NÃO\"),\"NÃO\")","v":"NÃO"},{"$f":"IF(AND(BA$8>=$M27,BA$8<=$N27),IF($F27=\"ANUAL\",IF(AZ155=\"NÃO\",$D27,IF(MOD(COUNT($Q155:AZ155)+1,12)=0,(AZ155*$E27)+AZ155,AZ155)),\"NÃO\"),\"NÃO\")","v":"NÃO"},{"$f":"IF(AND(BB$8>=$M27,BB$8<=$N27),IF($F27=\"ANUAL\",IF(BA155=\"NÃO\",$D27,IF(MOD(COUNT($Q155:BA155)+1,12)=0,(BA155*$E27)+BA155,BA155)),\"NÃO\"),\"NÃO\")","v":"NÃO"},{"$f":"IF(AND(BC$8>=$M27,BC$8<=$N27),IF($F27=\"ANUAL\",IF(BB155=\"NÃO\",$D27,IF(MOD(COUNT($Q155:BB155)+1,12)=0,(BB155*$E27)+BB155,BB155)),\"NÃO\"),\"NÃO\")","v":"NÃO"},{"$f":"IF(AND(BD$8>=$M27,BD$8<=$N27),IF($F27=\"ANUAL\",IF(BC155=\"NÃO\",$D27,IF(MOD(COUNT($Q155:BC155)+1,12)=0,(BC155*$E27)+BC155,BC155)),\"NÃO\"),\"NÃO\")","v":"NÃO"},{"$f":"IF(AND(BE$8>=$M27,BE$8<=$N27),IF($F27=\"ANUAL\",IF(BD155=\"NÃO\",$D27,IF(MOD(COUNT($Q155:BD155)+1,12)=0,(BD155*$E27)+BD155,BD155)),\"NÃO\"),\"NÃO\")","v":"NÃO"},{"$f":"IF(AND(BF$8>=$M27,BF$8<=$N27),IF($F27=\"ANUAL\",IF(BE155=\"NÃO\",$D27,IF(MOD(COUNT($Q155:BE155)+1,12)=0,(BE155*$E27)+BE155,BE155)),\"NÃO\"),\"NÃO\")","v":"NÃO"},{"$f":"IF(AND(BG$8>=$M27,BG$8<=$N27),IF($F27=\"ANUAL\",IF(BF155=\"NÃO\",$D27,IF(MOD(COUNT($Q155:BF155)+1,12)=0,(BF155*$E27)+BF155,BF155)),\"NÃO\"),\"NÃO\")","v":"NÃO"},{"$f":"IF(AND(BH$8>=$M27,BH$8<=$N27),IF($F27=\"ANUAL\",IF(BG155=\"NÃO\",$D27,IF(MOD(COUNT($Q155:BG155)+1,12)=0,(BG155*$E27)+BG155,BG155)),\"NÃO\"),\"NÃO\")","v":"NÃO"},{"$f":"IF(AND(BI$8>=$M27,BI$8<=$N27),IF($F27=\"ANUAL\",IF(BH155=\"NÃO\",$D27,IF(MOD(COUNT($Q155:BH155)+1,12)=0,(BH155*$E27)+BH155,BH155)),\"NÃO\"),\"NÃO\")","v":"NÃO"},{"$f":"IF(AND(BJ$8>=$M27,BJ$8<=$N27),IF($F27=\"ANUAL\",IF(BI155=\"NÃO\",$D27,IF(MOD(COUNT($Q155:BI155)+1,12)=0,(BI155*$E27)+BI155,BI155)),\"NÃO\"),\"NÃO\")","v":"NÃO"},{"$f":"IF(AND(BK$8>=$M27,BK$8<=$N27),IF($F27=\"ANUAL\",IF(BJ155=\"NÃO\",$D27,IF(MOD(COUNT($Q155:BJ155)+1,12)=0,(BJ155*$E27)+BJ155,BJ155)),\"NÃO\"),\"NÃO\")","v":"NÃO"},{"$f":"IF(AND(BL$8>=$M27,BL$8<=$N27),IF($F27=\"ANUAL\",IF(BK155=\"NÃO\",$D27,IF(MOD(COUNT($Q155:BK155)+1,12)=0,(BK155*$E27)+BK155,BK155)),\"NÃO\"),\"NÃO\")","v":"NÃO"},{"$f":"IF(AND(BM$8>=$M27,BM$8<=$N27),IF($F27=\"ANUAL\",IF(BL155=\"NÃO\",$D27,IF(MOD(COUNT($Q155:BL155)+1,12)=0,(BL155*$E27)+BL155,BL155)),\"NÃO\"),\"NÃO\")","v":"NÃO"},{"$f":"IF(AND(BN$8>=$M27,BN$8<=$N27),IF($F27=\"ANUAL\",IF(BM155=\"NÃO\",$D27,IF(MOD(COUNT($Q155:BM155)+1,12)=0,(BM155*$E27)+BM155,BM155)),\"NÃO\"),\"NÃO\")","v":"NÃO"},{"$f":"IF(AND(BO$8>=$M27,BO$8<=$N27),IF($F27=\"ANUAL\",IF(BN155=\"NÃO\",$D27,IF(MOD(COUNT($Q155:BN155)+1,12)=0,(BN155*$E27)+BN155,BN155)),\"NÃO\"),\"NÃO\")","v":"NÃO"},{"$f":"IF(AND(BP$8>=$M27,BP$8<=$N27),IF($F27=\"ANUAL\",IF(BO155=\"NÃO\",$D27,IF(MOD(COUNT($Q155:BO155)+1,12)=0,(BO155*$E27)+BO155,BO155)),\"NÃO\"),\"NÃO\")","v":"NÃO"},{"$f":"IF(AND(BQ$8>=$M27,BQ$8<=$N27),IF($F27=\"ANUAL\",IF(BP155=\"NÃO\",$D27,IF(MOD(COUNT($Q155:BP155)+1,12)=0,(BP155*$E27)+BP155,BP155)),\"NÃO\"),\"NÃO\")","v":"NÃO"},{"$f":"IF(AND(BR$8>=$M27,BR$8<=$N27),IF($F27=\"ANUAL\",IF(BQ155=\"NÃO\",$D27,IF(MOD(COUNT($Q155:BQ155)+1,12)=0,(BQ155*$E27)+BQ155,BQ155)),\"NÃO\"),\"NÃO\")","v":"NÃO"},{"$f":"IF(AND(BS$8>=$M27,BS$8<=$N27),IF($F27=\"ANUAL\",IF(BR155=\"NÃO\",$D27,IF(MOD(COUNT($Q155:BR155)+1,12)=0,(BR155*$E27)+BR155,BR155)),\"NÃO\"),\"NÃO\")","v":"NÃO"},{"$f":"IF(AND(BT$8>=$M27,BT$8<=$N27),IF($F27=\"ANUAL\",IF(BS155=\"NÃO\",$D27,IF(MOD(COUNT($Q155:BS155)+1,12)=0,(BS155*$E27)+BS155,BS155)),\"NÃO\"),\"NÃO\")","v":"NÃO"},{"$f":"IF(AND(BU$8>=$M27,BU$8<=$N27),IF($F27=\"ANUAL\",IF(BT155=\"NÃO\",$D27,IF(MOD(COUNT($Q155:BT155)+1,12)=0,(BT155*$E27)+BT155,BT155)),\"NÃO\"),\"NÃO\")","v":"NÃO"},{"$f":"IF(AND(BV$8>=$M27,BV$8<=$N27),IF($F27=\"ANUAL\",IF(BU155=\"NÃO\",$D27,IF(MOD(COUNT($Q155:BU155)+1,12)=0,(BU155*$E27)+BU155,BU155)),\"NÃO\"),\"NÃO\")","v":"NÃO"},{"$f":"IF(AND(BW$8>=$M27,BW$8<=$N27),IF($F27=\"ANUAL\",IF(BV155=\"NÃO\",$D27,IF(MOD(COUNT($Q155:BV155)+1,12)=0,(BV155*$E27)+BV155,BV155)),\"NÃO\"),\"NÃO\")","v":"NÃO"},{"$f":"IF(AND(BX$8>=$M27,BX$8<=$N27),IF($F27=\"ANUAL\",IF(BW155=\"NÃO\",$D27,IF(MOD(COUNT($Q155:BW155)+1,12)=0,(BW155*$E27)+BW155,BW155)),\"NÃO\"),\"NÃO\")","v":"NÃO"}]
[null,null,null,null,null,null,null,null,null,null,null,null,null,null,null,20,"NÃO",{"$f":"IF(AND(R$8>=$M28,R$8<=$N28),IF($F28=\"ANUAL\",IF(Q156=\"NÃO\",$D28,IF(MOD(COUNT($Q156:Q156)+1,12)=0,(Q156*$E28)+Q156,Q156)),\"NÃO\"),\"NÃO\")","v":"NÃO"},{"$f":"IF(AND(S$8>=$M28,S$8<=$N28),IF($F28=\"ANUAL\",IF(R156=\"NÃO\",$D28,IF(MOD(COUNT($Q156:R156)+1,12)=0,(R156*$E28)+R156,R156)),\"NÃO\"),\"NÃO\")","v":"NÃO"},{"$f":"IF(AND(T$8>=$M28,T$8<=$N28),IF($F28=\"ANUAL\",IF(S156=\"NÃO\",$D28,IF(MOD(COUNT($Q156:S156)+1,12)=0,(S156*$E28)+S156,S156)),\"NÃO\"),\"NÃO\")","v":"NÃO"},{"$f":"IF(AND(U$8>=$M28,U$8<=$N28),IF($F28=\"ANUAL\",IF(T156=\"NÃO\",$D28,IF(MOD(COUNT($Q156:T156)+1,12)=0,(T156*$E28)+T156,T156)),\"NÃO\"),\"NÃO\")","v":"NÃO"},{"$f":"IF(AND(V$8>=$M28,V$8<=$N28),IF($F28=\"ANUAL\",IF(U156=\"NÃO\",$D28,IF(MOD(COUNT($Q156:U156)+1,12)=0,(U156*$E28)+U156,U156)),\"NÃO\"),\"NÃO\")","v":"NÃO"},{"$f":"IF(AND(W$8>=$M28,W$8<=$N28),IF($F28=\"ANUAL\",IF(V156=\"NÃO\",$D28,IF(MOD(COUNT($Q156:V156)+1,12)=0,(V156*$E28)+V156,V156)),\"NÃO\"),\"NÃO\")","v":"NÃO"},{"$f":"IF(AND(X$8>=$M28,X$8<=$N28),IF($F28=\"ANUAL\",IF(W156=\"NÃO\",$D28,IF(MOD(COUNT($Q156:W156)+1,12)=0,(W156*$E28)+W156,W156)),\"NÃO\"),\"NÃO\")","v":"NÃO"},{"$f":"IF(AND(Y$8>=$M28,Y$8<=$N28),IF($F28=\"ANUAL\",IF(X156=\"NÃO\",$D28,IF(MOD(COUNT($Q156:X156)+1,12)=0,(X156*$E28)+X156,X156)),\"NÃO\"),\"NÃO\")","v":"NÃO"},{"$f":"IF(AND(Z$8>=$M28,Z$8<=$N28),IF($F28=\"ANUAL\",IF(Y156=\"NÃO\",$D28,IF(MOD(COUNT($Q156:Y156)+1,12)=0,(Y156*$E28)+Y156,Y156)),\"NÃO\"),\"NÃO\")","v":"NÃO"},{"$f":"IF(AND(AA$8>=$M28,AA$8<=$N28),IF($F28=\"ANUAL\",IF(Z156=\"NÃO\",$D28,IF(MOD(COUNT($Q156:Z156)+1,12)=0,(Z156*$E28)+Z156,Z156)),\"NÃO\"),\"NÃO\")","v":"NÃO"},{"$f":"IF(AND(AB$8>=$M28,AB$8<=$N28),IF($F28=\"ANUAL\",IF(AA156=\"NÃO\",$D28,IF(MOD(COUNT($Q156:AA156)+1,12)=0,(AA156*$E28)+AA156,AA156)),\"NÃO\"),\"NÃO\")","v":"NÃO"},{"$f":"IF(AND(AC$8>=$M28,AC$8<=$N28),IF($F28=\"ANUAL\",IF(AB156=\"NÃO\",$D28,IF(MOD(COUNT($Q156:AB156)+1,12)=0,(AB156*$E28)+AB156,AB156)),\"NÃO\"),\"NÃO\")","v":"NÃO"},{"$f":"IF(AND(AD$8>=$M28,AD$8<=$N28),IF($F28=\"ANUAL\",IF(AC156=\"NÃO\",$D28,IF(MOD(COUNT($Q156:AC156)+1,12)=0,(AC156*$E28)+AC156,AC156)),\"NÃO\"),\"NÃO\")","v":"NÃO"},{"$f":"IF(AND(AE$8>=$M28,AE$8<=$N28),IF($F28=\"ANUAL\",IF(AD156=\"NÃO\",$D28,IF(MOD(COUNT($Q156:AD156)+1,12)=0,(AD156*$E28)+AD156,AD156)),\"NÃO\"),\"NÃO\")","v":"NÃO"},{"$f":"IF(AND(AF$8>=$M28,AF$8<=$N28),IF($F28=\"ANUAL\",IF(AE156=\"NÃO\",$D28,IF(MOD(COUNT($Q156:AE156)+1,12)=0,(AE156*$E28)+AE156,AE156)),\"NÃO\"),\"NÃO\")","v":"NÃO"},{"$f":"IF(AND(AG$8>=$M28,AG$8<=$N28),IF($F28=\"ANUAL\",IF(AF156=\"NÃO\",$D28,IF(MOD(COUNT($Q156:AF156)+1,12)=0,(AF156*$E28)+AF156,AF156)),\"NÃO\"),\"NÃO\")","v":"NÃO"},{"$f":"IF(AND(AH$8>=$M28,AH$8<=$N28),IF($F28=\"ANUAL\",IF(AG156=\"NÃO\",$D28,IF(MOD(COUNT($Q156:AG156)+1,12)=0,(AG156*$E28)+AG156,AG156)),\"NÃO\"),\"NÃO\")","v":"NÃO"},{"$f":"IF(AND(AI$8>=$M28,AI$8<=$N28),IF($F28=\"ANUAL\",IF(AH156=\"NÃO\",$D28,IF(MOD(COUNT($Q156:AH156)+1,12)=0,(AH156*$E28)+AH156,AH156)),\"NÃO\"),\"NÃO\")","v":"NÃO"},{"$f":"IF(AND(AJ$8>=$M28,AJ$8<=$N28),IF($F28=\"ANUAL\",IF(AI156=\"NÃO\",$D28,IF(MOD(COUNT($Q156:AI156)+1,12)=0,(AI156*$E28)+AI156,AI156)),\"NÃO\"),\"NÃO\")","v":"NÃO"},{"$f":"IF(AND(AK$8>=$M28,AK$8<=$N28),IF($F28=\"ANUAL\",IF(AJ156=\"NÃO\",$D28,IF(MOD(COUNT($Q156:AJ156)+1,12)=0,(AJ156*$E28)+AJ156,AJ156)),\"NÃO\"),\"NÃO\")","v":"NÃO"},{"$f":"IF(AND(AL$8>=$M28,AL$8<=$N28),IF($F28=\"ANUAL\",IF(AK156=\"NÃO\",$D28,IF(MOD(COUNT($Q156:AK156)+1,12)=0,(AK156*$E28)+AK156,AK156)),\"NÃO\"),\"NÃO\")","v":"NÃO"},{"$f":"IF(AND(AM$8>=$M28,AM$8<=$N28),IF($F28=\"ANUAL\",IF(AL156=\"NÃO\",$D28,IF(MOD(COUNT($Q156:AL156)+1,12)=0,(AL156*$E28)+AL156,AL156)),\"NÃO\"),\"NÃO\")","v":"NÃO"},{"$f":"IF(AND(AN$8>=$M28,AN$8<=$N28),IF($F28=\"ANUAL\",IF(AM156=\"NÃO\",$D28,IF(MOD(COUNT($Q156:AM156)+1,12)=0,(AM156*$E28)+AM156,AM156)),\"NÃO\"),\"NÃO\")","v":"NÃO"},{"$f":"IF(AND(AO$8>=$M28,AO$8<=$N28),IF($F28=\"ANUAL\",IF(AN156=\"NÃO\",$D28,IF(MOD(COUNT($Q156:AN156)+1,12)=0,(AN156*$E28)+AN156,AN156)),\"NÃO\"),\"NÃO\")","v":"NÃO"},{"$f":"IF(AND(AP$8>=$M28,AP$8<=$N28),IF($F28=\"ANUAL\",IF(AO156=\"NÃO\",$D28,IF(MOD(COUNT($Q156:AO156)+1,12)=0,(AO156*$E28)+AO156,AO156)),\"NÃO\"),\"NÃO\")","v":"NÃO"},{"$f":"IF(AND(AQ$8>=$M28,AQ$8<=$N28),IF($F28=\"ANUAL\",IF(AP156=\"NÃO\",$D28,IF(MOD(COUNT($Q156:AP156)+1,12)=0,(AP156*$E28)+AP156,AP156)),\"NÃO\"),\"NÃO\")","v":"NÃO"},{"$f":"IF(AND(AR$8>=$M28,AR$8<=$N28),IF($F28=\"ANUAL\",IF(AQ156=\"NÃO\",$D28,IF(MOD(COUNT($Q156:AQ156)+1,12)=0,(AQ156*$E28)+AQ156,AQ156)),\"NÃO\"),\"NÃO\")","v":"NÃO"},{"$f":"IF(AND(AS$8>=$M28,AS$8<=$N28),IF($F28=\"ANUAL\",IF(AR156=\"NÃO\",$D28,IF(MOD(COUNT($Q156:AR156)+1,12)=0,(AR156*$E28)+AR156,AR156)),\"NÃO\"),\"NÃO\")","v":"NÃO"},{"$f":"IF(AND(AT$8>=$M28,AT$8<=$N28),IF($F28=\"ANUAL\",IF(AS156=\"NÃO\",$D28,IF(MOD(COUNT($Q156:AS156)+1,12)=0,(AS156*$E28)+AS156,AS156)),\"NÃO\"),\"NÃO\")","v":"NÃO"},{"$f":"IF(AND(AU$8>=$M28,AU$8<=$N28),IF($F28=\"ANUAL\",IF(AT156=\"NÃO\",$D28,IF(MOD(COUNT($Q156:AT156)+1,12)=0,(AT156*$E28)+AT156,AT156)),\"NÃO\"),\"NÃO\")","v":"NÃO"},{"$f":"IF(AND(AV$8>=$M28,AV$8<=$N28),IF($F28=\"ANUAL\",IF(AU156=\"NÃO\",$D28,IF(MOD(COUNT($Q156:AU156)+1,12)=0,(AU156*$E28)+AU156,AU156)),\"NÃO\"),\"NÃO\")","v":"NÃO"},{"$f":"IF(AND(AW$8>=$M28,AW$8<=$N28),IF($F28=\"ANUAL\",IF(AV156=\"NÃO\",$D28,IF(MOD(COUNT($Q156:AV156)+1,12)=0,(AV156*$E28)+AV156,AV156)),\"NÃO\"),\"NÃO\")","v":"NÃO"},{"$f":"IF(AND(AX$8>=$M28,AX$8<=$N28),IF($F28=\"ANUAL\",IF(AW156=\"NÃO\",$D28,IF(MOD(COUNT($Q156:AW156)+1,12)=0,(AW156*$E28)+AW156,AW156)),\"NÃO\"),\"NÃO\")","v":"NÃO"},{"$f":"IF(AND(AY$8>=$M28,AY$8<=$N28),IF($F28=\"ANUAL\",IF(AX156=\"NÃO\",$D28,IF(MOD(COUNT($Q156:AX156)+1,12)=0,(AX156*$E28)+AX156,AX156)),\"NÃO\"),\"NÃO\")","v":"NÃO"},{"$f":"IF(AND(AZ$8>=$M28,AZ$8<=$N28),IF($F28=\"ANUAL\",IF(AY156=\"NÃO\",$D28,IF(MOD(COUNT($Q156:AY156)+1,12)=0,(AY156*$E28)+AY156,AY156)),\"NÃO\"),\"NÃO\")","v":"NÃO"},{"$f":"IF(AND(BA$8>=$M28,BA$8<=$N28),IF($F28=\"ANUAL\",IF(AZ156=\"NÃO\",$D28,IF(MOD(COUNT($Q156:AZ156)+1,12)=0,(AZ156*$E28)+AZ156,AZ156)),\"NÃO\"),\"NÃO\")","v":"NÃO"},{"$f":"IF(AND(BB$8>=$M28,BB$8<=$N28),IF($F28=\"ANUAL\",IF(BA156=\"NÃO\",$D28,IF(MOD(COUNT($Q156:BA156)+1,12)=0,(BA156*$E28)+BA156,BA156)),\"NÃO\"),\"NÃO\")","v":"NÃO"},{"$f":"IF(AND(BC$8>=$M28,BC$8<=$N28),IF($F28=\"ANUAL\",IF(BB156=\"NÃO\",$D28,IF(MOD(COUNT($Q156:BB156)+1,12)=0,(BB156*$E28)+BB156,BB156)),\"NÃO\"),\"NÃO\")","v":"NÃO"},{"$f":"IF(AND(BD$8>=$M28,BD$8<=$N28),IF($F28=\"ANUAL\",IF(BC156=\"NÃO\",$D28,IF(MOD(COUNT($Q156:BC156)+1,12)=0,(BC156*$E28)+BC156,BC156)),\"NÃO\"),\"NÃO\")","v":"NÃO"},{"$f":"IF(AND(BE$8>=$M28,BE$8<=$N28),IF($F28=\"ANUAL\",IF(BD156=\"NÃO\",$D28,IF(MOD(COUNT($Q156:BD156)+1,12)=0,(BD156*$E28)+BD156,BD156)),\"NÃO\"),\"NÃO\")","v":"NÃO"},{"$f":"IF(AND(BF$8>=$M28,BF$8<=$N28),IF($F28=\"ANUAL\",IF(BE156=\"NÃO\",$D28,IF(MOD(COUNT($Q156:BE156)+1,12)=0,(BE156*$E28)+BE156,BE156)),\"NÃO\"),\"NÃO\")","v":"NÃO"},{"$f":"IF(AND(BG$8>=$M28,BG$8<=$N28),IF($F28=\"ANUAL\",IF(BF156=\"NÃO\",$D28,IF(MOD(COUNT($Q156:BF156)+1,12)=0,(BF156*$E28)+BF156,BF156)),\"NÃO\"),\"NÃO\")","v":"NÃO"},{"$f":"IF(AND(BH$8>=$M28,BH$8<=$N28),IF($F28=\"ANUAL\",IF(BG156=\"NÃO\",$D28,IF(MOD(COUNT($Q156:BG156)+1,12)=0,(BG156*$E28)+BG156,BG156)),\"NÃO\"),\"NÃO\")","v":"NÃO"},{"$f":"IF(AND(BI$8>=$M28,BI$8<=$N28),IF($F28=\"ANUAL\",IF(BH156=\"NÃO\",$D28,IF(MOD(COUNT($Q156:BH156)+1,12)=0,(BH156*$E28)+BH156,BH156)),\"NÃO\"),\"NÃO\")","v":"NÃO"},{"$f":"IF(AND(BJ$8>=$M28,BJ$8<=$N28),IF($F28=\"ANUAL\",IF(BI156=\"NÃO\",$D28,IF(MOD(COUNT($Q156:BI156)+1,12)=0,(BI156*$E28)+BI156,BI156)),\"NÃO\"),\"NÃO\")","v":"NÃO"},{"$f":"IF(AND(BK$8>=$M28,BK$8<=$N28),IF($F28=\"ANUAL\",IF(BJ156=\"NÃO\",$D28,IF(MOD(COUNT($Q156:BJ156)+1,12)=0,(BJ156*$E28)+BJ156,BJ156)),\"NÃO\"),\"NÃO\")","v":"NÃO"},{"$f":"IF(AND(BL$8>=$M28,BL$8<=$N28),IF($F28=\"ANUAL\",IF(BK156=\"NÃO\",$D28,IF(MOD(COUNT($Q156:BK156)+1,12)=0,(BK156*$E28)+BK156,BK156)),\"NÃO\"),\"NÃO\")","v":"NÃO"},{"$f":"IF(AND(BM$8>=$M28,BM$8<=$N28),IF($F28=\"ANUAL\",IF(BL156=\"NÃO\",$D28,IF(MOD(COUNT($Q156:BL156)+1,12)=0,(BL156*$E28)+BL156,BL156)),\"NÃO\"),\"NÃO\")","v":"NÃO"},{"$f":"IF(AND(BN$8>=$M28,BN$8<=$N28),IF($F28=\"ANUAL\",IF(BM156=\"NÃO\",$D28,IF(MOD(COUNT($Q156:BM156)+1,12)=0,(BM156*$E28)+BM156,BM156)),\"NÃO\"),\"NÃO\")","v":"NÃO"},{"$f":"IF(AND(BO$8>=$M28,BO$8<=$N28),IF($F28=\"ANUAL\",IF(BN156=\"NÃO\",$D28,IF(MOD(COUNT($Q156:BN156)+1,12)=0,(BN156*$E28)+BN156,BN156)),\"NÃO\"),\"NÃO\")","v":"NÃO"},{"$f":"IF(AND(BP$8>=$M28,BP$8<=$N28),IF($F28=\"ANUAL\",IF(BO156=\"NÃO\",$D28,IF(MOD(COUNT($Q156:BO156)+1,12)=0,(BO156*$E28)+BO156,BO156)),\"NÃO\"),\"NÃO\")","v":"NÃO"},{"$f":"IF(AND(BQ$8>=$M28,BQ$8<=$N28),IF($F28=\"ANUAL\",IF(BP156=\"NÃO\",$D28,IF(MOD(COUNT($Q156:BP156)+1,12)=0,(BP156*$E28)+BP156,BP156)),\"NÃO\"),\"NÃO\")","v":"NÃO"},{"$f":"IF(AND(BR$8>=$M28,BR$8<=$N28),IF($F28=\"ANUAL\",IF(BQ156=\"NÃO\",$D28,IF(MOD(COUNT($Q156:BQ156)+1,12)=0,(BQ156*$E28)+BQ156,BQ156)),\"NÃO\"),\"NÃO\")","v":"NÃO"},{"$f":"IF(AND(BS$8>=$M28,BS$8<=$N28),IF($F28=\"ANUAL\",IF(BR156=\"NÃO\",$D28,IF(MOD(COUNT($Q156:BR156)+1,12)=0,(BR156*$E28)+BR156,BR156)),\"NÃO\"),\"NÃO\")","v":"NÃO"},{"$f":"IF(AND(BT$8>=$M28,BT$8<=$N28),IF($F28=\"ANUAL\",IF(BS156=\"NÃO\",$D28,IF(MOD(COUNT($Q156:BS156)+1,12)=0,(BS156*$E28)+BS156,BS156)),\"NÃO\"),\"NÃO\")","v":"NÃO"},{"$f":"IF(AND(BU$8>=$M28,BU$8<=$N28),IF($F28=\"ANUAL\",IF(BT156=\"NÃO\",$D28,IF(MOD(COUNT($Q156:BT156)+1,12)=0,(BT156*$E28)+BT156,BT156)),\"NÃO\"),\"NÃO\")","v":"NÃO"},{"$f":"IF(AND(BV$8>=$M28,BV$8<=$N28),IF($F28=\"ANUAL\",IF(BU156=\"NÃO\",$D28,IF(MOD(COUNT($Q156:BU156)+1,12)=0,(BU156*$E28)+BU156,BU156)),\"NÃO\"),\"NÃO\")","v":"NÃO"},{"$f":"IF(AND(BW$8>=$M28,BW$8<=$N28),IF($F28=\"ANUAL\",IF(BV156=\"NÃO\",$D28,IF(MOD(COUNT($Q156:BV156)+1,12)=0,(BV156*$E28)+BV156,BV156)),\"NÃO\"),\"NÃO\")","v":"NÃO"},{"$f":"IF(AND(BX$8>=$M28,BX$8<=$N28),IF($F28=\"ANUAL\",IF(BW156=\"NÃO\",$D28,IF(MOD(COUNT($Q156:BW156)+1,12)=0,(BW156*$E28)+BW156,BW156)),\"NÃO\"),\"NÃO\")","v":"NÃO"}]
[null,null,null,null,null,null,null,null,null,null,null,null,null,null,null,21,"NÃO",{"$f":"IF(AND(R$8>=$M29,R$8<=$N29),IF($F29=\"ANUAL\",IF(Q157=\"NÃO\",$D29,IF(MOD(COUNT($Q157:Q157)+1,12)=0,(Q157*$E29)+Q157,Q157)),\"NÃO\"),\"NÃO\")","v":"NÃO"},{"$f":"IF(AND(S$8>=$M29,S$8<=$N29),IF($F29=\"ANUAL\",IF(R157=\"NÃO\",$D29,IF(MOD(COUNT($Q157:R157)+1,12)=0,(R157*$E29)+R157,R157)),\"NÃO\"),\"NÃO\")","v":"NÃO"},{"$f":"IF(AND(T$8>=$M29,T$8<=$N29),IF($F29=\"ANUAL\",IF(S157=\"NÃO\",$D29,IF(MOD(COUNT($Q157:S157)+1,12)=0,(S157*$E29)+S157,S157)),\"NÃO\"),\"NÃO\")","v":"NÃO"},{"$f":"IF(AND(U$8>=$M29,U$8<=$N29),IF($F29=\"ANUAL\",IF(T157=\"NÃO\",$D29,IF(MOD(COUNT($Q157:T157)+1,12)=0,(T157*$E29)+T157,T157)),\"NÃO\"),\"NÃO\")","v":"NÃO"},{"$f":"IF(AND(V$8>=$M29,V$8<=$N29),IF($F29=\"ANUAL\",IF(U157=\"NÃO\",$D29,IF(MOD(COUNT($Q157:U157)+1,12)=0,(U157*$E29)+U157,U157)),\"NÃO\"),\"NÃO\")","v":"NÃO"},{"$f":"IF(AND(W$8>=$M29,W$8<=$N29),IF($F29=\"ANUAL\",IF(V157=\"NÃO\",$D29,IF(MOD(COUNT($Q157:V157)+1,12)=0,(V157*$E29)+V157,V157)),\"NÃO\"),\"NÃO\")","v":"NÃO"},{"$f":"IF(AND(X$8>=$M29,X$8<=$N29),IF($F29=\"ANUAL\",IF(W157=\"NÃO\",$D29,IF(MOD(COUNT($Q157:W157)+1,12)=0,(W157*$E29)+W157,W157)),\"NÃO\"),\"NÃO\")","v":"NÃO"},{"$f":"IF(AND(Y$8>=$M29,Y$8<=$N29),IF($F29=\"ANUAL\",IF(X157=\"NÃO\",$D29,IF(MOD(COUNT($Q157:X157)+1,12)=0,(X157*$E29)+X157,X157)),\"NÃO\"),\"NÃO\")","v":"NÃO"},{"$f":"IF(AND(Z$8>=$M29,Z$8<=$N29),IF($F29=\"ANUAL\",IF(Y157=\"NÃO\",$D29,IF(MOD(COUNT($Q157:Y157)+1,12)=0,(Y157*$E29)+Y157,Y157)),\"NÃO\"),\"NÃO\")","v":"NÃO"},{"$f":"IF(AND(AA$8>=$M29,AA$8<=$N29),IF($F29=\"ANUAL\",IF(Z157=\"NÃO\",$D29,IF(MOD(COUNT($Q157:Z157)+1,12)=0,(Z157*$E29)+Z157,Z157)),\"NÃO\"),\"NÃO\")","v":"NÃO"},{"$f":"IF(AND(AB$8>=$M29,AB$8<=$N29),IF($F29=\"ANUAL\",IF(AA157=\"NÃO\",$D29,IF(MOD(COUNT($Q157:AA157)+1,12)=0,(AA157*$E29)+AA157,AA157)),\"NÃO\"),\"NÃO\")","v":"NÃO"},{"$f":"IF(AND(AC$8>=$M29,AC$8<=$N29),IF($F29=\"ANUAL\",IF(AB157=\"NÃO\",$D29,IF(MOD(COUNT($Q157:AB157)+1,12)=0,(AB157*$E29)+AB157,AB157)),\"NÃO\"),\"NÃO\")","v":"NÃO"},{"$f":"IF(AND(AD$8>=$M29,AD$8<=$N29),IF($F29=\"ANUAL\",IF(AC157=\"NÃO\",$D29,IF(MOD(COUNT($Q157:AC157)+1,12)=0,(AC157*$E29)+AC157,AC157)),\"NÃO\"),\"NÃO\")","v":"NÃO"},{"$f":"IF(AND(AE$8>=$M29,AE$8<=$N29),IF($F29=\"ANUAL\",IF(AD157=\"NÃO\",$D29,IF(MOD(COUNT($Q157:AD157)+1,12)=0,(AD157*$E29)+AD157,AD157)),\"NÃO\"),\"NÃO\")","v":"NÃO"},{"$f":"IF(AND(AF$8>=$M29,AF$8<=$N29),IF($F29=\"ANUAL\",IF(AE157=\"NÃO\",$D29,IF(MOD(COUNT($Q157:AE157)+1,12)=0,(AE157*$E29)+AE157,AE157)),\"NÃO\"),\"NÃO\")","v":"NÃO"},{"$f":"IF(AND(AG$8>=$M29,AG$8<=$N29),IF($F29=\"ANUAL\",IF(AF157=\"NÃO\",$D29,IF(MOD(COUNT($Q157:AF157)+1,12)=0,(AF157*$E29)+AF157,AF157)),\"NÃO\"),\"NÃO\")","v":"NÃO"},{"$f":"IF(AND(AH$8>=$M29,AH$8<=$N29),IF($F29=\"ANUAL\",IF(AG157=\"NÃO\",$D29,IF(MOD(COUNT($Q157:AG157)+1,12)=0,(AG157*$E29)+AG157,AG157)),\"NÃO\"),\"NÃO\")","v":"NÃO"},{"$f":"IF(AND(AI$8>=$M29,AI$8<=$N29),IF($F29=\"ANUAL\",IF(AH157=\"NÃO\",$D29,IF(MOD(COUNT($Q157:AH157)+1,12)=0,(AH157*$E29)+AH157,AH157)),\"NÃO\"),\"NÃO\")","v":"NÃO"},{"$f":"IF(AND(AJ$8>=$M29,AJ$8<=$N29),IF($F29=\"ANUAL\",IF(AI157=\"NÃO\",$D29,IF(MOD(COUNT($Q157:AI157)+1,12)=0,(AI157*$E29)+AI157,AI157)),\"NÃO\"),\"NÃO\")","v":"NÃO"},{"$f":"IF(AND(AK$8>=$M29,AK$8<=$N29),IF($F29=\"ANUAL\",IF(AJ157=\"NÃO\",$D29,IF(MOD(COUNT($Q157:AJ157)+1,12)=0,(AJ157*$E29)+AJ157,AJ157)),\"NÃO\"),\"NÃO\")","v":"NÃO"},{"$f":"IF(AND(AL$8>=$M29,AL$8<=$N29),IF($F29=\"ANUAL\",IF(AK157=\"NÃO\",$D29,IF(MOD(COUNT($Q157:AK157)+1,12)=0,(AK157*$E29)+AK157,AK157)),\"NÃO\"),\"NÃO\")","v":"NÃO"},{"$f":"IF(AND(AM$8>=$M29,AM$8<=$N29),IF($F29=\"ANUAL\",IF(AL157=\"NÃO\",$D29,IF(MOD(COUNT($Q157:AL157)+1,12)=0,(AL157*$E29)+AL157,AL157)),\"NÃO\"),\"NÃO\")","v":"NÃO"},{"$f":"IF(AND(AN$8>=$M29,AN$8<=$N29),IF($F29=\"ANUAL\",IF(AM157=\"NÃO\",$D29,IF(MOD(COUNT($Q157:AM157)+1,12)=0,(AM157*$E29)+AM157,AM157)),\"NÃO\"),\"NÃO\")","v":"NÃO"},{"$f":"IF(AND(AO$8>=$M29,AO$8<=$N29),IF($F29=\"ANUAL\",IF(AN157=\"NÃO\",$D29,IF(MOD(COUNT($Q157:AN157)+1,12)=0,(AN157*$E29)+AN157,AN157)),\"NÃO\"),\"NÃO\")","v":"NÃO"},{"$f":"IF(AND(AP$8>=$M29,AP$8<=$N29),IF($F29=\"ANUAL\",IF(AO157=\"NÃO\",$D29,IF(MOD(COUNT($Q157:AO157)+1,12)=0,(AO157*$E29)+AO157,AO157)),\"NÃO\"),\"NÃO\")","v":"NÃO"},{"$f":"IF(AND(AQ$8>=$M29,AQ$8<=$N29),IF($F29=\"ANUAL\",IF(AP157=\"NÃO\",$D29,IF(MOD(COUNT($Q157:AP157)+1,12)=0,(AP157*$E29)+AP157,AP157)),\"NÃO\"),\"NÃO\")","v":"NÃO"},{"$f":"IF(AND(AR$8>=$M29,AR$8<=$N29),IF($F29=\"ANUAL\",IF(AQ157=\"NÃO\",$D29,IF(MOD(COUNT($Q157:AQ157)+1,12)=0,(AQ157*$E29)+AQ157,AQ157)),\"NÃO\"),\"NÃO\")","v":"NÃO"},{"$f":"IF(AND(AS$8>=$M29,AS$8<=$N29),IF($F29=\"ANUAL\",IF(AR157=\"NÃO\",$D29,IF(MOD(COUNT($Q157:AR157)+1,12)=0,(AR157*$E29)+AR157,AR157)),\"NÃO\"),\"NÃO\")","v":"NÃO"},{"$f":"IF(AND(AT$8>=$M29,AT$8<=$N29),IF($F29=\"ANUAL\",IF(AS157=\"NÃO\",$D29,IF(MOD(COUNT($Q157:AS157)+1,12)=0,(AS157*$E29)+AS157,AS157)),\"NÃO\"),\"NÃO\")","v":"NÃO"},{"$f":"IF(AND(AU$8>=$M29,AU$8<=$N29),IF($F29=\"ANUAL\",IF(AT157=\"NÃO\",$D29,IF(MOD(COUNT($Q157:AT157)+1,12)=0,(AT157*$E29)+AT157,AT157)),\"NÃO\"),\"NÃO\")","v":"NÃO"},{"$f":"IF(AND(AV$8>=$M29,AV$8<=$N29),IF($F29=\"ANUAL\",IF(AU157=\"NÃO\",$D29,IF(MOD(COUNT($Q157:AU157)+1,12)=0,(AU157*$E29)+AU157,AU157)),\"NÃO\"),\"NÃO\")","v":"NÃO"},{"$f":"IF(AND(AW$8>=$M29,AW$8<=$N29),IF($F29=\"ANUAL\",IF(AV157=\"NÃO\",$D29,IF(MOD(COUNT($Q157:AV157)+1,12)=0,(AV157*$E29)+AV157,AV157)),\"NÃO\"),\"NÃO\")","v":"NÃO"},{"$f":"IF(AND(AX$8>=$M29,AX$8<=$N29),IF($F29=\"ANUAL\",IF(AW157=\"NÃO\",$D29,IF(MOD(COUNT($Q157:AW157)+1,12)=0,(AW157*$E29)+AW157,AW157)),\"NÃO\"),\"NÃO\")","v":"NÃO"},{"$f":"IF(AND(AY$8>=$M29,AY$8<=$N29),IF($F29=\"ANUAL\",IF(AX157=\"NÃO\",$D29,IF(MOD(COUNT($Q157:AX157)+1,12)=0,(AX157*$E29)+AX157,AX157)),\"NÃO\"),\"NÃO\")","v":"NÃO"},{"$f":"IF(AND(AZ$8>=$M29,AZ$8<=$N29),IF($F29=\"ANUAL\",IF(AY157=\"NÃO\",$D29,IF(MOD(COUNT($Q157:AY157)+1,12)=0,(AY157*$E29)+AY157,AY157)),\"NÃO\"),\"NÃO\")","v":"NÃO"},{"$f":"IF(AND(BA$8>=$M29,BA$8<=$N29),IF($F29=\"ANUAL\",IF(AZ157=\"NÃO\",$D29,IF(MOD(COUNT($Q157:AZ157)+1,12)=0,(AZ157*$E29)+AZ157,AZ157)),\"NÃO\"),\"NÃO\")","v":"NÃO"},{"$f":"IF(AND(BB$8>=$M29,BB$8<=$N29),IF($F29=\"ANUAL\",IF(BA157=\"NÃO\",$D29,IF(MOD(COUNT($Q157:BA157)+1,12)=0,(BA157*$E29)+BA157,BA157)),\"NÃO\"),\"NÃO\")","v":"NÃO"},{"$f":"IF(AND(BC$8>=$M29,BC$8<=$N29),IF($F29=\"ANUAL\",IF(BB157=\"NÃO\",$D29,IF(MOD(COUNT($Q157:BB157)+1,12)=0,(BB157*$E29)+BB157,BB157)),\"NÃO\"),\"NÃO\")","v":"NÃO"},{"$f":"IF(AND(BD$8>=$M29,BD$8<=$N29),IF($F29=\"ANUAL\",IF(BC157=\"NÃO\",$D29,IF(MOD(COUNT($Q157:BC157)+1,12)=0,(BC157*$E29)+BC157,BC157)),\"NÃO\"),\"NÃO\")","v":"NÃO"},{"$f":"IF(AND(BE$8>=$M29,BE$8<=$N29),IF($F29=\"ANUAL\",IF(BD157=\"NÃO\",$D29,IF(MOD(COUNT($Q157:BD157)+1,12)=0,(BD157*$E29)+BD157,BD157)),\"NÃO\"),\"NÃO\")","v":"NÃO"},{"$f":"IF(AND(BF$8>=$M29,BF$8<=$N29),IF($F29=\"ANUAL\",IF(BE157=\"NÃO\",$D29,IF(MOD(COUNT($Q157:BE157)+1,12)=0,(BE157*$E29)+BE157,BE157)),\"NÃO\"),\"NÃO\")","v":"NÃO"},{"$f":"IF(AND(BG$8>=$M29,BG$8<=$N29),IF($F29=\"ANUAL\",IF(BF157=\"NÃO\",$D29,IF(MOD(COUNT($Q157:BF157)+1,12)=0,(BF157*$E29)+BF157,BF157)),\"NÃO\"),\"NÃO\")","v":"NÃO"},{"$f":"IF(AND(BH$8>=$M29,BH$8<=$N29),IF($F29=\"ANUAL\",IF(BG157=\"NÃO\",$D29,IF(MOD(COUNT($Q157:BG157)+1,12)=0,(BG157*$E29)+BG157,BG157)),\"NÃO\"),\"NÃO\")","v":"NÃO"},{"$f":"IF(AND(BI$8>=$M29,BI$8<=$N29),IF($F29=\"ANUAL\",IF(BH157=\"NÃO\",$D29,IF(MOD(COUNT($Q157:BH157)+1,12)=0,(BH157*$E29)+BH157,BH157)),\"NÃO\"),\"NÃO\")","v":"NÃO"},{"$f":"IF(AND(BJ$8>=$M29,BJ$8<=$N29),IF($F29=\"ANUAL\",IF(BI157=\"NÃO\",$D29,IF(MOD(COUNT($Q157:BI157)+1,12)=0,(BI157*$E29)+BI157,BI157)),\"NÃO\"),\"NÃO\")","v":"NÃO"},{"$f":"IF(AND(BK$8>=$M29,BK$8<=$N29),IF($F29=\"ANUAL\",IF(BJ157=\"NÃO\",$D29,IF(MOD(COUNT($Q157:BJ157)+1,12)=0,(BJ157*$E29)+BJ157,BJ157)),\"NÃO\"),\"NÃO\")","v":"NÃO"},{"$f":"IF(AND(BL$8>=$M29,BL$8<=$N29),IF($F29=\"ANUAL\",IF(BK157=\"NÃO\",$D29,IF(MOD(COUNT($Q157:BK157)+1,12)=0,(BK157*$E29)+BK157,BK157)),\"NÃO\"),\"NÃO\")","v":"NÃO"},{"$f":"IF(AND(BM$8>=$M29,BM$8<=$N29),IF($F29=\"ANUAL\",IF(BL157=\"NÃO\",$D29,IF(MOD(COUNT($Q157:BL157)+1,12)=0,(BL157*$E29)+BL157,BL157)),\"NÃO\"),\"NÃO\")","v":"NÃO"},{"$f":"IF(AND(BN$8>=$M29,BN$8<=$N29),IF($F29=\"ANUAL\",IF(BM157=\"NÃO\",$D29,IF(MOD(COUNT($Q157:BM157)+1,12)=0,(BM157*$E29)+BM157,BM157)),\"NÃO\"),\"NÃO\")","v":"NÃO"},{"$f":"IF(AND(BO$8>=$M29,BO$8<=$N29),IF($F29=\"ANUAL\",IF(BN157=\"NÃO\",$D29,IF(MOD(COUNT($Q157:BN157)+1,12)=0,(BN157*$E29)+BN157,BN157)),\"NÃO\"),\"NÃO\")","v":"NÃO"},{"$f":"IF(AND(BP$8>=$M29,BP$8<=$N29),IF($F29=\"ANUAL\",IF(BO157=\"NÃO\",$D29,IF(MOD(COUNT($Q157:BO157)+1,12)=0,(BO157*$E29)+BO157,BO157)),\"NÃO\"),\"NÃO\")","v":"NÃO"},{"$f":"IF(AND(BQ$8>=$M29,BQ$8<=$N29),IF($F29=\"ANUAL\",IF(BP157=\"NÃO\",$D29,IF(MOD(COUNT($Q157:BP157)+1,12)=0,(BP157*$E29)+BP157,BP157)),\"NÃO\"),\"NÃO\")","v":"NÃO"},{"$f":"IF(AND(BR$8>=$M29,BR$8<=$N29),IF($F29=\"ANUAL\",IF(BQ157=\"NÃO\",$D29,IF(MOD(COUNT($Q157:BQ157)+1,12)=0,(BQ157*$E29)+BQ157,BQ157)),\"NÃO\"),\"NÃO\")","v":"NÃO"},{"$f":"IF(AND(BS$8>=$M29,BS$8<=$N29),IF($F29=\"ANUAL\",IF(BR157=\"NÃO\",$D29,IF(MOD(COUNT($Q157:BR157)+1,12)=0,(BR157*$E29)+BR157,BR157)),\"NÃO\"),\"NÃO\")","v":"NÃO"},{"$f":"IF(AND(BT$8>=$M29,BT$8<=$N29),IF($F29=\"ANUAL\",IF(BS157=\"NÃO\",$D29,IF(MOD(COUNT($Q157:BS157)+1,12)=0,(BS157*$E29)+BS157,BS157)),\"NÃO\"),\"NÃO\")","v":"NÃO"},{"$f":"IF(AND(BU$8>=$M29,BU$8<=$N29),IF($F29=\"ANUAL\",IF(BT157=\"NÃO\",$D29,IF(MOD(COUNT($Q157:BT157)+1,12)=0,(BT157*$E29)+BT157,BT157)),\"NÃO\"),\"NÃO\")","v":"NÃO"},{"$f":"IF(AND(BV$8>=$M29,BV$8<=$N29),IF($F29=\"ANUAL\",IF(BU157=\"NÃO\",$D29,IF(MOD(COUNT($Q157:BU157)+1,12)=0,(BU157*$E29)+BU157,BU157)),\"NÃO\"),\"NÃO\")","v":"NÃO"},{"$f":"IF(AND(BW$8>=$M29,BW$8<=$N29),IF($F29=\"ANUAL\",IF(BV157=\"NÃO\",$D29,IF(MOD(COUNT($Q157:BV157)+1,12)=0,(BV157*$E29)+BV157,BV157)),\"NÃO\"),\"NÃO\")","v":"NÃO"},{"$f":"IF(AND(BX$8>=$M29,BX$8<=$N29),IF($F29=\"ANUAL\",IF(BW157=\"NÃO\",$D29,IF(MOD(COUNT($Q157:BW157)+1,12)=0,(BW157*$E29)+BW157,BW157)),\"NÃO\"),\"NÃO\")","v":"NÃO"}]
[null,null,null,null,null,null,null,null,null,null,null,null,null,null,null,22,"NÃO",{"$f":"IF(AND(R$8>=$M30,R$8<=$N30),IF($F30=\"ANUAL\",IF(Q158=\"NÃO\",$D30,IF(MOD(COUNT($Q158:Q158)+1,12)=0,(Q158*$E30)+Q158,Q158)),\"NÃO\"),\"NÃO\")","v":"NÃO"},{"$f":"IF(AND(S$8>=$M30,S$8<=$N30),IF($F30=\"ANUAL\",IF(R158=\"NÃO\",$D30,IF(MOD(COUNT($Q158:R158)+1,12)=0,(R158*$E30)+R158,R158)),\"NÃO\"),\"NÃO\")","v":"NÃO"},{"$f":"IF(AND(T$8>=$M30,T$8<=$N30),IF($F30=\"ANUAL\",IF(S158=\"NÃO\",$D30,IF(MOD(COUNT($Q158:S158)+1,12)=0,(S158*$E30)+S158,S158)),\"NÃO\"),\"NÃO\")","v":"NÃO"},{"$f":"IF(AND(U$8>=$M30,U$8<=$N30),IF($F30=\"ANUAL\",IF(T158=\"NÃO\",$D30,IF(MOD(COUNT($Q158:T158)+1,12)=0,(T158*$E30)+T158,T158)),\"NÃO\"),\"NÃO\")","v":"NÃO"},{"$f":"IF(AND(V$8>=$M30,V$8<=$N30),IF($F30=\"ANUAL\",IF(U158=\"NÃO\",$D30,IF(MOD(COUNT($Q158:U158)+1,12)=0,(U158*$E30)+U158,U158)),\"NÃO\"),\"NÃO\")","v":"NÃO"},{"$f":"IF(AND(W$8>=$M30,W$8<=$N30),IF($F30=\"ANUAL\",IF(V158=\"NÃO\",$D30,IF(MOD(COUNT($Q158:V158)+1,12)=0,(V158*$E30)+V158,V158)),\"NÃO\"),\"NÃO\")","v":"NÃO"},{"$f":"IF(AND(X$8>=$M30,X$8<=$N30),IF($F30=\"ANUAL\",IF(W158=\"NÃO\",$D30,IF(MOD(COUNT($Q158:W158)+1,12)=0,(W158*$E30)+W158,W158)),\"NÃO\"),\"NÃO\")","v":"NÃO"},{"$f":"IF(AND(Y$8>=$M30,Y$8<=$N30),IF($F30=\"ANUAL\",IF(X158=\"NÃO\",$D30,IF(MOD(COUNT($Q158:X158)+1,12)=0,(X158*$E30)+X158,X158)),\"NÃO\"),\"NÃO\")","v":"NÃO"},{"$f":"IF(AND(Z$8>=$M30,Z$8<=$N30),IF($F30=\"ANUAL\",IF(Y158=\"NÃO\",$D30,IF(MOD(COUNT($Q158:Y158)+1,12)=0,(Y158*$E30)+Y158,Y158)),\"NÃO\"),\"NÃO\")","v":"NÃO"},{"$f":"IF(AND(AA$8>=$M30,AA$8<=$N30),IF($F30=\"ANUAL\",IF(Z158=\"NÃO\",$D30,IF(MOD(COUNT($Q158:Z158)+1,12)=0,(Z158*$E30)+Z158,Z158)),\"NÃO\"),\"NÃO\")","v":"NÃO"},{"$f":"IF(AND(AB$8>=$M30,AB$8<=$N30),IF($F30=\"ANUAL\",IF(AA158=\"NÃO\",$D30,IF(MOD(COUNT($Q158:AA158)+1,12)=0,(AA158*$E30)+AA158,AA158)),\"NÃO\"),\"NÃO\")","v":"NÃO"},{"$f":"IF(AND(AC$8>=$M30,AC$8<=$N30),IF($F30=\"ANUAL\",IF(AB158=\"NÃO\",$D30,IF(MOD(COUNT($Q158:AB158)+1,12)=0,(AB158*$E30)+AB158,AB158)),\"NÃO\"),\"NÃO\")","v":"NÃO"},{"$f":"IF(AND(AD$8>=$M30,AD$8<=$N30),IF($F30=\"ANUAL\",IF(AC158=\"NÃO\",$D30,IF(MOD(COUNT($Q158:AC158)+1,12)=0,(AC158*$E30)+AC158,AC158)),\"NÃO\"),\"NÃO\")","v":"NÃO"},{"$f":"IF(AND(AE$8>=$M30,AE$8<=$N30),IF($F30=\"ANUAL\",IF(AD158=\"NÃO\",$D30,IF(MOD(COUNT($Q158:AD158)+1,12)=0,(AD158*$E30)+AD158,AD158)),\"NÃO\"),\"NÃO\")","v":"NÃO"},{"$f":"IF(AND(AF$8>=$M30,AF$8<=$N30),IF($F30=\"ANUAL\",IF(AE158=\"NÃO\",$D30,IF(MOD(COUNT($Q158:AE158)+1,12)=0,(AE158*$E30)+AE158,AE158)),\"NÃO\"),\"NÃO\")","v":"NÃO"},{"$f":"IF(AND(AG$8>=$M30,AG$8<=$N30),IF($F30=\"ANUAL\",IF(AF158=\"NÃO\",$D30,IF(MOD(COUNT($Q158:AF158)+1,12)=0,(AF158*$E30)+AF158,AF158)),\"NÃO\"),\"NÃO\")","v":"NÃO"},{"$f":"IF(AND(AH$8>=$M30,AH$8<=$N30),IF($F30=\"ANUAL\",IF(AG158=\"NÃO\",$D30,IF(MOD(COUNT($Q158:AG158)+1,12)=0,(AG158*$E30)+AG158,AG158)),\"NÃO\"),\"NÃO\")","v":"NÃO"},{"$f":"IF(AND(AI$8>=$M30,AI$8<=$N30),IF($F30=\"ANUAL\",IF(AH158=\"NÃO\",$D30,IF(MOD(COUNT($Q158:AH158)+1,12)=0,(AH158*$E30)+AH158,AH158)),\"NÃO\"),\"NÃO\")","v":"NÃO"},{"$f":"IF(AND(AJ$8>=$M30,AJ$8<=$N30),IF($F30=\"ANUAL\",IF(AI158=\"NÃO\",$D30,IF(MOD(COUNT($Q158:AI158)+1,12)=0,(AI158*$E30)+AI158,AI158)),\"NÃO\"),\"NÃO\")","v":"NÃO"},{"$f":"IF(AND(AK$8>=$M30,AK$8<=$N30),IF($F30=\"ANUAL\",IF(AJ158=\"NÃO\",$D30,IF(MOD(COUNT($Q158:AJ158)+1,12)=0,(AJ158*$E30)+AJ158,AJ158)),\"NÃO\"),\"NÃO\")","v":"NÃO"},{"$f":"IF(AND(AL$8>=$M30,AL$8<=$N30),IF($F30=\"ANUAL\",IF(AK158=\"NÃO\",$D30,IF(MOD(COUNT($Q158:AK158)+1,12)=0,(AK158*$E30)+AK158,AK158)),\"NÃO\"),\"NÃO\")","v":"NÃO"},{"$f":"IF(AND(AM$8>=$M30,AM$8<=$N30),IF($F30=\"ANUAL\",IF(AL158=\"NÃO\",$D30,IF(MOD(COUNT($Q158:AL158)+1,12)=0,(AL158*$E30)+AL158,AL158)),\"NÃO\"),\"NÃO\")","v":"NÃO"},{"$f":"IF(AND(AN$8>=$M30,AN$8<=$N30),IF($F30=\"ANUAL\",IF(AM158=\"NÃO\",$D30,IF(MOD(COUNT($Q158:AM158)+1,12)=0,(AM158*$E30)+AM158,AM158)),\"NÃO\"),\"NÃO\")","v":"NÃO"},{"$f":"IF(AND(AO$8>=$M30,AO$8<=$N30),IF($F30=\"ANUAL\",IF(AN158=\"NÃO\",$D30,IF(MOD(COUNT($Q158:AN158)+1,12)=0,(AN158*$E30)+AN158,AN158)),\"NÃO\"),\"NÃO\")","v":"NÃO"},{"$f":"IF(AND(AP$8>=$M30,AP$8<=$N30),IF($F30=\"ANUAL\",IF(AO158=\"NÃO\",$D30,IF(MOD(COUNT($Q158:AO158)+1,12)=0,(AO158*$E30)+AO158,AO158)),\"NÃO\"),\"NÃO\")","v":"NÃO"},{"$f":"IF(AND(AQ$8>=$M30,AQ$8<=$N30),IF($F30=\"ANUAL\",IF(AP158=\"NÃO\",$D30,IF(MOD(COUNT($Q158:AP158)+1,12)=0,(AP158*$E30)+AP158,AP158)),\"NÃO\"),\"NÃO\")","v":"NÃO"},{"$f":"IF(AND(AR$8>=$M30,AR$8<=$N30),IF($F30=\"ANUAL\",IF(AQ158=\"NÃO\",$D30,IF(MOD(COUNT($Q158:AQ158)+1,12)=0,(AQ158*$E30)+AQ158,AQ158)),\"NÃO\"),\"NÃO\")","v":"NÃO"},{"$f":"IF(AND(AS$8>=$M30,AS$8<=$N30),IF($F30=\"ANUAL\",IF(AR158=\"NÃO\",$D30,IF(MOD(COUNT($Q158:AR158)+1,12)=0,(AR158*$E30)+AR158,AR158)),\"NÃO\"),\"NÃO\")","v":"NÃO"},{"$f":"IF(AND(AT$8>=$M30,AT$8<=$N30),IF($F30=\"ANUAL\",IF(AS158=\"NÃO\",$D30,IF(MOD(COUNT($Q158:AS158)+1,12)=0,(AS158*$E30)+AS158,AS158)),\"NÃO\"),\"NÃO\")","v":"NÃO"},{"$f":"IF(AND(AU$8>=$M30,AU$8<=$N30),IF($F30=\"ANUAL\",IF(AT158=\"NÃO\",$D30,IF(MOD(COUNT($Q158:AT158)+1,12)=0,(AT158*$E30)+AT158,AT158)),\"NÃO\"),\"NÃO\")","v":"NÃO"},{"$f":"IF(AND(AV$8>=$M30,AV$8<=$N30),IF($F30=\"ANUAL\",IF(AU158=\"NÃO\",$D30,IF(MOD(COUNT($Q158:AU158)+1,12)=0,(AU158*$E30)+AU158,AU158)),\"NÃO\"),\"NÃO\")","v":"NÃO"},{"$f":"IF(AND(AW$8>=$M30,AW$8<=$N30),IF($F30=\"ANUAL\",IF(AV158=\"NÃO\",$D30,IF(MOD(COUNT($Q158:AV158)+1,12)=0,(AV158*$E30)+AV158,AV158)),\"NÃO\"),\"NÃO\")","v":"NÃO"},{"$f":"IF(AND(AX$8>=$M30,AX$8<=$N30),IF($F30=\"ANUAL\",IF(AW158=\"NÃO\",$D30,IF(MOD(COUNT($Q158:AW158)+1,12)=0,(AW158*$E30)+AW158,AW158)),\"NÃO\"),\"NÃO\")","v":"NÃO"},{"$f":"IF(AND(AY$8>=$M30,AY$8<=$N30),IF($F30=\"ANUAL\",IF(AX158=\"NÃO\",$D30,IF(MOD(COUNT($Q158:AX158)+1,12)=0,(AX158*$E30)+AX158,AX158)),\"NÃO\"),\"NÃO\")","v":"NÃO"},{"$f":"IF(AND(AZ$8>=$M30,AZ$8<=$N30),IF($F30=\"ANUAL\",IF(AY158=\"NÃO\",$D30,IF(MOD(COUNT($Q158:AY158)+1,12)=0,(AY158*$E30)+AY158,AY158)),\"NÃO\"),\"NÃO\")","v":"NÃO"},{"$f":"IF(AND(BA$8>=$M30,BA$8<=$N30),IF($F30=\"ANUAL\",IF(AZ158=\"NÃO\",$D30,IF(MOD(COUNT($Q158:AZ158)+1,12)=0,(AZ158*$E30)+AZ158,AZ158)),\"NÃO\"),\"NÃO\")","v":"NÃO"},{"$f":"IF(AND(BB$8>=$M30,BB$8<=$N30),IF($F30=\"ANUAL\",IF(BA158=\"NÃO\",$D30,IF(MOD(COUNT($Q158:BA158)+1,12)=0,(BA158*$E30)+BA158,BA158)),\"NÃO\"),\"NÃO\")","v":"NÃO"},{"$f":"IF(AND(BC$8>=$M30,BC$8<=$N30),IF($F30=\"ANUAL\",IF(BB158=\"NÃO\",$D30,IF(MOD(COUNT($Q158:BB158)+1,12)=0,(BB158*$E30)+BB158,BB158)),\"NÃO\"),\"NÃO\")","v":"NÃO"},{"$f":"IF(AND(BD$8>=$M30,BD$8<=$N30),IF($F30=\"ANUAL\",IF(BC158=\"NÃO\",$D30,IF(MOD(COUNT($Q158:BC158)+1,12)=0,(BC158*$E30)+BC158,BC158)),\"NÃO\"),\"NÃO\")","v":"NÃO"},{"$f":"IF(AND(BE$8>=$M30,BE$8<=$N30),IF($F30=\"ANUAL\",IF(BD158=\"NÃO\",$D30,IF(MOD(COUNT($Q158:BD158)+1,12)=0,(BD158*$E30)+BD158,BD158)),\"NÃO\"),\"NÃO\")","v":"NÃO"},{"$f":"IF(AND(BF$8>=$M30,BF$8<=$N30),IF($F30=\"ANUAL\",IF(BE158=\"NÃO\",$D30,IF(MOD(COUNT($Q158:BE158)+1,12)=0,(BE158*$E30)+BE158,BE158)),\"NÃO\"),\"NÃO\")","v":"NÃO"},{"$f":"IF(AND(BG$8>=$M30,BG$8<=$N30),IF($F30=\"ANUAL\",IF(BF158=\"NÃO\",$D30,IF(MOD(COUNT($Q158:BF158)+1,12)=0,(BF158*$E30)+BF158,BF158)),\"NÃO\"),\"NÃO\")","v":"NÃO"},{"$f":"IF(AND(BH$8>=$M30,BH$8<=$N30),IF($F30=\"ANUAL\",IF(BG158=\"NÃO\",$D30,IF(MOD(COUNT($Q158:BG158)+1,12)=0,(BG158*$E30)+BG158,BG158)),\"NÃO\"),\"NÃO\")","v":"NÃO"},{"$f":"IF(AND(BI$8>=$M30,BI$8<=$N30),IF($F30=\"ANUAL\",IF(BH158=\"NÃO\",$D30,IF(MOD(COUNT($Q158:BH158)+1,12)=0,(BH158*$E30)+BH158,BH158)),\"NÃO\"),\"NÃO\")","v":"NÃO"},{"$f":"IF(AND(BJ$8>=$M30,BJ$8<=$N30),IF($F30=\"ANUAL\",IF(BI158=\"NÃO\",$D30,IF(MOD(COUNT($Q158:BI158)+1,12)=0,(BI158*$E30)+BI158,BI158)),\"NÃO\"),\"NÃO\")","v":"NÃO"},{"$f":"IF(AND(BK$8>=$M30,BK$8<=$N30),IF($F30=\"ANUAL\",IF(BJ158=\"NÃO\",$D30,IF(MOD(COUNT($Q158:BJ158)+1,12)=0,(BJ158*$E30)+BJ158,BJ158)),\"NÃO\"),\"NÃO\")","v":"NÃO"},{"$f":"IF(AND(BL$8>=$M30,BL$8<=$N30),IF($F30=\"ANUAL\",IF(BK158=\"NÃO\",$D30,IF(MOD(COUNT($Q158:BK158)+1,12)=0,(BK158*$E30)+BK158,BK158)),\"NÃO\"),\"NÃO\")","v":"NÃO"},{"$f":"IF(AND(BM$8>=$M30,BM$8<=$N30),IF($F30=\"ANUAL\",IF(BL158=\"NÃO\",$D30,IF(MOD(COUNT($Q158:BL158)+1,12)=0,(BL158*$E30)+BL158,BL158)),\"NÃO\"),\"NÃO\")","v":"NÃO"},{"$f":"IF(AND(BN$8>=$M30,BN$8<=$N30),IF($F30=\"ANUAL\",IF(BM158=\"NÃO\",$D30,IF(MOD(COUNT($Q158:BM158)+1,12)=0,(BM158*$E30)+BM158,BM158)),\"NÃO\"),\"NÃO\")","v":"NÃO"},{"$f":"IF(AND(BO$8>=$M30,BO$8<=$N30),IF($F30=\"ANUAL\",IF(BN158=\"NÃO\",$D30,IF(MOD(COUNT($Q158:BN158)+1,12)=0,(BN158*$E30)+BN158,BN158)),\"NÃO\"),\"NÃO\")","v":"NÃO"},{"$f":"IF(AND(BP$8>=$M30,BP$8<=$N30),IF($F30=\"ANUAL\",IF(BO158=\"NÃO\",$D30,IF(MOD(COUNT($Q158:BO158)+1,12)=0,(BO158*$E30)+BO158,BO158)),\"NÃO\"),\"NÃO\")","v":"NÃO"},{"$f":"IF(AND(BQ$8>=$M30,BQ$8<=$N30),IF($F30=\"ANUAL\",IF(BP158=\"NÃO\",$D30,IF(MOD(COUNT($Q158:BP158)+1,12)=0,(BP158*$E30)+BP158,BP158)),\"NÃO\"),\"NÃO\")","v":"NÃO"},{"$f":"IF(AND(BR$8>=$M30,BR$8<=$N30),IF($F30=\"ANUAL\",IF(BQ158=\"NÃO\",$D30,IF(MOD(COUNT($Q158:BQ158)+1,12)=0,(BQ158*$E30)+BQ158,BQ158)),\"NÃO\"),\"NÃO\")","v":"NÃO"},{"$f":"IF(AND(BS$8>=$M30,BS$8<=$N30),IF($F30=\"ANUAL\",IF(BR158=\"NÃO\",$D30,IF(MOD(COUNT($Q158:BR158)+1,12)=0,(BR158*$E30)+BR158,BR158)),\"NÃO\"),\"NÃO\")","v":"NÃO"},{"$f":"IF(AND(BT$8>=$M30,BT$8<=$N30),IF($F30=\"ANUAL\",IF(BS158=\"NÃO\",$D30,IF(MOD(COUNT($Q158:BS158)+1,12)=0,(BS158*$E30)+BS158,BS158)),\"NÃO\"),\"NÃO\")","v":"NÃO"},{"$f":"IF(AND(BU$8>=$M30,BU$8<=$N30),IF($F30=\"ANUAL\",IF(BT158=\"NÃO\",$D30,IF(MOD(COUNT($Q158:BT158)+1,12)=0,(BT158*$E30)+BT158,BT158)),\"NÃO\"),\"NÃO\")","v":"NÃO"},{"$f":"IF(AND(BV$8>=$M30,BV$8<=$N30),IF($F30=\"ANUAL\",IF(BU158=\"NÃO\",$D30,IF(MOD(COUNT($Q158:BU158)+1,12)=0,(BU158*$E30)+BU158,BU158)),\"NÃO\"),\"NÃO\")","v":"NÃO"},{"$f":"IF(AND(BW$8>=$M30,BW$8<=$N30),IF($F30=\"ANUAL\",IF(BV158=\"NÃO\",$D30,IF(MOD(COUNT($Q158:BV158)+1,12)=0,(BV158*$E30)+BV158,BV158)),\"NÃO\"),\"NÃO\")","v":"NÃO"},{"$f":"IF(AND(BX$8>=$M30,BX$8<=$N30),IF($F30=\"ANUAL\",IF(BW158=\"NÃO\",$D30,IF(MOD(COUNT($Q158:BW158)+1,12)=0,(BW158*$E30)+BW158,BW158)),\"NÃO\"),\"NÃO\")","v":"NÃO"}]
[null,null,null,null,null,null,null,null,null,null,null,null,null,null,null,23,"NÃO",{"$f":"IF(AND(R$8>=$M31,R$8<=$N31),IF($F31=\"ANUAL\",IF(Q159=\"NÃO\",$D31,IF(MOD(COUNT($Q159:Q159)+1,12)=0,(Q159*$E31)+Q159,Q159)),\"NÃO\"),\"NÃO\")","v":"NÃO"},{"$f":"IF(AND(S$8>=$M31,S$8<=$N31),IF($F31=\"ANUAL\",IF(R159=\"NÃO\",$D31,IF(MOD(COUNT($Q159:R159)+1,12)=0,(R159*$E31)+R159,R159)),\"NÃO\"),\"NÃO\")","v":"NÃO"},{"$f":"IF(AND(T$8>=$M31,T$8<=$N31),IF($F31=\"ANUAL\",IF(S159=\"NÃO\",$D31,IF(MOD(COUNT($Q159:S159)+1,12)=0,(S159*$E31)+S159,S159)),\"NÃO\"),\"NÃO\")","v":"NÃO"},{"$f":"IF(AND(U$8>=$M31,U$8<=$N31),IF($F31=\"ANUAL\",IF(T159=\"NÃO\",$D31,IF(MOD(COUNT($Q159:T159)+1,12)=0,(T159*$E31)+T159,T159)),\"NÃO\"),\"NÃO\")","v":"NÃO"},{"$f":"IF(AND(V$8>=$M31,V$8<=$N31),IF($F31=\"ANUAL\",IF(U159=\"NÃO\",$D31,IF(MOD(COUNT($Q159:U159)+1,12)=0,(U159*$E31)+U159,U159)),\"NÃO\"),\"NÃO\")","v":"NÃO"},{"$f":"IF(AND(W$8>=$M31,W$8<=$N31),IF($F31=\"ANUAL\",IF(V159=\"NÃO\",$D31,IF(MOD(COUNT($Q159:V159)+1,12)=0,(V159*$E31)+V159,V159)),\"NÃO\"),\"NÃO\")","v":"NÃO"},{"$f":"IF(AND(X$8>=$M31,X$8<=$N31),IF($F31=\"ANUAL\",IF(W159=\"NÃO\",$D31,IF(MOD(COUNT($Q159:W159)+1,12)=0,(W159*$E31)+W159,W159)),\"NÃO\"),\"NÃO\")","v":"NÃO"},{"$f":"IF(AND(Y$8>=$M31,Y$8<=$N31),IF($F31=\"ANUAL\",IF(X159=\"NÃO\",$D31,IF(MOD(COUNT($Q159:X159)+1,12)=0,(X159*$E31)+X159,X159)),\"NÃO\"),\"NÃO\")","v":"NÃO"},{"$f":"IF(AND(Z$8>=$M31,Z$8<=$N31),IF($F31=\"ANUAL\",IF(Y159=\"NÃO\",$D31,IF(MOD(COUNT($Q159:Y159)+1,12)=0,(Y159*$E31)+Y159,Y159)),\"NÃO\"),\"NÃO\")","v":"NÃO"},{"$f":"IF(AND(AA$8>=$M31,AA$8<=$N31),IF($F31=\"ANUAL\",IF(Z159=\"NÃO\",$D31,IF(MOD(COUNT($Q159:Z159)+1,12)=0,(Z159*$E31)+Z159,Z159)),\"NÃO\"),\"NÃO\")","v":"NÃO"},{"$f":"IF(AND(AB$8>=$M31,AB$8<=$N31),IF($F31=\"ANUAL\",IF(AA159=\"NÃO\",$D31,IF(MOD(COUNT($Q159:AA159)+1,12)=0,(AA159*$E31)+AA159,AA159)),\"NÃO\"),\"NÃO\")","v":"NÃO"},{"$f":"IF(AND(AC$8>=$M31,AC$8<=$N31),IF($F31=\"ANUAL\",IF(AB159=\"NÃO\",$D31,IF(MOD(COUNT($Q159:AB159)+1,12)=0,(AB159*$E31)+AB159,AB159)),\"NÃO\"),\"NÃO\")","v":"NÃO"},{"$f":"IF(AND(AD$8>=$M31,AD$8<=$N31),IF($F31=\"ANUAL\",IF(AC159=\"NÃO\",$D31,IF(MOD(COUNT($Q159:AC159)+1,12)=0,(AC159*$E31)+AC159,AC159)),\"NÃO\"),\"NÃO\")","v":"NÃO"},{"$f":"IF(AND(AE$8>=$M31,AE$8<=$N31),IF($F31=\"ANUAL\",IF(AD159=\"NÃO\",$D31,IF(MOD(COUNT($Q159:AD159)+1,12)=0,(AD159*$E31)+AD159,AD159)),\"NÃO\"),\"NÃO\")","v":"NÃO"},{"$f":"IF(AND(AF$8>=$M31,AF$8<=$N31),IF($F31=\"ANUAL\",IF(AE159=\"NÃO\",$D31,IF(MOD(COUNT($Q159:AE159)+1,12)=0,(AE159*$E31)+AE159,AE159)),\"NÃO\"),\"NÃO\")","v":"NÃO"},{"$f":"IF(AND(AG$8>=$M31,AG$8<=$N31),IF($F31=\"ANUAL\",IF(AF159=\"NÃO\",$D31,IF(MOD(COUNT($Q159:AF159)+1,12)=0,(AF159*$E31)+AF159,AF159)),\"NÃO\"),\"NÃO\")","v":"NÃO"},{"$f":"IF(AND(AH$8>=$M31,AH$8<=$N31),IF($F31=\"ANUAL\",IF(AG159=\"NÃO\",$D31,IF(MOD(COUNT($Q159:AG159)+1,12)=0,(AG159*$E31)+AG159,AG159)),\"NÃO\"),\"NÃO\")","v":"NÃO"},{"$f":"IF(AND(AI$8>=$M31,AI$8<=$N31),IF($F31=\"ANUAL\",IF(AH159=\"NÃO\",$D31,IF(MOD(COUNT($Q159:AH159)+1,12)=0,(AH159*$E31)+AH159,AH159)),\"NÃO\"),\"NÃO\")","v":"NÃO"},{"$f":"IF(AND(AJ$8>=$M31,AJ$8<=$N31),IF($F31=\"ANUAL\",IF(AI159=\"NÃO\",$D31,IF(MOD(COUNT($Q159:AI159)+1,12)=0,(AI159*$E31)+AI159,AI159)),\"NÃO\"),\"NÃO\")","v":"NÃO"},{"$f":"IF(AND(AK$8>=$M31,AK$8<=$N31),IF($F31=\"ANUAL\",IF(AJ159=\"NÃO\",$D31,IF(MOD(COUNT($Q159:AJ159)+1,12)=0,(AJ159*$E31)+AJ159,AJ159)),\"NÃO\"),\"NÃO\")","v":"NÃO"},{"$f":"IF(AND(AL$8>=$M31,AL$8<=$N31),IF($F31=\"ANUAL\",IF(AK159=\"NÃO\",$D31,IF(MOD(COUNT($Q159:AK159)+1,12)=0,(AK159*$E31)+AK159,AK159)),\"NÃO\"),\"NÃO\")","v":"NÃO"},{"$f":"IF(AND(AM$8>=$M31,AM$8<=$N31),IF($F31=\"ANUAL\",IF(AL159=\"NÃO\",$D31,IF(MOD(COUNT($Q159:AL159)+1,12)=0,(AL159*$E31)+AL159,AL159)),\"NÃO\"),\"NÃO\")","v":"NÃO"},{"$f":"IF(AND(AN$8>=$M31,AN$8<=$N31),IF($F31=\"ANUAL\",IF(AM159=\"NÃO\",$D31,IF(MOD(COUNT($Q159:AM159)+1,12)=0,(AM159*$E31)+AM159,AM159)),\"NÃO\"),\"NÃO\")","v":"NÃO"},{"$f":"IF(AND(AO$8>=$M31,AO$8<=$N31),IF($F31=\"ANUAL\",IF(AN159=\"NÃO\",$D31,IF(MOD(COUNT($Q159:AN159)+1,12)=0,(AN159*$E31)+AN159,AN159)),\"NÃO\"),\"NÃO\")","v":"NÃO"},{"$f":"IF(AND(AP$8>=$M31,AP$8<=$N31),IF($F31=\"ANUAL\",IF(AO159=\"NÃO\",$D31,IF(MOD(COUNT($Q159:AO159)+1,12)=0,(AO159*$E31)+AO159,AO159)),\"NÃO\"),\"NÃO\")","v":"NÃO"},{"$f":"IF(AND(AQ$8>=$M31,AQ$8<=$N31),IF($F31=\"ANUAL\",IF(AP159=\"NÃO\",$D31,IF(MOD(COUNT($Q159:AP159)+1,12)=0,(AP159*$E31)+AP159,AP159)),\"NÃO\"),\"NÃO\")","v":"NÃO"},{"$f":"IF(AND(AR$8>=$M31,AR$8<=$N31),IF($F31=\"ANUAL\",IF(AQ159=\"NÃO\",$D31,IF(MOD(COUNT($Q159:AQ159)+1,12)=0,(AQ159*$E31)+AQ159,AQ159)),\"NÃO\"),\"NÃO\")","v":"NÃO"},{"$f":"IF(AND(AS$8>=$M31,AS$8<=$N31),IF($F31=\"ANUAL\",IF(AR159=\"NÃO\",$D31,IF(MOD(COUNT($Q159:AR159)+1,12)=0,(AR159*$E31)+AR159,AR159)),\"NÃO\"),\"NÃO\")","v":"NÃO"},{"$f":"IF(AND(AT$8>=$M31,AT$8<=$N31),IF($F31=\"ANUAL\",IF(AS159=\"NÃO\",$D31,IF(MOD(COUNT($Q159:AS159)+1,12)=0,(AS159*$E31)+AS159,AS159)),\"NÃO\"),\"NÃO\")","v":"NÃO"},{"$f":"IF(AND(AU$8>=$M31,AU$8<=$N31),IF($F31=\"ANUAL\",IF(AT159=\"NÃO\",$D31,IF(MOD(COUNT($Q159:AT159)+1,12)=0,(AT159*$E31)+AT159,AT159)),\"NÃO\"),\"NÃO\")","v":"NÃO"},{"$f":"IF(AND(AV$8>=$M31,AV$8<=$N31),IF($F31=\"ANUAL\",IF(AU159=\"NÃO\",$D31,IF(MOD(COUNT($Q159:AU159)+1,12)=0,(AU159*$E31)+AU159,AU159)),\"NÃO\"),\"NÃO\")","v":"NÃO"},{"$f":"IF(AND(AW$8>=$M31,AW$8<=$N31),IF($F31=\"ANUAL\",IF(AV159=\"NÃO\",$D31,IF(MOD(COUNT($Q159:AV159)+1,12)=0,(AV159*$E31)+AV159,AV159)),\"NÃO\"),\"NÃO\")","v":"NÃO"},{"$f":"IF(AND(AX$8>=$M31,AX$8<=$N31),IF($F31=\"ANUAL\",IF(AW159=\"NÃO\",$D31,IF(MOD(COUNT($Q159:AW159)+1,12)=0,(AW159*$E31)+AW159,AW159)),\"NÃO\"),\"NÃO\")","v":"NÃO"},{"$f":"IF(AND(AY$8>=$M31,AY$8<=$N31),IF($F31=\"ANUAL\",IF(AX159=\"NÃO\",$D31,IF(MOD(COUNT($Q159:AX159)+1,12)=0,(AX159*$E31)+AX159,AX159)),\"NÃO\"),\"NÃO\")","v":"NÃO"},{"$f":"IF(AND(AZ$8>=$M31,AZ$8<=$N31),IF($F31=\"ANUAL\",IF(AY159=\"NÃO\",$D31,IF(MOD(COUNT($Q159:AY159)+1,12)=0,(AY159*$E31)+AY159,AY159)),\"NÃO\"),\"NÃO\")","v":"NÃO"},{"$f":"IF(AND(BA$8>=$M31,BA$8<=$N31),IF($F31=\"ANUAL\",IF(AZ159=\"NÃO\",$D31,IF(MOD(COUNT($Q159:AZ159)+1,12)=0,(AZ159*$E31)+AZ159,AZ159)),\"NÃO\"),\"NÃO\")","v":"NÃO"},{"$f":"IF(AND(BB$8>=$M31,BB$8<=$N31),IF($F31=\"ANUAL\",IF(BA159=\"NÃO\",$D31,IF(MOD(COUNT($Q159:BA159)+1,12)=0,(BA159*$E31)+BA159,BA159)),\"NÃO\"),\"NÃO\")","v":"NÃO"},{"$f":"IF(AND(BC$8>=$M31,BC$8<=$N31),IF($F31=\"ANUAL\",IF(BB159=\"NÃO\",$D31,IF(MOD(COUNT($Q159:BB159)+1,12)=0,(BB159*$E31)+BB159,BB159)),\"NÃO\"),\"NÃO\")","v":"NÃO"},{"$f":"IF(AND(BD$8>=$M31,BD$8<=$N31),IF($F31=\"ANUAL\",IF(BC159=\"NÃO\",$D31,IF(MOD(COUNT($Q159:BC159)+1,12)=0,(BC159*$E31)+BC159,BC159)),\"NÃO\"),\"NÃO\")","v":"NÃO"},{"$f":"IF(AND(BE$8>=$M31,BE$8<=$N31),IF($F31=\"ANUAL\",IF(BD159=\"NÃO\",$D31,IF(MOD(COUNT($Q159:BD159)+1,12)=0,(BD159*$E31)+BD159,BD159)),\"NÃO\"),\"NÃO\")","v":"NÃO"},{"$f":"IF(AND(BF$8>=$M31,BF$8<=$N31),IF($F31=\"ANUAL\",IF(BE159=\"NÃO\",$D31,IF(MOD(COUNT($Q159:BE159)+1,12)=0,(BE159*$E31)+BE159,BE159)),\"NÃO\"),\"NÃO\")","v":"NÃO"},{"$f":"IF(AND(BG$8>=$M31,BG$8<=$N31),IF($F31=\"ANUAL\",IF(BF159=\"NÃO\",$D31,IF(MOD(COUNT($Q159:BF159)+1,12)=0,(BF159*$E31)+BF159,BF159)),\"NÃO\"),\"NÃO\")","v":"NÃO"},{"$f":"IF(AND(BH$8>=$M31,BH$8<=$N31),IF($F31=\"ANUAL\",IF(BG159=\"NÃO\",$D31,IF(MOD(COUNT($Q159:BG159)+1,12)=0,(BG159*$E31)+BG159,BG159)),\"NÃO\"),\"NÃO\")","v":"NÃO"},{"$f":"IF(AND(BI$8>=$M31,BI$8<=$N31),IF($F31=\"ANUAL\",IF(BH159=\"NÃO\",$D31,IF(MOD(COUNT($Q159:BH159)+1,12)=0,(BH159*$E31)+BH159,BH159)),\"NÃO\"),\"NÃO\")","v":"NÃO"},{"$f":"IF(AND(BJ$8>=$M31,BJ$8<=$N31),IF($F31=\"ANUAL\",IF(BI159=\"NÃO\",$D31,IF(MOD(COUNT($Q159:BI159)+1,12)=0,(BI159*$E31)+BI159,BI159)),\"NÃO\"),\"NÃO\")","v":"NÃO"},{"$f":"IF(AND(BK$8>=$M31,BK$8<=$N31),IF($F31=\"ANUAL\",IF(BJ159=\"NÃO\",$D31,IF(MOD(COUNT($Q159:BJ159)+1,12)=0,(BJ159*$E31)+BJ159,BJ159)),\"NÃO\"),\"NÃO\")","v":"NÃO"},{"$f":"IF(AND(BL$8>=$M31,BL$8<=$N31),IF($F31=\"ANUAL\",IF(BK159=\"NÃO\",$D31,IF(MOD(COUNT($Q159:BK159)+1,12)=0,(BK159*$E31)+BK159,BK159)),\"NÃO\"),\"NÃO\")","v":"NÃO"},{"$f":"IF(AND(BM$8>=$M31,BM$8<=$N31),IF($F31=\"ANUAL\",IF(BL159=\"NÃO\",$D31,IF(MOD(COUNT($Q159:BL159)+1,12)=0,(BL159*$E31)+BL159,BL159)),\"NÃO\"),\"NÃO\")","v":"NÃO"},{"$f":"IF(AND(BN$8>=$M31,BN$8<=$N31),IF($F31=\"ANUAL\",IF(BM159=\"NÃO\",$D31,IF(MOD(COUNT($Q159:BM159)+1,12)=0,(BM159*$E31)+BM159,BM159)),\"NÃO\"),\"NÃO\")","v":"NÃO"},{"$f":"IF(AND(BO$8>=$M31,BO$8<=$N31),IF($F31=\"ANUAL\",IF(BN159=\"NÃO\",$D31,IF(MOD(COUNT($Q159:BN159)+1,12)=0,(BN159*$E31)+BN159,BN159)),\"NÃO\"),\"NÃO\")","v":"NÃO"},{"$f":"IF(AND(BP$8>=$M31,BP$8<=$N31),IF($F31=\"ANUAL\",IF(BO159=\"NÃO\",$D31,IF(MOD(COUNT($Q159:BO159)+1,12)=0,(BO159*$E31)+BO159,BO159)),\"NÃO\"),\"NÃO\")","v":"NÃO"},{"$f":"IF(AND(BQ$8>=$M31,BQ$8<=$N31),IF($F31=\"ANUAL\",IF(BP159=\"NÃO\",$D31,IF(MOD(COUNT($Q159:BP159)+1,12)=0,(BP159*$E31)+BP159,BP159)),\"NÃO\"),\"NÃO\")","v":"NÃO"},{"$f":"IF(AND(BR$8>=$M31,BR$8<=$N31),IF($F31=\"ANUAL\",IF(BQ159=\"NÃO\",$D31,IF(MOD(COUNT($Q159:BQ159)+1,12)=0,(BQ159*$E31)+BQ159,BQ159)),\"NÃO\"),\"NÃO\")","v":"NÃO"},{"$f":"IF(AND(BS$8>=$M31,BS$8<=$N31),IF($F31=\"ANUAL\",IF(BR159=\"NÃO\",$D31,IF(MOD(COUNT($Q159:BR159)+1,12)=0,(BR159*$E31)+BR159,BR159)),\"NÃO\"),\"NÃO\")","v":"NÃO"},{"$f":"IF(AND(BT$8>=$M31,BT$8<=$N31),IF($F31=\"ANUAL\",IF(BS159=\"NÃO\",$D31,IF(MOD(COUNT($Q159:BS159)+1,12)=0,(BS159*$E31)+BS159,BS159)),\"NÃO\"),\"NÃO\")","v":"NÃO"},{"$f":"IF(AND(BU$8>=$M31,BU$8<=$N31),IF($F31=\"ANUAL\",IF(BT159=\"NÃO\",$D31,IF(MOD(COUNT($Q159:BT159)+1,12)=0,(BT159*$E31)+BT159,BT159)),\"NÃO\"),\"NÃO\")","v":"NÃO"},{"$f":"IF(AND(BV$8>=$M31,BV$8<=$N31),IF($F31=\"ANUAL\",IF(BU159=\"NÃO\",$D31,IF(MOD(COUNT($Q159:BU159)+1,12)=0,(BU159*$E31)+BU159,BU159)),\"NÃO\"),\"NÃO\")","v":"NÃO"},{"$f":"IF(AND(BW$8>=$M31,BW$8<=$N31),IF($F31=\"ANUAL\",IF(BV159=\"NÃO\",$D31,IF(MOD(COUNT($Q159:BV159)+1,12)=0,(BV159*$E31)+BV159,BV159)),\"NÃO\"),\"NÃO\")","v":"NÃO"},{"$f":"IF(AND(BX$8>=$M31,BX$8<=$N31),IF($F31=\"ANUAL\",IF(BW159=\"NÃO\",$D31,IF(MOD(COUNT($Q159:BW159)+1,12)=0,(BW159*$E31)+BW159,BW159)),\"NÃO\"),\"NÃO\")","v":"NÃO"}]
[null,null,null,null,null,null,null,null,null,null,null,null,null,null,null,24,"NÃO",{"$f":"IF(AND(R$8>=$M32,R$8<=$N32),IF($F32=\"ANUAL\",IF(Q160=\"NÃO\",$D32,IF(MOD(COUNT($Q160:Q160)+1,12)=0,(Q160*$E32)+Q160,Q160)),\"NÃO\"),\"NÃO\")","v":"NÃO"},{"$f":"IF(AND(S$8>=$M32,S$8<=$N32),IF($F32=\"ANUAL\",IF(R160=\"NÃO\",$D32,IF(MOD(COUNT($Q160:R160)+1,12)=0,(R160*$E32)+R160,R160)),\"NÃO\"),\"NÃO\")","v":"NÃO"},{"$f":"IF(AND(T$8>=$M32,T$8<=$N32),IF($F32=\"ANUAL\",IF(S160=\"NÃO\",$D32,IF(MOD(COUNT($Q160:S160)+1,12)=0,(S160*$E32)+S160,S160)),\"NÃO\"),\"NÃO\")","v":"NÃO"},{"$f":"IF(AND(U$8>=$M32,U$8<=$N32),IF($F32=\"ANUAL\",IF(T160=\"NÃO\",$D32,IF(MOD(COUNT($Q160:T160)+1,12)=0,(T160*$E32)+T160,T160)),\"NÃO\"),\"NÃO\")","v":"NÃO"},{"$f":"IF(AND(V$8>=$M32,V$8<=$N32),IF($F32=\"ANUAL\",IF(U160=\"NÃO\",$D32,IF(MOD(COUNT($Q160:U160)+1,12)=0,(U160*$E32)+U160,U160)),\"NÃO\"),\"NÃO\")","v":"NÃO"},{"$f":"IF(AND(W$8>=$M32,W$8<=$N32),IF($F32=\"ANUAL\",IF(V160=\"NÃO\",$D32,IF(MOD(COUNT($Q160:V160)+1,12)=0,(V160*$E32)+V160,V160)),\"NÃO\"),\"NÃO\")","v":"NÃO"},{"$f":"IF(AND(X$8>=$M32,X$8<=$N32),IF($F32=\"ANUAL\",IF(W160=\"NÃO\",$D32,IF(MOD(COUNT($Q160:W160)+1,12)=0,(W160*$E32)+W160,W160)),\"NÃO\"),\"NÃO\")","v":"NÃO"},{"$f":"IF(AND(Y$8>=$M32,Y$8<=$N32),IF($F32=\"ANUAL\",IF(X160=\"NÃO\",$D32,IF(MOD(COUNT($Q160:X160)+1,12)=0,(X160*$E32)+X160,X160)),\"NÃO\"),\"NÃO\")","v":"NÃO"},{"$f":"IF(AND(Z$8>=$M32,Z$8<=$N32),IF($F32=\"ANUAL\",IF(Y160=\"NÃO\",$D32,IF(MOD(COUNT($Q160:Y160)+1,12)=0,(Y160*$E32)+Y160,Y160)),\"NÃO\"),\"NÃO\")","v":"NÃO"},{"$f":"IF(AND(AA$8>=$M32,AA$8<=$N32),IF($F32=\"ANUAL\",IF(Z160=\"NÃO\",$D32,IF(MOD(COUNT($Q160:Z160)+1,12)=0,(Z160*$E32)+Z160,Z160)),\"NÃO\"),\"NÃO\")","v":"NÃO"},{"$f":"IF(AND(AB$8>=$M32,AB$8<=$N32),IF($F32=\"ANUAL\",IF(AA160=\"NÃO\",$D32,IF(MOD(COUNT($Q160:AA160)+1,12)=0,(AA160*$E32)+AA160,AA160)),\"NÃO\"),\"NÃO\")","v":"NÃO"},{"$f":"IF(AND(AC$8>=$M32,AC$8<=$N32),IF($F32=\"ANUAL\",IF(AB160=\"NÃO\",$D32,IF(MOD(COUNT($Q160:AB160)+1,12)=0,(AB160*$E32)+AB160,AB160)),\"NÃO\"),\"NÃO\")","v":"NÃO"},{"$f":"IF(AND(AD$8>=$M32,AD$8<=$N32),IF($F32=\"ANUAL\",IF(AC160=\"NÃO\",$D32,IF(MOD(COUNT($Q160:AC160)+1,12)=0,(AC160*$E32)+AC160,AC160)),\"NÃO\"),\"NÃO\")","v":"NÃO"},{"$f":"IF(AND(AE$8>=$M32,AE$8<=$N32),IF($F32=\"ANUAL\",IF(AD160=\"NÃO\",$D32,IF(MOD(COUNT($Q160:AD160)+1,12)=0,(AD160*$E32)+AD160,AD160)),\"NÃO\"),\"NÃO\")","v":"NÃO"},{"$f":"IF(AND(AF$8>=$M32,AF$8<=$N32),IF($F32=\"ANUAL\",IF(AE160=\"NÃO\",$D32,IF(MOD(COUNT($Q160:AE160)+1,12)=0,(AE160*$E32)+AE160,AE160)),\"NÃO\"),\"NÃO\")","v":"NÃO"},{"$f":"IF(AND(AG$8>=$M32,AG$8<=$N32),IF($F32=\"ANUAL\",IF(AF160=\"NÃO\",$D32,IF(MOD(COUNT($Q160:AF160)+1,12)=0,(AF160*$E32)+AF160,AF160)),\"NÃO\"),\"NÃO\")","v":"NÃO"},{"$f":"IF(AND(AH$8>=$M32,AH$8<=$N32),IF($F32=\"ANUAL\",IF(AG160=\"NÃO\",$D32,IF(MOD(COUNT($Q160:AG160)+1,12)=0,(AG160*$E32)+AG160,AG160)),\"NÃO\"),\"NÃO\")","v":"NÃO"},{"$f":"IF(AND(AI$8>=$M32,AI$8<=$N32),IF($F32=\"ANUAL\",IF(AH160=\"NÃO\",$D32,IF(MOD(COUNT($Q160:AH160)+1,12)=0,(AH160*$E32)+AH160,AH160)),\"NÃO\"),\"NÃO\")","v":"NÃO"},{"$f":"IF(AND(AJ$8>=$M32,AJ$8<=$N32),IF($F32=\"ANUAL\",IF(AI160=\"NÃO\",$D32,IF(MOD(COUNT($Q160:AI160)+1,12)=0,(AI160*$E32)+AI160,AI160)),\"NÃO\"),\"NÃO\")","v":"NÃO"},{"$f":"IF(AND(AK$8>=$M32,AK$8<=$N32),IF($F32=\"ANUAL\",IF(AJ160=\"NÃO\",$D32,IF(MOD(COUNT($Q160:AJ160)+1,12)=0,(AJ160*$E32)+AJ160,AJ160)),\"NÃO\"),\"NÃO\")","v":"NÃO"},{"$f":"IF(AND(AL$8>=$M32,AL$8<=$N32),IF($F32=\"ANUAL\",IF(AK160=\"NÃO\",$D32,IF(MOD(COUNT($Q160:AK160)+1,12)=0,(AK160*$E32)+AK160,AK160)),\"NÃO\"),\"NÃO\")","v":"NÃO"},{"$f":"IF(AND(AM$8>=$M32,AM$8<=$N32),IF($F32=\"ANUAL\",IF(AL160=\"NÃO\",$D32,IF(MOD(COUNT($Q160:AL160)+1,12)=0,(AL160*$E32)+AL160,AL160)),\"NÃO\"),\"NÃO\")","v":"NÃO"},{"$f":"IF(AND(AN$8>=$M32,AN$8<=$N32),IF($F32=\"ANUAL\",IF(AM160=\"NÃO\",$D32,IF(MOD(COUNT($Q160:AM160)+1,12)=0,(AM160*$E32)+AM160,AM160)),\"NÃO\"),\"NÃO\")","v":"NÃO"},{"$f":"IF(AND(AO$8>=$M32,AO$8<=$N32),IF($F32=\"ANUAL\",IF(AN160=\"NÃO\",$D32,IF(MOD(COUNT($Q160:AN160)+1,12)=0,(AN160*$E32)+AN160,AN160)),\"NÃO\"),\"NÃO\")","v":"NÃO"},{"$f":"IF(AND(AP$8>=$M32,AP$8<=$N32),IF($F32=\"ANUAL\",IF(AO160=\"NÃO\",$D32,IF(MOD(COUNT($Q160:AO160)+1,12)=0,(AO160*$E32)+AO160,AO160)),\"NÃO\"),\"NÃO\")","v":"NÃO"},{"$f":"IF(AND(AQ$8>=$M32,AQ$8<=$N32),IF($F32=\"ANUAL\",IF(AP160=\"NÃO\",$D32,IF(MOD(COUNT($Q160:AP160)+1,12)=0,(AP160*$E32)+AP160,AP160)),\"NÃO\"),\"NÃO\")","v":"NÃO"},{"$f":"IF(AND(AR$8>=$M32,AR$8<=$N32),IF($F32=\"ANUAL\",IF(AQ160=\"NÃO\",$D32,IF(MOD(COUNT($Q160:AQ160)+1,12)=0,(AQ160*$E32)+AQ160,AQ160)),\"NÃO\"),\"NÃO\")","v":"NÃO"},{"$f":"IF(AND(AS$8>=$M32,AS$8<=$N32),IF($F32=\"ANUAL\",IF(AR160=\"NÃO\",$D32,IF(MOD(COUNT($Q160:AR160)+1,12)=0,(AR160*$E32)+AR160,AR160)),\"NÃO\"),\"NÃO\")","v":"NÃO"},{"$f":"IF(AND(AT$8>=$M32,AT$8<=$N32),IF($F32=\"ANUAL\",IF(AS160=\"NÃO\",$D32,IF(MOD(COUNT($Q160:AS160)+1,12)=0,(AS160*$E32)+AS160,AS160)),\"NÃO\"),\"NÃO\")","v":"NÃO"},{"$f":"IF(AND(AU$8>=$M32,AU$8<=$N32),IF($F32=\"ANUAL\",IF(AT160=\"NÃO\",$D32,IF(MOD(COUNT($Q160:AT160)+1,12)=0,(AT160*$E32)+AT160,AT160)),\"NÃO\"),\"NÃO\")","v":"NÃO"},{"$f":"IF(AND(AV$8>=$M32,AV$8<=$N32),IF($F32=\"ANUAL\",IF(AU160=\"NÃO\",$D32,IF(MOD(COUNT($Q160:AU160)+1,12)=0,(AU160*$E32)+AU160,AU160)),\"NÃO\"),\"NÃO\")","v":"NÃO"},{"$f":"IF(AND(AW$8>=$M32,AW$8<=$N32),IF($F32=\"ANUAL\",IF(AV160=\"NÃO\",$D32,IF(MOD(COUNT($Q160:AV160)+1,12)=0,(AV160*$E32)+AV160,AV160)),\"NÃO\"),\"NÃO\")","v":"NÃO"},{"$f":"IF(AND(AX$8>=$M32,AX$8<=$N32),IF($F32=\"ANUAL\",IF(AW160=\"NÃO\",$D32,IF(MOD(COUNT($Q160:AW160)+1,12)=0,(AW160*$E32)+AW160,AW160)),\"NÃO\"),\"NÃO\")","v":"NÃO"},{"$f":"IF(AND(AY$8>=$M32,AY$8<=$N32),IF($F32=\"ANUAL\",IF(AX160=\"NÃO\",$D32,IF(MOD(COUNT($Q160:AX160)+1,12)=0,(AX160*$E32)+AX160,AX160)),\"NÃO\"),\"NÃO\")","v":"NÃO"},{"$f":"IF(AND(AZ$8>=$M32,AZ$8<=$N32),IF($F32=\"ANUAL\",IF(AY160=\"NÃO\",$D32,IF(MOD(COUNT($Q160:AY160)+1,12)=0,(AY160*$E32)+AY160,AY160)),\"NÃO\"),\"NÃO\")","v":"NÃO"},{"$f":"IF(AND(BA$8>=$M32,BA$8<=$N32),IF($F32=\"ANUAL\",IF(AZ160=\"NÃO\",$D32,IF(MOD(COUNT($Q160:AZ160)+1,12)=0,(AZ160*$E32)+AZ160,AZ160)),\"NÃO\"),\"NÃO\")","v":"NÃO"},{"$f":"IF(AND(BB$8>=$M32,BB$8<=$N32),IF($F32=\"ANUAL\",IF(BA160=\"NÃO\",$D32,IF(MOD(COUNT($Q160:BA160)+1,12)=0,(BA160*$E32)+BA160,BA160)),\"NÃO\"),\"NÃO\")","v":"NÃO"},{"$f":"IF(AND(BC$8>=$M32,BC$8<=$N32),IF($F32=\"ANUAL\",IF(BB160=\"NÃO\",$D32,IF(MOD(COUNT($Q160:BB160)+1,12)=0,(BB160*$E32)+BB160,BB160)),\"NÃO\"),\"NÃO\")","v":"NÃO"},{"$f":"IF(AND(BD$8>=$M32,BD$8<=$N32),IF($F32=\"ANUAL\",IF(BC160=\"NÃO\",$D32,IF(MOD(COUNT($Q160:BC160)+1,12)=0,(BC160*$E32)+BC160,BC160)),\"NÃO\"),\"NÃO\")","v":"NÃO"},{"$f":"IF(AND(BE$8>=$M32,BE$8<=$N32),IF($F32=\"ANUAL\",IF(BD160=\"NÃO\",$D32,IF(MOD(COUNT($Q160:BD160)+1,12)=0,(BD160*$E32)+BD160,BD160)),\"NÃO\"),\"NÃO\")","v":"NÃO"},{"$f":"IF(AND(BF$8>=$M32,BF$8<=$N32),IF($F32=\"ANUAL\",IF(BE160=\"NÃO\",$D32,IF(MOD(COUNT($Q160:BE160)+1,12)=0,(BE160*$E32)+BE160,BE160)),\"NÃO\"),\"NÃO\")","v":"NÃO"},{"$f":"IF(AND(BG$8>=$M32,BG$8<=$N32),IF($F32=\"ANUAL\",IF(BF160=\"NÃO\",$D32,IF(MOD(COUNT($Q160:BF160)+1,12)=0,(BF160*$E32)+BF160,BF160)),\"NÃO\"),\"NÃO\")","v":"NÃO"},{"$f":"IF(AND(BH$8>=$M32,BH$8<=$N32),IF($F32=\"ANUAL\",IF(BG160=\"NÃO\",$D32,IF(MOD(COUNT($Q160:BG160)+1,12)=0,(BG160*$E32)+BG160,BG160)),\"NÃO\"),\"NÃO\")","v":"NÃO"},{"$f":"IF(AND(BI$8>=$M32,BI$8<=$N32),IF($F32=\"ANUAL\",IF(BH160=\"NÃO\",$D32,IF(MOD(COUNT($Q160:BH160)+1,12)=0,(BH160*$E32)+BH160,BH160)),\"NÃO\"),\"NÃO\")","v":"NÃO"},{"$f":"IF(AND(BJ$8>=$M32,BJ$8<=$N32),IF($F32=\"ANUAL\",IF(BI160=\"NÃO\",$D32,IF(MOD(COUNT($Q160:BI160)+1,12)=0,(BI160*$E32)+BI160,BI160)),\"NÃO\"),\"NÃO\")","v":"NÃO"},{"$f":"IF(AND(BK$8>=$M32,BK$8<=$N32),IF($F32=\"ANUAL\",IF(BJ160=\"NÃO\",$D32,IF(MOD(COUNT($Q160:BJ160)+1,12)=0,(BJ160*$E32)+BJ160,BJ160)),\"NÃO\"),\"NÃO\")","v":"NÃO"},{"$f":"IF(AND(BL$8>=$M32,BL$8<=$N32),IF($F32=\"ANUAL\",IF(BK160=\"NÃO\",$D32,IF(MOD(COUNT($Q160:BK160)+1,12)=0,(BK160*$E32)+BK160,BK160)),\"NÃO\"),\"NÃO\")","v":"NÃO"},{"$f":"IF(AND(BM$8>=$M32,BM$8<=$N32),IF($F32=\"ANUAL\",IF(BL160=\"NÃO\",$D32,IF(MOD(COUNT($Q160:BL160)+1,12)=0,(BL160*$E32)+BL160,BL160)),\"NÃO\"),\"NÃO\")","v":"NÃO"},{"$f":"IF(AND(BN$8>=$M32,BN$8<=$N32),IF($F32=\"ANUAL\",IF(BM160=\"NÃO\",$D32,IF(MOD(COUNT($Q160:BM160)+1,12)=0,(BM160*$E32)+BM160,BM160)),\"NÃO\"),\"NÃO\")","v":"NÃO"},{"$f":"IF(AND(BO$8>=$M32,BO$8<=$N32),IF($F32=\"ANUAL\",IF(BN160=\"NÃO\",$D32,IF(MOD(COUNT($Q160:BN160)+1,12)=0,(BN160*$E32)+BN160,BN160)),\"NÃO\"),\"NÃO\")","v":"NÃO"},{"$f":"IF(AND(BP$8>=$M32,BP$8<=$N32),IF($F32=\"ANUAL\",IF(BO160=\"NÃO\",$D32,IF(MOD(COUNT($Q160:BO160)+1,12)=0,(BO160*$E32)+BO160,BO160)),\"NÃO\"),\"NÃO\")","v":"NÃO"},{"$f":"IF(AND(BQ$8>=$M32,BQ$8<=$N32),IF($F32=\"ANUAL\",IF(BP160=\"NÃO\",$D32,IF(MOD(COUNT($Q160:BP160)+1,12)=0,(BP160*$E32)+BP160,BP160)),\"NÃO\"),\"NÃO\")","v":"NÃO"},{"$f":"IF(AND(BR$8>=$M32,BR$8<=$N32),IF($F32=\"ANUAL\",IF(BQ160=\"NÃO\",$D32,IF(MOD(COUNT($Q160:BQ160)+1,12)=0,(BQ160*$E32)+BQ160,BQ160)),\"NÃO\"),\"NÃO\")","v":"NÃO"},{"$f":"IF(AND(BS$8>=$M32,BS$8<=$N32),IF($F32=\"ANUAL\",IF(BR160=\"NÃO\",$D32,IF(MOD(COUNT($Q160:BR160)+1,12)=0,(BR160*$E32)+BR160,BR160)),\"NÃO\"),\"NÃO\")","v":"NÃO"},{"$f":"IF(AND(BT$8>=$M32,BT$8<=$N32),IF($F32=\"ANUAL\",IF(BS160=\"NÃO\",$D32,IF(MOD(COUNT($Q160:BS160)+1,12)=0,(BS160*$E32)+BS160,BS160)),\"NÃO\"),\"NÃO\")","v":"NÃO"},{"$f":"IF(AND(BU$8>=$M32,BU$8<=$N32),IF($F32=\"ANUAL\",IF(BT160=\"NÃO\",$D32,IF(MOD(COUNT($Q160:BT160)+1,12)=0,(BT160*$E32)+BT160,BT160)),\"NÃO\"),\"NÃO\")","v":"NÃO"},{"$f":"IF(AND(BV$8>=$M32,BV$8<=$N32),IF($F32=\"ANUAL\",IF(BU160=\"NÃO\",$D32,IF(MOD(COUNT($Q160:BU160)+1,12)=0,(BU160*$E32)+BU160,BU160)),\"NÃO\"),\"NÃO\")","v":"NÃO"},{"$f":"IF(AND(BW$8>=$M32,BW$8<=$N32),IF($F32=\"ANUAL\",IF(BV160=\"NÃO\",$D32,IF(MOD(COUNT($Q160:BV160)+1,12)=0,(BV160*$E32)+BV160,BV160)),\"NÃO\"),\"NÃO\")","v":"NÃO"},{"$f":"IF(AND(BX$8>=$M32,BX$8<=$N32),IF($F32=\"ANUAL\",IF(BW160=\"NÃO\",$D32,IF(MOD(COUNT($Q160:BW160)+1,12)=0,(BW160*$E32)+BW160,BW160)),\"NÃO\"),\"NÃO\")","v":"NÃO"}]
[null,null,null,null,null,null,null,null,null,null,null,null,null,null,null,25,"NÃO",{"$f":"IF(AND(R$8>=$M33,R$8<=$N33),IF($F33=\"ANUAL\",IF(Q161=\"NÃO\",$D33,IF(MOD(COUNT($Q161:Q161)+1,12)=0,(Q161*$E33)+Q161,Q161)),\"NÃO\"),\"NÃO\")","v":"NÃO"},{"$f":"IF(AND(S$8>=$M33,S$8<=$N33),IF($F33=\"ANUAL\",IF(R161=\"NÃO\",$D33,IF(MOD(COUNT($Q161:R161)+1,12)=0,(R161*$E33)+R161,R161)),\"NÃO\"),\"NÃO\")","v":"NÃO"},{"$f":"IF(AND(T$8>=$M33,T$8<=$N33),IF($F33=\"ANUAL\",IF(S161=\"NÃO\",$D33,IF(MOD(COUNT($Q161:S161)+1,12)=0,(S161*$E33)+S161,S161)),\"NÃO\"),\"NÃO\")","v":"NÃO"},{"$f":"IF(AND(U$8>=$M33,U$8<=$N33),IF($F33=\"ANUAL\",IF(T161=\"NÃO\",$D33,IF(MOD(COUNT($Q161:T161)+1,12)=0,(T161*$E33)+T161,T161)),\"NÃO\"),\"NÃO\")","v":"NÃO"},{"$f":"IF(AND(V$8>=$M33,V$8<=$N33),IF($F33=\"ANUAL\",IF(U161=\"NÃO\",$D33,IF(MOD(COUNT($Q161:U161)+1,12)=0,(U161*$E33)+U161,U161)),\"NÃO\"),\"NÃO\")","v":"NÃO"},{"$f":"IF(AND(W$8>=$M33,W$8<=$N33),IF($F33=\"ANUAL\",IF(V161=\"NÃO\",$D33,IF(MOD(COUNT($Q161:V161)+1,12)=0,(V161*$E33)+V161,V161)),\"NÃO\"),\"NÃO\")","v":"NÃO"},{"$f":"IF(AND(X$8>=$M33,X$8<=$N33),IF($F33=\"ANUAL\",IF(W161=\"NÃO\",$D33,IF(MOD(COUNT($Q161:W161)+1,12)=0,(W161*$E33)+W161,W161)),\"NÃO\"),\"NÃO\")","v":"NÃO"},{"$f":"IF(AND(Y$8>=$M33,Y$8<=$N33),IF($F33=\"ANUAL\",IF(X161=\"NÃO\",$D33,IF(MOD(COUNT($Q161:X161)+1,12)=0,(X161*$E33)+X161,X161)),\"NÃO\"),\"NÃO\")","v":"NÃO"},{"$f":"IF(AND(Z$8>=$M33,Z$8<=$N33),IF($F33=\"ANUAL\",IF(Y161=\"NÃO\",$D33,IF(MOD(COUNT($Q161:Y161)+1,12)=0,(Y161*$E33)+Y161,Y161)),\"NÃO\"),\"NÃO\")","v":"NÃO"},{"$f":"IF(AND(AA$8>=$M33,AA$8<=$N33),IF($F33=\"ANUAL\",IF(Z161=\"NÃO\",$D33,IF(MOD(COUNT($Q161:Z161)+1,12)=0,(Z161*$E33)+Z161,Z161)),\"NÃO\"),\"NÃO\")","v":"NÃO"},{"$f":"IF(AND(AB$8>=$M33,AB$8<=$N33),IF($F33=\"ANUAL\",IF(AA161=\"NÃO\",$D33,IF(MOD(COUNT($Q161:AA161)+1,12)=0,(AA161*$E33)+AA161,AA161)),\"NÃO\"),\"NÃO\")","v":"NÃO"},{"$f":"IF(AND(AC$8>=$M33,AC$8<=$N33),IF($F33=\"ANUAL\",IF(AB161=\"NÃO\",$D33,IF(MOD(COUNT($Q161:AB161)+1,12)=0,(AB161*$E33)+AB161,AB161)),\"NÃO\"),\"NÃO\")","v":"NÃO"},{"$f":"IF(AND(AD$8>=$M33,AD$8<=$N33),IF($F33=\"ANUAL\",IF(AC161=\"NÃO\",$D33,IF(MOD(COUNT($Q161:AC161)+1,12)=0,(AC161*$E33)+AC161,AC161)),\"NÃO\"),\"NÃO\")","v":"NÃO"},{"$f":"IF(AND(AE$8>=$M33,AE$8<=$N33),IF($F33=\"ANUAL\",IF(AD161=\"NÃO\",$D33,IF(MOD(COUNT($Q161:AD161)+1,12)=0,(AD161*$E33)+AD161,AD161)),\"NÃO\"),\"NÃO\")","v":"NÃO"},{"$f":"IF(AND(AF$8>=$M33,AF$8<=$N33),IF($F33=\"ANUAL\",IF(AE161=\"NÃO\",$D33,IF(MOD(COUNT($Q161:AE161)+1,12)=0,(AE161*$E33)+AE161,AE161)),\"NÃO\"),\"NÃO\")","v":"NÃO"},{"$f":"IF(AND(AG$8>=$M33,AG$8<=$N33),IF($F33=\"ANUAL\",IF(AF161=\"NÃO\",$D33,IF(MOD(COUNT($Q161:AF161)+1,12)=0,(AF161*$E33)+AF161,AF161)),\"NÃO\"),\"NÃO\")","v":"NÃO"},{"$f":"IF(AND(AH$8>=$M33,AH$8<=$N33),IF($F33=\"ANUAL\",IF(AG161=\"NÃO\",$D33,IF(MOD(COUNT($Q161:AG161)+1,12)=0,(AG161*$E33)+AG161,AG161)),\"NÃO\"),\"NÃO\")","v":"NÃO"},{"$f":"IF(AND(AI$8>=$M33,AI$8<=$N33),IF($F33=\"ANUAL\",IF(AH161=\"NÃO\",$D33,IF(MOD(COUNT($Q161:AH161)+1,12)=0,(AH161*$E33)+AH161,AH161)),\"NÃO\"),\"NÃO\")","v":"NÃO"},{"$f":"IF(AND(AJ$8>=$M33,AJ$8<=$N33),IF($F33=\"ANUAL\",IF(AI161=\"NÃO\",$D33,IF(MOD(COUNT($Q161:AI161)+1,12)=0,(AI161*$E33)+AI161,AI161)),\"NÃO\"),\"NÃO\")","v":"NÃO"},{"$f":"IF(AND(AK$8>=$M33,AK$8<=$N33),IF($F33=\"ANUAL\",IF(AJ161=\"NÃO\",$D33,IF(MOD(COUNT($Q161:AJ161)+1,12)=0,(AJ161*$E33)+AJ161,AJ161)),\"NÃO\"),\"NÃO\")","v":"NÃO"},{"$f":"IF(AND(AL$8>=$M33,AL$8<=$N33),IF($F33=\"ANUAL\",IF(AK161=\"NÃO\",$D33,IF(MOD(COUNT($Q161:AK161)+1,12)=0,(AK161*$E33)+AK161,AK161)),\"NÃO\"),\"NÃO\")","v":"NÃO"},{"$f":"IF(AND(AM$8>=$M33,AM$8<=$N33),IF($F33=\"ANUAL\",IF(AL161=\"NÃO\",$D33,IF(MOD(COUNT($Q161:AL161)+1,12)=0,(AL161*$E33)+AL161,AL161)),\"NÃO\"),\"NÃO\")","v":"NÃO"},{"$f":"IF(AND(AN$8>=$M33,AN$8<=$N33),IF($F33=\"ANUAL\",IF(AM161=\"NÃO\",$D33,IF(MOD(COUNT($Q161:AM161)+1,12)=0,(AM161*$E33)+AM161,AM161)),\"NÃO\"),\"NÃO\")","v":"NÃO"},{"$f":"IF(AND(AO$8>=$M33,AO$8<=$N33),IF($F33=\"ANUAL\",IF(AN161=\"NÃO\",$D33,IF(MOD(COUNT($Q161:AN161)+1,12)=0,(AN161*$E33)+AN161,AN161)),\"NÃO\"),\"NÃO\")","v":"NÃO"},{"$f":"IF(AND(AP$8>=$M33,AP$8<=$N33),IF($F33=\"ANUAL\",IF(AO161=\"NÃO\",$D33,IF(MOD(COUNT($Q161:AO161)+1,12)=0,(AO161*$E33)+AO161,AO161)),\"NÃO\"),\"NÃO\")","v":"NÃO"},{"$f":"IF(AND(AQ$8>=$M33,AQ$8<=$N33),IF($F33=\"ANUAL\",IF(AP161=\"NÃO\",$D33,IF(MOD(COUNT($Q161:AP161)+1,12)=0,(AP161*$E33)+AP161,AP161)),\"NÃO\"),\"NÃO\")","v":"NÃO"},{"$f":"IF(AND(AR$8>=$M33,AR$8<=$N33),IF($F33=\"ANUAL\",IF(AQ161=\"NÃO\",$D33,IF(MOD(COUNT($Q161:AQ161)+1,12)=0,(AQ161*$E33)+AQ161,AQ161)),\"NÃO\"),\"NÃO\")","v":"NÃO"},{"$f":"IF(AND(AS$8>=$M33,AS$8<=$N33),IF($F33=\"ANUAL\",IF(AR161=\"NÃO\",$D33,IF(MOD(COUNT($Q161:AR161)+1,12)=0,(AR161*$E33)+AR161,AR161)),\"NÃO\"),\"NÃO\")","v":"NÃO"},{"$f":"IF(AND(AT$8>=$M33,AT$8<=$N33),IF($F33=\"ANUAL\",IF(AS161=\"NÃO\",$D33,IF(MOD(COUNT($Q161:AS161)+1,12)=0,(AS161*$E33)+AS161,AS161)),\"NÃO\"),\"NÃO\")","v":"NÃO"},{"$f":"IF(AND(AU$8>=$M33,AU$8<=$N33),IF($F33=\"ANUAL\",IF(AT161=\"NÃO\",$D33,IF(MOD(COUNT($Q161:AT161)+1,12)=0,(AT161*$E33)+AT161,AT161)),\"NÃO\"),\"NÃO\")","v":"NÃO"},{"$f":"IF(AND(AV$8>=$M33,AV$8<=$N33),IF($F33=\"ANUAL\",IF(AU161=\"NÃO\",$D33,IF(MOD(COUNT($Q161:AU161)+1,12)=0,(AU161*$E33)+AU161,AU161)),\"NÃO\"),\"NÃO\")","v":"NÃO"},{"$f":"IF(AND(AW$8>=$M33,AW$8<=$N33),IF($F33=\"ANUAL\",IF(AV161=\"NÃO\",$D33,IF(MOD(COUNT($Q161:AV161)+1,12)=0,(AV161*$E33)+AV161,AV161)),\"NÃO\"),\"NÃO\")","v":"NÃO"},{"$f":"IF(AND(AX$8>=$M33,AX$8<=$N33),IF($F33=\"ANUAL\",IF(AW161=\"NÃO\",$D33,IF(MOD(COUNT($Q161:AW161)+1,12)=0,(AW161*$E33)+AW161,AW161)),\"NÃO\"),\"NÃO\")","v":"NÃO"},{"$f":"IF(AND(AY$8>=$M33,AY$8<=$N33),IF($F33=\"ANUAL\",IF(AX161=\"NÃO\",$D33,IF(MOD(COUNT($Q161:AX161)+1,12)=0,(AX161*$E33)+AX161,AX161)),\"NÃO\"),\"NÃO\")","v":"NÃO"},{"$f":"IF(AND(AZ$8>=$M33,AZ$8<=$N33),IF($F33=\"ANUAL\",IF(AY161=\"NÃO\",$D33,IF(MOD(COUNT($Q161:AY161)+1,12)=0,(AY161*$E33)+AY161,AY161)),\"NÃO\"),\"NÃO\")","v":"NÃO"},{"$f":"IF(AND(BA$8>=$M33,BA$8<=$N33),IF($F33=\"ANUAL\",IF(AZ161=\"NÃO\",$D33,IF(MOD(COUNT($Q161:AZ161)+1,12)=0,(AZ161*$E33)+AZ161,AZ161)),\"NÃO\"),\"NÃO\")","v":"NÃO"},{"$f":"IF(AND(BB$8>=$M33,BB$8<=$N33),IF($F33=\"ANUAL\",IF(BA161=\"NÃO\",$D33,IF(MOD(COUNT($Q161:BA161)+1,12)=0,(BA161*$E33)+BA161,BA161)),\"NÃO\"),\"NÃO\")","v":"NÃO"},{"$f":"IF(AND(BC$8>=$M33,BC$8<=$N33),IF($F33=\"ANUAL\",IF(BB161=\"NÃO\",$D33,IF(MOD(COUNT($Q161:BB161)+1,12)=0,(BB161*$E33)+BB161,BB161)),\"NÃO\"),\"NÃO\")","v":"NÃO"},{"$f":"IF(AND(BD$8>=$M33,BD$8<=$N33),IF($F33=\"ANUAL\",IF(BC161=\"NÃO\",$D33,IF(MOD(COUNT($Q161:BC161)+1,12)=0,(BC161*$E33)+BC161,BC161)),\"NÃO\"),\"NÃO\")","v":"NÃO"},{"$f":"IF(AND(BE$8>=$M33,BE$8<=$N33),IF($F33=\"ANUAL\",IF(BD161=\"NÃO\",$D33,IF(MOD(COUNT($Q161:BD161)+1,12)=0,(BD161*$E33)+BD161,BD161)),\"NÃO\"),\"NÃO\")","v":"NÃO"},{"$f":"IF(AND(BF$8>=$M33,BF$8<=$N33),IF($F33=\"ANUAL\",IF(BE161=\"NÃO\",$D33,IF(MOD(COUNT($Q161:BE161)+1,12)=0,(BE161*$E33)+BE161,BE161)),\"NÃO\"),\"NÃO\")","v":"NÃO"},{"$f":"IF(AND(BG$8>=$M33,BG$8<=$N33),IF($F33=\"ANUAL\",IF(BF161=\"NÃO\",$D33,IF(MOD(COUNT($Q161:BF161)+1,12)=0,(BF161*$E33)+BF161,BF161)),\"NÃO\"),\"NÃO\")","v":"NÃO"},{"$f":"IF(AND(BH$8>=$M33,BH$8<=$N33),IF($F33=\"ANUAL\",IF(BG161=\"NÃO\",$D33,IF(MOD(COUNT($Q161:BG161)+1,12)=0,(BG161*$E33)+BG161,BG161)),\"NÃO\"),\"NÃO\")","v":"NÃO"},{"$f":"IF(AND(BI$8>=$M33,BI$8<=$N33),IF($F33=\"ANUAL\",IF(BH161=\"NÃO\",$D33,IF(MOD(COUNT($Q161:BH161)+1,12)=0,(BH161*$E33)+BH161,BH161)),\"NÃO\"),\"NÃO\")","v":"NÃO"},{"$f":"IF(AND(BJ$8>=$M33,BJ$8<=$N33),IF($F33=\"ANUAL\",IF(BI161=\"NÃO\",$D33,IF(MOD(COUNT($Q161:BI161)+1,12)=0,(BI161*$E33)+BI161,BI161)),\"NÃO\"),\"NÃO\")","v":"NÃO"},{"$f":"IF(AND(BK$8>=$M33,BK$8<=$N33),IF($F33=\"ANUAL\",IF(BJ161=\"NÃO\",$D33,IF(MOD(COUNT($Q161:BJ161)+1,12)=0,(BJ161*$E33)+BJ161,BJ161)),\"NÃO\"),\"NÃO\")","v":"NÃO"},{"$f":"IF(AND(BL$8>=$M33,BL$8<=$N33),IF($F33=\"ANUAL\",IF(BK161=\"NÃO\",$D33,IF(MOD(COUNT($Q161:BK161)+1,12)=0,(BK161*$E33)+BK161,BK161)),\"NÃO\"),\"NÃO\")","v":"NÃO"},{"$f":"IF(AND(BM$8>=$M33,BM$8<=$N33),IF($F33=\"ANUAL\",IF(BL161=\"NÃO\",$D33,IF(MOD(COUNT($Q161:BL161)+1,12)=0,(BL161*$E33)+BL161,BL161)),\"NÃO\"),\"NÃO\")","v":"NÃO"},{"$f":"IF(AND(BN$8>=$M33,BN$8<=$N33),IF($F33=\"ANUAL\",IF(BM161=\"NÃO\",$D33,IF(MOD(COUNT($Q161:BM161)+1,12)=0,(BM161*$E33)+BM161,BM161)),\"NÃO\"),\"NÃO\")","v":"NÃO"},{"$f":"IF(AND(BO$8>=$M33,BO$8<=$N33),IF($F33=\"ANUAL\",IF(BN161=\"NÃO\",$D33,IF(MOD(COUNT($Q161:BN161)+1,12)=0,(BN161*$E33)+BN161,BN161)),\"NÃO\"),\"NÃO\")","v":"NÃO"},{"$f":"IF(AND(BP$8>=$M33,BP$8<=$N33),IF($F33=\"ANUAL\",IF(BO161=\"NÃO\",$D33,IF(MOD(COUNT($Q161:BO161)+1,12)=0,(BO161*$E33)+BO161,BO161)),\"NÃO\"),\"NÃO\")","v":"NÃO"},{"$f":"IF(AND(BQ$8>=$M33,BQ$8<=$N33),IF($F33=\"ANUAL\",IF(BP161=\"NÃO\",$D33,IF(MOD(COUNT($Q161:BP161)+1,12)=0,(BP161*$E33)+BP161,BP161)),\"NÃO\"),\"NÃO\")","v":"NÃO"},{"$f":"IF(AND(BR$8>=$M33,BR$8<=$N33),IF($F33=\"ANUAL\",IF(BQ161=\"NÃO\",$D33,IF(MOD(COUNT($Q161:BQ161)+1,12)=0,(BQ161*$E33)+BQ161,BQ161)),\"NÃO\"),\"NÃO\")","v":"NÃO"},{"$f":"IF(AND(BS$8>=$M33,BS$8<=$N33),IF($F33=\"ANUAL\",IF(BR161=\"NÃO\",$D33,IF(MOD(COUNT($Q161:BR161)+1,12)=0,(BR161*$E33)+BR161,BR161)),\"NÃO\"),\"NÃO\")","v":"NÃO"},{"$f":"IF(AND(BT$8>=$M33,BT$8<=$N33),IF($F33=\"ANUAL\",IF(BS161=\"NÃO\",$D33,IF(MOD(COUNT($Q161:BS161)+1,12)=0,(BS161*$E33)+BS161,BS161)),\"NÃO\"),\"NÃO\")","v":"NÃO"},{"$f":"IF(AND(BU$8>=$M33,BU$8<=$N33),IF($F33=\"ANUAL\",IF(BT161=\"NÃO\",$D33,IF(MOD(COUNT($Q161:BT161)+1,12)=0,(BT161*$E33)+BT161,BT161)),\"NÃO\"),\"NÃO\")","v":"NÃO"},{"$f":"IF(AND(BV$8>=$M33,BV$8<=$N33),IF($F33=\"ANUAL\",IF(BU161=\"NÃO\",$D33,IF(MOD(COUNT($Q161:BU161)+1,12)=0,(BU161*$E33)+BU161,BU161)),\"NÃO\"),\"NÃO\")","v":"NÃO"},{"$f":"IF(AND(BW$8>=$M33,BW$8<=$N33),IF($F33=\"ANUAL\",IF(BV161=\"NÃO\",$D33,IF(MOD(COUNT($Q161:BV161)+1,12)=0,(BV161*$E33)+BV161,BV161)),\"NÃO\"),\"NÃO\")","v":"NÃO"},{"$f":"IF(AND(BX$8>=$M33,BX$8<=$N33),IF($F33=\"ANUAL\",IF(BW161=\"NÃO\",$D33,IF(MOD(COUNT($Q161:BW161)+1,12)=0,(BW161*$E33)+BW161,BW161)),\"NÃO\"),\"NÃO\")","v":"NÃO"}]
[null,null,null,null,null,null,null,null,null,null,null,null,null,null,null,26,"NÃO",{"$f":"IF(AND(R$8>=$M34,R$8<=$N34),IF($F34=\"ANUAL\",IF(Q162=\"NÃO\",$D34,IF(MOD(COUNT($Q162:Q162)+1,12)=0,(Q162*$E34)+Q162,Q162)),\"NÃO\"),\"NÃO\")","v":"NÃO"},{"$f":"IF(AND(S$8>=$M34,S$8<=$N34),IF($F34=\"ANUAL\",IF(R162=\"NÃO\",$D34,IF(MOD(COUNT($Q162:R162)+1,12)=0,(R162*$E34)+R162,R162)),\"NÃO\"),\"NÃO\")","v":"NÃO"},{"$f":"IF(AND(T$8>=$M34,T$8<=$N34),IF($F34=\"ANUAL\",IF(S162=\"NÃO\",$D34,IF(MOD(COUNT($Q162:S162)+1,12)=0,(S162*$E34)+S162,S162)),\"NÃO\"),\"NÃO\")","v":"NÃO"},{"$f":"IF(AND(U$8>=$M34,U$8<=$N34),IF($F34=\"ANUAL\",IF(T162=\"NÃO\",$D34,IF(MOD(COUNT($Q162:T162)+1,12)=0,(T162*$E34)+T162,T162)),\"NÃO\"),\"NÃO\")","v":"NÃO"},{"$f":"IF(AND(V$8>=$M34,V$8<=$N34),IF($F34=\"ANUAL\",IF(U162=\"NÃO\",$D34,IF(MOD(COUNT($Q162:U162)+1,12)=0,(U162*$E34)+U162,U162)),\"NÃO\"),\"NÃO\")","v":"NÃO"},{"$f":"IF(AND(W$8>=$M34,W$8<=$N34),IF($F34=\"ANUAL\",IF(V162=\"NÃO\",$D34,IF(MOD(COUNT($Q162:V162)+1,12)=0,(V162*$E34)+V162,V162)),\"NÃO\"),\"NÃO\")","v":"NÃO"},{"$f":"IF(AND(X$8>=$M34,X$8<=$N34),IF($F34=\"ANUAL\",IF(W162=\"NÃO\",$D34,IF(MOD(COUNT($Q162:W162)+1,12)=0,(W162*$E34)+W162,W162)),\"NÃO\"),\"NÃO\")","v":"NÃO"},{"$f":"IF(AND(Y$8>=$M34,Y$8<=$N34),IF($F34=\"ANUAL\",IF(X162=\"NÃO\",$D34,IF(MOD(COUNT($Q162:X162)+1,12)=0,(X162*$E34)+X162,X162)),\"NÃO\"),\"NÃO\")","v":"NÃO"},{"$f":"IF(AND(Z$8>=$M34,Z$8<=$N34),IF($F34=\"ANUAL\",IF(Y162=\"NÃO\",$D34,IF(MOD(COUNT($Q162:Y162)+1,12)=0,(Y162*$E34)+Y162,Y162)),\"NÃO\"),\"NÃO\")","v":"NÃO"},{"$f":"IF(AND(AA$8>=$M34,AA$8<=$N34),IF($F34=\"ANUAL\",IF(Z162=\"NÃO\",$D34,IF(MOD(COUNT($Q162:Z162)+1,12)=0,(Z162*$E34)+Z162,Z162)),\"NÃO\"),\"NÃO\")","v":"NÃO"},{"$f":"IF(AND(AB$8>=$M34,AB$8<=$N34),IF($F34=\"ANUAL\",IF(AA162=\"NÃO\",$D34,IF(MOD(COUNT($Q162:AA162)+1,12)=0,(AA162*$E34)+AA162,AA162)),\"NÃO\"),\"NÃO\")","v":"NÃO"},{"$f":"IF(AND(AC$8>=$M34,AC$8<=$N34),IF($F34=\"ANUAL\",IF(AB162=\"NÃO\",$D34,IF(MOD(COUNT($Q162:AB162)+1,12)=0,(AB162*$E34)+AB162,AB162)),\"NÃO\"),\"NÃO\")","v":"NÃO"},{"$f":"IF(AND(AD$8>=$M34,AD$8<=$N34),IF($F34=\"ANUAL\",IF(AC162=\"NÃO\",$D34,IF(MOD(COUNT($Q162:AC162)+1,12)=0,(AC162*$E34)+AC162,AC162)),\"NÃO\"),\"NÃO\")","v":"NÃO"},{"$f":"IF(AND(AE$8>=$M34,AE$8<=$N34),IF($F34=\"ANUAL\",IF(AD162=\"NÃO\",$D34,IF(MOD(COUNT($Q162:AD162)+1,12)=0,(AD162*$E34)+AD162,AD162)),\"NÃO\"),\"NÃO\")","v":"NÃO"},{"$f":"IF(AND(AF$8>=$M34,AF$8<=$N34),IF($F34=\"ANUAL\",IF(AE162=\"NÃO\",$D34,IF(MOD(COUNT($Q162:AE162)+1,12)=0,(AE162*$E34)+AE162,AE162)),\"NÃO\"),\"NÃO\")","v":"NÃO"},{"$f":"IF(AND(AG$8>=$M34,AG$8<=$N34),IF($F34=\"ANUAL\",IF(AF162=\"NÃO\",$D34,IF(MOD(COUNT($Q162:AF162)+1,12)=0,(AF162*$E34)+AF162,AF162)),\"NÃO\"),\"NÃO\")","v":"NÃO"},{"$f":"IF(AND(AH$8>=$M34,AH$8<=$N34),IF($F34=\"ANUAL\",IF(AG162=\"NÃO\",$D34,IF(MOD(COUNT($Q162:AG162)+1,12)=0,(AG162*$E34)+AG162,AG162)),\"NÃO\"),\"NÃO\")","v":"NÃO"},{"$f":"IF(AND(AI$8>=$M34,AI$8<=$N34),IF($F34=\"ANUAL\",IF(AH162=\"NÃO\",$D34,IF(MOD(COUNT($Q162:AH162)+1,12)=0,(AH162*$E34)+AH162,AH162)),\"NÃO\"),\"NÃO\")","v":"NÃO"},{"$f":"IF(AND(AJ$8>=$M34,AJ$8<=$N34),IF($F34=\"ANUAL\",IF(AI162=\"NÃO\",$D34,IF(MOD(COUNT($Q162:AI162)+1,12)=0,(AI162*$E34)+AI162,AI162)),\"NÃO\"),\"NÃO\")","v":"NÃO"},{"$f":"IF(AND(AK$8>=$M34,AK$8<=$N34),IF($F34=\"ANUAL\",IF(AJ162=\"NÃO\",$D34,IF(MOD(COUNT($Q162:AJ162)+1,12)=0,(AJ162*$E34)+AJ162,AJ162)),\"NÃO\"),\"NÃO\")","v":"NÃO"},{"$f":"IF(AND(AL$8>=$M34,AL$8<=$N34),IF($F34=\"ANUAL\",IF(AK162=\"NÃO\",$D34,IF(MOD(COUNT($Q162:AK162)+1,12)=0,(AK162*$E34)+AK162,AK162)),\"NÃO\"),\"NÃO\")","v":"NÃO"},{"$f":"IF(AND(AM$8>=$M34,AM$8<=$N34),IF($F34=\"ANUAL\",IF(AL162=\"NÃO\",$D34,IF(MOD(COUNT($Q162:AL162)+1,12)=0,(AL162*$E34)+AL162,AL162)),\"NÃO\"),\"NÃO\")","v":"NÃO"},{"$f":"IF(AND(AN$8>=$M34,AN$8<=$N34),IF($F34=\"ANUAL\",IF(AM162=\"NÃO\",$D34,IF(MOD(COUNT($Q162:AM162)+1,12)=0,(AM162*$E34)+AM162,AM162)),\"NÃO\"),\"NÃO\")","v":"NÃO"},{"$f":"IF(AND(AO$8>=$M34,AO$8<=$N34),IF($F34=\"ANUAL\",IF(AN162=\"NÃO\",$D34,IF(MOD(COUNT($Q162:AN162)+1,12)=0,(AN162*$E34)+AN162,AN162)),\"NÃO\"),\"NÃO\")","v":"NÃO"},{"$f":"IF(AND(AP$8>=$M34,AP$8<=$N34),IF($F34=\"ANUAL\",IF(AO162=\"NÃO\",$D34,IF(MOD(COUNT($Q162:AO162)+1,12)=0,(AO162*$E34)+AO162,AO162)),\"NÃO\"),\"NÃO\")","v":"NÃO"},{"$f":"IF(AND(AQ$8>=$M34,AQ$8<=$N34),IF($F34=\"ANUAL\",IF(AP162=\"NÃO\",$D34,IF(MOD(COUNT($Q162:AP162)+1,12)=0,(AP162*$E34)+AP162,AP162)),\"NÃO\"),\"NÃO\")","v":"NÃO"},{"$f":"IF(AND(AR$8>=$M34,AR$8<=$N34),IF($F34=\"ANUAL\",IF(AQ162=\"NÃO\",$D34,IF(MOD(COUNT($Q162:AQ162)+1,12)=0,(AQ162*$E34)+AQ162,AQ162)),\"NÃO\"),\"NÃO\")","v":"NÃO"},{"$f":"IF(AND(AS$8>=$M34,AS$8<=$N34),IF($F34=\"ANUAL\",IF(AR162=\"NÃO\",$D34,IF(MOD(COUNT($Q162:AR162)+1,12)=0,(AR162*$E34)+AR162,AR162)),\"NÃO\"),\"NÃO\")","v":"NÃO"},{"$f":"IF(AND(AT$8>=$M34,AT$8<=$N34),IF($F34=\"ANUAL\",IF(AS162=\"NÃO\",$D34,IF(MOD(COUNT($Q162:AS162)+1,12)=0,(AS162*$E34)+AS162,AS162)),\"NÃO\"),\"NÃO\")","v":"NÃO"},{"$f":"IF(AND(AU$8>=$M34,AU$8<=$N34),IF($F34=\"ANUAL\",IF(AT162=\"NÃO\",$D34,IF(MOD(COUNT($Q162:AT162)+1,12)=0,(AT162*$E34)+AT162,AT162)),\"NÃO\"),\"NÃO\")","v":"NÃO"},{"$f":"IF(AND(AV$8>=$M34,AV$8<=$N34),IF($F34=\"ANUAL\",IF(AU162=\"NÃO\",$D34,IF(MOD(COUNT($Q162:AU162)+1,12)=0,(AU162*$E34)+AU162,AU162)),\"NÃO\"),\"NÃO\")","v":"NÃO"},{"$f":"IF(AND(AW$8>=$M34,AW$8<=$N34),IF($F34=\"ANUAL\",IF(AV162=\"NÃO\",$D34,IF(MOD(COUNT($Q162:AV162)+1,12)=0,(AV162*$E34)+AV162,AV162)),\"NÃO\"),\"NÃO\")","v":"NÃO"},{"$f":"IF(AND(AX$8>=$M34,AX$8<=$N34),IF($F34=\"ANUAL\",IF(AW162=\"NÃO\",$D34,IF(MOD(COUNT($Q162:AW162)+1,12)=0,(AW162*$E34)+AW162,AW162)),\"NÃO\"),\"NÃO\")","v":"NÃO"},{"$f":"IF(AND(AY$8>=$M34,AY$8<=$N34),IF($F34=\"ANUAL\",IF(AX162=\"NÃO\",$D34,IF(MOD(COUNT($Q162:AX162)+1,12)=0,(AX162*$E34)+AX162,AX162)),\"NÃO\"),\"NÃO\")","v":"NÃO"},{"$f":"IF(AND(AZ$8>=$M34,AZ$8<=$N34),IF($F34=\"ANUAL\",IF(AY162=\"NÃO\",$D34,IF(MOD(COUNT($Q162:AY162)+1,12)=0,(AY162*$E34)+AY162,AY162)),\"NÃO\"),\"NÃO\")","v":"NÃO"},{"$f":"IF(AND(BA$8>=$M34,BA$8<=$N34),IF($F34=\"ANUAL\",IF(AZ162=\"NÃO\",$D34,IF(MOD(COUNT($Q162:AZ162)+1,12)=0,(AZ162*$E34)+AZ162,AZ162)),\"NÃO\"),\"NÃO\")","v":"NÃO"},{"$f":"IF(AND(BB$8>=$M34,BB$8<=$N34),IF($F34=\"ANUAL\",IF(BA162=\"NÃO\",$D34,IF(MOD(COUNT($Q162:BA162)+1,12)=0,(BA162*$E34)+BA162,BA162)),\"NÃO\"),\"NÃO\")","v":"NÃO"},{"$f":"IF(AND(BC$8>=$M34,BC$8<=$N34),IF($F34=\"ANUAL\",IF(BB162=\"NÃO\",$D34,IF(MOD(COUNT($Q162:BB162)+1,12)=0,(BB162*$E34)+BB162,BB162)),\"NÃO\"),\"NÃO\")","v":"NÃO"},{"$f":"IF(AND(BD$8>=$M34,BD$8<=$N34),IF($F34=\"ANUAL\",IF(BC162=\"NÃO\",$D34,IF(MOD(COUNT($Q162:BC162)+1,12)=0,(BC162*$E34)+BC162,BC162)),\"NÃO\"),\"NÃO\")","v":"NÃO"},{"$f":"IF(AND(BE$8>=$M34,BE$8<=$N34),IF($F34=\"ANUAL\",IF(BD162=\"NÃO\",$D34,IF(MOD(COUNT($Q162:BD162)+1,12)=0,(BD162*$E34)+BD162,BD162)),\"NÃO\"),\"NÃO\")","v":"NÃO"},{"$f":"IF(AND(BF$8>=$M34,BF$8<=$N34),IF($F34=\"ANUAL\",IF(BE162=\"NÃO\",$D34,IF(MOD(COUNT($Q162:BE162)+1,12)=0,(BE162*$E34)+BE162,BE162)),\"NÃO\"),\"NÃO\")","v":"NÃO"},{"$f":"IF(AND(BG$8>=$M34,BG$8<=$N34),IF($F34=\"ANUAL\",IF(BF162=\"NÃO\",$D34,IF(MOD(COUNT($Q162:BF162)+1,12)=0,(BF162*$E34)+BF162,BF162)),\"NÃO\"),\"NÃO\")","v":"NÃO"},{"$f":"IF(AND(BH$8>=$M34,BH$8<=$N34),IF($F34=\"ANUAL\",IF(BG162=\"NÃO\",$D34,IF(MOD(COUNT($Q162:BG162)+1,12)=0,(BG162*$E34)+BG162,BG162)),\"NÃO\"),\"NÃO\")","v":"NÃO"},{"$f":"IF(AND(BI$8>=$M34,BI$8<=$N34),IF($F34=\"ANUAL\",IF(BH162=\"NÃO\",$D34,IF(MOD(COUNT($Q162:BH162)+1,12)=0,(BH162*$E34)+BH162,BH162)),\"NÃO\"),\"NÃO\")","v":"NÃO"},{"$f":"IF(AND(BJ$8>=$M34,BJ$8<=$N34),IF($F34=\"ANUAL\",IF(BI162=\"NÃO\",$D34,IF(MOD(COUNT($Q162:BI162)+1,12)=0,(BI162*$E34)+BI162,BI162)),\"NÃO\"),\"NÃO\")","v":"NÃO"},{"$f":"IF(AND(BK$8>=$M34,BK$8<=$N34),IF($F34=\"ANUAL\",IF(BJ162=\"NÃO\",$D34,IF(MOD(COUNT($Q162:BJ162)+1,12)=0,(BJ162*$E34)+BJ162,BJ162)),\"NÃO\"),\"NÃO\")","v":"NÃO"},{"$f":"IF(AND(BL$8>=$M34,BL$8<=$N34),IF($F34=\"ANUAL\",IF(BK162=\"NÃO\",$D34,IF(MOD(COUNT($Q162:BK162)+1,12)=0,(BK162*$E34)+BK162,BK162)),\"NÃO\"),\"NÃO\")","v":"NÃO"},{"$f":"IF(AND(BM$8>=$M34,BM$8<=$N34),IF($F34=\"ANUAL\",IF(BL162=\"NÃO\",$D34,IF(MOD(COUNT($Q162:BL162)+1,12)=0,(BL162*$E34)+BL162,BL162)),\"NÃO\"),\"NÃO\")","v":"NÃO"},{"$f":"IF(AND(BN$8>=$M34,BN$8<=$N34),IF($F34=\"ANUAL\",IF(BM162=\"NÃO\",$D34,IF(MOD(COUNT($Q162:BM162)+1,12)=0,(BM162*$E34)+BM162,BM162)),\"NÃO\"),\"NÃO\")","v":"NÃO"},{"$f":"IF(AND(BO$8>=$M34,BO$8<=$N34),IF($F34=\"ANUAL\",IF(BN162=\"NÃO\",$D34,IF(MOD(COUNT($Q162:BN162)+1,12)=0,(BN162*$E34)+BN162,BN162)),\"NÃO\"),\"NÃO\")","v":"NÃO"},{"$f":"IF(AND(BP$8>=$M34,BP$8<=$N34),IF($F34=\"ANUAL\",IF(BO162=\"NÃO\",$D34,IF(MOD(COUNT($Q162:BO162)+1,12)=0,(BO162*$E34)+BO162,BO162)),\"NÃO\"),\"NÃO\")","v":"NÃO"},{"$f":"IF(AND(BQ$8>=$M34,BQ$8<=$N34),IF($F34=\"ANUAL\",IF(BP162=\"NÃO\",$D34,IF(MOD(COUNT($Q162:BP162)+1,12)=0,(BP162*$E34)+BP162,BP162)),\"NÃO\"),\"NÃO\")","v":"NÃO"},{"$f":"IF(AND(BR$8>=$M34,BR$8<=$N34),IF($F34=\"ANUAL\",IF(BQ162=\"NÃO\",$D34,IF(MOD(COUNT($Q162:BQ162)+1,12)=0,(BQ162*$E34)+BQ162,BQ162)),\"NÃO\"),\"NÃO\")","v":"NÃO"},{"$f":"IF(AND(BS$8>=$M34,BS$8<=$N34),IF($F34=\"ANUAL\",IF(BR162=\"NÃO\",$D34,IF(MOD(COUNT($Q162:BR162)+1,12)=0,(BR162*$E34)+BR162,BR162)),\"NÃO\"),\"NÃO\")","v":"NÃO"},{"$f":"IF(AND(BT$8>=$M34,BT$8<=$N34),IF($F34=\"ANUAL\",IF(BS162=\"NÃO\",$D34,IF(MOD(COUNT($Q162:BS162)+1,12)=0,(BS162*$E34)+BS162,BS162)),\"NÃO\"),\"NÃO\")","v":"NÃO"},{"$f":"IF(AND(BU$8>=$M34,BU$8<=$N34),IF($F34=\"ANUAL\",IF(BT162=\"NÃO\",$D34,IF(MOD(COUNT($Q162:BT162)+1,12)=0,(BT162*$E34)+BT162,BT162)),\"NÃO\"),\"NÃO\")","v":"NÃO"},{"$f":"IF(AND(BV$8>=$M34,BV$8<=$N34),IF($F34=\"ANUAL\",IF(BU162=\"NÃO\",$D34,IF(MOD(COUNT($Q162:BU162)+1,12)=0,(BU162*$E34)+BU162,BU162)),\"NÃO\"),\"NÃO\")","v":"NÃO"},{"$f":"IF(AND(BW$8>=$M34,BW$8<=$N34),IF($F34=\"ANUAL\",IF(BV162=\"NÃO\",$D34,IF(MOD(COUNT($Q162:BV162)+1,12)=0,(BV162*$E34)+BV162,BV162)),\"NÃO\"),\"NÃO\")","v":"NÃO"},{"$f":"IF(AND(BX$8>=$M34,BX$8<=$N34),IF($F34=\"ANUAL\",IF(BW162=\"NÃO\",$D34,IF(MOD(COUNT($Q162:BW162)+1,12)=0,(BW162*$E34)+BW162,BW162)),\"NÃO\"),\"NÃO\")","v":"NÃO"}]
[null,null,null,null,null,null,null,null,null,null,null,null,null,null,null,27,"NÃO",{"$f":"IF(AND(R$8>=$M35,R$8<=$N35),IF($F35=\"ANUAL\",IF(Q163=\"NÃO\",$D35,IF(MOD(COUNT($Q163:Q163)+1,12)=0,(Q163*$E35)+Q163,Q163)),\"NÃO\"),\"NÃO\")","v":"NÃO"},{"$f":"IF(AND(S$8>=$M35,S$8<=$N35),IF($F35=\"ANUAL\",IF(R163=\"NÃO\",$D35,IF(MOD(COUNT($Q163:R163)+1,12)=0,(R163*$E35)+R163,R163)),\"NÃO\"),\"NÃO\")","v":"NÃO"},{"$f":"IF(AND(T$8>=$M35,T$8<=$N35),IF($F35=\"ANUAL\",IF(S163=\"NÃO\",$D35,IF(MOD(COUNT($Q163:S163)+1,12)=0,(S163*$E35)+S163,S163)),\"NÃO\"),\"NÃO\")","v":"NÃO"},{"$f":"IF(AND(U$8>=$M35,U$8<=$N35),IF($F35=\"ANUAL\",IF(T163=\"NÃO\",$D35,IF(MOD(COUNT($Q163:T163)+1,12)=0,(T163*$E35)+T163,T163)),\"NÃO\"),\"NÃO\")","v":"NÃO"},{"$f":"IF(AND(V$8>=$M35,V$8<=$N35),IF($F35=\"ANUAL\",IF(U163=\"NÃO\",$D35,IF(MOD(COUNT($Q163:U163)+1,12)=0,(U163*$E35)+U163,U163)),\"NÃO\"),\"NÃO\")","v":"NÃO"},{"$f":"IF(AND(W$8>=$M35,W$8<=$N35),IF($F35=\"ANUAL\",IF(V163=\"NÃO\",$D35,IF(MOD(COUNT($Q163:V163)+1,12)=0,(V163*$E35)+V163,V163)),\"NÃO\"),\"NÃO\")","v":"NÃO"},{"$f":"IF(AND(X$8>=$M35,X$8<=$N35),IF($F35=\"ANUAL\",IF(W163=\"NÃO\",$D35,IF(MOD(COUNT($Q163:W163)+1,12)=0,(W163*$E35)+W163,W163)),\"NÃO\"),\"NÃO\")","v":"NÃO"},{"$f":"IF(AND(Y$8>=$M35,Y$8<=$N35),IF($F35=\"ANUAL\",IF(X163=\"NÃO\",$D35,IF(MOD(COUNT($Q163:X163)+1,12)=0,(X163*$E35)+X163,X163)),\"NÃO\"),\"NÃO\")","v":"NÃO"},{"$f":"IF(AND(Z$8>=$M35,Z$8<=$N35),IF($F35=\"ANUAL\",IF(Y163=\"NÃO\",$D35,IF(MOD(COUNT($Q163:Y163)+1,12)=0,(Y163*$E35)+Y163,Y163)),\"NÃO\"),\"NÃO\")","v":"NÃO"},{"$f":"IF(AND(AA$8>=$M35,AA$8<=$N35),IF($F35=\"ANUAL\",IF(Z163=\"NÃO\",$D35,IF(MOD(COUNT($Q163:Z163)+1,12)=0,(Z163*$E35)+Z163,Z163)),\"NÃO\"),\"NÃO\")","v":"NÃO"},{"$f":"IF(AND(AB$8>=$M35,AB$8<=$N35),IF($F35=\"ANUAL\",IF(AA163=\"NÃO\",$D35,IF(MOD(COUNT($Q163:AA163)+1,12)=0,(AA163*$E35)+AA163,AA163)),\"NÃO\"),\"NÃO\")","v":"NÃO"},{"$f":"IF(AND(AC$8>=$M35,AC$8<=$N35),IF($F35=\"ANUAL\",IF(AB163=\"NÃO\",$D35,IF(MOD(COUNT($Q163:AB163)+1,12)=0,(AB163*$E35)+AB163,AB163)),\"NÃO\"),\"NÃO\")","v":"NÃO"},{"$f":"IF(AND(AD$8>=$M35,AD$8<=$N35),IF($F35=\"ANUAL\",IF(AC163=\"NÃO\",$D35,IF(MOD(COUNT($Q163:AC163)+1,12)=0,(AC163*$E35)+AC163,AC163)),\"NÃO\"),\"NÃO\")","v":"NÃO"},{"$f":"IF(AND(AE$8>=$M35,AE$8<=$N35),IF($F35=\"ANUAL\",IF(AD163=\"NÃO\",$D35,IF(MOD(COUNT($Q163:AD163)+1,12)=0,(AD163*$E35)+AD163,AD163)),\"NÃO\"),\"NÃO\")","v":"NÃO"},{"$f":"IF(AND(AF$8>=$M35,AF$8<=$N35),IF($F35=\"ANUAL\",IF(AE163=\"NÃO\",$D35,IF(MOD(COUNT($Q163:AE163)+1,12)=0,(AE163*$E35)+AE163,AE163)),\"NÃO\"),\"NÃO\")","v":"NÃO"},{"$f":"IF(AND(AG$8>=$M35,AG$8<=$N35),IF($F35=\"ANUAL\",IF(AF163=\"NÃO\",$D35,IF(MOD(COUNT($Q163:AF163)+1,12)=0,(AF163*$E35)+AF163,AF163)),\"NÃO\"),\"NÃO\")","v":"NÃO"},{"$f":"IF(AND(AH$8>=$M35,AH$8<=$N35),IF($F35=\"ANUAL\",IF(AG163=\"NÃO\",$D35,IF(MOD(COUNT($Q163:AG163)+1,12)=0,(AG163*$E35)+AG163,AG163)),\"NÃO\"),\"NÃO\")","v":"NÃO"},{"$f":"IF(AND(AI$8>=$M35,AI$8<=$N35),IF($F35=\"ANUAL\",IF(AH163=\"NÃO\",$D35,IF(MOD(COUNT($Q163:AH163)+1,12)=0,(AH163*$E35)+AH163,AH163)),\"NÃO\"),\"NÃO\")","v":"NÃO"},{"$f":"IF(AND(AJ$8>=$M35,AJ$8<=$N35),IF($F35=\"ANUAL\",IF(AI163=\"NÃO\",$D35,IF(MOD(COUNT($Q163:AI163)+1,12)=0,(AI163*$E35)+AI163,AI163)),\"NÃO\"),\"NÃO\")","v":"NÃO"},{"$f":"IF(AND(AK$8>=$M35,AK$8<=$N35),IF($F35=\"ANUAL\",IF(AJ163=\"NÃO\",$D35,IF(MOD(COUNT($Q163:AJ163)+1,12)=0,(AJ163*$E35)+AJ163,AJ163)),\"NÃO\"),\"NÃO\")","v":"NÃO"},{"$f":"IF(AND(AL$8>=$M35,AL$8<=$N35),IF($F35=\"ANUAL\",IF(AK163=\"NÃO\",$D35,IF(MOD(COUNT($Q163:AK163)+1,12)=0,(AK163*$E35)+AK163,AK163)),\"NÃO\"),\"NÃO\")","v":"NÃO"},{"$f":"IF(AND(AM$8>=$M35,AM$8<=$N35),IF($F35=\"ANUAL\",IF(AL163=\"NÃO\",$D35,IF(MOD(COUNT($Q163:AL163)+1,12)=0,(AL163*$E35)+AL163,AL163)),\"NÃO\"),\"NÃO\")","v":"NÃO"},{"$f":"IF(AND(AN$8>=$M35,AN$8<=$N35),IF($F35=\"ANUAL\",IF(AM163=\"NÃO\",$D35,IF(MOD(COUNT($Q163:AM163)+1,12)=0,(AM163*$E35)+AM163,AM163)),\"NÃO\"),\"NÃO\")","v":"NÃO"},{"$f":"IF(AND(AO$8>=$M35,AO$8<=$N35),IF($F35=\"ANUAL\",IF(AN163=\"NÃO\",$D35,IF(MOD(COUNT($Q163:AN163)+1,12)=0,(AN163*$E35)+AN163,AN163)),\"NÃO\"),\"NÃO\")","v":"NÃO"},{"$f":"IF(AND(AP$8>=$M35,AP$8<=$N35),IF($F35=\"ANUAL\",IF(AO163=\"NÃO\",$D35,IF(MOD(COUNT($Q163:AO163)+1,12)=0,(AO163*$E35)+AO163,AO163)),\"NÃO\"),\"NÃO\")","v":"NÃO"},{"$f":"IF(AND(AQ$8>=$M35,AQ$8<=$N35),IF($F35=\"ANUAL\",IF(AP163=\"NÃO\",$D35,IF(MOD(COUNT($Q163:AP163)+1,12)=0,(AP163*$E35)+AP163,AP163)),\"NÃO\"),\"NÃO\")","v":"NÃO"},{"$f":"IF(AND(AR$8>=$M35,AR$8<=$N35),IF($F35=\"ANUAL\",IF(AQ163=\"NÃO\",$D35,IF(MOD(COUNT($Q163:AQ163)+1,12)=0,(AQ163*$E35)+AQ163,AQ163)),\"NÃO\"),\"NÃO\")","v":"NÃO"},{"$f":"IF(AND(AS$8>=$M35,AS$8<=$N35),IF($F35=\"ANUAL\",IF(AR163=\"NÃO\",$D35,IF(MOD(COUNT($Q163:AR163)+1,12)=0,(AR163*$E35)+AR163,AR163)),\"NÃO\"),\"NÃO\")","v":"NÃO"},{"$f":"IF(AND(AT$8>=$M35,AT$8<=$N35),IF($F35=\"ANUAL\",IF(AS163=\"NÃO\",$D35,IF(MOD(COUNT($Q163:AS163)+1,12)=0,(AS163*$E35)+AS163,AS163)),\"NÃO\"),\"NÃO\")","v":"NÃO"},{"$f":"IF(AND(AU$8>=$M35,AU$8<=$N35),IF($F35=\"ANUAL\",IF(AT163=\"NÃO\",$D35,IF(MOD(COUNT($Q163:AT163)+1,12)=0,(AT163*$E35)+AT163,AT163)),\"NÃO\"),\"NÃO\")","v":"NÃO"},{"$f":"IF(AND(AV$8>=$M35,AV$8<=$N35),IF($F35=\"ANUAL\",IF(AU163=\"NÃO\",$D35,IF(MOD(COUNT($Q163:AU163)+1,12)=0,(AU163*$E35)+AU163,AU163)),\"NÃO\"),\"NÃO\")","v":"NÃO"},{"$f":"IF(AND(AW$8>=$M35,AW$8<=$N35),IF($F35=\"ANUAL\",IF(AV163=\"NÃO\",$D35,IF(MOD(COUNT($Q163:AV163)+1,12)=0,(AV163*$E35)+AV163,AV163)),\"NÃO\"),\"NÃO\")","v":"NÃO"},{"$f":"IF(AND(AX$8>=$M35,AX$8<=$N35),IF($F35=\"ANUAL\",IF(AW163=\"NÃO\",$D35,IF(MOD(COUNT($Q163:AW163)+1,12)=0,(AW163*$E35)+AW163,AW163)),\"NÃO\"),\"NÃO\")","v":"NÃO"},{"$f":"IF(AND(AY$8>=$M35,AY$8<=$N35),IF($F35=\"ANUAL\",IF(AX163=\"NÃO\",$D35,IF(MOD(COUNT($Q163:AX163)+1,12)=0,(AX163*$E35)+AX163,AX163)),\"NÃO\"),\"NÃO\")","v":"NÃO"},{"$f":"IF(AND(AZ$8>=$M35,AZ$8<=$N35),IF($F35=\"ANUAL\",IF(AY163=\"NÃO\",$D35,IF(MOD(COUNT($Q163:AY163)+1,12)=0,(AY163*$E35)+AY163,AY163)),\"NÃO\"),\"NÃO\")","v":"NÃO"},{"$f":"IF(AND(BA$8>=$M35,BA$8<=$N35),IF($F35=\"ANUAL\",IF(AZ163=\"NÃO\",$D35,IF(MOD(COUNT($Q163:AZ163)+1,12)=0,(AZ163*$E35)+AZ163,AZ163)),\"NÃO\"),\"NÃO\")","v":"NÃO"},{"$f":"IF(AND(BB$8>=$M35,BB$8<=$N35),IF($F35=\"ANUAL\",IF(BA163=\"NÃO\",$D35,IF(MOD(COUNT($Q163:BA163)+1,12)=0,(BA163*$E35)+BA163,BA163)),\"NÃO\"),\"NÃO\")","v":"NÃO"},{"$f":"IF(AND(BC$8>=$M35,BC$8<=$N35),IF($F35=\"ANUAL\",IF(BB163=\"NÃO\",$D35,IF(MOD(COUNT($Q163:BB163)+1,12)=0,(BB163*$E35)+BB163,BB163)),\"NÃO\"),\"NÃO\")","v":"NÃO"},{"$f":"IF(AND(BD$8>=$M35,BD$8<=$N35),IF($F35=\"ANUAL\",IF(BC163=\"NÃO\",$D35,IF(MOD(COUNT($Q163:BC163)+1,12)=0,(BC163*$E35)+BC163,BC163)),\"NÃO\"),\"NÃO\")","v":"NÃO"},{"$f":"IF(AND(BE$8>=$M35,BE$8<=$N35),IF($F35=\"ANUAL\",IF(BD163=\"NÃO\",$D35,IF(MOD(COUNT($Q163:BD163)+1,12)=0,(BD163*$E35)+BD163,BD163)),\"NÃO\"),\"NÃO\")","v":"NÃO"},{"$f":"IF(AND(BF$8>=$M35,BF$8<=$N35),IF($F35=\"ANUAL\",IF(BE163=\"NÃO\",$D35,IF(MOD(COUNT($Q163:BE163)+1,12)=0,(BE163*$E35)+BE163,BE163)),\"NÃO\"),\"NÃO\")","v":"NÃO"},{"$f":"IF(AND(BG$8>=$M35,BG$8<=$N35),IF($F35=\"ANUAL\",IF(BF163=\"NÃO\",$D35,IF(MOD(COUNT($Q163:BF163)+1,12)=0,(BF163*$E35)+BF163,BF163)),\"NÃO\"),\"NÃO\")","v":"NÃO"},{"$f":"IF(AND(BH$8>=$M35,BH$8<=$N35),IF($F35=\"ANUAL\",IF(BG163=\"NÃO\",$D35,IF(MOD(COUNT($Q163:BG163)+1,12)=0,(BG163*$E35)+BG163,BG163)),\"NÃO\"),\"NÃO\")","v":"NÃO"},{"$f":"IF(AND(BI$8>=$M35,BI$8<=$N35),IF($F35=\"ANUAL\",IF(BH163=\"NÃO\",$D35,IF(MOD(COUNT($Q163:BH163)+1,12)=0,(BH163*$E35)+BH163,BH163)),\"NÃO\"),\"NÃO\")","v":"NÃO"},{"$f":"IF(AND(BJ$8>=$M35,BJ$8<=$N35),IF($F35=\"ANUAL\",IF(BI163=\"NÃO\",$D35,IF(MOD(COUNT($Q163:BI163)+1,12)=0,(BI163*$E35)+BI163,BI163)),\"NÃO\"),\"NÃO\")","v":"NÃO"},{"$f":"IF(AND(BK$8>=$M35,BK$8<=$N35),IF($F35=\"ANUAL\",IF(BJ163=\"NÃO\",$D35,IF(MOD(COUNT($Q163:BJ163)+1,12)=0,(BJ163*$E35)+BJ163,BJ163)),\"NÃO\"),\"NÃO\")","v":"NÃO"},{"$f":"IF(AND(BL$8>=$M35,BL$8<=$N35),IF($F35=\"ANUAL\",IF(BK163=\"NÃO\",$D35,IF(MOD(COUNT($Q163:BK163)+1,12)=0,(BK163*$E35)+BK163,BK163)),\"NÃO\"),\"NÃO\")","v":"NÃO"},{"$f":"IF(AND(BM$8>=$M35,BM$8<=$N35),IF($F35=\"ANUAL\",IF(BL163=\"NÃO\",$D35,IF(MOD(COUNT($Q163:BL163)+1,12)=0,(BL163*$E35)+BL163,BL163)),\"NÃO\"),\"NÃO\")","v":"NÃO"},{"$f":"IF(AND(BN$8>=$M35,BN$8<=$N35),IF($F35=\"ANUAL\",IF(BM163=\"NÃO\",$D35,IF(MOD(COUNT($Q163:BM163)+1,12)=0,(BM163*$E35)+BM163,BM163)),\"NÃO\"),\"NÃO\")","v":"NÃO"},{"$f":"IF(AND(BO$8>=$M35,BO$8<=$N35),IF($F35=\"ANUAL\",IF(BN163=\"NÃO\",$D35,IF(MOD(COUNT($Q163:BN163)+1,12)=0,(BN163*$E35)+BN163,BN163)),\"NÃO\"),\"NÃO\")","v":"NÃO"},{"$f":"IF(AND(BP$8>=$M35,BP$8<=$N35),IF($F35=\"ANUAL\",IF(BO163=\"NÃO\",$D35,IF(MOD(COUNT($Q163:BO163)+1,12)=0,(BO163*$E35)+BO163,BO163)),\"NÃO\"),\"NÃO\")","v":"NÃO"},{"$f":"IF(AND(BQ$8>=$M35,BQ$8<=$N35),IF($F35=\"ANUAL\",IF(BP163=\"NÃO\",$D35,IF(MOD(COUNT($Q163:BP163)+1,12)=0,(BP163*$E35)+BP163,BP163)),\"NÃO\"),\"NÃO\")","v":"NÃO"},{"$f":"IF(AND(BR$8>=$M35,BR$8<=$N35),IF($F35=\"ANUAL\",IF(BQ163=\"NÃO\",$D35,IF(MOD(COUNT($Q163:BQ163)+1,12)=0,(BQ163*$E35)+BQ163,BQ163)),\"NÃO\"),\"NÃO\")","v":"NÃO"},{"$f":"IF(AND(BS$8>=$M35,BS$8<=$N35),IF($F35=\"ANUAL\",IF(BR163=\"NÃO\",$D35,IF(MOD(COUNT($Q163:BR163)+1,12)=0,(BR163*$E35)+BR163,BR163)),\"NÃO\"),\"NÃO\")","v":"NÃO"},{"$f":"IF(AND(BT$8>=$M35,BT$8<=$N35),IF($F35=\"ANUAL\",IF(BS163=\"NÃO\",$D35,IF(MOD(COUNT($Q163:BS163)+1,12)=0,(BS163*$E35)+BS163,BS163)),\"NÃO\"),\"NÃO\")","v":"NÃO"},{"$f":"IF(AND(BU$8>=$M35,BU$8<=$N35),IF($F35=\"ANUAL\",IF(BT163=\"NÃO\",$D35,IF(MOD(COUNT($Q163:BT163)+1,12)=0,(BT163*$E35)+BT163,BT163)),\"NÃO\"),\"NÃO\")","v":"NÃO"},{"$f":"IF(AND(BV$8>=$M35,BV$8<=$N35),IF($F35=\"ANUAL\",IF(BU163=\"NÃO\",$D35,IF(MOD(COUNT($Q163:BU163)+1,12)=0,(BU163*$E35)+BU163,BU163)),\"NÃO\"),\"NÃO\")","v":"NÃO"},{"$f":"IF(AND(BW$8>=$M35,BW$8<=$N35),IF($F35=\"ANUAL\",IF(BV163=\"NÃO\",$D35,IF(MOD(COUNT($Q163:BV163)+1,12)=0,(BV163*$E35)+BV163,BV163)),\"NÃO\"),\"NÃO\")","v":"NÃO"},{"$f":"IF(AND(BX$8>=$M35,BX$8<=$N35),IF($F35=\"ANUAL\",IF(BW163=\"NÃO\",$D35,IF(MOD(COUNT($Q163:BW163)+1,12)=0,(BW163*$E35)+BW163,BW163)),\"NÃO\"),\"NÃO\")","v":"NÃO"}]
[null,null,null,null,null,null,null,null,null,null,null,null,null,null,null,28,"NÃO",{"$f":"IF(AND(R$8>=$M36,R$8<=$N36),IF($F36=\"ANUAL\",IF(Q164=\"NÃO\",$D36,IF(MOD(COUNT($Q164:Q164)+1,12)=0,(Q164*$E36)+Q164,Q164)),\"NÃO\"),\"NÃO\")","v":"NÃO"},{"$f":"IF(AND(S$8>=$M36,S$8<=$N36),IF($F36=\"ANUAL\",IF(R164=\"NÃO\",$D36,IF(MOD(COUNT($Q164:R164)+1,12)=0,(R164*$E36)+R164,R164)),\"NÃO\"),\"NÃO\")","v":"NÃO"},{"$f":"IF(AND(T$8>=$M36,T$8<=$N36),IF($F36=\"ANUAL\",IF(S164=\"NÃO\",$D36,IF(MOD(COUNT($Q164:S164)+1,12)=0,(S164*$E36)+S164,S164)),\"NÃO\"),\"NÃO\")","v":"NÃO"},{"$f":"IF(AND(U$8>=$M36,U$8<=$N36),IF($F36=\"ANUAL\",IF(T164=\"NÃO\",$D36,IF(MOD(COUNT($Q164:T164)+1,12)=0,(T164*$E36)+T164,T164)),\"NÃO\"),\"NÃO\")","v":"NÃO"},{"$f":"IF(AND(V$8>=$M36,V$8<=$N36),IF($F36=\"ANUAL\",IF(U164=\"NÃO\",$D36,IF(MOD(COUNT($Q164:U164)+1,12)=0,(U164*$E36)+U164,U164)),\"NÃO\"),\"NÃO\")","v":"NÃO"},{"$f":"IF(AND(W$8>=$M36,W$8<=$N36),IF($F36=\"ANUAL\",IF(V164=\"NÃO\",$D36,IF(MOD(COUNT($Q164:V164)+1,12)=0,(V164*$E36)+V164,V164)),\"NÃO\"),\"NÃO\")","v":"NÃO"},{"$f":"IF(AND(X$8>=$M36,X$8<=$N36),IF($F36=\"ANUAL\",IF(W164=\"NÃO\",$D36,IF(MOD(COUNT($Q164:W164)+1,12)=0,(W164*$E36)+W164,W164)),\"NÃO\"),\"NÃO\")","v":"NÃO"},{"$f":"IF(AND(Y$8>=$M36,Y$8<=$N36),IF($F36=\"ANUAL\",IF(X164=\"NÃO\",$D36,IF(MOD(COUNT($Q164:X164)+1,12)=0,(X164*$E36)+X164,X164)),\"NÃO\"),\"NÃO\")","v":"NÃO"},{"$f":"IF(AND(Z$8>=$M36,Z$8<=$N36),IF($F36=\"ANUAL\",IF(Y164=\"NÃO\",$D36,IF(MOD(COUNT($Q164:Y164)+1,12)=0,(Y164*$E36)+Y164,Y164)),\"NÃO\"),\"NÃO\")","v":"NÃO"},{"$f":"IF(AND(AA$8>=$M36,AA$8<=$N36),IF($F36=\"ANUAL\",IF(Z164=\"NÃO\",$D36,IF(MOD(COUNT($Q164:Z164)+1,12)=0,(Z164*$E36)+Z164,Z164)),\"NÃO\"),\"NÃO\")","v":"NÃO"},{"$f":"IF(AND(AB$8>=$M36,AB$8<=$N36),IF($F36=\"ANUAL\",IF(AA164=\"NÃO\",$D36,IF(MOD(COUNT($Q164:AA164)+1,12)=0,(AA164*$E36)+AA164,AA164)),\"NÃO\"),\"NÃO\")","v":"NÃO"},{"$f":"IF(AND(AC$8>=$M36,AC$8<=$N36),IF($F36=\"ANUAL\",IF(AB164=\"NÃO\",$D36,IF(MOD(COUNT($Q164:AB164)+1,12)=0,(AB164*$E36)+AB164,AB164)),\"NÃO\"),\"NÃO\")","v":"NÃO"},{"$f":"IF(AND(AD$8>=$M36,AD$8<=$N36),IF($F36=\"ANUAL\",IF(AC164=\"NÃO\",$D36,IF(MOD(COUNT($Q164:AC164)+1,12)=0,(AC164*$E36)+AC164,AC164)),\"NÃO\"),\"NÃO\")","v":"NÃO"},{"$f":"IF(AND(AE$8>=$M36,AE$8<=$N36),IF($F36=\"ANUAL\",IF(AD164=\"NÃO\",$D36,IF(MOD(COUNT($Q164:AD164)+1,12)=0,(AD164*$E36)+AD164,AD164)),\"NÃO\"),\"NÃO\")","v":"NÃO"},{"$f":"IF(AND(AF$8>=$M36,AF$8<=$N36),IF($F36=\"ANUAL\",IF(AE164=\"NÃO\",$D36,IF(MOD(COUNT($Q164:AE164)+1,12)=0,(AE164*$E36)+AE164,AE164)),\"NÃO\"),\"NÃO\")","v":"NÃO"},{"$f":"IF(AND(AG$8>=$M36,AG$8<=$N36),IF($F36=\"ANUAL\",IF(AF164=\"NÃO\",$D36,IF(MOD(COUNT($Q164:AF164)+1,12)=0,(AF164*$E36)+AF164,AF164)),\"NÃO\"),\"NÃO\")","v":"NÃO"},{"$f":"IF(AND(AH$8>=$M36,AH$8<=$N36),IF($F36=\"ANUAL\",IF(AG164=\"NÃO\",$D36,IF(MOD(COUNT($Q164:AG164)+1,12)=0,(AG164*$E36)+AG164,AG164)),\"NÃO\"),\"NÃO\")","v":"NÃO"},{"$f":"IF(AND(AI$8>=$M36,AI$8<=$N36),IF($F36=\"ANUAL\",IF(AH164=\"NÃO\",$D36,IF(MOD(COUNT($Q164:AH164)+1,12)=0,(AH164*$E36)+AH164,AH164)),\"NÃO\"),\"NÃO\")","v":"NÃO"},{"$f":"IF(AND(AJ$8>=$M36,AJ$8<=$N36),IF($F36=\"ANUAL\",IF(AI164=\"NÃO\",$D36,IF(MOD(COUNT($Q164:AI164)+1,12)=0,(AI164*$E36)+AI164,AI164)),\"NÃO\"),\"NÃO\")","v":"NÃO"},{"$f":"IF(AND(AK$8>=$M36,AK$8<=$N36),IF($F36=\"ANUAL\",IF(AJ164=\"NÃO\",$D36,IF(MOD(COUNT($Q164:AJ164)+1,12)=0,(AJ164*$E36)+AJ164,AJ164)),\"NÃO\"),\"NÃO\")","v":"NÃO"},{"$f":"IF(AND(AL$8>=$M36,AL$8<=$N36),IF($F36=\"ANUAL\",IF(AK164=\"NÃO\",$D36,IF(MOD(COUNT($Q164:AK164)+1,12)=0,(AK164*$E36)+AK164,AK164)),\"NÃO\"),\"NÃO\")","v":"NÃO"},{"$f":"IF(AND(AM$8>=$M36,AM$8<=$N36),IF($F36=\"ANUAL\",IF(AL164=\"NÃO\",$D36,IF(MOD(COUNT($Q164:AL164)+1,12)=0,(AL164*$E36)+AL164,AL164)),\"NÃO\"),\"NÃO\")","v":"NÃO"},{"$f":"IF(AND(AN$8>=$M36,AN$8<=$N36),IF($F36=\"ANUAL\",IF(AM164=\"NÃO\",$D36,IF(MOD(COUNT($Q164:AM164)+1,12)=0,(AM164*$E36)+AM164,AM164)),\"NÃO\"),\"NÃO\")","v":"NÃO"},{"$f":"IF(AND(AO$8>=$M36,AO$8<=$N36),IF($F36=\"ANUAL\",IF(AN164=\"NÃO\",$D36,IF(MOD(COUNT($Q164:AN164)+1,12)=0,(AN164*$E36)+AN164,AN164)),\"NÃO\"),\"NÃO\")","v":"NÃO"},{"$f":"IF(AND(AP$8>=$M36,AP$8<=$N36),IF($F36=\"ANUAL\",IF(AO164=\"NÃO\",$D36,IF(MOD(COUNT($Q164:AO164)+1,12)=0,(AO164*$E36)+AO164,AO164)),\"NÃO\"),\"NÃO\")","v":"NÃO"},{"$f":"IF(AND(AQ$8>=$M36,AQ$8<=$N36),IF($F36=\"ANUAL\",IF(AP164=\"NÃO\",$D36,IF(MOD(COUNT($Q164:AP164)+1,12)=0,(AP164*$E36)+AP164,AP164)),\"NÃO\"),\"NÃO\")","v":"NÃO"},{"$f":"IF(AND(AR$8>=$M36,AR$8<=$N36),IF($F36=\"ANUAL\",IF(AQ164=\"NÃO\",$D36,IF(MOD(COUNT($Q164:AQ164)+1,12)=0,(AQ164*$E36)+AQ164,AQ164)),\"NÃO\"),\"NÃO\")","v":"NÃO"},{"$f":"IF(AND(AS$8>=$M36,AS$8<=$N36),IF($F36=\"ANUAL\",IF(AR164=\"NÃO\",$D36,IF(MOD(COUNT($Q164:AR164)+1,12)=0,(AR164*$E36)+AR164,AR164)),\"NÃO\"),\"NÃO\")","v":"NÃO"},{"$f":"IF(AND(AT$8>=$M36,AT$8<=$N36),IF($F36=\"ANUAL\",IF(AS164=\"NÃO\",$D36,IF(MOD(COUNT($Q164:AS164)+1,12)=0,(AS164*$E36)+AS164,AS164)),\"NÃO\"),\"NÃO\")","v":"NÃO"},{"$f":"IF(AND(AU$8>=$M36,AU$8<=$N36),IF($F36=\"ANUAL\",IF(AT164=\"NÃO\",$D36,IF(MOD(COUNT($Q164:AT164)+1,12)=0,(AT164*$E36)+AT164,AT164)),\"NÃO\"),\"NÃO\")","v":"NÃO"},{"$f":"IF(AND(AV$8>=$M36,AV$8<=$N36),IF($F36=\"ANUAL\",IF(AU164=\"NÃO\",$D36,IF(MOD(COUNT($Q164:AU164)+1,12)=0,(AU164*$E36)+AU164,AU164)),\"NÃO\"),\"NÃO\")","v":"NÃO"},{"$f":"IF(AND(AW$8>=$M36,AW$8<=$N36),IF($F36=\"ANUAL\",IF(AV164=\"NÃO\",$D36,IF(MOD(COUNT($Q164:AV164)+1,12)=0,(AV164*$E36)+AV164,AV164)),\"NÃO\"),\"NÃO\")","v":"NÃO"},{"$f":"IF(AND(AX$8>=$M36,AX$8<=$N36),IF($F36=\"ANUAL\",IF(AW164=\"NÃO\",$D36,IF(MOD(COUNT($Q164:AW164)+1,12)=0,(AW164*$E36)+AW164,AW164)),\"NÃO\"),\"NÃO\")","v":"NÃO"},{"$f":"IF(AND(AY$8>=$M36,AY$8<=$N36),IF($F36=\"ANUAL\",IF(AX164=\"NÃO\",$D36,IF(MOD(COUNT($Q164:AX164)+1,12)=0,(AX164*$E36)+AX164,AX164)),\"NÃO\"),\"NÃO\")","v":"NÃO"},{"$f":"IF(AND(AZ$8>=$M36,AZ$8<=$N36),IF($F36=\"ANUAL\",IF(AY164=\"NÃO\",$D36,IF(MOD(COUNT($Q164:AY164)+1,12)=0,(AY164*$E36)+AY164,AY164)),\"NÃO\"),\"NÃO\")","v":"NÃO"},{"$f":"IF(AND(BA$8>=$M36,BA$8<=$N36),IF($F36=\"ANUAL\",IF(AZ164=\"NÃO\",$D36,IF(MOD(COUNT($Q164:AZ164)+1,12)=0,(AZ164*$E36)+AZ164,AZ164)),\"NÃO\"),\"NÃO\")","v":"NÃO"},{"$f":"IF(AND(BB$8>=$M36,BB$8<=$N36),IF($F36=\"ANUAL\",IF(BA164=\"NÃO\",$D36,IF(MOD(COUNT($Q164:BA164)+1,12)=0,(BA164*$E36)+BA164,BA164)),\"NÃO\"),\"NÃO\")","v":"NÃO"},{"$f":"IF(AND(BC$8>=$M36,BC$8<=$N36),IF($F36=\"ANUAL\",IF(BB164=\"NÃO\",$D36,IF(MOD(COUNT($Q164:BB164)+1,12)=0,(BB164*$E36)+BB164,BB164)),\"NÃO\"),\"NÃO\")","v":"NÃO"},{"$f":"IF(AND(BD$8>=$M36,BD$8<=$N36),IF($F36=\"ANUAL\",IF(BC164=\"NÃO\",$D36,IF(MOD(COUNT($Q164:BC164)+1,12)=0,(BC164*$E36)+BC164,BC164)),\"NÃO\"),\"NÃO\")","v":"NÃO"},{"$f":"IF(AND(BE$8>=$M36,BE$8<=$N36),IF($F36=\"ANUAL\",IF(BD164=\"NÃO\",$D36,IF(MOD(COUNT($Q164:BD164)+1,12)=0,(BD164*$E36)+BD164,BD164)),\"NÃO\"),\"NÃO\")","v":"NÃO"},{"$f":"IF(AND(BF$8>=$M36,BF$8<=$N36),IF($F36=\"ANUAL\",IF(BE164=\"NÃO\",$D36,IF(MOD(COUNT($Q164:BE164)+1,12)=0,(BE164*$E36)+BE164,BE164)),\"NÃO\"),\"NÃO\")","v":"NÃO"},{"$f":"IF(AND(BG$8>=$M36,BG$8<=$N36),IF($F36=\"ANUAL\",IF(BF164=\"NÃO\",$D36,IF(MOD(COUNT($Q164:BF164)+1,12)=0,(BF164*$E36)+BF164,BF164)),\"NÃO\"),\"NÃO\")","v":"NÃO"},{"$f":"IF(AND(BH$8>=$M36,BH$8<=$N36),IF($F36=\"ANUAL\",IF(BG164=\"NÃO\",$D36,IF(MOD(COUNT($Q164:BG164)+1,12)=0,(BG164*$E36)+BG164,BG164)),\"NÃO\"),\"NÃO\")","v":"NÃO"},{"$f":"IF(AND(BI$8>=$M36,BI$8<=$N36),IF($F36=\"ANUAL\",IF(BH164=\"NÃO\",$D36,IF(MOD(COUNT($Q164:BH164)+1,12)=0,(BH164*$E36)+BH164,BH164)),\"NÃO\"),\"NÃO\")","v":"NÃO"},{"$f":"IF(AND(BJ$8>=$M36,BJ$8<=$N36),IF($F36=\"ANUAL\",IF(BI164=\"NÃO\",$D36,IF(MOD(COUNT($Q164:BI164)+1,12)=0,(BI164*$E36)+BI164,BI164)),\"NÃO\"),\"NÃO\")","v":"NÃO"},{"$f":"IF(AND(BK$8>=$M36,BK$8<=$N36),IF($F36=\"ANUAL\",IF(BJ164=\"NÃO\",$D36,IF(MOD(COUNT($Q164:BJ164)+1,12)=0,(BJ164*$E36)+BJ164,BJ164)),\"NÃO\"),\"NÃO\")","v":"NÃO"},{"$f":"IF(AND(BL$8>=$M36,BL$8<=$N36),IF($F36=\"ANUAL\",IF(BK164=\"NÃO\",$D36,IF(MOD(COUNT($Q164:BK164)+1,12)=0,(BK164*$E36)+BK164,BK164)),\"NÃO\"),\"NÃO\")","v":"NÃO"},{"$f":"IF(AND(BM$8>=$M36,BM$8<=$N36),IF($F36=\"ANUAL\",IF(BL164=\"NÃO\",$D36,IF(MOD(COUNT($Q164:BL164)+1,12)=0,(BL164*$E36)+BL164,BL164)),\"NÃO\"),\"NÃO\")","v":"NÃO"},{"$f":"IF(AND(BN$8>=$M36,BN$8<=$N36),IF($F36=\"ANUAL\",IF(BM164=\"NÃO\",$D36,IF(MOD(COUNT($Q164:BM164)+1,12)=0,(BM164*$E36)+BM164,BM164)),\"NÃO\"),\"NÃO\")","v":"NÃO"},{"$f":"IF(AND(BO$8>=$M36,BO$8<=$N36),IF($F36=\"ANUAL\",IF(BN164=\"NÃO\",$D36,IF(MOD(COUNT($Q164:BN164)+1,12)=0,(BN164*$E36)+BN164,BN164)),\"NÃO\"),\"NÃO\")","v":"NÃO"},{"$f":"IF(AND(BP$8>=$M36,BP$8<=$N36),IF($F36=\"ANUAL\",IF(BO164=\"NÃO\",$D36,IF(MOD(COUNT($Q164:BO164)+1,12)=0,(BO164*$E36)+BO164,BO164)),\"NÃO\"),\"NÃO\")","v":"NÃO"},{"$f":"IF(AND(BQ$8>=$M36,BQ$8<=$N36),IF($F36=\"ANUAL\",IF(BP164=\"NÃO\",$D36,IF(MOD(COUNT($Q164:BP164)+1,12)=0,(BP164*$E36)+BP164,BP164)),\"NÃO\"),\"NÃO\")","v":"NÃO"},{"$f":"IF(AND(BR$8>=$M36,BR$8<=$N36),IF($F36=\"ANUAL\",IF(BQ164=\"NÃO\",$D36,IF(MOD(COUNT($Q164:BQ164)+1,12)=0,(BQ164*$E36)+BQ164,BQ164)),\"NÃO\"),\"NÃO\")","v":"NÃO"},{"$f":"IF(AND(BS$8>=$M36,BS$8<=$N36),IF($F36=\"ANUAL\",IF(BR164=\"NÃO\",$D36,IF(MOD(COUNT($Q164:BR164)+1,12)=0,(BR164*$E36)+BR164,BR164)),\"NÃO\"),\"NÃO\")","v":"NÃO"},{"$f":"IF(AND(BT$8>=$M36,BT$8<=$N36),IF($F36=\"ANUAL\",IF(BS164=\"NÃO\",$D36,IF(MOD(COUNT($Q164:BS164)+1,12)=0,(BS164*$E36)+BS164,BS164)),\"NÃO\"),\"NÃO\")","v":"NÃO"},{"$f":"IF(AND(BU$8>=$M36,BU$8<=$N36),IF($F36=\"ANUAL\",IF(BT164=\"NÃO\",$D36,IF(MOD(COUNT($Q164:BT164)+1,12)=0,(BT164*$E36)+BT164,BT164)),\"NÃO\"),\"NÃO\")","v":"NÃO"},{"$f":"IF(AND(BV$8>=$M36,BV$8<=$N36),IF($F36=\"ANUAL\",IF(BU164=\"NÃO\",$D36,IF(MOD(COUNT($Q164:BU164)+1,12)=0,(BU164*$E36)+BU164,BU164)),\"NÃO\"),\"NÃO\")","v":"NÃO"},{"$f":"IF(AND(BW$8>=$M36,BW$8<=$N36),IF($F36=\"ANUAL\",IF(BV164=\"NÃO\",$D36,IF(MOD(COUNT($Q164:BV164)+1,12)=0,(BV164*$E36)+BV164,BV164)),\"NÃO\"),\"NÃO\")","v":"NÃO"},{"$f":"IF(AND(BX$8>=$M36,BX$8<=$N36),IF($F36=\"ANUAL\",IF(BW164=\"NÃO\",$D36,IF(MOD(COUNT($Q164:BW164)+1,12)=0,(BW164*$E36)+BW164,BW164)),\"NÃO\"),\"NÃO\")","v":"NÃO"}]
[null,null,null,null,null,null,null,null,null,null,null,null,null,null,null,29,"NÃO",{"$f":"IF(AND(R$8>=$M37,R$8<=$N37),IF($F37=\"ANUAL\",IF(Q165=\"NÃO\",$D37,IF(MOD(COUNT($Q165:Q165)+1,12)=0,(Q165*$E37)+Q165,Q165)),\"NÃO\"),\"NÃO\")","v":"NÃO"},{"$f":"IF(AND(S$8>=$M37,S$8<=$N37),IF($F37=\"ANUAL\",IF(R165=\"NÃO\",$D37,IF(MOD(COUNT($Q165:R165)+1,12)=0,(R165*$E37)+R165,R165)),\"NÃO\"),\"NÃO\")","v":"NÃO"},{"$f":"IF(AND(T$8>=$M37,T$8<=$N37),IF($F37=\"ANUAL\",IF(S165=\"NÃO\",$D37,IF(MOD(COUNT($Q165:S165)+1,12)=0,(S165*$E37)+S165,S165)),\"NÃO\"),\"NÃO\")","v":"NÃO"},{"$f":"IF(AND(U$8>=$M37,U$8<=$N37),IF($F37=\"ANUAL\",IF(T165=\"NÃO\",$D37,IF(MOD(COUNT($Q165:T165)+1,12)=0,(T165*$E37)+T165,T165)),\"NÃO\"),\"NÃO\")","v":"NÃO"},{"$f":"IF(AND(V$8>=$M37,V$8<=$N37),IF($F37=\"ANUAL\",IF(U165=\"NÃO\",$D37,IF(MOD(COUNT($Q165:U165)+1,12)=0,(U165*$E37)+U165,U165)),\"NÃO\"),\"NÃO\")","v":"NÃO"},{"$f":"IF(AND(W$8>=$M37,W$8<=$N37),IF($F37=\"ANUAL\",IF(V165=\"NÃO\",$D37,IF(MOD(COUNT($Q165:V165)+1,12)=0,(V165*$E37)+V165,V165)),\"NÃO\"),\"NÃO\")","v":"NÃO"},{"$f":"IF(AND(X$8>=$M37,X$8<=$N37),IF($F37=\"ANUAL\",IF(W165=\"NÃO\",$D37,IF(MOD(COUNT($Q165:W165)+1,12)=0,(W165*$E37)+W165,W165)),\"NÃO\"),\"NÃO\")","v":"NÃO"},{"$f":"IF(AND(Y$8>=$M37,Y$8<=$N37),IF($F37=\"ANUAL\",IF(X165=\"NÃO\",$D37,IF(MOD(COUNT($Q165:X165)+1,12)=0,(X165*$E37)+X165,X165)),\"NÃO\"),\"NÃO\")","v":"NÃO"},{"$f":"IF(AND(Z$8>=$M37,Z$8<=$N37),IF($F37=\"ANUAL\",IF(Y165=\"NÃO\",$D37,IF(MOD(COUNT($Q165:Y165)+1,12)=0,(Y165*$E37)+Y165,Y165)),\"NÃO\"),\"NÃO\")","v":"NÃO"},{"$f":"IF(AND(AA$8>=$M37,AA$8<=$N37),IF($F37=\"ANUAL\",IF(Z165=\"NÃO\",$D37,IF(MOD(COUNT($Q165:Z165)+1,12)=0,(Z165*$E37)+Z165,Z165)),\"NÃO\"),\"NÃO\")","v":"NÃO"},{"$f":"IF(AND(AB$8>=$M37,AB$8<=$N37),IF($F37=\"ANUAL\",IF(AA165=\"NÃO\",$D37,IF(MOD(COUNT($Q165:AA165)+1,12)=0,(AA165*$E37)+AA165,AA165)),\"NÃO\"),\"NÃO\")","v":"NÃO"},{"$f":"IF(AND(AC$8>=$M37,AC$8<=$N37),IF($F37=\"ANUAL\",IF(AB165=\"NÃO\",$D37,IF(MOD(COUNT($Q165:AB165)+1,12)=0,(AB165*$E37)+AB165,AB165)),\"NÃO\"),\"NÃO\")","v":"NÃO"},{"$f":"IF(AND(AD$8>=$M37,AD$8<=$N37),IF($F37=\"ANUAL\",IF(AC165=\"NÃO\",$D37,IF(MOD(COUNT($Q165:AC165)+1,12)=0,(AC165*$E37)+AC165,AC165)),\"NÃO\"),\"NÃO\")","v":"NÃO"},{"$f":"IF(AND(AE$8>=$M37,AE$8<=$N37),IF($F37=\"ANUAL\",IF(AD165=\"NÃO\",$D37,IF(MOD(COUNT($Q165:AD165)+1,12)=0,(AD165*$E37)+AD165,AD165)),\"NÃO\"),\"NÃO\")","v":"NÃO"},{"$f":"IF(AND(AF$8>=$M37,AF$8<=$N37),IF($F37=\"ANUAL\",IF(AE165=\"NÃO\",$D37,IF(MOD(COUNT($Q165:AE165)+1,12)=0,(AE165*$E37)+AE165,AE165)),\"NÃO\"),\"NÃO\")","v":"NÃO"},{"$f":"IF(AND(AG$8>=$M37,AG$8<=$N37),IF($F37=\"ANUAL\",IF(AF165=\"NÃO\",$D37,IF(MOD(COUNT($Q165:AF165)+1,12)=0,(AF165*$E37)+AF165,AF165)),\"NÃO\"),\"NÃO\")","v":"NÃO"},{"$f":"IF(AND(AH$8>=$M37,AH$8<=$N37),IF($F37=\"ANUAL\",IF(AG165=\"NÃO\",$D37,IF(MOD(COUNT($Q165:AG165)+1,12)=0,(AG165*$E37)+AG165,AG165)),\"NÃO\"),\"NÃO\")","v":"NÃO"},{"$f":"IF(AND(AI$8>=$M37,AI$8<=$N37),IF($F37=\"ANUAL\",IF(AH165=\"NÃO\",$D37,IF(MOD(COUNT($Q165:AH165)+1,12)=0,(AH165*$E37)+AH165,AH165)),\"NÃO\"),\"NÃO\")","v":"NÃO"},{"$f":"IF(AND(AJ$8>=$M37,AJ$8<=$N37),IF($F37=\"ANUAL\",IF(AI165=\"NÃO\",$D37,IF(MOD(COUNT($Q165:AI165)+1,12)=0,(AI165*$E37)+AI165,AI165)),\"NÃO\"),\"NÃO\")","v":"NÃO"},{"$f":"IF(AND(AK$8>=$M37,AK$8<=$N37),IF($F37=\"ANUAL\",IF(AJ165=\"NÃO\",$D37,IF(MOD(COUNT($Q165:AJ165)+1,12)=0,(AJ165*$E37)+AJ165,AJ165)),\"NÃO\"),\"NÃO\")","v":"NÃO"},{"$f":"IF(AND(AL$8>=$M37,AL$8<=$N37),IF($F37=\"ANUAL\",IF(AK165=\"NÃO\",$D37,IF(MOD(COUNT($Q165:AK165)+1,12)=0,(AK165*$E37)+AK165,AK165)),\"NÃO\"),\"NÃO\")","v":"NÃO"},{"$f":"IF(AND(AM$8>=$M37,AM$8<=$N37),IF($F37=\"ANUAL\",IF(AL165=\"NÃO\",$D37,IF(MOD(COUNT($Q165:AL165)+1,12)=0,(AL165*$E37)+AL165,AL165)),\"NÃO\"),\"NÃO\")","v":"NÃO"},{"$f":"IF(AND(AN$8>=$M37,AN$8<=$N37),IF($F37=\"ANUAL\",IF(AM165=\"NÃO\",$D37,IF(MOD(COUNT($Q165:AM165)+1,12)=0,(AM165*$E37)+AM165,AM165)),\"NÃO\"),\"NÃO\")","v":"NÃO"},{"$f":"IF(AND(AO$8>=$M37,AO$8<=$N37),IF($F37=\"ANUAL\",IF(AN165=\"NÃO\",$D37,IF(MOD(COUNT($Q165:AN165)+1,12)=0,(AN165*$E37)+AN165,AN165)),\"NÃO\"),\"NÃO\")","v":"NÃO"},{"$f":"IF(AND(AP$8>=$M37,AP$8<=$N37),IF($F37=\"ANUAL\",IF(AO165=\"NÃO\",$D37,IF(MOD(COUNT($Q165:AO165)+1,12)=0,(AO165*$E37)+AO165,AO165)),\"NÃO\"),\"NÃO\")","v":"NÃO"},{"$f":"IF(AND(AQ$8>=$M37,AQ$8<=$N37),IF($F37=\"ANUAL\",IF(AP165=\"NÃO\",$D37,IF(MOD(COUNT($Q165:AP165)+1,12)=0,(AP165*$E37)+AP165,AP165)),\"NÃO\"),\"NÃO\")","v":"NÃO"},{"$f":"IF(AND(AR$8>=$M37,AR$8<=$N37),IF($F37=\"ANUAL\",IF(AQ165=\"NÃO\",$D37,IF(MOD(COUNT($Q165:AQ165)+1,12)=0,(AQ165*$E37)+AQ165,AQ165)),\"NÃO\"),\"NÃO\")","v":"NÃO"},{"$f":"IF(AND(AS$8>=$M37,AS$8<=$N37),IF($F37=\"ANUAL\",IF(AR165=\"NÃO\",$D37,IF(MOD(COUNT($Q165:AR165)+1,12)=0,(AR165*$E37)+AR165,AR165)),\"NÃO\"),\"NÃO\")","v":"NÃO"},{"$f":"IF(AND(AT$8>=$M37,AT$8<=$N37),IF($F37=\"ANUAL\",IF(AS165=\"NÃO\",$D37,IF(MOD(COUNT($Q165:AS165)+1,12)=0,(AS165*$E37)+AS165,AS165)),\"NÃO\"),\"NÃO\")","v":"NÃO"},{"$f":"IF(AND(AU$8>=$M37,AU$8<=$N37),IF($F37=\"ANUAL\",IF(AT165=\"NÃO\",$D37,IF(MOD(COUNT($Q165:AT165)+1,12)=0,(AT165*$E37)+AT165,AT165)),\"NÃO\"),\"NÃO\")","v":"NÃO"},{"$f":"IF(AND(AV$8>=$M37,AV$8<=$N37),IF($F37=\"ANUAL\",IF(AU165=\"NÃO\",$D37,IF(MOD(COUNT($Q165:AU165)+1,12)=0,(AU165*$E37)+AU165,AU165)),\"NÃO\"),\"NÃO\")","v":"NÃO"},{"$f":"IF(AND(AW$8>=$M37,AW$8<=$N37),IF($F37=\"ANUAL\",IF(AV165=\"NÃO\",$D37,IF(MOD(COUNT($Q165:AV165)+1,12)=0,(AV165*$E37)+AV165,AV165)),\"NÃO\"),\"NÃO\")","v":"NÃO"},{"$f":"IF(AND(AX$8>=$M37,AX$8<=$N37),IF($F37=\"ANUAL\",IF(AW165=\"NÃO\",$D37,IF(MOD(COUNT($Q165:AW165)+1,12)=0,(AW165*$E37)+AW165,AW165)),\"NÃO\"),\"NÃO\")","v":"NÃO"},{"$f":"IF(AND(AY$8>=$M37,AY$8<=$N37),IF($F37=\"ANUAL\",IF(AX165=\"NÃO\",$D37,IF(MOD(COUNT($Q165:AX165)+1,12)=0,(AX165*$E37)+AX165,AX165)),\"NÃO\"),\"NÃO\")","v":"NÃO"},{"$f":"IF(AND(AZ$8>=$M37,AZ$8<=$N37),IF($F37=\"ANUAL\",IF(AY165=\"NÃO\",$D37,IF(MOD(COUNT($Q165:AY165)+1,12)=0,(AY165*$E37)+AY165,AY165)),\"NÃO\"),\"NÃO\")","v":"NÃO"},{"$f":"IF(AND(BA$8>=$M37,BA$8<=$N37),IF($F37=\"ANUAL\",IF(AZ165=\"NÃO\",$D37,IF(MOD(COUNT($Q165:AZ165)+1,12)=0,(AZ165*$E37)+AZ165,AZ165)),\"NÃO\"),\"NÃO\")","v":"NÃO"},{"$f":"IF(AND(BB$8>=$M37,BB$8<=$N37),IF($F37=\"ANUAL\",IF(BA165=\"NÃO\",$D37,IF(MOD(COUNT($Q165:BA165)+1,12)=0,(BA165*$E37)+BA165,BA165)),\"NÃO\"),\"NÃO\")","v":"NÃO"},{"$f":"IF(AND(BC$8>=$M37,BC$8<=$N37),IF($F37=\"ANUAL\",IF(BB165=\"NÃO\",$D37,IF(MOD(COUNT($Q165:BB165)+1,12)=0,(BB165*$E37)+BB165,BB165)),\"NÃO\"),\"NÃO\")","v":"NÃO"},{"$f":"IF(AND(BD$8>=$M37,BD$8<=$N37),IF($F37=\"ANUAL\",IF(BC165=\"NÃO\",$D37,IF(MOD(COUNT($Q165:BC165)+1,12)=0,(BC165*$E37)+BC165,BC165)),\"NÃO\"),\"NÃO\")","v":"NÃO"},{"$f":"IF(AND(BE$8>=$M37,BE$8<=$N37),IF($F37=\"ANUAL\",IF(BD165=\"NÃO\",$D37,IF(MOD(COUNT($Q165:BD165)+1,12)=0,(BD165*$E37)+BD165,BD165)),\"NÃO\"),\"NÃO\")","v":"NÃO"},{"$f":"IF(AND(BF$8>=$M37,BF$8<=$N37),IF($F37=\"ANUAL\",IF(BE165=\"NÃO\",$D37,IF(MOD(COUNT($Q165:BE165)+1,12)=0,(BE165*$E37)+BE165,BE165)),\"NÃO\"),\"NÃO\")","v":"NÃO"},{"$f":"IF(AND(BG$8>=$M37,BG$8<=$N37),IF($F37=\"ANUAL\",IF(BF165=\"NÃO\",$D37,IF(MOD(COUNT($Q165:BF165)+1,12)=0,(BF165*$E37)+BF165,BF165)),\"NÃO\"),\"NÃO\")","v":"NÃO"},{"$f":"IF(AND(BH$8>=$M37,BH$8<=$N37),IF($F37=\"ANUAL\",IF(BG165=\"NÃO\",$D37,IF(MOD(COUNT($Q165:BG165)+1,12)=0,(BG165*$E37)+BG165,BG165)),\"NÃO\"),\"NÃO\")","v":"NÃO"},{"$f":"IF(AND(BI$8>=$M37,BI$8<=$N37),IF($F37=\"ANUAL\",IF(BH165=\"NÃO\",$D37,IF(MOD(COUNT($Q165:BH165)+1,12)=0,(BH165*$E37)+BH165,BH165)),\"NÃO\"),\"NÃO\")","v":"NÃO"},{"$f":"IF(AND(BJ$8>=$M37,BJ$8<=$N37),IF($F37=\"ANUAL\",IF(BI165=\"NÃO\",$D37,IF(MOD(COUNT($Q165:BI165)+1,12)=0,(BI165*$E37)+BI165,BI165)),\"NÃO\"),\"NÃO\")","v":"NÃO"},{"$f":"IF(AND(BK$8>=$M37,BK$8<=$N37),IF($F37=\"ANUAL\",IF(BJ165=\"NÃO\",$D37,IF(MOD(COUNT($Q165:BJ165)+1,12)=0,(BJ165*$E37)+BJ165,BJ165)),\"NÃO\"),\"NÃO\")","v":"NÃO"},{"$f":"IF(AND(BL$8>=$M37,BL$8<=$N37),IF($F37=\"ANUAL\",IF(BK165=\"NÃO\",$D37,IF(MOD(COUNT($Q165:BK165)+1,12)=0,(BK165*$E37)+BK165,BK165)),\"NÃO\"),\"NÃO\")","v":"NÃO"},{"$f":"IF(AND(BM$8>=$M37,BM$8<=$N37),IF($F37=\"ANUAL\",IF(BL165=\"NÃO\",$D37,IF(MOD(COUNT($Q165:BL165)+1,12)=0,(BL165*$E37)+BL165,BL165)),\"NÃO\"),\"NÃO\")","v":"NÃO"},{"$f":"IF(AND(BN$8>=$M37,BN$8<=$N37),IF($F37=\"ANUAL\",IF(BM165=\"NÃO\",$D37,IF(MOD(COUNT($Q165:BM165)+1,12)=0,(BM165*$E37)+BM165,BM165)),\"NÃO\"),\"NÃO\")","v":"NÃO"},{"$f":"IF(AND(BO$8>=$M37,BO$8<=$N37),IF($F37=\"ANUAL\",IF(BN165=\"NÃO\",$D37,IF(MOD(COUNT($Q165:BN165)+1,12)=0,(BN165*$E37)+BN165,BN165)),\"NÃO\"),\"NÃO\")","v":"NÃO"},{"$f":"IF(AND(BP$8>=$M37,BP$8<=$N37),IF($F37=\"ANUAL\",IF(BO165=\"NÃO\",$D37,IF(MOD(COUNT($Q165:BO165)+1,12)=0,(BO165*$E37)+BO165,BO165)),\"NÃO\"),\"NÃO\")","v":"NÃO"},{"$f":"IF(AND(BQ$8>=$M37,BQ$8<=$N37),IF($F37=\"ANUAL\",IF(BP165=\"NÃO\",$D37,IF(MOD(COUNT($Q165:BP165)+1,12)=0,(BP165*$E37)+BP165,BP165)),\"NÃO\"),\"NÃO\")","v":"NÃO"},{"$f":"IF(AND(BR$8>=$M37,BR$8<=$N37),IF($F37=\"ANUAL\",IF(BQ165=\"NÃO\",$D37,IF(MOD(COUNT($Q165:BQ165)+1,12)=0,(BQ165*$E37)+BQ165,BQ165)),\"NÃO\"),\"NÃO\")","v":"NÃO"},{"$f":"IF(AND(BS$8>=$M37,BS$8<=$N37),IF($F37=\"ANUAL\",IF(BR165=\"NÃO\",$D37,IF(MOD(COUNT($Q165:BR165)+1,12)=0,(BR165*$E37)+BR165,BR165)),\"NÃO\"),\"NÃO\")","v":"NÃO"},{"$f":"IF(AND(BT$8>=$M37,BT$8<=$N37),IF($F37=\"ANUAL\",IF(BS165=\"NÃO\",$D37,IF(MOD(COUNT($Q165:BS165)+1,12)=0,(BS165*$E37)+BS165,BS165)),\"NÃO\"),\"NÃO\")","v":"NÃO"},{"$f":"IF(AND(BU$8>=$M37,BU$8<=$N37),IF($F37=\"ANUAL\",IF(BT165=\"NÃO\",$D37,IF(MOD(COUNT($Q165:BT165)+1,12)=0,(BT165*$E37)+BT165,BT165)),\"NÃO\"),\"NÃO\")","v":"NÃO"},{"$f":"IF(AND(BV$8>=$M37,BV$8<=$N37),IF($F37=\"ANUAL\",IF(BU165=\"NÃO\",$D37,IF(MOD(COUNT($Q165:BU165)+1,12)=0,(BU165*$E37)+BU165,BU165)),\"NÃO\"),\"NÃO\")","v":"NÃO"},{"$f":"IF(AND(BW$8>=$M37,BW$8<=$N37),IF($F37=\"ANUAL\",IF(BV165=\"NÃO\",$D37,IF(MOD(COUNT($Q165:BV165)+1,12)=0,(BV165*$E37)+BV165,BV165)),\"NÃO\"),\"NÃO\")","v":"NÃO"},{"$f":"IF(AND(BX$8>=$M37,BX$8<=$N37),IF($F37=\"ANUAL\",IF(BW165=\"NÃO\",$D37,IF(MOD(COUNT($Q165:BW165)+1,12)=0,(BW165*$E37)+BW165,BW165)),\"NÃO\"),\"NÃO\")","v":"NÃO"}]
[null,null,null,null,null,null,null,null,null,null,null,null,null,null,null,30,"NÃO",{"$f":"IF(AND(R$8>=$M38,R$8<=$N38),IF($F38=\"ANUAL\",IF(Q166=\"NÃO\",$D38,IF(MOD(COUNT($Q166:Q166)+1,12)=0,(Q166*$E38)+Q166,Q166)),\"NÃO\"),\"NÃO\")","v":"NÃO"},{"$f":"IF(AND(S$8>=$M38,S$8<=$N38),IF($F38=\"ANUAL\",IF(R166=\"NÃO\",$D38,IF(MOD(COUNT($Q166:R166)+1,12)=0,(R166*$E38)+R166,R166)),\"NÃO\"),\"NÃO\")","v":"NÃO"},{"$f":"IF(AND(T$8>=$M38,T$8<=$N38),IF($F38=\"ANUAL\",IF(S166=\"NÃO\",$D38,IF(MOD(COUNT($Q166:S166)+1,12)=0,(S166*$E38)+S166,S166)),\"NÃO\"),\"NÃO\")","v":"NÃO"},{"$f":"IF(AND(U$8>=$M38,U$8<=$N38),IF($F38=\"ANUAL\",IF(T166=\"NÃO\",$D38,IF(MOD(COUNT($Q166:T166)+1,12)=0,(T166*$E38)+T166,T166)),\"NÃO\"),\"NÃO\")","v":"NÃO"},{"$f":"IF(AND(V$8>=$M38,V$8<=$N38),IF($F38=\"ANUAL\",IF(U166=\"NÃO\",$D38,IF(MOD(COUNT($Q166:U166)+1,12)=0,(U166*$E38)+U166,U166)),\"NÃO\"),\"NÃO\")","v":"NÃO"},{"$f":"IF(AND(W$8>=$M38,W$8<=$N38),IF($F38=\"ANUAL\",IF(V166=\"NÃO\",$D38,IF(MOD(COUNT($Q166:V166)+1,12)=0,(V166*$E38)+V166,V166)),\"NÃO\"),\"NÃO\")","v":"NÃO"},{"$f":"IF(AND(X$8>=$M38,X$8<=$N38),IF($F38=\"ANUAL\",IF(W166=\"NÃO\",$D38,IF(MOD(COUNT($Q166:W166)+1,12)=0,(W166*$E38)+W166,W166)),\"NÃO\"),\"NÃO\")","v":"NÃO"},{"$f":"IF(AND(Y$8>=$M38,Y$8<=$N38),IF($F38=\"ANUAL\",IF(X166=\"NÃO\",$D38,IF(MOD(COUNT($Q166:X166)+1,12)=0,(X166*$E38)+X166,X166)),\"NÃO\"),\"NÃO\")","v":"NÃO"},{"$f":"IF(AND(Z$8>=$M38,Z$8<=$N38),IF($F38=\"ANUAL\",IF(Y166=\"NÃO\",$D38,IF(MOD(COUNT($Q166:Y166)+1,12)=0,(Y166*$E38)+Y166,Y166)),\"NÃO\"),\"NÃO\")","v":"NÃO"},{"$f":"IF(AND(AA$8>=$M38,AA$8<=$N38),IF($F38=\"ANUAL\",IF(Z166=\"NÃO\",$D38,IF(MOD(COUNT($Q166:Z166)+1,12)=0,(Z166*$E38)+Z166,Z166)),\"NÃO\"),\"NÃO\")","v":"NÃO"},{"$f":"IF(AND(AB$8>=$M38,AB$8<=$N38),IF($F38=\"ANUAL\",IF(AA166=\"NÃO\",$D38,IF(MOD(COUNT($Q166:AA166)+1,12)=0,(AA166*$E38)+AA166,AA166)),\"NÃO\"),\"NÃO\")","v":"NÃO"},{"$f":"IF(AND(AC$8>=$M38,AC$8<=$N38),IF($F38=\"ANUAL\",IF(AB166=\"NÃO\",$D38,IF(MOD(COUNT($Q166:AB166)+1,12)=0,(AB166*$E38)+AB166,AB166)),\"NÃO\"),\"NÃO\")","v":"NÃO"},{"$f":"IF(AND(AD$8>=$M38,AD$8<=$N38),IF($F38=\"ANUAL\",IF(AC166=\"NÃO\",$D38,IF(MOD(COUNT($Q166:AC166)+1,12)=0,(AC166*$E38)+AC166,AC166)),\"NÃO\"),\"NÃO\")","v":"NÃO"},{"$f":"IF(AND(AE$8>=$M38,AE$8<=$N38),IF($F38=\"ANUAL\",IF(AD166=\"NÃO\",$D38,IF(MOD(COUNT($Q166:AD166)+1,12)=0,(AD166*$E38)+AD166,AD166)),\"NÃO\"),\"NÃO\")","v":"NÃO"},{"$f":"IF(AND(AF$8>=$M38,AF$8<=$N38),IF($F38=\"ANUAL\",IF(AE166=\"NÃO\",$D38,IF(MOD(COUNT($Q166:AE166)+1,12)=0,(AE166*$E38)+AE166,AE166)),\"NÃO\"),\"NÃO\")","v":"NÃO"},{"$f":"IF(AND(AG$8>=$M38,AG$8<=$N38),IF($F38=\"ANUAL\",IF(AF166=\"NÃO\",$D38,IF(MOD(COUNT($Q166:AF166)+1,12)=0,(AF166*$E38)+AF166,AF166)),\"NÃO\"),\"NÃO\")","v":"NÃO"},{"$f":"IF(AND(AH$8>=$M38,AH$8<=$N38),IF($F38=\"ANUAL\",IF(AG166=\"NÃO\",$D38,IF(MOD(COUNT($Q166:AG166)+1,12)=0,(AG166*$E38)+AG166,AG166)),\"NÃO\"),\"NÃO\")","v":"NÃO"},{"$f":"IF(AND(AI$8>=$M38,AI$8<=$N38),IF($F38=\"ANUAL\",IF(AH166=\"NÃO\",$D38,IF(MOD(COUNT($Q166:AH166)+1,12)=0,(AH166*$E38)+AH166,AH166)),\"NÃO\"),\"NÃO\")","v":"NÃO"},{"$f":"IF(AND(AJ$8>=$M38,AJ$8<=$N38),IF($F38=\"ANUAL\",IF(AI166=\"NÃO\",$D38,IF(MOD(COUNT($Q166:AI166)+1,12)=0,(AI166*$E38)+AI166,AI166)),\"NÃO\"),\"NÃO\")","v":"NÃO"},{"$f":"IF(AND(AK$8>=$M38,AK$8<=$N38),IF($F38=\"ANUAL\",IF(AJ166=\"NÃO\",$D38,IF(MOD(COUNT($Q166:AJ166)+1,12)=0,(AJ166*$E38)+AJ166,AJ166)),\"NÃO\"),\"NÃO\")","v":"NÃO"},{"$f":"IF(AND(AL$8>=$M38,AL$8<=$N38),IF($F38=\"ANUAL\",IF(AK166=\"NÃO\",$D38,IF(MOD(COUNT($Q166:AK166)+1,12)=0,(AK166*$E38)+AK166,AK166)),\"NÃO\"),\"NÃO\")","v":"NÃO"},{"$f":"IF(AND(AM$8>=$M38,AM$8<=$N38),IF($F38=\"ANUAL\",IF(AL166=\"NÃO\",$D38,IF(MOD(COUNT($Q166:AL166)+1,12)=0,(AL166*$E38)+AL166,AL166)),\"NÃO\"),\"NÃO\")","v":"NÃO"},{"$f":"IF(AND(AN$8>=$M38,AN$8<=$N38),IF($F38=\"ANUAL\",IF(AM166=\"NÃO\",$D38,IF(MOD(COUNT($Q166:AM166)+1,12)=0,(AM166*$E38)+AM166,AM166)),\"NÃO\"),\"NÃO\")","v":"NÃO"},{"$f":"IF(AND(AO$8>=$M38,AO$8<=$N38),IF($F38=\"ANUAL\",IF(AN166=\"NÃO\",$D38,IF(MOD(COUNT($Q166:AN166)+1,12)=0,(AN166*$E38)+AN166,AN166)),\"NÃO\"),\"NÃO\")","v":"NÃO"},{"$f":"IF(AND(AP$8>=$M38,AP$8<=$N38),IF($F38=\"ANUAL\",IF(AO166=\"NÃO\",$D38,IF(MOD(COUNT($Q166:AO166)+1,12)=0,(AO166*$E38)+AO166,AO166)),\"NÃO\"),\"NÃO\")","v":"NÃO"},{"$f":"IF(AND(AQ$8>=$M38,AQ$8<=$N38),IF($F38=\"ANUAL\",IF(AP166=\"NÃO\",$D38,IF(MOD(COUNT($Q166:AP166)+1,12)=0,(AP166*$E38)+AP166,AP166)),\"NÃO\"),\"NÃO\")","v":"NÃO"},{"$f":"IF(AND(AR$8>=$M38,AR$8<=$N38),IF($F38=\"ANUAL\",IF(AQ166=\"NÃO\",$D38,IF(MOD(COUNT($Q166:AQ166)+1,12)=0,(AQ166*$E38)+AQ166,AQ166)),\"NÃO\"),\"NÃO\")","v":"NÃO"},{"$f":"IF(AND(AS$8>=$M38,AS$8<=$N38),IF($F38=\"ANUAL\",IF(AR166=\"NÃO\",$D38,IF(MOD(COUNT($Q166:AR166)+1,12)=0,(AR166*$E38)+AR166,AR166)),\"NÃO\"),\"NÃO\")","v":"NÃO"},{"$f":"IF(AND(AT$8>=$M38,AT$8<=$N38),IF($F38=\"ANUAL\",IF(AS166=\"NÃO\",$D38,IF(MOD(COUNT($Q166:AS166)+1,12)=0,(AS166*$E38)+AS166,AS166)),\"NÃO\"),\"NÃO\")","v":"NÃO"},{"$f":"IF(AND(AU$8>=$M38,AU$8<=$N38),IF($F38=\"ANUAL\",IF(AT166=\"NÃO\",$D38,IF(MOD(COUNT($Q166:AT166)+1,12)=0,(AT166*$E38)+AT166,AT166)),\"NÃO\"),\"NÃO\")","v":"NÃO"},{"$f":"IF(AND(AV$8>=$M38,AV$8<=$N38),IF($F38=\"ANUAL\",IF(AU166=\"NÃO\",$D38,IF(MOD(COUNT($Q166:AU166)+1,12)=0,(AU166*$E38)+AU166,AU166)),\"NÃO\"),\"NÃO\")","v":"NÃO"},{"$f":"IF(AND(AW$8>=$M38,AW$8<=$N38),IF($F38=\"ANUAL\",IF(AV166=\"NÃO\",$D38,IF(MOD(COUNT($Q166:AV166)+1,12)=0,(AV166*$E38)+AV166,AV166)),\"NÃO\"),\"NÃO\")","v":"NÃO"},{"$f":"IF(AND(AX$8>=$M38,AX$8<=$N38),IF($F38=\"ANUAL\",IF(AW166=\"NÃO\",$D38,IF(MOD(COUNT($Q166:AW166)+1,12)=0,(AW166*$E38)+AW166,AW166)),\"NÃO\"),\"NÃO\")","v":"NÃO"},{"$f":"IF(AND(AY$8>=$M38,AY$8<=$N38),IF($F38=\"ANUAL\",IF(AX166=\"NÃO\",$D38,IF(MOD(COUNT($Q166:AX166)+1,12)=0,(AX166*$E38)+AX166,AX166)),\"NÃO\"),\"NÃO\")","v":"NÃO"},{"$f":"IF(AND(AZ$8>=$M38,AZ$8<=$N38),IF($F38=\"ANUAL\",IF(AY166=\"NÃO\",$D38,IF(MOD(COUNT($Q166:AY166)+1,12)=0,(AY166*$E38)+AY166,AY166)),\"NÃO\"),\"NÃO\")","v":"NÃO"},{"$f":"IF(AND(BA$8>=$M38,BA$8<=$N38),IF($F38=\"ANUAL\",IF(AZ166=\"NÃO\",$D38,IF(MOD(COUNT($Q166:AZ166)+1,12)=0,(AZ166*$E38)+AZ166,AZ166)),\"NÃO\"),\"NÃO\")","v":"NÃO"},{"$f":"IF(AND(BB$8>=$M38,BB$8<=$N38),IF($F38=\"ANUAL\",IF(BA166=\"NÃO\",$D38,IF(MOD(COUNT($Q166:BA166)+1,12)=0,(BA166*$E38)+BA166,BA166)),\"NÃO\"),\"NÃO\")","v":"NÃO"},{"$f":"IF(AND(BC$8>=$M38,BC$8<=$N38),IF($F38=\"ANUAL\",IF(BB166=\"NÃO\",$D38,IF(MOD(COUNT($Q166:BB166)+1,12)=0,(BB166*$E38)+BB166,BB166)),\"NÃO\"),\"NÃO\")","v":"NÃO"},{"$f":"IF(AND(BD$8>=$M38,BD$8<=$N38),IF($F38=\"ANUAL\",IF(BC166=\"NÃO\",$D38,IF(MOD(COUNT($Q166:BC166)+1,12)=0,(BC166*$E38)+BC166,BC166)),\"NÃO\"),\"NÃO\")","v":"NÃO"},{"$f":"IF(AND(BE$8>=$M38,BE$8<=$N38),IF($F38=\"ANUAL\",IF(BD166=\"NÃO\",$D38,IF(MOD(COUNT($Q166:BD166)+1,12)=0,(BD166*$E38)+BD166,BD166)),\"NÃO\"),\"NÃO\")","v":"NÃO"},{"$f":"IF(AND(BF$8>=$M38,BF$8<=$N38),IF($F38=\"ANUAL\",IF(BE166=\"NÃO\",$D38,IF(MOD(COUNT($Q166:BE166)+1,12)=0,(BE166*$E38)+BE166,BE166)),\"NÃO\"),\"NÃO\")","v":"NÃO"},{"$f":"IF(AND(BG$8>=$M38,BG$8<=$N38),IF($F38=\"ANUAL\",IF(BF166=\"NÃO\",$D38,IF(MOD(COUNT($Q166:BF166)+1,12)=0,(BF166*$E38)+BF166,BF166)),\"NÃO\"),\"NÃO\")","v":"NÃO"},{"$f":"IF(AND(BH$8>=$M38,BH$8<=$N38),IF($F38=\"ANUAL\",IF(BG166=\"NÃO\",$D38,IF(MOD(COUNT($Q166:BG166)+1,12)=0,(BG166*$E38)+BG166,BG166)),\"NÃO\"),\"NÃO\")","v":"NÃO"},{"$f":"IF(AND(BI$8>=$M38,BI$8<=$N38),IF($F38=\"ANUAL\",IF(BH166=\"NÃO\",$D38,IF(MOD(COUNT($Q166:BH166)+1,12)=0,(BH166*$E38)+BH166,BH166)),\"NÃO\"),\"NÃO\")","v":"NÃO"},{"$f":"IF(AND(BJ$8>=$M38,BJ$8<=$N38),IF($F38=\"ANUAL\",IF(BI166=\"NÃO\",$D38,IF(MOD(COUNT($Q166:BI166)+1,12)=0,(BI166*$E38)+BI166,BI166)),\"NÃO\"),\"NÃO\")","v":"NÃO"},{"$f":"IF(AND(BK$8>=$M38,BK$8<=$N38),IF($F38=\"ANUAL\",IF(BJ166=\"NÃO\",$D38,IF(MOD(COUNT($Q166:BJ166)+1,12)=0,(BJ166*$E38)+BJ166,BJ166)),\"NÃO\"),\"NÃO\")","v":"NÃO"},{"$f":"IF(AND(BL$8>=$M38,BL$8<=$N38),IF($F38=\"ANUAL\",IF(BK166=\"NÃO\",$D38,IF(MOD(COUNT($Q166:BK166)+1,12)=0,(BK166*$E38)+BK166,BK166)),\"NÃO\"),\"NÃO\")","v":"NÃO"},{"$f":"IF(AND(BM$8>=$M38,BM$8<=$N38),IF($F38=\"ANUAL\",IF(BL166=\"NÃO\",$D38,IF(MOD(COUNT($Q166:BL166)+1,12)=0,(BL166*$E38)+BL166,BL166)),\"NÃO\"),\"NÃO\")","v":"NÃO"},{"$f":"IF(AND(BN$8>=$M38,BN$8<=$N38),IF($F38=\"ANUAL\",IF(BM166=\"NÃO\",$D38,IF(MOD(COUNT($Q166:BM166)+1,12)=0,(BM166*$E38)+BM166,BM166)),\"NÃO\"),\"NÃO\")","v":"NÃO"},{"$f":"IF(AND(BO$8>=$M38,BO$8<=$N38),IF($F38=\"ANUAL\",IF(BN166=\"NÃO\",$D38,IF(MOD(COUNT($Q166:BN166)+1,12)=0,(BN166*$E38)+BN166,BN166)),\"NÃO\"),\"NÃO\")","v":"NÃO"},{"$f":"IF(AND(BP$8>=$M38,BP$8<=$N38),IF($F38=\"ANUAL\",IF(BO166=\"NÃO\",$D38,IF(MOD(COUNT($Q166:BO166)+1,12)=0,(BO166*$E38)+BO166,BO166)),\"NÃO\"),\"NÃO\")","v":"NÃO"},{"$f":"IF(AND(BQ$8>=$M38,BQ$8<=$N38),IF($F38=\"ANUAL\",IF(BP166=\"NÃO\",$D38,IF(MOD(COUNT($Q166:BP166)+1,12)=0,(BP166*$E38)+BP166,BP166)),\"NÃO\"),\"NÃO\")","v":"NÃO"},{"$f":"IF(AND(BR$8>=$M38,BR$8<=$N38),IF($F38=\"ANUAL\",IF(BQ166=\"NÃO\",$D38,IF(MOD(COUNT($Q166:BQ166)+1,12)=0,(BQ166*$E38)+BQ166,BQ166)),\"NÃO\"),\"NÃO\")","v":"NÃO"},{"$f":"IF(AND(BS$8>=$M38,BS$8<=$N38),IF($F38=\"ANUAL\",IF(BR166=\"NÃO\",$D38,IF(MOD(COUNT($Q166:BR166)+1,12)=0,(BR166*$E38)+BR166,BR166)),\"NÃO\"),\"NÃO\")","v":"NÃO"},{"$f":"IF(AND(BT$8>=$M38,BT$8<=$N38),IF($F38=\"ANUAL\",IF(BS166=\"NÃO\",$D38,IF(MOD(COUNT($Q166:BS166)+1,12)=0,(BS166*$E38)+BS166,BS166)),\"NÃO\"),\"NÃO\")","v":"NÃO"},{"$f":"IF(AND(BU$8>=$M38,BU$8<=$N38),IF($F38=\"ANUAL\",IF(BT166=\"NÃO\",$D38,IF(MOD(COUNT($Q166:BT166)+1,12)=0,(BT166*$E38)+BT166,BT166)),\"NÃO\"),\"NÃO\")","v":"NÃO"},{"$f":"IF(AND(BV$8>=$M38,BV$8<=$N38),IF($F38=\"ANUAL\",IF(BU166=\"NÃO\",$D38,IF(MOD(COUNT($Q166:BU166)+1,12)=0,(BU166*$E38)+BU166,BU166)),\"NÃO\"),\"NÃO\")","v":"NÃO"},{"$f":"IF(AND(BW$8>=$M38,BW$8<=$N38),IF($F38=\"ANUAL\",IF(BV166=\"NÃO\",$D38,IF(MOD(COUNT($Q166:BV166)+1,12)=0,(BV166*$E38)+BV166,BV166)),\"NÃO\"),\"NÃO\")","v":"NÃO"},{"$f":"IF(AND(BX$8>=$M38,BX$8<=$N38),IF($F38=\"ANUAL\",IF(BW166=\"NÃO\",$D38,IF(MOD(COUNT($Q166:BW166)+1,12)=0,(BW166*$E38)+BW166,BW166)),\"NÃO\"),\"NÃO\")","v":"NÃO"}]
[null,null,null,null,null,null,null,null,null,null,null,null,null,null,null,"suma mensual",{"$f":"SUM(Q137:Q166,Q105:Q134,Q73:Q102,Q41:Q70,Q9:Q38)","v":0},{"$f":"SUM(R137:R166,R105:R134,R73:R102,R41:R70,R9:R38)","v":0},0,0,0,0,24500,24500,24500,24500,24500,24500,24500,24500,24500,24500,24500,24500,24500,24500,24500,24500,24500,24500,24500,24500,24500,24500,24500,24500,24500,24500,24500,24500,24500,24500,24500,24500,24500,24500,24500,24500,24500,24500,24500,24500,24500,24500,24500,24500,24500,24500,24500,24500,24500,0,0,0,0,0]
[null,null,null,null,null,null,null,null,null,null,null,null,null,null,null,"año suma",{"$f":"SUM(Q167:AB167)","v":147000},{"$f":"SUM(AC167:AN167)","v":294000},{"$f":"SUM(AO167:AZ167)","v":294000},{"$f":"SUM(BA167:BL167)","v":294000},{"$f":"SUM(BM167:BX167)","v":171500}]
[null,null,null,null,null,null,null,null,null,null,null,null,null,null,null,null,{"$f":"L9","v":2024},{"$f":"L10","v":2025},{"$f":"L11","v":2026},{"$f":"L12","v":2027},{"$f":"L13","v":2028}]

{"sheet":"INFORMES","index":25,"n_rows":29,"n_cols":23,"rows_kept":29,"cut":false,"hidden":false,"merged":[[8,3,8,6],[9,3,9,6],[10,3,10,6],[25,2,25,4],[17,2,17,4],[18,2,18,4],[19,2,19,4],[20,2,20,4],[21,2,21,4],[22,2,22,4],[23,2,23,4],[24,2,24,4],[7,8,7,10],[7,11,7,13],[6,8,6,10],[6,11,6,13],[13,3,13,6],[13,8,13,10],[13,11,13,13],[8,8,8,10],[8,11,8,13],[9,8,9,10],[9,11,9,13],[10,8,10,10],[10,11,10,13],[11,8,11,10],[6,3,6,6],[7,3,7,6],[26,2,26,4],[27,2,27,4],[28,2,28,4],[11,11,11,13],[12,8,12,10],[12,11,12,13],[23,11,23,12],[24,11,24,12],[18,11,18,12],[19,11,19,12],[20,11,20,12],[21,11,21,12],[22,11,22,12],[17,8,17,9],[12,3,12,6],[17,5,17,7]]}
[]
[]
[]
[null,null,"Vea los resultados de sus análisis estratégicos"]
[]
[null,null,"Resumen de las cinco fuerzas competitivas de Porter",null,null,null,null,null,"Resumen FODA",null,null,null,null,null,null,"Suma de 5 fuerzas de Porter"]
[null,null,{"$f":"IFERROR(Q7/SUM($Q$7:$Q$11),\"\")","v":0.29770992366412213},"Rivalidad entre los competidores",null,null,null,null,"Fuerzas Principales",null,null,"Debilidades Principales",null,null,null,"Rivalidad entre los competidores",{"$f":"SUM(ESTRATÉGIA_FC!F5:F10)","v":39}]
[null,null,{"$f":"IFERROR(Q8/SUM($Q$7:$Q$11),\"\")","v":0.12977099236641221},"Poder de negociación de los clientes",null,null,null,null,{"$f":"ESTRATÉGIA_SWOT!U5","v":"El negocio puede crecer (en escalas)"},null,null,{"$f":"ESTRATÉGIA_SWOT!X5","v":"El costo es bajo por lo que ayuda a obtener un mayor beneficio"},null,null,null,"El poder de negociación de los clientes",{"$f":"SUM(ESTRATÉGIA_FC!F13:F18)","v":17}]
[null,null,0.23664122137404581,"Poder de negociación de los proveedores",null,null,null,null,{"$f":"ESTRATÉGIA_SWOT!U6","v":"El equipo es competente y organizado"},null,null,{"$f":"ESTRATÉGIA_SWOT!X6","v":"La infraestructura se adapta a las necesidades"},null,null,null,"El poder de negociación de los proveedores",{"$f":"SUM(ESTRATÉGIA_FC!F21:F26)","v":31}]
[null,null,0.15648854961832062,"Riesgo de nuevos participantes",null,null,null,null,{"$f":"ESTRATÉGIA_SWOT!U7","v":"El producto es de calidad"},null,null,{"$f":"ESTRATÉGIA_SWOT!X7","v":"La propia tecnología es esencial para el negocio"},null,null,null,"del riesgo de nuevos participantes",{"$f":"SUM(ESTRATÉGIA_FC!F29:F34)","v":20.5}]
[null,null,0.17938931297709923,"Amenaza de sustitutos",null,null,null,null,"Oportunidades Principales",null,null,"Amenazas Principales",null,null,null,"sustitutos amenaza",{"$f":"SUM(ESTRATÉGIA_FC!F37:F42)","v":23.5}]
[null,null,null,null,null,null,null,null,{"$f":"ESTRATÉGIA_SWOT!AA5","v":"Se interesa por iniciativas socioambientales"},null,null,{"$f":"ESTRATÉGIA_SWOT!AD5","v":"La empresa realiza grandes eventos"}]
[null,null,":)",{"$f":"IFERROR(\"Manténgase alerta, pues la fuerza competitiva que menos influye en su negocio es \"&VLOOKUP(MIN(C7:C11),$C$7:$F$11,2,0)&\". Es importante saber potenciarla.\",\"\")","v":"Manténgase alerta, pues la fuerza competitiva que menos influye en su negocio es Poder de negociación de los clientes. Es importante saber potenciarla."},null,null,null,null,{"$f":"ESTRATÉGIA_SWOT!AA6","v":"Se aprovecha de las políticas gubernamentales"},null,null,{"$f":"ESTRATÉGIA_SWOT!AD6","v":""}]
[null,null,":(",{"$f":"IFERROR(\"Usted necesita estar atento a \"&VLOOKUP(MAX(C7:C11),$C$7:$F$11,2,0)&\", pues esta es la fuerza que más puede influenciar su negocio, según la metodología Porter.\",\"\")","v":"Usted necesita estar atento a Rivalidad entre los competidores, pues esta es la fuerza que más puede influenciar su negocio, según la metodología Porter."},null,null,null,null,{"$f":"ESTRATÉGIA_SWOT!AA7","v":"Hay mercados sin explorar"},null,null,{"$f":"ESTRATÉGIA_SWOT!AD7","v":""}]
[]
[null,null,"Vea los resultados de las metas y planes de acción"]
[]
[null,null,"Análisis de logro de las metas",null,null,null,null,null,null,null,null,"Análisis de los planes de acción",null,null,null,"Estrategia de monitoreo",null,"efectividad anual de la estrategia","1 año","2 años","3 años","4 años","5 años"]
[null,null,"Meta",null,null,"1 año","2 años","3 años","4 años","5 años",null,"Plan de acción",null,"Cantidad",null,{"$f":"IFERROR(AVERAGE(F20:J29),0%)","v":0.86050685931077808},null,"valor",{"$f":"AVERAGE(F20:F29)","v":0.76535494808419724},{"$f":"AVERAGE(G20:G29)","v":1.6249489328931954},0.70952080880295676,0.59533748595935876,1.1221778442811012]
[null,null,{"$f":"IF(ESTRATÉGIA_EST!C8=\"\",\"\",ESTRATÉGIA_EST!C8)","v":"En el primer año tener las maquinarias necesarias para mayor produccion."},null,null,{"$f":"IFERROR(ESTRATÉGIA_EST!G8/ESTRATÉGIA_EST!F8,\"\")","v":0.75},{"$f":"IFERROR(ESTRATÉGIA_EST!I8/ESTRATÉGIA_EST!H8,\"\")","v":""},{"$f":"IFERROR(ESTRATÉGIA_EST!K8/ESTRATÉGIA_EST!J8,\"\")","v":""},{"$f":"IFERROR(ESTRATÉGIA_EST!M8/ESTRATÉGIA_EST!L8,\"\")","v":""},{"$f":"IFERROR(ESTRATÉGIA_EST!O8/ESTRATÉGIA_EST!N8,\"\")","v":""},null,"No se ha iniciado",null,{"$f":"COUNTIFS(ESTRATÉGIA_EST!$L$23:$L$42,INFORMES!L20)","v":1}]
[null,null,{"$f":"IF(ESTRATÉGIA_EST!C9=\"\",\"\",ESTRATÉGIA_EST!C9)","v":"Facturar lo necesario para cubrir gastos y que deje ganancias para inversion."},null,null,{"$f":"IFERROR(ESTRATÉGIA_EST!G9/ESTRATÉGIA_EST!F9,\"\")","v":0.78070989616839437},{"$f":"IFERROR(ESTRATÉGIA_EST!I9/ESTRATÉGIA_EST!H9,\"\")","v":1.6249489328931954},{"$f":"IFERROR(ESTRATÉGIA_EST!K9/ESTRATÉGIA_EST!J9,\"\")","v":1.0857082842725803},{"$f":"IFERROR(ESTRATÉGIA_EST!M9/ESTRATÉGIA_EST!L9,\"\")","v":1.0460124578780763},{"$f":"IFERROR(ESTRATÉGIA_EST!O9/ESTRATÉGIA_EST!N9,\"\")","v":0.49435568856220247},null,"En proceso",null,{"$f":"COUNTIFS(ESTRATÉGIA_EST!$L$23:$L$42,INFORMES!L21)","v":1}]
[null,null,{"$f":"IF(ESTRATÉGIA_EST!C10=\"\",\"\",ESTRATÉGIA_EST!C10)","v":"Hacer alianzas estrategicas con diferentes supermercados, para vender mas."},null,null,{"$f":"IFERROR(ESTRATÉGIA_EST!G10/ESTRATÉGIA_EST!F10,\"\")","v":""},{"$f":"IFERROR(ESTRATÉGIA_EST!I10/ESTRATÉGIA_EST!H10,\"\")","v":""},{"$f":"IFERROR(ESTRATÉGIA_EST!K10/ESTRATÉGIA_EST!J10,\"\")","v":0.33333333333333331},{"$f":"IFERROR(ESTRATÉGIA_EST!M10/ESTRATÉGIA_EST!L10,\"\")","v":0.2},{"$f":"IFERROR(ESTRATÉGIA_EST!O10/ESTRATÉGIA_EST!N10,\"\")","v":1.7499999999999998},null,"Concluido dentro del plazo",null,{"$f":"COUNTIFS(ESTRATÉGIA_EST!$L$23:$L$42,INFORMES!L22)","v":1}]
[null,null,{"$f":"IF(ESTRATÉGIA_EST!C11=\"\",\"\",ESTRATÉGIA_EST!C11)","v":"Posicionar la marca ante los dominicanos, para resaltar lo mejor de nuestro café Dominicano."},null,null,{"$f":"IFERROR(ESTRATÉGIA_EST!G11/ESTRATÉGIA_EST!F11,\"\")","v":""},{"$f":"IFERROR(ESTRATÉGIA_EST!I11/ESTRATÉGIA_EST!H11,\"\")","v":""},{"$f":"IFERROR(ESTRATÉGIA_EST!K11/ESTRATÉGIA_EST!J11,\"\")","v":""},{"$f":"IFERROR(ESTRATÉGIA_EST!M11/ESTRATÉGIA_EST!L11,\"\")","v":0.54},{"$f":"IFERROR(ESTRATÉGIA_EST!O11/ESTRATÉGIA_EST!N11,\"\")","v":""},null,"Concluido pero con atraso",null,{"$f":"COUNTIFS(ESTRATÉGIA_EST!$L$23:$L$42,INFORMES!L23)","v":0}]
[null,null,{"$f":"IF(ESTRATÉGIA_EST!C12=\"\",\"\",ESTRATÉGIA_EST!C12)","v":""},null,null,{"$f":"IFERROR(ESTRATÉGIA_EST!G12/ESTRATÉGIA_EST!F12,\"\")","v":""},{"$f":"IFERROR(ESTRATÉGIA_EST!I12/ESTRATÉGIA_EST!H12,\"\")","v":""},{"$f":"IFERROR(ESTRATÉGIA_EST!K12/ESTRATÉGIA_EST!J12,\"\")","v":""},{"$f":"IFERROR(ESTRATÉGIA_EST!M12/ESTRATÉGIA_EST!L12,\"\")","v":""},{"$f":"IFERROR(ESTRATÉGIA_EST!O12/ESTRATÉGIA_EST!N12,\"\")","v":""},null,"No ha sido concluido",null,{"$f":"COUNTIFS(ESTRATÉGIA_EST!$L$23:$L$42,INFORMES!L24)","v":0}]
[null,null,{"$f":"IF(ESTRATÉGIA_EST!C13=\"\",\"\",ESTRATÉGIA_EST!C13)","v":""},null,null,{"$f":"IFERROR(ESTRATÉGIA_EST!G13/ESTRATÉGIA_EST!F13,\"\")","v":""},{"$f":"IFERROR(ESTRATÉGIA_EST!I13/ESTRATÉGIA_EST!H13,\"\")","v":""},{"$f":"IFERROR(ESTRATÉGIA_EST!K13/ESTRATÉGIA_EST!J13,\"\")","v":""},{"$f":"IFERROR(ESTRATÉGIA_EST!M13/ESTRATÉGIA_EST!L13,\"\")","v":""},{"$f":"IFERROR(ESTRATÉGIA_EST!O13/ESTRATÉGIA_EST!N13,\"\")","v":""},null,"Total",null,{"$f":"SUM(N20:N24)","v":3}]
[null,null,{"$f":"IF(ESTRATÉGIA_EST!C14=\"\",\"\",ESTRATÉGIA_EST!C14)","v":""},null,null,{"$f":"IFERROR(ESTRATÉGIA_EST!G14/ESTRATÉGIA_EST!F14,\"\")","v":""},{"$f":"IFERROR(ESTRATÉGIA_EST!I14/ESTRATÉGIA_EST!H14,\"\")","v":""},{"$f":"IFERROR(ESTRATÉGIA_EST!K14/ESTRATÉGIA_EST!J14,\"\")","v":""},{"$f":"IFERROR(ESTRATÉGIA_EST!M14/ESTRATÉGIA_EST!L14,\"\")","v":""},{"$f":"IFERROR(ESTRATÉGIA_EST!O14/ESTRATÉGIA_EST!N14,\"\")","v":""}]
[null,null,{"$f":"IF(ESTRATÉGIA_EST!C15=\"\",\"\",ESTRATÉGIA_EST!C15)","v":""},null,null,{"$f":"IFERROR(ESTRATÉGIA_EST!G15/ESTRATÉGIA_EST!F15,\"\")","v":""},{"$f":"IFERROR(ESTRATÉGIA_EST!I15/ESTRATÉGIA_EST!H15,\"\")","v":""},{"$f":"IFERROR(ESTRATÉGIA_EST!K15/ESTRATÉGIA_EST!J15,\"\")","v":""},{"$f":"IFERROR(ESTRATÉGIA_EST!M15/ESTRATÉGIA_EST!L15,\"\")","v":""},{"$f":"IFERROR(ESTRATÉGIA_EST!O15/ESTRATÉGIA_EST!N15,\"\")","v":""}]
[null,null,{"$f":"IF(ESTRATÉGIA_EST!C16=\"\",\"\",ESTRATÉGIA_EST!C16)","v":""},null,null,{"$f":"IFERROR(ESTRATÉGIA_EST!G16/ESTRATÉGIA_EST!F16,\"\")","v":""},{"$f":"IFERROR(ESTRATÉGIA_EST!I16/ESTRATÉGIA_EST!H16,\"\")","v":""},{"$f":"IFERROR(ESTRATÉGIA_EST!K16/ESTRATÉGIA_EST!J16,\"\")","v":""},{"$f":"IFERROR(ESTRATÉGIA_EST!M16/ESTRATÉGIA_EST!L16,\"\")","v":""},{"$f":"IFERROR(ESTRATÉGIA_EST!O16/ESTRATÉGIA_EST!N16,\"\")","v":""}]
[null,null,{"$f":"IF(ESTRATÉGIA_EST!C17=\"\",\"\",ESTRATÉGIA_EST!C17)","v":""},null,null,{"$f":"IFERROR(ESTRATÉGIA_EST!G17/ESTRATÉGIA_EST!F17,\"\")","v":""},{"$f":"IFERROR(ESTRATÉGIA_EST!I17/ESTRATÉGIA_EST!H17,\"\")","v":""},{"$f":"IFERROR(ESTRATÉGIA_EST!K17/ESTRATÉGIA_EST!J17,\"\")","v":""},{"$f":"IFERROR(ESTRATÉGIA_EST!M17/ESTRATÉGIA_EST!L17,\"\")","v":""},{"$f":"IFERROR(ESTRATÉGIA_EST!O17/ESTRATÉGIA_EST!N17,\"\")","v":""}]

{"sheet":"INFORMES_MKT","index":26,"n_rows":22,"n_cols":10,"rows_kept":22,"cut":false,"hidden":false,"merged":[[20,4,20,5],[21,4,21,5],[21,2,21,3],[20,2,20,3],[19,2,19,3],[20,8,20,9],[21,8,21,9],[21,6,21,7],[20,6,20,7],[19,6,19,7],[18,2,18,3],[12,2,13,2],[15,2,16,2],[18,8,18,9],[19,8,19,9],[18,6,18,7],[18,4,18,5],[19,4,19,5],[5,2,5,6],[9,5,9,6],[8,5,8,6],[7,5,7,6],[6,5,6,6],[9,2,9,4],[8,2,8,4],[7,2,7,4],[6,2,6,4]]}
[]
[]
[]
[null,null,"Vea los principales resultados del análisis de Marketing"]
[]
[null,null,"Sobre los clientes",null,null,null,null,null,"Análisis de Recursos"]
[null,null,"¿Quiénes y cuántos sufren con este problema o se beneficiarían de la solución?",null,null,"Emprendedores, empresarios y gestores ",null,null,"Disponible",{"$f":"COUNTIFS(MERCADO!$D$23:$D$72,\"Disponible\")","v":2}]
[null,null,"¿De qué tamaño es este mercado?",null,null,{"$f":"MERCADO!D9","v":8000000},null,null,"No Disponible",{"$f":"COUNTIFS(MERCADO!$D$23:$D$72,\"No disponible\")","v":2}]
[null,null,"¿Cuánto de este mercado usted pretende alcanzar?",null,null,{"$f":"MERCADO!D10","v":0.25},null,null,"Total",{"$f":"SUM(J7:J8)","v":4}]
[null,null,"Tamaño del mercado alcanzado",null,null,{"$f":"MERCADO!D11","v":2000000},null,null,"Recursos disponibles %",{"$f":"IFERROR(J7/J9,\"\")","v":0.5}]
[null,null,"Inversiones"]
[null,null,"Inversiones en marketing offline"]
[null,null,"Todos los artículos","Valor de la inversión en el lanzamiento","Inversión año 1","Inversión año 2","Inversión año 3","Inversión año 4","Inversión año 5","Total de la Inversión"]
[null,null,null,{"$f":"SUM(MARKETING_PROMO!D9:D18)","v":4000},{"$f":"SUM(MARKETING_PROMO!E9:E18)","v":0},{"$f":"SUM(MARKETING_PROMO!F9:F18)","v":0},{"$f":"SUM(MARKETING_PROMO!G9:G18)","v":0},{"$f":"SUM(MARKETING_PROMO!H9:H18)","v":0},{"$f":"SUM(MARKETING_PROMO!I9:I18)","v":0},{"$f":"SUM(MARKETING_PROMO!J9:J18)","v":4000}]
[null,null,"Inversiones en marketing online"]
[null,null,"Todos los artículos","Valor de la inversión en el lanzamiento","Inversión año 1","Inversión año 2","Inversión año 3","Inversión año 4","Inversión año 5","Total de la Inversión"]
[null,null,null,{"$f":"SUM(MARKETING_PROMO!D22:D31)","v":0},{"$f":"SUM(MARKETING_PROMO!E22:E31)","v":11000},{"$f":"SUM(MARKETING_PROMO!F22:F31)","v":22000},{"$f":"SUM(MARKETING_PROMO!G22:G31)","v":27500},{"$f":"SUM(MARKETING_PROMO!H22:H31)","v":31000},{"$f":"SUM(MARKETING_PROMO!I22:I31)","v":33500},{"$f":"SUM(MARKETING_PROMO!J22:J31)","v":125000}]
[null,null,"Estrategia de precios"]
[null,null,"Visión",null,"Precio Alto",null,"Precio Mediano",null,"Precio Bajo"]
[null,null,"Calidad Alta",null,"Estrategia Premium",null,"Estrategia de Alto Valor",null,"Estrategia de Valor Supremo"]
[null,null,"Calidad Mediana",null,"Estrategia de Alto Precio",null,"Estrategia de Precio Mediano",null,"Estrategia de Valor Mediano"]
[null,null,"Calidad Baja",null,"Estrategia de Descuento",null,"Estrategia de Economía falsa",null,"Estrategia de Economía"]

{"sheet":"INFORMES_FIN","index":27,"n_rows":17,"n_cols":31,"rows_kept":17,"cut":false,"hidden":false,"merged":[[8,2,9,2],[8,3,9,3],[10,2,11,2],[10,3,11,3]]}
[]
[]
[]
[null,null,"Indicadores de Rendimiento",null,null,"Resumen","1 año","2 años","3 años","4 años","5 años","total",null,"gráficos","1 año","2 años","3 años","4 años","5 años"]
[null,null,"Establezca la tasa de descuento (año)",0.2,null,"Ingreso Bruto",{"$f":"SUM(FINANZAS_RESUMEN!F8:F37)","v":2306344.2546771509},{"$f":"SUM(FINANZAS_RESUMEN!G8:G37)","v":4881886.0707691219},{"$f":"SUM(FINANZAS_RESUMEN!H8:H37)","v":4559806.0707691219},{"$f":"SUM(FINANZAS_RESUMEN!I8:I37)","v":4601806.0707691219},{"$f":"SUM(FINANZAS_RESUMEN!J8:J37)","v":4559806.0707691219},{"$f":"SUM(G5:K5)","v":20909648.537753638},null,"Receta bruta",{"$f":"G5","v":2306344.2546771509},{"$f":"H5","v":4881886.0707691219},4559806.0707691219,4601806.0707691219,4559806.0707691219]
[null,null,"VAN (Valor Actual Neto)",{"$f":"IFERROR(NPV(D5,-D8,G14,H14,I14,J14,K14),\"\")","v":188858.32028387763},null,"Costos Variables",{"$f":"SUM(PROJ1!$AF$8:$AQ$38)","v":1494372.4601065035},{"$f":"SUM(PROJ2!$AF$8:$AQ$38)","v":3174431.2924676361},{"$f":"SUM(PROJ3!$AF$8:$AQ$38)","v":2973131.2924676361},{"$f":"SUM(PROJ4!$AF$8:$AQ$38)","v":3015131.2924676361},{"$f":"SUM(PROJ5!$AF$8:$AQ$38)","v":2973131.2924676361},{"$f":"SUM(G6:K6)","v":13630197.629977047},null,"gastos",{"$f":"G7+G6+G9+G10+G11","v":2134028.5968313543},{"$f":"H7+H6+H9+H10+H11","v":4456259.6150080394},{"$f":"I7+I6+I9+I10+I11","v":4260459.6150080394},{"$f":"J7+J6+J9+J10+J11","v":4305959.6150080394},{"$f":"K7+K6+K9+K10+K11","v":3933959.6150080394}]
[null,null,"TIR (Tasa Interna de Retorno)",{"$f":"IFERROR(IRR(N15:S15),\"No Hubo Recuperacón\")","v":0.3548563956312869},null,"Impuestos Directos",{"$f":"SUM(PROJ1!AS8:BD38)","v":225256.13672485109},{"$f":"SUM(PROJ2!AS8:BD38)","v":443628.32254040323},{"$f":"SUM(PROJ3!AS8:BD38)","v":443628.32254040323},{"$f":"SUM(PROJ4!AS8:BD38)","v":443628.32254040323},{"$f":"SUM(PROJ5!AS8:BD38)","v":443628.32254040323},{"$f":"SUM(G7:K7)","v":1999769.426886464},null,"ingreso libre",{"$f":"O5-O6-G13+G11","v":-723284.34215420345},{"$f":"P5-P6-H13+H11","v":423826.45576108247},317546.45576108247,314046.45576108247,644046.45576108247]
[null,null,"Inversión Inicial",{"$f":"SUM(FINANZAS_II!D7:D36)+SUM(MARKETING_PROMO!D9:D18)+SUM(MARKETING_PROMO!D22:D31)","v":59000},null,"Margen de Contribución",{"$f":"G5-G7-G6","v":586715.65784579632},{"$f":"H5-H7-H6","v":1263826.4557610825},{"$f":"I5-I7-I6","v":1143046.4557610825},{"$f":"J5-J7-J6","v":1143046.4557610825},{"$f":"K5-K7-K6","v":1143046.4557610825},{"$f":"SUM(G8:K8)","v":5279681.480890126}]
[null,null,"Recuperación de la Inversión",{"$f":"IFERROR(HLOOKUP(1,$U$16:$Y$17,2,FALSE),\"No Hubo recuperación\")","v":"En 4 años"},null,"Gastos Fijos",{"$f":"FINANZAS_CF!Q168+IG_EQ!CR6","v":399000},{"$f":"FINANZAS_CF!R168+IG_EQ!CS6","v":798000},{"$f":"FINANZAS_CF!S168+IG_EQ!CT6","v":798000},{"$f":"FINANZAS_CF!T168+IG_EQ!CU6","v":798000},{"$f":"FINANZAS_CF!U168+IG_EQ!CV6","v":465500},3258500,null,"El análisis de retorno de la inversión"]
[null,null,null,null,null,"Gastos en Marketing",{"$f":"SUM(INFORMES_MKT!E14+INFORMES_MKT!E17)","v":11000},{"$f":"SUM(INFORMES_MKT!F14+INFORMES_MKT!F17)","v":22000},{"$f":"SUM(INFORMES_MKT!G14+INFORMES_MKT!G17)","v":27500},{"$f":"SUM(INFORMES_MKT!H14+INFORMES_MKT!H17)","v":31000},{"$f":"SUM(INFORMES_MKT!I14+INFORMES_MKT!I17)","v":33500},125000]
[null,null,"Punto de equilibrio",{"$f":"IFERROR(HLOOKUP(1,$AA$16:$AE$17,2,FALSE),\"No hubo punto de equilibrio\")","v":"En 2 años"},null,"Depreciación",{"$f":"(SUM(FINANZAS_II!$I$7:$I$36)+SUM(FINANZAS_OI!L7:L26))","v":4400},{"$f":"(SUM(FINANZAS_II!$I$7:$I$36)+SUM(FINANZAS_OI!M7:M26))","v":18200},{"$f":"(SUM(FINANZAS_II!$I$7:$I$36)+SUM(FINANZAS_OI!N7:N26))","v":18200},{"$f":"(SUM(FINANZAS_II!$I$7:$I$36)+SUM(FINANZAS_OI!O7:O26))","v":18200},{"$f":"(SUM(FINANZAS_II!$I$7:$I$36)+SUM(FINANZAS_OI!P7:P26))","v":18200},77200]
[null,null,null,null,null,"Ganancia/pérdida líquida",{"$f":"G8-G9-G10-G11","v":172315.65784579632},{"$f":"H8-H9-H10-H11","v":425626.45576108247},299346.45576108247,295846.45576108247,625846.45576108247,1818981.4808901262]
[null,null,null,null,null,"Inversión Bruta",{"$f":"FINANZAS_OI!E27","v":900000},{"$f":"FINANZAS_OI!F27","v":20000},{"$f":"FINANZAS_OI!G27","v":0},{"$f":"FINANZAS_OI!H27","v":0},{"$f":"FINANZAS_OI!I27","v":0},920000]
[null,null,null,null,null,"Ganancia Libre",{"$f":"G12-G13+G11","v":-723284.34215420368},{"$f":"H12-H13+H11","v":423826.45576108247},{"$f":"I12-I13+I11","v":317546.45576108247},{"$f":"J12-J13+J11","v":314046.45576108247},{"$f":"K12-K13+K11","v":644046.45576108247},{"$f":"SUM(G14:K14)","v":976181.4808901262},null,"cálculo de la TIR",null,null,null,null,null,null,"Cálculo de RETORNO",null,null,null,null,null,"Cálculo del punto de equilibrio"]
[null,null,null,null,null,"EBITDA",{"$f":"G5-G6-G9-G10-G13","v":-498028.20542935259},{"$f":"H5-H6-H9-H10-H13","v":867454.77830148581},761174.77830148581,757674.77830148581,1087674.7783014858,{"$f":"SUM(G15:K15)","v":2975950.9077765904},null,{"$f":"-D8","v":-59000},{"$f":"G14","v":-723284.34215420368},{"$f":"H14","v":423826.45576108247},{"$f":"I14","v":317546.45576108247},{"$f":"J14","v":314046.45576108247},{"$f":"K14","v":644046.45576108247},null,{"$f":"-D8+G14","v":-782284.34215420368},{"$f":"U15+H14","v":-358457.88639312121},{"$f":"V15+I14","v":-40911.43063203874},{"$f":"W15+J14","v":273135.02512904373},{"$f":"X15+K14","v":917181.4808901262},null,{"$f":"G14","v":-723284.34215420368},{"$f":"H14","v":423826.45576108247},{"$f":"I14","v":317546.45576108247},{"$f":"J14","v":314046.45576108247},{"$f":"K14","v":644046.45576108247}]
[null,null,null,null,null,"Porcentaje de Rentabilidad",{"$f":"IF(ISERROR(G14/G5),0,G14/G5)","v":-0.31360641009572582},{"$f":"IF(ISERROR(H14/H5),0,H14/H5)","v":8.6816129999180883E-2},6.9640342337524141E-2,6.8244174337532298E-2,0.14124426472647078,4.6685695320395813E-2,null,{"$f":"IRR(N15:S15)","v":0.3548563956312869},null,null,null,null,null,null,{"$f":"IF(U15>=0,1,0)","v":0},{"$f":"IF(V15>=0,1,0)","v":0},{"$f":"IF(W15>=0,1,0)","v":0},{"$f":"IF(X15>=0,1,0)","v":1},{"$f":"IF(Y15>=0,1,0)","v":1},null,{"$f":"IF(AA15>=0,1,0)","v":0},{"$f":"IF(AB15>=0,1,0)","v":1},{"$f":"IF(AC15>=0,1,0)","v":1},{"$f":"IF(AD15>=0,1,0)","v":1},{"$f":"IF(AE15>=0,1,0)","v":1}]
[null,null,null,null,null,null,null,null,null,null,null,null,null,null,null,null,null,null,null,null,"En 1 año","En 2 años","En tres años","En 4 años","En 5 años",null,"En 1 año","En 2 años","En tres años","En 4 años","En 5 años"]

{"sheet":"DASHBOARD","index":28,"n_rows":31,"n_cols":39,"rows_kept":31,"cut":false,"hidden":false,"merged":[[12,2,12,3],[13,2,13,3],[3,2,3,3],[7,2,7,3],[4,5,7,14],[9,2,9,3],[10,2,10,3],[6,2,6,3],[4,2,4,3]]}
[]
[]
[]
[null,null,"Valor Actual Neto",null,null,"Análisis Económico del Flujo de Caja"]
[null,null,{"$f":"INFORMES_FIN!D6","v":188858.32028387763}]
[]
[null,null,"Tasa Interna de Retorno (TIR)"]
[null,null,{"$f":"INFORMES_FIN!D7","v":0.3548563956312869}]
[]
[null,null,"Recuperación de la Inversión",null,null,"Análisis de Retorno"]
[null,null,{"$f":"INFORMES_FIN!D9","v":"En 4 años"}]
[]
[null,null,"Punto de Equilibrio"]
[null,null,{"$f":"INFORMES_FIN!D11","v":"En 2 años"}]
[]
[]
[null,null,null,null,null,null,null,null,null,null,null,null,null,null,null,null,"Análisis de Inversiones"]
[null,null,null,null,null,null,null,null,null,null,null,null,null,null,null,null,"artículo","0 años","1 año","2 años","3 años","4 años","5 años"]
[null,null,null,null,null,null,null,null,null,null,null,null,null,null,null,null,"inversiones",{"$f":"SUM(FINANZAS_II!D7:D36)","v":55000},{"$f":"FINANZAS_OI!E27","v":900000},{"$f":"FINANZAS_OI!F27","v":20000},{"$f":"FINANZAS_OI!G27","v":0},{"$f":"FINANZAS_OI!H27","v":0},{"$f":"FINANZAS_OI!I27","v":0}]
[]
[null,null,null,null,null,null,null,null,null,null,null,null,null,null,null,null,"análisis","0 años","1 año","2 años","3 años","4 años","5 años"]
[null,null,null,null,null,null,null,null,null,null,null,null,null,null,null,null,"recuperación de la inversión",{"$f":"-INFORMES_FIN!D8","v":-59000},{"$f":"-INFORMES_FIN!D8+INFORMES_FIN!G14","v":-782284.34215420368},{"$f":"S22+INFORMES_FIN!H14","v":-358457.88639312121},{"$f":"T22+INFORMES_FIN!I14","v":-40911.43063203874},{"$f":"U22+INFORMES_FIN!J14","v":273135.02512904373},{"$f":"V22+INFORMES_FIN!K14","v":917181.4808901262}]
[null,null,null,null,null,null,null,null,null,null,null,null,null,null,null,null,"Punto de equilibrio",{"$f":"R22","v":-59000},{"$f":"INFORMES_FIN!G12","v":172315.65784579632},{"$f":"INFORMES_FIN!H12","v":425626.45576108247},{"$f":"INFORMES_FIN!I12","v":299346.45576108247},{"$f":"INFORMES_FIN!J12","v":295846.45576108247},{"$f":"INFORMES_FIN!K12","v":625846.45576108247}]
[]
[]
[null,null,null,null,null,null,null,null,null,null,null,null,null,null,null,null,"Clasificación de ingresos",null,null,null,null,null,null,null,"gastos de Clasificación",null,null,null,null,null,null,null,"Beneficio de clasificación gratuito"]
[null,null,null,null,null,null,null,null,null,null,null,null,null,null,null,null,"1 año",{"$f":"HLOOKUP(Q27,INFORMES_FIN!$G$4:$K$5,2,FALSE)","v":2306344.2546771509},9.9999999999999995E-7,{"$f":"SUM(R27:S27)","v":2306344.2546781506},{"$f":"Q27","v":"1 año"},1,{"$f":"IFERROR(VLOOKUP(LARGE($T$27:$T$31,V27),$T$27:$U$31,2,FALSE),\"\")","v":"2 años"},null,"1 año",{"$f":"HLOOKUP(DASHBOARD!Y27,INFORMES_FIN!$O$4:$S$6,3,FALSE)","v":2134028.5968313543},9.9999999999999995E-7,{"$f":"SUM(Z27:AA27)","v":2134028.5968323541},{"$f":"Y27","v":"1 año"},1,{"$f":"IFERROR(VLOOKUP(LARGE($AB$27:$AB$31,AD27),$AB$27:$AC$31,2,FALSE),\"\")","v":"2 años"},null,"1 año",{"$f":"HLOOKUP(AG27,INFORMES_FIN!$O$4:$S$7,3,FALSE)","v":2134028.5968313543},9.9999999999999995E-7,{"$f":"SUM(AH27:AI27)","v":2134028.5968323541},{"$f":"AG27","v":"1 año"},1,{"$f":"IFERROR(VLOOKUP(LARGE($AJ$27:$AJ$31,AL27),$AJ$27:$AK$31,2,FALSE),\"\")","v":"2 años"}]
[null,null,null,null,null,null,null,null,null,null,null,null,null,null,null,null,"2 años",{"$f":"HLOOKUP(Q28,INFORMES_FIN!$G$4:$K$5,2,FALSE)","v":4881886.0707691219},{"$f":"S27+$S$27","v":1.9999999999999999E-6},{"$f":"SUM(R28:S28)","v":4881886.0707711214},{"$f":"Q28","v":"2 años"},null,null,null,"2 años",{"$f":"HLOOKUP(DASHBOARD!Y28,INFORMES_FIN!$O$4:$S$6,3,FALSE)","v":4456259.6150080394},{"$f":"AA27+$S$27","v":1.9999999999999999E-6},{"$f":"SUM(Z28:AA28)","v":4456259.6150100389},{"$f":"Y28","v":"2 años"},null,null,null,"2 años",{"$f":"HLOOKUP(AG28,INFORMES_FIN!$O$4:$S$7,3,FALSE)","v":4456259.6150080394},{"$f":"AI27+$S$27","v":1.9999999999999999E-6},{"$f":"SUM(AH28:AI28)","v":4456259.6150100389},{"$f":"AG28","v":"2 años"}]
[null,null,null,null,null,null,null,null,null,null,null,null,null,null,null,null,"3 años",{"$f":"HLOOKUP(Q29,INFORMES_FIN!$G$4:$K$5,2,FALSE)","v":4559806.0707691219},{"$f":"S28+$S$27","v":3.0000000000000001E-6},4559806.0707721217,"3 años",null,null,null,"3 años",{"$f":"HLOOKUP(DASHBOARD!Y29,INFORMES_FIN!$O$4:$S$6,3,FALSE)","v":4260459.6150080394},{"$f":"AA28+$S$27","v":3.0000000000000001E-6},4260459.6150110392,"3 años",null,null,null,"3 años",{"$f":"HLOOKUP(AG29,INFORMES_FIN!$O$4:$S$7,3,FALSE)","v":4260459.6150080394},{"$f":"AI28+$S$27","v":3.0000000000000001E-6},4260459.6150110392,"3 años"]
[null,null,null,null,null,null,null,null,null,null,null,null,null,null,null,null,"4 años",{"$f":"HLOOKUP(Q30,INFORMES_FIN!$G$4:$K$5,2,FALSE)","v":4601806.0707691219},3.9999999999999998E-6,4601806.0707731219,"4 años",null,null,null,"4 años",{"$f":"HLOOKUP(DASHBOARD!Y30,INFORMES_FIN!$O$4:$S$6,3,FALSE)","v":4305959.6150080394},3.9999999999999998E-6,4305959.6150120394,"4 años",null,null,null,"4 años",{"$f":"HLOOKUP(AG30,INFORMES_FIN!$O$4:$S$7,3,FALSE)","v":4305959.6150080394},3.9999999999999998E-6,4305959.6150120394,"4 años"]
[null,null,null,null,null,null,null,null,null,null,null,null,null,null,null,null,"5 años",{"$f":"HLOOKUP(Q31,INFORMES_FIN!$G$4:$K$5,2,FALSE)","v":4559806.0707691219},4.9999999999999996E-6,4559806.0707741221,"5 años",null,null,null,"5 años",{"$f":"HLOOKUP(DASHBOARD!Y31,INFORMES_FIN!$O$4:$S$6,3,FALSE)","v":3933959.6150080394},4.9999999999999996E-6,3933959.6150130392,"5 años",null,null,null,"5 años",{"$f":"HLOOKUP(AG31,INFORMES_FIN!$O$4:$S$7,3,FALSE)","v":3933959.6150080394},4.9999999999999996E-6,3933959.6150130392,"5 años"]

{"sheet":"DASHBOARD_FIN","index":29,"n_rows":11,"n_cols":20,"rows_kept":11,"cut":false,"hidden":false,"merged":[[3,11,3,12],[4,11,4,12],[6,8,6,9],[3,2,3,3],[4,2,4,3],[6,2,6,3],[3,5,3,6],[4,5,4,6],[3,8,3,9],[4,8,4,9]]}
[]
[]
[]
[null,null,"Ingreso Bruto",null,null,"Gastos Totales",null,null,"Ganancias",null,null,"Rentabilidad"]
[null,null,{"$f":"INFORMES_FIN!L5","v":20909648.537753638},null,null,{"$f":"INFORMES_FIN!L7+INFORMES_FIN!L6+INFORMES_FIN!L9+INFORMES_FIN!L10+INFORMES_FIN!L13","v":19933467.056863509},null,null,{"$f":"C5-F5","v":976181.48089012876},null,null,{"$f":"INFORMES_FIN!L16","v":4.6685695320395813E-2}]
[]
[null,null,"Comparación entre los Ingresos x los Gastos",null,null,null,null,null,"Margen de Contribución x Costos Fijos"]
[null,null,null,null,null,null,null,null,null,null,null,null,null,null,null,"1 año","2 años","3 años","4 años","5 años"]
[null,null,null,null,null,null,null,null,null,null,null,null,null,null,"Margen de contribución",{"$f":"SUM(PROJ1!BF8:BQ38)","v":586715.65784579609},{"$f":"SUM(PROJ2!BF8:BQ38)","v":1263826.4557610827},{"$f":"SUM(PROJ3!BF8:BQ38)","v":1143046.4557610827},{"$f":"SUM(PROJ4!BF8:BQ38)","v":1143046.4557610827},{"$f":"SUM(PROJ5!BF8:BQ38)","v":1143046.4557610827}]
[null,null,null,null,null,null,null,null,null,null,null,null,null,null,"Costos fijos",{"$f":"INFORMES_FIN!G9","v":399000},{"$f":"INFORMES_FIN!H9","v":798000},{"$f":"INFORMES_FIN!I9","v":798000},{"$f":"INFORMES_FIN!J9","v":798000},{"$f":"INFORMES_FIN!K9","v":465500}]
[null,null,null,null,null,null,null,null,null,null,null,null,null,null,"resultado",{"$f":"P9-P10","v":187715.65784579609},{"$f":"Q9-Q10","v":465826.4557610827},345046.4557610827,345046.4557610827,677546.4557610827]

{"sheet":"DASHBOARD_PROJ","index":30,"n_rows":43,"n_cols":79,"rows_kept":43,"cut":false,"hidden":false,"merged":[[10,51,10,53],[10,54,10,56],[10,57,10,59],[10,60,10,62],[10,63,10,65],[8,2,8,3],[5,2,5,3],[5,5,5,6],[5,8,5,9],[5,11,5,12],[6,2,6,3],[6,5,6,6],[6,8,6,9],[6,11,6,12],[8,5,8,6],[10,21,10,23],[10,24,10,26],[10,27,10,29],[10,30,10,32],[10,33,10,35]]}
[]
[]
[]
[null,null,null,null,null,null,null,null,null,null,null,null,null,null,null,null,1,"1 año",null,"Vínculo de la CAJA",null,{"$f":"VLOOKUP(Aux!A1,$Q$4:$R$8,2,FALSE)","v":"2 años"}]
[null,null,null,null,null,null,null,null,null,null,null,null,null,null,null,null,2,"2 años"]
[null,null,"Ingreso Bruto",null,null,"Gastos Totales",null,null,"Ingresos Libre",null,null,"Rentabilidad",null,null,null,null,3,"3 años"]
[null,null,{"$f":"R11","v":4881886.0707691219},null,null,{"$f":"R12","v":4456259.6150080394},null,null,{"$f":"R13","v":423826.45576108247},null,null,{"$f":"R14","v":8.6816129999180883E-2},null,null,null,null,4,"4 años"]
[null,null,null,null,null,null,null,null,null,null,null,null,null,null,null,null,5,"5 años"]
[null,null,"Comparación entre EBITDA y Lucro Libre ",null,null,"Análisis de los Costos Fijos x Costos Variables x Impuestos",null,null,"Ingresos libre con el pasar de los años"]
[null,null,null,null,null,null,null,null,null,null,null,null,null,null,null,null,"análisis"]
[null,null,null,null,null,null,null,null,null,null,null,null,null,null,null,null,"Receta bruta",{"$f":"HLOOKUP($V$4,INFORMES_FIN!$G$4:$L$15,2,FALSE)","v":4881886.0707691219},null,null,"Clasificación de ingresos","1 año",null,null,"2 años",null,null,"3 años",null,null,"4 años",null,null,"5 años",null,null,"desempate",null,"años indirectos","más","CONSULV",null,"Ingresos - Año","Valor - Año",null,null,null,null,null,null,"Clasificación de inversión","1 año",null,null,"2 años",null,null,"3 años",null,null,"4 años",null,null,"5 años",null,null,"desempate",null,"indirecto","más","CONSULV",null,"la clasificación",null,null,null,"Gastos gráfico x x Costos Impuestos",{"$f":"V4","v":"2 años"},"Número de línea"]
[null,null,null,null,null,null,null,null,null,null,null,null,null,null,null,null,"Los gastos totales",{"$f":"HLOOKUP($V$4,INFORMES_FIN!$O$4:$S$7,3,FALSE)","v":4456259.6150080394},null,null,{"$f":"PROJ1!C8","v":"Café Anibalito "},{"$f":"FINANZAS_RESUMEN!F8+$AK12","v":1185569.3232682431},{"$f":"U12","v":"Café Anibalito "},{"$f":"V12","v":1185569.3232682431},{"$f":"FINANZAS_RESUMEN!G8+$AK12","v":2332894.4748180592},{"$f":"W12","v":"Café Anibalito "},{"$f":"Y12","v":2332894.4748180592},{"$f":"FINANZAS_RESUMEN!H8+$AK12","v":2332894.4748180592},{"$f":"Z12","v":"Café Anibalito "},{"$f":"AB12","v":2332894.4748180592},{"$f":"FINANZAS_RESUMEN!I8+$AK12","v":2332894.4748180592},{"$f":"AC12","v":"Café Anibalito "},{"$f":"AE12","v":2332894.4748180592},{"$f":"FINANZAS_RESUMEN!J8+$AK12","v":2332894.4748180592},{"$f":"AF12","v":"Café Anibalito "},{"$f":"AH12","v":2332894.4748180592},9.9999999999999995E-8,null,"1 año","Ano_1","Ano_11",1,{"$f":"IFERROR(VLOOKUP(LARGE(INDIRECT(VLOOKUP($V$4,$AM$12:$AO$16,3,FALSE)),AP12),INDIRECT(VLOOKUP($V$4,$AM$12:$AN$16,2,FALSE)),2,FALSE),\"\")","v":"Café Anibalito "},{"$f":"IF(AQ12=\"\",\"\",IFERROR(VLOOKUP(LARGE(INDIRECT(VLOOKUP($V$4,$AM$12:$AO$16,3,FALSE)),AP12),INDIRECT(VLOOKUP($V$4,$AM$12:$AN$16,2,FALSE)),3,FALSE),\"\"))","v":2332894.4748180592},null,10,{"$f":"VLOOKUP(AT12,$AP$12:$AR$21,2,FALSE)","v":7},{"$f":"VLOOKUP(AT12,$AP$12:$AR$21,3,FALSE)","v":9.9999999999999995E-8},null,null,{"$f":"IF(FINANZAS_OI!C7=\"\",\"\",FINANZAS_OI!C7)","v":"Coffe Shop "},{"$f":"FINANZAS_OI!E7+$BO12","v":900000.00000999996},{"$f":"$AY12","v":"Coffe Shop "},{"$f":"AZ12","v":900000.00000999996},{"$f":"FINANZAS_OI!F7+$BO12","v":20000.00001},{"$f":"$AY12","v":"Coffe Shop "},{"$f":"BC12","v":20000.00001},{"$f":"FINANZAS_OI!G7+$BO12","v":1.0000000000000001E-5},{"$f":"$AY12","v":"Coffe Shop "},{"$f":"BF12","v":1.0000000000000001E-5},{"$f":"FINANZAS_OI!H7+$BO12","v":1.0000000000000001E-5},{"$f":"$AY12","v":"Coffe Shop "},{"$f":"BI12","v":1.0000000000000001E-5},{"$f":"FINANZAS_OI!I7+$BO12","v":1.0000000000000001E-5},{"$f":"$AY12","v":"Coffe Shop "},{"$f":"BL12","v":1.0000000000000001E-5},1.0000000000000001E-5,null,"1 año","i_ano_1","i_ano_11",null,1,{"$f":"IFERROR(VLOOKUP(LARGE(INDIRECT(VLOOKUP($V$4,$BQ$12:$BS$16,2,FALSE)),$BU12),INDIRECT(VLOOKUP($V$4,$BQ$12:$BS$16,3,FALSE)),2,FALSE),\"\")","v":"Coffe Shop "},{"$f":"IF(BV12=\"\",\"\",IFERROR(VLOOKUP(LARGE(INDIRECT(VLOOKUP($V$4,$BQ$12:$BS$16,2,FALSE)),$BU12),INDIRECT(VLOOKUP($V$4,$BQ$12:$BS$16,3,FALSE)),3,FALSE),\"\"))","v":20000.00001},null,"Costos fijos",{"$f":"IFERROR(HLOOKUP($BZ$11,INFORMES_FIN!$G$4:$L$15,DASHBOARD_PROJ!CA12,FALSE),\"\")+BZ15","v":820000},6]
[null,null,null,null,null,null,null,null,null,null,null,null,null,null,null,null,"ingreso libre",{"$f":"HLOOKUP($V$4,INFORMES_FIN!$O$4:$S$7,4,FALSE)","v":423826.45576108247},null,null,{"$f":"PROJ1!C9","v":"café en sobre"},{"$f":"FINANZAS_RESUMEN!F9+$AK13","v":65853.658536685369},{"$f":"U13","v":"café en sobre"},{"$f":"V13","v":65853.658536685369},{"$f":"FINANZAS_RESUMEN!G9+$AK13","v":131707.31707327074},"café en sobre",{"$f":"Y13","v":131707.31707327074},{"$f":"FINANZAS_RESUMEN!H9+$AK13","v":131707.31707327074},"café en sobre",{"$f":"AB13","v":131707.31707327074},{"$f":"FINANZAS_RESUMEN!I9+$AK13","v":131707.31707327074},"café en sobre",{"$f":"AE13","v":131707.31707327074},{"$f":"FINANZAS_RESUMEN!J9+$AK13","v":131707.31707327074},"café en sobre",{"$f":"AH13","v":131707.31707327074},9.9999999999999995E-8,null,"2 años","Ano_2","Ano_22",2,1,867214.63943909621,null,{"$f":"AT12-1","v":9},7,9.9999999999999995E-8,null,null,{"$f":"IF(FINANZAS_OI!C8=\"\",\"\",FINANZAS_OI!C8)","v":""},{"$f":"FINANZAS_OI!E8+$BO13","v":2.0000000000000002E-5},{"$f":"$AY13","v":""},{"$f":"AZ13","v":2.0000000000000002E-5},{"$f":"FINANZAS_OI!F8+$BO13","v":2.0000000000000002E-5},{"$f":"$AY13","v":""},{"$f":"BC13","v":2.0000000000000002E-5},{"$f":"FINANZAS_OI!G8+$BO13","v":2.0000000000000002E-5},{"$f":"$AY13","v":""},{"$f":"BF13","v":2.0000000000000002E-5},{"$f":"FINANZAS_OI!H8+$BO13","v":2.0000000000000002E-5},{"$f":"$AY13","v":""},{"$f":"BI13","v":2.0000000000000002E-5},{"$f":"FINANZAS_OI!I8+$BO13","v":2.0000000000000002E-5},{"$f":"$AY13","v":""},{"$f":"BL13","v":2.0000000000000002E-5},{"$f":"BO12+$BO$12","v":2.0000000000000002E-5},null,"2 años","i_ano_2","i_ano_22",null,2,"","",null,"Los costos variables",{"$f":"IFERROR(HLOOKUP($BZ$11,INFORMES_FIN!$G$4:$L$15,DASHBOARD_PROJ!CA13,FALSE),\"\")","v":3174431.2924676361},3]
[null,null,null,null,null,null,null,null,null,null,null,null,null,null,null,null,"rentabilidad",{"$f":"HLOOKUP($V$4,INFORMES_FIN!$G$4:$L$17,13,FALSE)","v":8.6816129999180883E-2},null,null,{"$f":"PROJ1!C10","v":1},{"$f":"FINANZAS_RESUMEN!F10+$AK14","v":440715.63643631118},1,440715.63643631118,{"$f":"FINANZAS_RESUMEN!G10+$AK14","v":867214.63943909621},1,867214.63943909621,{"$f":"FINANZAS_RESUMEN!H10+$AK14","v":867214.63943909621},1,867214.63943909621,{"$f":"FINANZAS_RESUMEN!I10+$AK14","v":867214.63943909621},1,867214.63943909621,{"$f":"FINANZAS_RESUMEN!J10+$AK14","v":867214.63943909621},1,867214.63943909621,9.9999999999999995E-8,null,"3 años","Ano_3","Ano_33",3,1,867214.63943909621,null,{"$f":"AT13-1","v":8},2,92700.000000100001,null,null,{"$f":"IF(FINANZAS_OI!C9=\"\",\"\",FINANZAS_OI!C9)","v":""},{"$f":"FINANZAS_OI!E9+$BO14","v":3.0000000000000004E-5},"",3.0000000000000004E-5,{"$f":"FINANZAS_OI!F9+$BO14","v":3.0000000000000004E-5},"",3.0000000000000004E-5,{"$f":"FINANZAS_OI!G9+$BO14","v":3.0000000000000004E-5},"",3.0000000000000004E-5,{"$f":"FINANZAS_OI!H9+$BO14","v":3.0000000000000004E-5},"",3.0000000000000004E-5,{"$f":"FINANZAS_OI!I9+$BO14","v":3.0000000000000004E-5},"",3.0000000000000004E-5,{"$f":"BO13+$BO$12","v":3.0000000000000004E-5},null,"3 años","i_ano_3","i_ano_33",null,3,"","",null,"impuestos",{"$f":"IFERROR(HLOOKUP($BZ$11,INFORMES_FIN!$G$4:$L$15,DASHBOARD_PROJ!CA14,FALSE),\"\")","v":443628.32254040323},4]
[null,null,null,null,null,null,null,null,null,null,null,null,null,null,null,null,null,null,null,null,{"$f":"PROJ1!C11","v":2},{"$f":"FINANZAS_RESUMEN!F11+$AK15","v":46350.000000100001},2,46350.000000100001,{"$f":"FINANZAS_RESUMEN!G11+$AK15","v":92700.000000100001},2,92700.000000100001,{"$f":"FINANZAS_RESUMEN!H11+$AK15","v":92700.000000100001},2,92700.000000100001,{"$f":"FINANZAS_RESUMEN!I11+$AK15","v":92700.000000100001},2,92700.000000100001,{"$f":"FINANZAS_RESUMEN!J11+$AK15","v":92700.000000100001},2,92700.000000100001,9.9999999999999995E-8,null,"4 años","Ano_4","Ano_44",4,6,322080.0000001,null,7,2,92700.000000100001,null,null,{"$f":"IF(FINANZAS_OI!C10=\"\",\"\",FINANZAS_OI!C10)","v":""},{"$f":"FINANZAS_OI!E10+$BO15","v":4.0000000000000003E-5},"",4.0000000000000003E-5,{"$f":"FINANZAS_OI!F10+$BO15","v":4.0000000000000003E-5},"",4.0000000000000003E-5,{"$f":"FINANZAS_OI!G10+$BO15","v":4.0000000000000003E-5},"",4.0000000000000003E-5,{"$f":"FINANZAS_OI!H10+$BO15","v":4.0000000000000003E-5},"",4.0000000000000003E-5,{"$f":"FINANZAS_OI!I10+$BO15","v":4.0000000000000003E-5},"",4.0000000000000003E-5,4.0000000000000003E-5,null,"4 años","i_ano_4","i_ano_44",null,4,"","",null,"Mkt el gasto",{"$f":"IFERROR(HLOOKUP($BZ$11,INFORMES_FIN!$G$4:$L$15,DASHBOARD_PROJ!CA15,FALSE),\"\")","v":22000},7]
[null,null,null,null,null,null,null,null,null,null,null,null,null,null,null,null,null,null,null,null,{"$f":"PROJ1!C12","v":3},{"$f":"FINANZAS_RESUMEN!F12+$AK16","v":440715.63643631118},3,440715.63643631118,{"$f":"FINANZAS_RESUMEN!G12+$AK16","v":867214.63943909621},3,867214.63943909621,{"$f":"FINANZAS_RESUMEN!H12+$AK16","v":867214.63943909621},3,867214.63943909621,{"$f":"FINANZAS_RESUMEN!I12+$AK16","v":867214.63943909621},3,867214.63943909621,{"$f":"FINANZAS_RESUMEN!J12+$AK16","v":867214.63943909621},3,867214.63943909621,9.9999999999999995E-8,null,"5 años","Ano_5","Ano_55",5,5,175375.00000009997,null,6,"café en sobre",131707.31707327074,null,null,{"$f":"IF(FINANZAS_OI!C11=\"\",\"\",FINANZAS_OI!C11)","v":""},{"$f":"FINANZAS_OI!E11+$BO16","v":5.0000000000000002E-5},"",5.0000000000000002E-5,{"$f":"FINANZAS_OI!F11+$BO16","v":5.0000000000000002E-5},"",5.0000000000000002E-5,{"$f":"FINANZAS_OI!G11+$BO16","v":5.0000000000000002E-5},"",5.0000000000000002E-5,{"$f":"FINANZAS_OI!H11+$BO16","v":5.0000000000000002E-5},"",5.0000000000000002E-5,{"$f":"FINANZAS_OI!I11+$BO16","v":5.0000000000000002E-5},"",5.0000000000000002E-5,5.0000000000000002E-5,null,"5 años","i_ano_5","i_ano_55",null,5,"","",null,"EBITDA",{"$f":"IFERROR(HLOOKUP($BZ$11,INFORMES_FIN!$G$4:$L$15,DASHBOARD_PROJ!CA16,FALSE),\"\")","v":867454.77830148581},12]
[null,null,null,null,null,null,null,null,null,null,null,null,null,null,null,null,null,null,null,null,{"$f":"PROJ1!C13","v":4},{"$f":"FINANZAS_RESUMEN!F13+$AK17","v":46350.000000100001},4,46350.000000100001,{"$f":"FINANZAS_RESUMEN!G13+$AK17","v":92700.000000100001},4,92700.000000100001,{"$f":"FINANZAS_RESUMEN!H13+$AK17","v":92700.000000100001},4,92700.000000100001,{"$f":"FINANZAS_RESUMEN!I13+$AK17","v":92700.000000100001},4,92700.000000100001,{"$f":"FINANZAS_RESUMEN!J13+$AK17","v":92700.000000100001},4,92700.000000100001,9.9999999999999995E-8,null,null,null,null,6,"café en sobre",131707.31707327074,null,5,5,175375.00000009997,null,null,{"$f":"IF(FINANZAS_OI!C12=\"\",\"\",FINANZAS_OI!C12)","v":""},{"$f":"FINANZAS_OI!E12+$BO17","v":6.0000000000000002E-5},"",6.0000000000000002E-5,{"$f":"FINANZAS_OI!F12+$BO17","v":6.0000000000000002E-5},"",6.0000000000000002E-5,{"$f":"FINANZAS_OI!G12+$BO17","v":6.0000000000000002E-5},"",6.0000000000000002E-5,{"$f":"FINANZAS_OI!H12+$BO17","v":6.0000000000000002E-5},"",6.0000000000000002E-5,{"$f":"FINANZAS_OI!I12+$BO17","v":6.0000000000000002E-5},"",6.0000000000000002E-5,6.0000000000000002E-5,null,null,null,null,null,6,"","",null,"ingreso libre",{"$f":"IFERROR(HLOOKUP($BZ$11,INFORMES_FIN!$G$4:$L$15,DASHBOARD_PROJ!CA17,FALSE),\"\")","v":423826.45576108247},11]
[null,null,null,null,null,null,null,null,null,null,null,null,null,null,null,null,null,null,null,null,{"$f":"PROJ1!C14","v":5},{"$f":"FINANZAS_RESUMEN!F14+$AK18","v":51750.000000099993},5,51750.000000099993,{"$f":"FINANZAS_RESUMEN!G14+$AK18","v":175375.00000009997},5,175375.00000009997,{"$f":"FINANZAS_RESUMEN!H14+$AK18","v":175375.00000009997},5,175375.00000009997,{"$f":"FINANZAS_RESUMEN!I14+$AK18","v":175375.00000009997},5,175375.00000009997,{"$f":"FINANZAS_RESUMEN!J14+$AK18","v":175375.00000009997},5,175375.00000009997,9.9999999999999995E-8,null,"OFFSET - Gráfico",null,null,7,2,92700.000000100001,null,4,6,322080.0000001,null,null,{"$f":"IF(FINANZAS_OI!C13=\"\",\"\",FINANZAS_OI!C13)","v":""},{"$f":"FINANZAS_OI!E13+$BO18","v":7.0000000000000007E-5},"",7.0000000000000007E-5,{"$f":"FINANZAS_OI!F13+$BO18","v":7.0000000000000007E-5},"",7.0000000000000007E-5,{"$f":"FINANZAS_OI!G13+$BO18","v":7.0000000000000007E-5},"",7.0000000000000007E-5,{"$f":"FINANZAS_OI!H13+$BO18","v":7.0000000000000007E-5},"",7.0000000000000007E-5,{"$f":"FINANZAS_OI!I13+$BO18","v":7.0000000000000007E-5},"",7.0000000000000007E-5,7.0000000000000007E-5,null,null,"Árboles, OFFSET",null,null,7,"",""]
[null,null,null,null,null,null,null,null,null,null,null,null,null,null,null,null,null,null,null,null,{"$f":"PROJ1!C15","v":6},{"$f":"FINANZAS_RESUMEN!F15+$AK19","v":29040.000000100004},6,29040.000000100004,{"$f":"FINANZAS_RESUMEN!G15+$AK19","v":322080.0000001},6,322080.0000001,{"$f":"FINANZAS_RESUMEN!H15+$AK19","v":9.9999999999999995E-8},6,9.9999999999999995E-8,{"$f":"FINANZAS_RESUMEN!I15+$AK19","v":9.9999999999999995E-8},6,9.9999999999999995E-8,{"$f":"FINANZAS_RESUMEN!J15+$AK19","v":9.9999999999999995E-8},6,9.9999999999999995E-8,9.9999999999999995E-8,null,{"$f":"OFFSET($AQ$12,0,0,COUNTA($AQ$12:$AQ$21)-COUNTBLANK($AQ$12:$AQ$21))","v":2},null,null,8,2,92700.000000100001,null,3,1,867214.63943909621,null,null,{"$f":"IF(FINANZAS_OI!C14=\"\",\"\",FINANZAS_OI!C14)","v":""},{"$f":"FINANZAS_OI!E14+$BO19","v":8.0000000000000007E-5},"",8.0000000000000007E-5,{"$f":"FINANZAS_OI!F14+$BO19","v":8.0000000000000007E-5},"",8.0000000000000007E-5,{"$f":"FINANZAS_OI!G14+$BO19","v":8.0000000000000007E-5},"",8.0000000000000007E-5,{"$f":"FINANZAS_OI!H14+$BO19","v":8.0000000000000007E-5},"",8.0000000000000007E-5,{"$f":"FINANZAS_OI!I14+$BO19","v":8.0000000000000007E-5},"",8.0000000000000007E-5,8.0000000000000007E-5,null,null,null,null,null,8,"",""]
[null,null,null,null,null,null,null,null,null,null,null,null,null,null,null,null,null,null,null,null,{"$f":"PROJ1!C16","v":7},{"$f":"FINANZAS_RESUMEN!F16+$AK20","v":9.9999999999999995E-8},7,9.9999999999999995E-8,{"$f":"FINANZAS_RESUMEN!G16+$AK20","v":9.9999999999999995E-8},7,9.9999999999999995E-8,{"$f":"FINANZAS_RESUMEN!H16+$AK20","v":9.9999999999999995E-8},7,9.9999999999999995E-8,{"$f":"FINANZAS_RESUMEN!I16+$AK20","v":9.9999999999999995E-8},7,9.9999999999999995E-8,{"$f":"FINANZAS_RESUMEN!J16+$AK20","v":9.9999999999999995E-8},7,9.9999999999999995E-8,9.9999999999999995E-8,null,{"$f":"OFFSET($AR$12,0,0,COUNTA($AR$12:$AR$21)-COUNTBLANK($AR$12:$AR$21))","v":9.9999999999999995E-8},null,null,9,7,9.9999999999999995E-8,null,2,1,867214.63943909621,null,null,{"$f":"IF(FINANZAS_OI!C15=\"\",\"\",FINANZAS_OI!C15)","v":""},{"$f":"FINANZAS_OI!E15+$BO20","v":9.0000000000000006E-5},"",9.0000000000000006E-5,{"$f":"FINANZAS_OI!F15+$BO20","v":9.0000000000000006E-5},"",9.0000000000000006E-5,{"$f":"FINANZAS_OI!G15+$BO20","v":9.0000000000000006E-5},"",9.0000000000000006E-5,{"$f":"FINANZAS_OI!H15+$BO20","v":9.0000000000000006E-5},"",9.0000000000000006E-5,{"$f":"FINANZAS_OI!I15+$BO20","v":9.0000000000000006E-5},"",9.0000000000000006E-5,9.0000000000000006E-5,null,null,null,null,null,9,"",""]
[null,null,null,null,null,null,null,null,null,null,null,null,null,null,null,null,null,null,null,null,{"$f":"PROJ1!C17","v":8},{"$f":"FINANZAS_RESUMEN!F17+$AK21","v":9.9999999999999995E-8},8,9.9999999999999995E-8,{"$f":"FINANZAS_RESUMEN!G17+$AK21","v":9.9999999999999995E-8},8,9.9999999999999995E-8,{"$f":"FINANZAS_RESUMEN!H17+$AK21","v":9.9999999999999995E-8},8,9.9999999999999995E-8,{"$f":"FINANZAS_RESUMEN!I17+$AK21","v":42000.000000100001},8,42000.000000100001,{"$f":"FINANZAS_RESUMEN!J17+$AK21","v":9.9999999999999995E-8},8,9.9999999999999995E-8,9.9999999999999995E-8,null,{"$f":"OFFSET($AR$12,0,0,COUNTA($AQ$12:$AQ$21)-COUNTBLANK($AQ$12:$AQ$21))","v":9.9999999999999995E-8},null,null,10,7,9.9999999999999995E-8,null,1,"Café Anibalito ",2332894.4748180592,null,null,{"$f":"IF(FINANZAS_OI!C16=\"\",\"\",FINANZAS_OI!C16)","v":""},{"$f":"FINANZAS_OI!E16+$BO21","v":1E-4},"",1E-4,{"$f":"FINANZAS_OI!F16+$BO21","v":1E-4},"",1E-4,{"$f":"FINANZAS_OI!G16+$BO21","v":1E-4},"",1E-4,{"$f":"FINANZAS_OI!H16+$BO21","v":1E-4},"",1E-4,{"$f":"FINANZAS_OI!I16+$BO21","v":1E-4},"",1E-4,1E-4,null,null,null,null,null,10,"",""]
[null,null,null,null,null,null,null,null,null,null,null,null,null,null,null,null,null,null,null,null,{"$f":"PROJ1!C18","v":""},{"$f":"FINANZAS_RESUMEN!F18+$AK22","v":9.9999999999999995E-8},"",9.9999999999999995E-8,{"$f":"FINANZAS_RESUMEN!G18+$AK22","v":9.9999999999999995E-8},"",9.9999999999999995E-8,{"$f":"FINANZAS_RESUMEN!H18+$AK22","v":9.9999999999999995E-8},"",9.9999999999999995E-8,{"$f":"FINANZAS_RESUMEN!I18+$AK22","v":9.9999999999999995E-8},"",9.9999999999999995E-8,{"$f":"FINANZAS_RESUMEN!J18+$AK22","v":9.9999999999999995E-8},"",9.9999999999999995E-8,9.9999999999999995E-8,null,null,null,null,null,null,null,null,null,null,null,null,null,{"$f":"IF(FINANZAS_OI!C17=\"\",\"\",FINANZAS_OI!C17)","v":""},{"$f":"FINANZAS_OI!E17+$BO22","v":1.1E-4},"",1.1E-4,{"$f":"FINANZAS_OI!F17+$BO22","v":1.1E-4},"",1.1E-4,{"$f":"FINANZAS_OI!G17+$BO22","v":1.1E-4},"",1.1E-4,{"$f":"FINANZAS_OI!H17+$BO22","v":1.1E-4},"",1.1E-4,{"$f":"FINANZAS_OI!I17+$BO22","v":1.1E-4},"",1.1E-4,1.1E-4]
[null,null,null,null,null,null,null,null,null,null,null,null,null,null,null,null,null,null,null,null,{"$f":"PROJ1!C19","v":""},{"$f":"FINANZAS_RESUMEN!F19+$AK23","v":9.9999999999999995E-8},"",9.9999999999999995E-8,{"$f":"FINANZAS_RESUMEN!G19+$AK23","v":9.9999999999999995E-8},"",9.9999999999999995E-8,{"$f":"FINANZAS_RESUMEN!H19+$AK23","v":9.9999999999999995E-8},"",9.9999999999999995E-8,{"$f":"FINANZAS_RESUMEN!I19+$AK23","v":9.9999999999999995E-8},"",9.9999999999999995E-8,{"$f":"FINANZAS_RESUMEN!J19+$AK23","v":9.9999999999999995E-8},"",9.9999999999999995E-8,9.9999999999999995E-8,null,null,null,null,null,null,null,null,null,null,null,null,null,{"$f":"IF(FINANZAS_OI!C18=\"\",\"\",FINANZAS_OI!C18)","v":""},{"$f":"FINANZAS_OI!E18+$BO23","v":1.2E-4},"",1.2E-4,{"$f":"FINANZAS_OI!F18+$BO23","v":1.2E-4},"",1.2E-4,{"$f":"FINANZAS_OI!G18+$BO23","v":1.2E-4},"",1.2E-4,{"$f":"FINANZAS_OI!H18+$BO23","v":1.2E-4},"",1.2E-4,{"$f":"FINANZAS_OI!I18+$BO23","v":1.2E-4},"",1.2E-4,1.2E-4]
[null,null,null,null,null,null,null,null,null,null,null,null,null,null,null,null,null,null,null,null,{"$f":"PROJ1!C20","v":""},{"$f":"FINANZAS_RESUMEN!F20+$AK24","v":9.9999999999999995E-8},"",9.9999999999999995E-8,{"$f":"FINANZAS_RESUMEN!G20+$AK24","v":9.9999999999999995E-8},"",9.9999999999999995E-8,{"$f":"FINANZAS_RESUMEN!H20+$AK24","v":9.9999999999999995E-8},"",9.9999999999999995E-8,{"$f":"FINANZAS_RESUMEN!I20+$AK24","v":9.9999999999999995E-8},"",9.9999999999999995E-8,{"$f":"FINANZAS_RESUMEN!J20+$AK24","v":9.9999999999999995E-8},"",9.9999999999999995E-8,9.9999999999999995E-8,null,null,null,null,null,null,null,null,null,null,null,null,null,{"$f":"IF(FINANZAS_OI!C19=\"\",\"\",FINANZAS_OI!C19)","v":""},{"$f":"FINANZAS_OI!E19+$BO24","v":1.3000000000000002E-4},"",1.3000000000000002E-4,{"$f":"FINANZAS_OI!F19+$BO24","v":1.3000000000000002E-4},"",1.3000000000000002E-4,{"$f":"FINANZAS_OI!G19+$BO24","v":1.3000000000000002E-4},"",1.3000000000000002E-4,{"$f":"FINANZAS_OI!H19+$BO24","v":1.3000000000000002E-4},"",1.3000000000000002E-4,{"$f":"FINANZAS_OI!I19+$BO24","v":1.3000000000000002E-4},"",1.3000000000000002E-4,1.3000000000000002E-4]
[null,null,null,null,null,null,null,null,null,null,null,null,null,null,null,null,null,null,null,null,{"$f":"PROJ1!C21","v":""},{"$f":"FINANZAS_RESUMEN!F21+$AK25","v":9.9999999999999995E-8},"",9.9999999999999995E-8,{"$f":"FINANZAS_RESUMEN!G21+$AK25","v":9.9999999999999995E-8},"",9.9999999999999995E-8,{"$f":"FINANZAS_RESUMEN!H21+$AK25","v":9.9999999999999995E-8},"",9.9999999999999995E-8,{"$f":"FINANZAS_RESUMEN!I21+$AK25","v":9.9999999999999995E-8},"",9.9999999999999995E-8,{"$f":"FINANZAS_RESUMEN!J21+$AK25","v":9.9999999999999995E-8},"",9.9999999999999995E-8,9.9999999999999995E-8,null,null,null,null,null,null,null,null,null,null,null,null,null,{"$f":"IF(FINANZAS_OI!C20=\"\",\"\",FINANZAS_OI!C20)","v":""},{"$f":"FINANZAS_OI!E20+$BO25","v":1.4000000000000001E-4},"",1.4000000000000001E-4,{"$f":"FINANZAS_OI!F20+$BO25","v":1.4000000000000001E-4},"",1.4000000000000001E-4,{"$f":"FINANZAS_OI!G20+$BO25","v":1.4000000000000001E-4},"",1.4000000000000001E-4,{"$f":"FINANZAS_OI!H20+$BO25","v":1.4000000000000001E-4},"",1.4000000000000001E-4,{"$f":"FINANZAS_OI!I20+$BO25","v":1.4000000000000001E-4},"",1.4000000000000001E-4,1.4000000000000001E-4]
[null,null,null,null,null,null,null,null,null,null,null,null,null,null,null,null,null,null,null,null,{"$f":"PROJ1!C22","v":""},{"$f":"FINANZAS_RESUMEN!F22+$AK26","v":9.9999999999999995E-8},"",9.9999999999999995E-8,{"$f":"FINANZAS_RESUMEN!G22+$AK26","v":9.9999999999999995E-8},"",9.9999999999999995E-8,{"$f":"FINANZAS_RESUMEN!H22+$AK26","v":9.9999999999999995E-8},"",9.9999999999999995E-8,{"$f":"FINANZAS_RESUMEN!I22+$AK26","v":9.9999999999999995E-8},"",9.9999999999999995E-8,{"$f":"FINANZAS_RESUMEN!J22+$AK26","v":9.9999999999999995E-8},"",9.9999999999999995E-8,9.9999999999999995E-8,null,null,null,null,null,null,null,null,null,null,null,null,null,{"$f":"IF(FINANZAS_OI!C21=\"\",\"\",FINANZAS_OI!C21)","v":""},{"$f":"FINANZAS_OI!E21+$BO26","v":1.5000000000000001E-4},"",1.5000000000000001E-4,{"$f":"FINANZAS_OI!F21+$BO26","v":1.5000000000000001E-4},"",1.5000000000000001E-4,{"$f":"FINANZAS_OI!G21+$BO26","v":1.5000000000000001E-4},"",1.5000000000000001E-4,{"$f":"FINANZAS_OI!H21+$BO26","v":1.5000000000000001E-4},"",1.5000000000000001E-4,{"$f":"FINANZAS_OI!I21+$BO26","v":1.5000000000000001E-4},"",1.5000000000000001E-4,1.5000000000000001E-4]
[null,null,null,null,null,null,null,null,null,null,null,null,null,null,null,null,null,null,null,null,{"$f":"PROJ1!C23","v":""},{"$f":"FINANZAS_RESUMEN!F23+$AK27","v":9.9999999999999995E-8},"",9.9999999999999995E-8,{"$f":"FINANZAS_RESUMEN!G23+$AK27","v":9.9999999999999995E-8},"",9.9999999999999995E-8,{"$f":"FINANZAS_RESUMEN!H23+$AK27","v":9.9999999999999995E-8},"",9.9999999999999995E-8,{"$f":"FINANZAS_RESUMEN!I23+$AK27","v":9.9999999999999995E-8},"",9.9999999999999995E-8,{"$f":"FINANZAS_RESUMEN!J23+$AK27","v":9.9999999999999995E-8},"",9.9999999999999995E-8,9.9999999999999995E-8,null,null,null,null,null,null,null,null,null,null,null,null,null,{"$f":"IF(FINANZAS_OI!C22=\"\",\"\",FINANZAS_OI!C22)","v":""},{"$f":"FINANZAS_OI!E22+$BO27","v":1.6000000000000001E-4},"",1.6000000000000001E-4,{"$f":"FINANZAS_OI!F22+$BO27","v":1.6000000000000001E-4},"",1.6000000000000001E-4,{"$f":"FINANZAS_OI!G22+$BO27","v":1.6000000000000001E-4},"",1.6000000000000001E-4,{"$f":"FINANZAS_OI!H22+$BO27","v":1.6000000000000001E-4},"",1.6000000000000001E-4,{"$f":"FINANZAS_OI!I22+$BO27","v":1.6000000000000001E-4},"",1.6000000000000001E-4,1.6000000000000001E-4]
[null,null,null,null,null,null,null,null,null,null,null,null,null,null,null,null,null,null,null,null,{"$f":"PROJ1!C24","v":""},{"$f":"FINANZAS_RESUMEN!F24+$AK28","v":9.9999999999999995E-8},"",9.9999999999999995E-8,{"$f":"FINANZAS_RESUMEN!G24+$AK28","v":9.9999999999999995E-8},"",9.9999999999999995E-8,{"$f":"FINANZAS_RESUMEN!H24+$AK28","v":9.9999999999999995E-8},"",9.9999999999999995E-8,{"$f":"FINANZAS_RESUMEN!I24+$AK28","v":9.9999999999999995E-8},"",9.9999999999999995E-8,{"$f":"FINANZAS_RESUMEN!J24+$AK28","v":9.9999999999999995E-8},"",9.9999999999999995E-8,9.9999999999999995E-8,null,null,null,null,null,null,null,null,null,null,null,null,null,{"$f":"IF(FINANZAS_OI!C23=\"\",\"\",FINANZAS_OI!C23)","v":""},{"$f":"FINANZAS_OI!E23+$BO28","v":1.7000000000000001E-4},"",1.7000000000000001E-4,{"$f":"FINANZAS_OI!F23+$BO28","v":1.7000000000000001E-4},"",1.7000000000000001E-4,{"$f":"FINANZAS_OI!G23+$BO28","v":1.7000000000000001E-4},"",1.7000000000000001E-4,{"$f":"FINANZAS_OI!H23+$BO28","v":1.7000000000000001E-4},"",1.7000000000000001E-4,{"$f":"FINANZAS_OI!I23+$BO28","v":1.7000000000000001E-4},"",1.7000000000000001E-4,1.7000000000000001E-4]
[null,null,null,null,null,null,null,null,null,null,null,null,null,null,null,null,null,null,null,null,{"$f":"PROJ1!C25","v":""},{"$f":"FINANZAS_RESUMEN!F25+$AK29","v":9.9999999999999995E-8},"",9.9999999999999995E-8,{"$f":"FINANZAS_RESUMEN!G25+$AK29","v":9.9999999999999995E-8},"",9.9999999999999995E-8,{"$f":"FINANZAS_RESUMEN!H25+$AK29","v":9.9999999999999995E-8},"",9.9999999999999995E-8,{"$f":"FINANZAS_RESUMEN!I25+$AK29","v":9.9999999999999995E-8},"",9.9999999999999995E-8,{"$f":"FINANZAS_RESUMEN!J25+$AK29","v":9.9999999999999995E-8},"",9.9999999999999995E-8,9.9999999999999995E-8,null,null,null,null,null,null,null,null,null,null,null,null,null,{"$f":"IF(FINANZAS_OI!C24=\"\",\"\",FINANZAS_OI!C24)","v":""},{"$f":"FINANZAS_OI!E24+$BO29","v":1.8000000000000001E-4},"",1.8000000000000001E-4,{"$f":"FINANZAS_OI!F24+$BO29","v":1.8000000000000001E-4},"",1.8000000000000001E-4,{"$f":"FINANZAS_OI!G24+$BO29","v":1.8000000000000001E-4},"",1.8000000000000001E-4,{"$f":"FINANZAS_OI!H24+$BO29","v":1.8000000000000001E-4},"",1.8000000000000001E-4,{"$f":"FINANZAS_OI!I24+$BO29","v":1.8000000000000001E-4},"",1.8000000000000001E-4,1.8000000000000001E-4]
[null,null,null,null,null,null,null,null,null,null,null,null,null,null,null,null,null,null,null,null,{"$f":"PROJ1!C26","v":""},{"$f":"FINANZAS_RESUMEN!F26+$AK30","v":9.9999999999999995E-8},"",9.9999999999999995E-8,{"$f":"FINANZAS_RESUMEN!G26+$AK30","v":9.9999999999999995E-8},"",9.9999999999999995E-8,{"$f":"FINANZAS_RESUMEN!H26+$AK30","v":9.9999999999999995E-8},"",9.9999999999999995E-8,{"$f":"FINANZAS_RESUMEN!I26+$AK30","v":9.9999999999999995E-8},"",9.9999999999999995E-8,{"$f":"FINANZAS_RESUMEN!J26+$AK30","v":9.9999999999999995E-8},"",9.9999999999999995E-8,9.9999999999999995E-8,null,null,null,null,null,null,null,null,null,null,null,null,null,{"$f":"IF(FINANZAS_OI!C25=\"\",\"\",FINANZAS_OI!C25)","v":""},{"$f":"FINANZAS_OI!E25+$BO30","v":1.9000000000000001E-4},"",1.9000000000000001E-4,{"$f":"FINANZAS_OI!F25+$BO30","v":1.9000000000000001E-4},"",1.9000000000000001E-4,{"$f":"FINANZAS_OI!G25+$BO30","v":1.9000000000000001E-4},"",1.9000000000000001E-4,{"$f":"FINANZAS_OI!H25+$BO30","v":1.9000000000000001E-4},"",1.9000000000000001E-4,{"$f":"FINANZAS_OI!I25+$BO30","v":1.9000000000000001E-4},"",1.9000000000000001E-4,1.9000000000000001E-4]
[null,null,null,null,null,null,null,null,null,null,null,null,null,null,null,null,null,null,null,null,{"$f":"PROJ1!C27","v":""},{"$f":"FINANZAS_RESUMEN!F27+$AK31","v":9.9999999999999995E-8},"",9.9999999999999995E-8,{"$f":"FINANZAS_RESUMEN!G27+$AK31","v":9.9999999999999995E-8},"",9.9999999999999995E-8,{"$f":"FINANZAS_RESUMEN!H27+$AK31","v":9.9999999999999995E-8},"",9.9999999999999995E-8,{"$f":"FINANZAS_RESUMEN!I27+$AK31","v":9.9999999999999995E-8},"",9.9999999999999995E-8,{"$f":"FINANZAS_RESUMEN!J27+$AK31","v":9.9999999999999995E-8},"",9.9999999999999995E-8,9.9999999999999995E-8,null,null,null,null,null,null,null,null,null,null,null,null,null,{"$f":"IF(FINANZAS_OI!C26=\"\",\"\",FINANZAS_OI!C26)","v":""},{"$f":"FINANZAS_OI!E26+$BO31","v":2.0000000000000001E-4},"",2.0000000000000001E-4,{"$f":"FINANZAS_OI!F26+$BO31","v":2.0000000000000001E-4},"",2.0000000000000001E-4,{"$f":"FINANZAS_OI!G26+$BO31","v":2.0000000000000001E-4},"",2.0000000000000001E-4,{"$f":"FINANZAS_OI!H26+$BO31","v":2.0000000000000001E-4},"",2.0000000000000001E-4,{"$f":"FINANZAS_OI!I26+$BO31","v":2.0000000000000001E-4},"",2.0000000000000001E-4,2.0000000000000001E-4]
[null,null,null,null,null,null,null,null,null,null,null,null,null,null,null,null,null,null,null,null,{"$f":"PROJ1!C28","v":""},{"$f":"FINANZAS_RESUMEN!F28+$AK32","v":9.9999999999999995E-8},"",9.9999999999999995E-8,{"$f":"FINANZAS_RESUMEN!G28+$AK32","v":9.9999999999999995E-8},"",9.9999999999999995E-8,{"$f":"FINANZAS_RESUMEN!H28+$AK32","v":9.9999999999999995E-8},"",9.9999999999999995E-8,{"$f":"FINANZAS_RESUMEN!I28+$AK32","v":9.9999999999999995E-8},"",9.9999999999999995E-8,{"$f":"FINANZAS_RESUMEN!J28+$AK32","v":9.9999999999999995E-8},"",9.9999999999999995E-8,9.9999999999999995E-8,null,null,null,null,null,null,null,null,null,null,null,null,null,"la","la","la","la","la",null,null,"la",null,null,"la",null,null,"la",null,null,"la","la","la"]
[null,null,null,null,null,null,null,null,null,null,null,null,null,null,null,null,null,null,null,null,{"$f":"PROJ1!C29","v":""},{"$f":"FINANZAS_RESUMEN!F29+$AK33","v":9.9999999999999995E-8},"",9.9999999999999995E-8,{"$f":"FINANZAS_RESUMEN!G29+$AK33","v":9.9999999999999995E-8},"",9.9999999999999995E-8,{"$f":"FINANZAS_RESUMEN!H29+$AK33","v":9.9999999999999995E-8},"",9.9999999999999995E-8,{"$f":"FINANZAS_RESUMEN!I29+$AK33","v":9.9999999999999995E-8},"",9.9999999999999995E-8,{"$f":"FINANZAS_RESUMEN!J29+$AK33","v":9.9999999999999995E-8},"",9.9999999999999995E-8,9.9999999999999995E-8]
[null,null,null,null,null,null,null,null,null,null,null,null,null,null,null,null,null,null,null,null,{"$f":"PROJ1!C30","v":""},{"$f":"FINANZAS_RESUMEN!F30+$AK34","v":9.9999999999999995E-8},"",9.9999999999999995E-8,{"$f":"FINANZAS_RESUMEN!G30+$AK34","v":9.9999999999999995E-8},"",9.9999999999999995E-8,{"$f":"FINANZAS_RESUMEN!H30+$AK34","v":9.9999999999999995E-8},"",9.9999999999999995E-8,{"$f":"FINANZAS_RESUMEN!I30+$AK34","v":9.9999999999999995E-8},"",9.9999999999999995E-8,{"$f":"FINANZAS_RESUMEN!J30+$AK34","v":9.9999999999999995E-8},"",9.9999999999999995E-8,9.9999999999999995E-8]
[null,null,null,null,null,null,null,null,null,null,null,null,null,null,null,null,null,null,null,null,{"$f":"PROJ1!C31","v":""},{"$f":"FINANZAS_RESUMEN!F31+$AK35","v":9.9999999999999995E-8},"",9.9999999999999995E-8,{"$f":"FINANZAS_RESUMEN!G31+$AK35","v":9.9999999999999995E-8},"",9.9999999999999995E-8,{"$f":"FINANZAS_RESUMEN!H31+$AK35","v":9.9999999999999995E-8},"",9.9999999999999995E-8,{"$f":"FINANZAS_RESUMEN!I31+$AK35","v":9.9999999999999995E-8},"",9.9999999999999995E-8,{"$f":"FINANZAS_RESUMEN!J31+$AK35","v":9.9999999999999995E-8},"",9.9999999999999995E-8,9.9999999999999995E-8]
[null,null,null,null,null,null,null,null,null,null,null,null,null,null,null,null,null,null,null,null,{"$f":"PROJ1!C32","v":""},{"$f":"FINANZAS_RESUMEN!F32+$AK36","v":9.9999999999999995E-8},"",9.9999999999999995E-8,{"$f":"FINANZAS_RESUMEN!G32+$AK36","v":9.9999999999999995E-8},"",9.9999999999999995E-8,{"$f":"FINANZAS_RESUMEN!H32+$AK36","v":9.9999999999999995E-8},"",9.9999999999999995E-8,{"$f":"FINANZAS_RESUMEN!I32+$AK36","v":9.9999999999999995E-8},"",9.9999999999999995E-8,{"$f":"FINANZAS_RESUMEN!J32+$AK36","v":9.9999999999999995E-8},"",9.9999999999999995E-8,9.9999999999999995E-8]
[null,null,null,null,null,null,null,null,null,null,null,null,null,null,null,null,null,null,null,null,{"$f":"PROJ1!C33","v":""},{"$f":"FINANZAS_RESUMEN!F33+$AK37","v":9.9999999999999995E-8},"",9.9999999999999995E-8,{"$f":"FINANZAS_RESUMEN!G33+$AK37","v":9.9999999999999995E-8},"",9.9999999999999995E-8,{"$f":"FINANZAS_RESUMEN!H33+$AK37","v":9.9999999999999995E-8},"",9.9999999999999995E-8,{"$f":"FINANZAS_RESUMEN!I33+$AK37","v":9.9999999999999995E-8},"",9.9999999999999995E-8,{"$f":"FINANZAS_RESUMEN!J33+$AK37","v":9.9999999999999995E-8},"",9.9999999999999995E-8,9.9999999999999995E-8]
[null,null,null,null,null,null,null,null,null,null,null,null,null,null,null,null,null,null,null,null,{"$f":"PROJ1!C34","v":""},{"$f":"FINANZAS_RESUMEN!F34+$AK38","v":9.9999999999999995E-8},"",9.9999999999999995E-8,{"$f":"FINANZAS_RESUMEN!G34+$AK38","v":9.9999999999999995E-8},"",9.9999999999999995E-8,{"$f":"FINANZAS_RESUMEN!H34+$AK38","v":9.9999999999999995E-8},"",9.9999999999999995E-8,{"$f":"FINANZAS_RESUMEN!I34+$AK38","v":9.9999999999999995E-8},"",9.9999999999999995E-8,{"$f":"FINANZAS_RESUMEN!J34+$AK38","v":9.9999999999999995E-8},"",9.9999999999999995E-8,9.9999999999999995E-8]
[null,null,null,null,null,null,null,null,null,null,null,null,null,null,null,null,null,null,null,null,{"$f":"PROJ1!C35","v":""},{"$f":"FINANZAS_RESUMEN!F35+$AK39","v":9.9999999999999995E-8},"",9.9999999999999995E-8,{"$f":"FINANZAS_RESUMEN!G35+$AK39","v":9.9999999999999995E-8},"",9.9999999999999995E-8,{"$f":"FINANZAS_RESUMEN!H35+$AK39","v":9.9999999999999995E-8},"",9.9999999999999995E-8,{"$f":"FINANZAS_RESUMEN!I35+$AK39","v":9.9999999999999995E-8},"",9.9999999999999995E-8,{"$f":"FINANZAS_RESUMEN!J35+$AK39","v":9.9999999999999995E-8},"",9.9999999999999995E-8,9.9999999999999995E-8]
[null,null,null,null,null,null,null,null,null,null,null,null,null,null,null,null,null,null,null,null,{"$f":"PROJ1!C36","v":""},{"$f":"FINANZAS_RESUMEN!F36+$AK40","v":9.9999999999999995E-8},"",9.9999999999999995E-8,{"$f":"FINANZAS_RESUMEN!G36+$AK40","v":9.9999999999999995E-8},"",9.9999999999999995E-8,{"$f":"FINANZAS_RESUMEN!H36+$AK40","v":9.9999999999999995E-8},"",9.9999999999999995E-8,{"$f":"FINANZAS_RESUMEN!I36+$AK40","v":9.9999999999999995E-8},"",9.9999999999999995E-8,{"$f":"FINANZAS_RESUMEN!J36+$AK40","v":9.9999999999999995E-8},"",9.9999999999999995E-8,9.9999999999999995E-8]
[null,null,null,null,null,null,null,null,null,null,null,null,null,null,null,null,null,null,null,null,{"$f":"PROJ1!C37","v":""},{"$f":"FINANZAS_RESUMEN!F37+$AK41","v":9.9999999999999995E-8},"",9.9999999999999995E-8,{"$f":"FINANZAS_RESUMEN!G37+$AK41","v":9.9999999999999995E-8},"",9.9999999999999995E-8,{"$f":"FINANZAS_RESUMEN!H37+$AK41","v":9.9999999999999995E-8},"",9.9999999999999995E-8,{"$f":"FINANZAS_RESUMEN!I37+$AK41","v":9.9999999999999995E-8},"",9.9999999999999995E-8,{"$f":"FINANZAS_RESUMEN!J37+$AK41","v":9.9999999999999995E-8},"",9.9999999999999995E-8,9.9999999999999995E-8]
[null,null,null,null,null,null,null,null,null,null,null,null,null,null,null,null,null,null,null,null,{"$f":"PROJ1!C38","v":""},{"$f":"FINANZAS_RESUMEN!F38+$AK42","v":9.9999999999999995E-8},"",9.9999999999999995E-8,{"$f":"FINANZAS_RESUMEN!G38+$AK42","v":9.9999999999999995E-8},"",9.9999999999999995E-8,{"$f":"FINANZAS_RESUMEN!H38+$AK42","v":9.9999999999999995E-8},"",9.9999999999999995E-8,{"$f":"FINANZAS_RESUMEN!I38+$AK42","v":9.9999999999999995E-8},"",9.9999999999999995E-8,{"$f":"FINANZAS_RESUMEN!J38+$AK42","v":9.9999999999999995E-8},"",9.9999999999999995E-8,9.9999999999999995E-8]
[null,null,null,null,null,null,null,null,null,null,null,null,null,null,null,null,null,null,null,null,"la","la","la",null,"la","la",null,"la","la",null,"la","la",null,"la","la","la","la","la","la"]

{"sheet":"DASHBOARD_CEN","index":31,"n_rows":50,"n_cols":30,"rows_kept":50,"cut":false,"hidden":false,"merged":[[12,2,19,15],[4,9,4,10],[4,13,4,14],[4,2,4,3],[11,2,11,3],[5,5,9,7],[5,9,9,11],[5,13,9,15],[4,5,4,7]]}
[]
[]
[]
[null,null,null,null,null,null,null,null,null,null,null,null,null,null,null,null,null,"escenario optimista",1,{"$f":"R4","v":"escenario optimista"},null,{"$f":"VLOOKUP(Aux!A2,$S$4:$T$5,2,FALSE)","v":"escenario optimista"},{"$f":"VLOOKUP(V4,$Y$19:$Z$20,2,FALSE)","v":"Cenário_otimista"}]
[null,null,"Establezca las variables para el escenario deseado",null,null,"Valor Actual Neto (VAN)",null,null,null,"Tasa Interna de Retorno (TIR)",null,null,null,"Recuperación de la Inversión",null,null,null,"escenario pesimista",2,{"$f":"R5","v":"escenario pesimista"}]
[null,null,{"$f":"IFERROR(VLOOKUP($V$4,$R$19:$S$20,2,FALSE),\"Seleccione el escenario\")","v":"La previsión de mayores ingresos"},0.01,null,{"$f":"IF(V4=\"escenario optimista\",R46,Y46)","v":777089.46295962762},null,null,null,{"$f":"IF(V4=\"escenario optimista\",R45,Y45)","v":0.92389263302697522},null,null,null,{"$f":"IF(V4=\"escenario optimista\",R41,Y41)","v":"2 años"}]
[]
[null,null,{"$f":"IFERROR(VLOOKUP($V$4,$T$19:$U$20,2,FALSE),\"Seleccione el escenario\")","v":"menor previsión de gasto"},0.05]
[]
[null,null,{"$f":"IFERROR(VLOOKUP($V$4,$V$19:$W$20,2,FALSE),\"Seleccione el escenario\")","v":"previsión de una menor inversión"},0.05]
[]
[null,null,"Análisis del Retorno"]
[]
[]
[]
[]
[]
[null,null,null,null,null,null,null,null,null,null,null,null,null,null,null,null,null,null,null,null,null,null,null,null,"nombre del conjunto"]
[null,null,null,null,null,null,null,null,null,null,null,null,null,null,null,null,null,"escenario optimista","La previsión de mayores ingresos","escenario optimista","menor previsión de gasto","escenario optimista","previsión de una menor inversión",null,"escenario optimista","Cenário_otimista"]
[null,null,null,null,null,null,null,null,null,null,null,null,null,null,null,null,null,"escenario pesimista","pronóstico de ingresos más bajos","escenario pesimista","Pronóstico de los mayores gastos","escenario pesimista","mayor inversión prevista",null,"escenario pesimista","Cenário_pessimista"]
[]
[]
[]
[null,null,null,null,null,null,null,null,null,null,null,null,null,null,null,null,null,"Análisis de los resultados","escenario optimista",null,null,null,null,null,"Análisis de los resultados","escenario pesimista"]
[null,null,null,null,null,null,null,null,null,null,null,null,null,null,null,null,null,null,"AÑO 1","AÑO 2","AÑO 3","AÑO 4","AÑO 5",null,null,"AÑO 1","AÑO 2","AÑO 3","AÑO 4","AÑO 5"]
[null,null,null,null,null,null,null,null,null,null,null,null,null,null,null,null,null,"Receta bruta",{"$f":"INFORMES_FIN!G5*(1+DASHBOARD_CEN!$D$6)","v":2329407.6972239222},{"$f":"INFORMES_FIN!H5*(1+DASHBOARD_CEN!$D$6)","v":4930704.9314768128},{"$f":"INFORMES_FIN!I5*(1+DASHBOARD_CEN!$D$6)","v":4605404.131476813},{"$f":"INFORMES_FIN!J5*(1+DASHBOARD_CEN!$D$6)","v":4647824.131476813},{"$f":"INFORMES_FIN!K5*(1+DASHBOARD_CEN!$D$6)","v":4605404.131476813},null,"Receta bruta",{"$f":"INFORMES_FIN!G5*(1-DASHBOARD_CEN!$D$6)","v":2283280.8121303795},{"$f":"INFORMES_FIN!H5*(1-DASHBOARD_CEN!$D$6)","v":4833067.2100614309},{"$f":"INFORMES_FIN!I5*(1-DASHBOARD_CEN!$D$6)","v":4514208.0100614307},{"$f":"INFORMES_FIN!J5*(1-DASHBOARD_CEN!$D$6)","v":4555788.0100614307},{"$f":"INFORMES_FIN!K5*(1-DASHBOARD_CEN!$D$6)","v":4514208.0100614307}]
[null,null,null,null,null,null,null,null,null,null,null,null,null,null,null,null,null,"impuestos",{"$f":"INFORMES_FIN!G7*(1-DASHBOARD_CEN!$D$8)","v":213993.32988860854},{"$f":"INFORMES_FIN!H7*(1-DASHBOARD_CEN!$D$8)","v":421446.90641338303},{"$f":"INFORMES_FIN!I7*(1-DASHBOARD_CEN!$D$8)","v":421446.90641338303},{"$f":"INFORMES_FIN!J7*(1-DASHBOARD_CEN!$D$8)","v":421446.90641338303},{"$f":"INFORMES_FIN!K7*(1-DASHBOARD_CEN!$D$8)","v":421446.90641338303},null,"impuestos",{"$f":"INFORMES_FIN!G7*(1+DASHBOARD_CEN!$D$8)","v":236518.94356109365},{"$f":"INFORMES_FIN!H7*(1+DASHBOARD_CEN!$D$8)","v":465809.73866742343},{"$f":"INFORMES_FIN!I7*(1+DASHBOARD_CEN!$D$8)","v":465809.73866742343},{"$f":"INFORMES_FIN!J7*(1+DASHBOARD_CEN!$D$8)","v":465809.73866742343},{"$f":"INFORMES_FIN!K7*(1+DASHBOARD_CEN!$D$8)","v":465809.73866742343}]
[null,null,null,null,null,null,null,null,null,null,null,null,null,null,null,null,null,"Los costos variables",{"$f":"INFORMES_FIN!G6*(1-DASHBOARD_CEN!$D$8)","v":1419653.8371011782},{"$f":"INFORMES_FIN!H6*(1-DASHBOARD_CEN!$D$8)","v":3015709.7278442541},{"$f":"INFORMES_FIN!I6*(1-DASHBOARD_CEN!$D$8)","v":2824474.7278442541},{"$f":"INFORMES_FIN!J6*(1-DASHBOARD_CEN!$D$8)","v":2864374.7278442541},{"$f":"INFORMES_FIN!K6*(1-DASHBOARD_CEN!$D$8)","v":2824474.7278442541},null,"Los costos variables",{"$f":"INFORMES_FIN!G6*(1+DASHBOARD_CEN!$D$8)","v":1569091.0831118287},{"$f":"INFORMES_FIN!H6*(1+DASHBOARD_CEN!$D$8)","v":3333152.857091018},{"$f":"INFORMES_FIN!I6*(1+DASHBOARD_CEN!$D$8)","v":3121787.857091018},{"$f":"INFORMES_FIN!J6*(1+DASHBOARD_CEN!$D$8)","v":3165887.857091018},{"$f":"INFORMES_FIN!K6*(1+DASHBOARD_CEN!$D$8)","v":3121787.857091018}]
[null,null,null,null,null,null,null,null,null,null,null,null,null,null,null,null,null,"Beneficio bruto",{"$f":"S26-S27-S28","v":695760.53023413569},{"$f":"T26-T27-T28","v":1493548.2972191758},1359482.497219176,1362002.497219176,1359482.497219176,null,"Beneficio bruto",{"$f":"Z26-Z27-Z28","v":477670.78545745718},{"$f":"AA26-AA27-AA28","v":1034104.6143029891},926610.41430298937,924090.41430298937,926610.41430298937]
[null,null,null,null,null,null,null,null,null,null,null,null,null,null,null,null,null,"Costos fijos",{"$f":"INFORMES_FIN!G9*(1-DASHBOARD_CEN!$D$8)","v":379050},{"$f":"INFORMES_FIN!H9*(1-DASHBOARD_CEN!$D$8)","v":758100},{"$f":"INFORMES_FIN!I9*(1-DASHBOARD_CEN!$D$8)","v":758100},{"$f":"INFORMES_FIN!J9*(1-DASHBOARD_CEN!$D$8)","v":758100},{"$f":"INFORMES_FIN!K9*(1-DASHBOARD_CEN!$D$8)","v":442225},null,"Costos fijos",{"$f":"INFORMES_FIN!G9*(1+DASHBOARD_CEN!$D$8)","v":418950},{"$f":"INFORMES_FIN!H9*(1+DASHBOARD_CEN!$D$8)","v":837900},{"$f":"INFORMES_FIN!I9*(1+DASHBOARD_CEN!$D$8)","v":837900},{"$f":"INFORMES_FIN!J9*(1+DASHBOARD_CEN!$D$8)","v":837900},{"$f":"INFORMES_FIN!K9*(1+DASHBOARD_CEN!$D$8)","v":488775}]
[null,null,null,null,null,null,null,null,null,null,null,null,null,null,null,null,null,"El gasto en marketing",{"$f":"INFORMES_FIN!G10*(1-DASHBOARD_CEN!$D$8)","v":10450},{"$f":"INFORMES_FIN!H10*(1-DASHBOARD_CEN!$D$8)","v":20900},{"$f":"INFORMES_FIN!I10*(1-DASHBOARD_CEN!$D$8)","v":26125},{"$f":"INFORMES_FIN!J10*(1-DASHBOARD_CEN!$D$8)","v":29450},{"$f":"INFORMES_FIN!K10*(1-DASHBOARD_CEN!$D$8)","v":31825},null,"El gasto en marketing",{"$f":"INFORMES_FIN!G10*(1+DASHBOARD_CEN!$D$8)","v":11550},{"$f":"INFORMES_FIN!H10*(1+DASHBOARD_CEN!$D$8)","v":23100},{"$f":"INFORMES_FIN!I10*(1+DASHBOARD_CEN!$D$8)","v":28875},{"$f":"INFORMES_FIN!J10*(1+DASHBOARD_CEN!$D$8)","v":32550},{"$f":"INFORMES_FIN!K10*(1+DASHBOARD_CEN!$D$8)","v":35175}]
[null,null,null,null,null,null,null,null,null,null,null,null,null,null,null,null,null,"depreciación",{"$f":"INFORMES_FIN!G11*(1-DASHBOARD_CEN!$D$8)","v":4180},{"$f":"INFORMES_FIN!H11*(1-DASHBOARD_CEN!$D$8)","v":17290},{"$f":"INFORMES_FIN!I11*(1-DASHBOARD_CEN!$D$8)","v":17290},{"$f":"INFORMES_FIN!J11*(1-DASHBOARD_CEN!$D$8)","v":17290},{"$f":"INFORMES_FIN!K11*(1-DASHBOARD_CEN!$D$8)","v":17290},null,"depreciación",{"$f":"INFORMES_FIN!G11*(1+DASHBOARD_CEN!$D$8)","v":4620},{"$f":"INFORMES_FIN!H11*(1+DASHBOARD_CEN!$D$8)","v":19110},{"$f":"INFORMES_FIN!I11*(1+DASHBOARD_CEN!$D$8)","v":19110},{"$f":"INFORMES_FIN!J11*(1+DASHBOARD_CEN!$D$8)","v":19110},{"$f":"INFORMES_FIN!K11*(1+DASHBOARD_CEN!$D$8)","v":19110}]
[null,null,null,null,null,null,null,null,null,null,null,null,null,null,null,null,null,"Lngresos netos",{"$f":"S29-S30-S31-S32","v":302080.53023413569},{"$f":"T29-T30-T31-T32","v":697258.29721917585},557967.49721917603,557162.49721917603,868142.49721917603,null,"Lngresos netos",{"$f":"Z29-Z30-Z31-Z32","v":42550.785457457183},{"$f":"AA29-AA30-AA31-AA32","v":153994.6143029891},40725.414302989375,34530.414302989375,383550.41430298937]
[null,null,null,null,null,null,null,null,null,null,null,null,null,null,null,null,null,"La inversión bruta",{"$f":"INFORMES_FIN!G13*(1-DASHBOARD_CEN!$D$10)","v":855000},{"$f":"INFORMES_FIN!H13*(1-DASHBOARD_CEN!$D$10)","v":19000},{"$f":"INFORMES_FIN!I13*(1-DASHBOARD_CEN!$D$10)","v":0},{"$f":"INFORMES_FIN!J13*(1-DASHBOARD_CEN!$D$10)","v":0},{"$f":"INFORMES_FIN!K13*(1-DASHBOARD_CEN!$D$10)","v":0},null,"La inversión bruta",{"$f":"INFORMES_FIN!G13*(1+DASHBOARD_CEN!$D$10)","v":945000},{"$f":"INFORMES_FIN!H13*(1+DASHBOARD_CEN!$D$10)","v":21000},{"$f":"INFORMES_FIN!I13*(1+DASHBOARD_CEN!$D$10)","v":0},{"$f":"INFORMES_FIN!J13*(1+DASHBOARD_CEN!$D$10)","v":0},{"$f":"INFORMES_FIN!K13*(1+DASHBOARD_CEN!$D$10)","v":0}]
[null,null,null,null,null,null,null,null,null,null,null,null,null,null,null,null,null,"Porcentaje de rentabilidad",{"$f":"IFERROR(S36/S26,0)","v":-0.23557038573360345},{"$f":"IFERROR(T36/T26,0)","v":0.14106467673190287},0.12490923289173071,0.12359600556500572,0.19225945692093796,null,"Porcentaje de rentabilidad",{"$f":"IFERROR(Z37/Z26,0)","v":2.5717723875876956E-2},{"$f":"IFERROR(AA37/AA26,0)","v":4.0596293363049513E-2},1.9651379401495982E-2,1.8918881675933637E-2,9.6990527092931003E-2]
[null,null,null,null,null,null,null,null,null,null,null,null,null,null,null,null,null,"ingreso libre",{"$f":"S33-S34+S32","v":-548739.46976586431},{"$f":"T33-T34+T32","v":695548.29721917585},575257.49721917603,574452.49721917603,885432.49721917603,null,"ingreso libre",{"$f":"Z33-Z34+Z32","v":-897829.21454254282},{"$f":"AA33-AA34+AA32","v":152104.6143029891},59835.414302989375,53640.414302989375,402660.41430298937]
[null,null,null,null,null,null,null,null,null,null,null,null,null,null,null,null,null,"EBITDA",{"$f":"S26-S28-S30-S31-S34","v":-334746.13987725601},{"$f":"T26-T28-T30-T31-T34","v":1116995.2036325587},996704.40363255888,995899.40363255888,1306879.4036325589,null,"EBITDA",{"$f":"Z29-Z30","v":58720.785457457183},{"$f":"AA29-AA30","v":196204.6143029891},88710.414302989375,86190.414302989375,437835.41430298937]
[]
[]
[null,null,null,null,null,null,null,null,null,null,null,null,null,null,null,null,null,"recuperación de la inversión",{"$f":"-INFORMES_FIN!$D$8+DASHBOARD_CEN!S36","v":-607739.46976586431},{"$f":"T36+S40","v":87808.827453311533},{"$f":"T40+U36","v":663066.32467248756},{"$f":"U40+V36","v":1237518.8218916636},{"$f":"V40+W36","v":2122951.3191108396},null,"recuperación de la inversión",{"$f":"-INFORMES_FIN!$D$8+Z36","v":-956829.21454254282},{"$f":"Z40+AA36","v":-804724.60023955372},{"$f":"AA40+AB36","v":-744889.18593656435},{"$f":"AB40+AC36","v":-691248.77163357497},{"$f":"AC40+AD36","v":-288588.3573305856}]
[null,null,null,null,null,null,null,null,null,null,null,null,null,null,null,null,null,{"$f":"IFERROR(HLOOKUP(1,$S$41:$W$42,2,FALSE),\"Não houve payback\")","v":"2 años"},{"$f":"IF(S40>0,1,0)","v":0},{"$f":"IF(T40>0,1,0)","v":1},1,1,1,null,"No se recuperó la inversión",{"$f":"IF(Z40>0,1,0)","v":0},{"$f":"IF(AA40>0,1,0)","v":0},0,0,0]
[null,null,null,null,null,null,null,null,null,null,null,null,null,null,null,null,null,null,"1 año","2 años","3 años","4 años","5 años",null,null,"1 año","2 años","3 años","4 años","5 años"]
[]
[null,null,null,null,null,null,null,null,null,null,null,null,null,null,null,null,null,{"$f":"-INFORMES_FIN!$D$8","v":-59000},{"$f":"S36","v":-548739.46976586431},{"$f":"T36","v":695548.29721917585},{"$f":"U36","v":575257.49721917603},{"$f":"V36","v":574452.49721917603},{"$f":"W36","v":885432.49721917603},null,{"$f":"-INFORMES_FIN!$D$8","v":-59000},{"$f":"Z36","v":-897829.21454254282},{"$f":"AA36","v":152104.6143029891},{"$f":"AB36","v":59835.414302989375},{"$f":"AC36","v":53640.414302989375},{"$f":"AD36","v":402660.41430298937}]
[null,null,null,null,null,null,null,null,null,null,null,null,null,null,null,null,"TIR",{"$f":"IFERROR(IRR(R44:W44),0)","v":0.92389263302697522},null,null,null,null,null,"TIR",{"$f":"IFERROR(IRR(Y44:AD44),0%)","v":-0.1060393974289574}]
[null,null,null,null,null,null,null,null,null,null,null,null,null,null,null,null,"VPL",{"$f":"NPV(INFORMES_FIN!$D$5,R44,S44,T44,U44,V44,W44)","v":777089.46295962762},null,null,null,null,null,"VPL",{"$f":"NPV(INFORMES_FIN!$D$5,Y44,Z44,AA44,AB44,AC44,AD44)","v":-399372.8223918716}]
[]
[null,null,null,null,null,null,null,null,null,null,null,null,null,null,null,null,null,null,"0 años ","1 año","2 años","3 años","4 años","5 años"]
[null,null,null,null,null,null,null,null,null,null,null,null,null,null,null,null,null,"escenario optimista",{"$f":"-INFORMES_FIN!D8","v":-59000},{"$f":"S40","v":-607739.46976586431},{"$f":"T40","v":87808.827453311533},{"$f":"U40","v":663066.32467248756},{"$f":"V40","v":1237518.8218916636},{"$f":"W40","v":2122951.3191108396}]
[null,null,null,null,null,null,null,null,null,null,null,null,null,null,null,null,null,"escenario pesimista",{"$f":"S49","v":-59000},{"$f":"Z40","v":-956829.21454254282},{"$f":"AA40","v":-804724.60023955372},{"$f":"AB40","v":-744889.18593656435},{"$f":"AC40","v":-691248.77163357497},{"$f":"AD40","v":-288588.3573305856}]

{"sheet":"DASHBOARD_EST","index":32,"n_rows":14,"n_cols":16,"rows_kept":14,"cut":false,"hidden":false,"merged":[[4,2,7,2],[4,4,7,4],[7,6,7,12],[4,8,4,12]]}
[]
[]
[]
[null,null,"Gráfico FODA Radar ",null,"Gráfico Radar 5 fuerzas de Porter ",null,"Estrategias de Conclusión",null,"Efectividad media de la estrategia"]
[null,null,null,null,null,null,{"$f":"INFORMES!P19","v":0.86050685931077808}]
[]
[null,null,null,null,null,null,"Seguimiento de los planes de acción"]
[]
[]
[null,null,null,null,null,null,null,null,null,null,null,null,null,null,"FODA Radar gráfico"]
[null,null,null,null,null,null,null,null,null,null,null,null,null,null,"fuerza",{"$f":"SUMIFS(ESTRATÉGIA_SWOT!$F$5:$F$26,ESTRATÉGIA_SWOT!$D$5:$D$26,DASHBOARD_EST!O11)","v":40}]
[null,null,null,null,null,null,null,null,null,null,null,null,null,null,"debilidad",{"$f":"SUMIFS(ESTRATÉGIA_SWOT!$F$5:$F$26,ESTRATÉGIA_SWOT!$D$5:$D$26,DASHBOARD_EST!O12)","v":37.5}]
[null,null,null,null,null,null,null,null,null,null,null,null,null,null,"oportunidad",{"$f":"SUMIFS(ESTRATÉGIA_SWOT!$F$5:$F$26,ESTRATÉGIA_SWOT!$D$5:$D$26,DASHBOARD_EST!O13)","v":65}]
[null,null,null,null,null,null,null,null,null,null,null,null,null,null,"amenaza",{"$f":"SUMIFS(ESTRATÉGIA_SWOT!$F$5:$F$26,ESTRATÉGIA_SWOT!$D$5:$D$26,DASHBOARD_EST!O14)","v":2.5}]

{"sheet":"DASHBOARD_MKT","index":33,"n_rows":15,"n_cols":16,"rows_kept":15,"cut":false,"hidden":false,"merged":[[9,2,9,3],[10,2,10,3],[4,5,10,5],[4,7,10,7],[3,2,3,3],[4,2,4,3],[6,2,6,3],[7,2,7,3]]}
[]
[]
[]
[null,null,"Gasto total en Marketing Online",null,null,"Gastos en Marketing",null,"División de Gastos"]
[null,null,{"$f":"INFORMES_MKT!J17","v":125000}]
[]
[null,null,"Gasto total en Marketing Offline"]
[null,null,{"$f":"INFORMES_MKT!J14","v":4000}]
[null,null,null,null,null,null,null,null,null,"El gasto en marketing","0 años","1 año","2 años","3 años","4 años","5 años"]
[null,null,"Gasto total en Marketing",null,null,null,null,null,null,"desconectado",{"$f":"INFORMES_MKT!D14","v":4000},{"$f":"INFORMES_MKT!E14","v":0},{"$f":"INFORMES_MKT!F14","v":0},{"$f":"INFORMES_MKT!G14","v":0},{"$f":"INFORMES_MKT!H14","v":0},{"$f":"INFORMES_MKT!I14","v":0}]
[null,null,{"$f":"SUM(C8,C5)","v":129000},null,null,null,null,null,null,"en línea",{"$f":"INFORMES_MKT!D17","v":0},{"$f":"INFORMES_MKT!E17","v":11000},{"$f":"INFORMES_MKT!F17","v":22000},{"$f":"INFORMES_MKT!G17","v":27500},{"$f":"INFORMES_MKT!H17","v":31000},{"$f":"INFORMES_MKT!I17","v":33500}]
[]
[null,null,null,null,null,null,null,null,null,"total"]
[null,null,null,null,null,null,null,null,null,"desconectado",{"$f":"SUM(K10:P10)","v":4000}]
[null,null,null,null,null,null,null,null,null,"en línea",{"$f":"SUM(K11:P11)","v":125000}]

{"sheet":"SUMÁRIO","index":34,"n_rows":174,"n_cols":8,"rows_kept":174,"cut":false,"hidden":false,"merged":[[15,2,15,7],[24,2,24,7],[30,2,30,7],[34,2,34,7],[28,3,28,7],[27,3,27,7],[26,3,26,7],[25,3,25,7],[31,3,31,7],[32,3,32,7],[19,3,19,7],[17,3,17,7],[16,3,16,7],[18,3,18,7],[22,2,22,7],[21,2,21,7],[49,2,49,4],[49,5,49,7],[36,3,36,7],[35,3,35,7],[40,4,40,5],[41,4,41,5],[42,4,42,5],[43,4,43,5],[44,4,44,5],[45,4,45,5],[46,4,46,5],[47,4,47,5],[48,5,48,6],[69,3,69,4],[50,2,50,4],[50,5,50,7],[51,2,51,4],[51,5,51,7],[149,2,150,2],[70,3,70,4],[98,3,98,4],[98,6,98,7],[99,3,99,7],[77,4,77,8],[80,2,80,8]]}
[]
[]
[]
[null,null,"ÍNDICE EJECUTIVO"]
[null,null,{"$f":"IF(IG_EM!D6=0,\"\",IG_EM!D6)","v":""}]
[]
[null,null,"1. Mercado"]
[null,null,"2. Modelado"]
[null,null,"3. Estrategia"]
[null,null,"4. Mercadeo"]
[null,null,"5. Finanzas"]
[]
[]
[null,null,"1. Mercado"]
[]
[null,null,{"$f":"INFORMES_MKT!I6","v":"Análisis de Recursos"}]
[null,null,{"$f":"INFORMES_MKT!I7","v":"Disponible"},{"$f":"INFORMES_MKT!J7","v":2},{"$f":"INFORMES_MKT!K7","v":0},{"$f":"INFORMES_MKT!L7","v":0},{"$f":"INFORMES_MKT!M7","v":0},{"$f":"INFORMES_MKT!N7","v":0}]
[null,null,{"$f":"INFORMES_MKT!I8","v":"No Disponible"},{"$f":"INFORMES_MKT!J8","v":2},{"$f":"INFORMES_MKT!K8","v":0},{"$f":"INFORMES_MKT!L8","v":0},{"$f":"INFORMES_MKT!M8","v":0},{"$f":"INFORMES_MKT!N8","v":0}]
[null,null,{"$f":"INFORMES_MKT!I9","v":"Total"},{"$f":"INFORMES_MKT!J9","v":4},{"$f":"INFORMES_MKT!K9","v":0},{"$f":"INFORMES_MKT!L9","v":0},{"$f":"INFORMES_MKT!M9","v":0},{"$f":"INFORMES_MKT!N9","v":0}]
[null,null,{"$f":"INFORMES_MKT!I10","v":"Recursos disponibles %"},{"$f":"INFORMES_MKT!J10","v":0.5},{"$f":"INFORMES_MKT!K10","v":0},{"$f":"INFORMES_MKT!L10","v":0},{"$f":"INFORMES_MKT!M10","v":0},{"$f":"INFORMES_MKT!N10","v":0}]
[]
[null,null,{"$f":"MERCADO!C4","v":"Describa el problema u oportunidad identificada"}]
[null,null,{"$f":"MERCADO!C5","v":"Dificultad en el uso de herramientas confiables de gestión "}]
[]
[null,null,{"$f":"MERCADO!C7","v":"Sobre los clientes"}]
[null,null,{"$f":"MERCADO!C8","v":"¿Quiénes y cuántos sufren con este problema o se beneficiarían de la solución?"},{"$f":"MERCADO!D8","v":"Caficultores y el cliente final"},{"$f":"MERCADO!E8","v":0},{"$f":"MERCADO!F8","v":0},{"$f":"MERCADO!G8","v":0},{"$f":"MERCADO!H8","v":0}]
[null,null,{"$f":"MERCADO!C9","v":"¿De qué tamaño es este mercado?"},{"$f":"MERCADO!D9","v":8000000},{"$f":"MERCADO!E9","v":0},{"$f":"MERCADO!F9","v":0},{"$f":"MERCADO!G9","v":0},{"$f":"MERCADO!H9","v":0}]
[null,null,{"$f":"MERCADO!C10","v":"¿Cuánto de este mercado usted pretende alcanzar?"},{"$f":"MERCADO!D10","v":0.25},{"$f":"MERCADO!E10","v":0},{"$f":"MERCADO!F10","v":0},{"$f":"MERCADO!G10","v":0},{"$f":"MERCADO!H10","v":0}]
[null,null,{"$f":"MERCADO!C11","v":"Tamaño del mercado alcanzado"},{"$f":"MERCADO!D11","v":2000000},{"$f":"MERCADO!E11","v":0},{"$f":"MERCADO!F11","v":0},{"$f":"MERCADO!G11","v":0},{"$f":"MERCADO!H11","v":0}]
[]
[null,null,{"$f":"MERCADO!C13","v":"Sobre los competidores y sustitutos"}]
[null,null,{"$f":"MERCADO!C14","v":"¿Quiénes son las empresas que exploran esa oportunidad?"},{"$f":"MERCADO!D14","v":"Empresa Poesia Colada, Induban y  color café"},{"$f":"MERCADO!E14","v":0},{"$f":"MERCADO!F14","v":0},{"$f":"MERCADO!G14","v":0},{"$f":"MERCADO!H14","v":0}]
[null,null,{"$f":"MERCADO!C15","v":"¿Cómo ellas exploran esa oportunidad?, ¿Y cuáles son sus puntos débiles?"},{"$f":"MERCADO!D15","v":"Con la creacion de contenido para redes sociales - no hacen enfasis en dar ayudas sociales"},{"$f":"MERCADO!E15","v":0},{"$f":"MERCADO!F15","v":0},{"$f":"MERCADO!G15","v":0},{"$f":"MERCADO!H15","v":0}]
[]
[null,null,{"$f":"MERCADO!C17","v":"Sobre los nuevos participantes"}]
[null,null,{"$f":"MERCADO!C18","v":"¿Quiénes y cómo exploran esa oportunidad hoy en día?"},{"$f":"MERCADO!D18","v":"los caficultores"},{"$f":"MERCADO!E18","v":0},{"$f":"MERCADO!F18","v":0},{"$f":"MERCADO!G18","v":0},{"$f":"MERCADO!H18","v":0}]
[null,null,{"$f":"MERCADO!C19","v":"¿Cuáles son los vacíos de esas soluciones?"},{"$f":"MERCADO!D19","v":"No hay marcas atendiendo a desarrollar mas el café de especialidad Dominicano."},{"$f":"MERCADO!E19","v":0},{"$f":"MERCADO!F19","v":0},{"$f":"MERCADO!G19","v":0},{"$f":"MERCADO!H19","v":0}]
[]
[null,null,"2. Modelado"]
[]
[null,null,"Socios clave\n ¿A quién puedes ayudar?","Actividades Clave\n ¿Qué haces tú?","Propuesta de Valor\n ¿Qué entregas tú?",null,"Relaciones\n¿Cómo tú interactúas?","Segmentos de Clientes\n ¿A quién tú ayudas?"]
[null,null,{"$f":"IF(MODELAGEM!C5=\"\",\"\",MODELAGEM!C5)","v":"grupo tequin"},{"$f":"IF(MODELAGEM!D5=\"\",\"\",MODELAGEM!D5)","v":"distribuccion de café a negocios empresariales"},{"$f":"IF(MODELAGEM!E5=\"\",\"\",MODELAGEM!E5)","v":"Ayudar a los pequeños y medianos caficultores de Juncalito."},null,{"$f":"IF(MODELAGEM!G5=\"\",\"\",MODELAGEM!G5)","v":"Asistencias personalizadas"},{"$f":"IF(MODELAGEM!H5=\"\",\"\",MODELAGEM!H5)","v":"nicho de mercado "}]
[null,null,{"$f":"IF(MODELAGEM!C6=\"\",\"\",MODELAGEM!C6)","v":"Holi print rd"},{"$f":"IF(MODELAGEM!D6=\"\",\"\",MODELAGEM!D6)","v":"Venta a terceros (supermercados, etc…)"},{"$f":"IF(MODELAGEM!E6=\"\",\"\",MODELAGEM!E6)","v":"Entregar café fresco a los clientes"},null,{"$f":"IF(MODELAGEM!G6=\"\",\"\",MODELAGEM!G6)","v":"-"},{"$f":"IF(MODELAGEM!H6=\"\",\"\",MODELAGEM!H6)","v":"diversificacion"}]
[null,null,{"$f":"IF(MODELAGEM!C7=\"\",\"\",MODELAGEM!C7)","v":"café sabaneta"},{"$f":"IF(MODELAGEM!D7=\"\",\"\",MODELAGEM!D7)","v":"-"},{"$f":"IF(MODELAGEM!E7=\"\",\"\",MODELAGEM!E7)","v":"Una presentacion elegante y acompañado con un buen empaque."},null,{"$f":"IF(MODELAGEM!G7=\"\",\"\",MODELAGEM!G7)","v":"-"},{"$f":"IF(MODELAGEM!H7=\"\",\"\",MODELAGEM!H7)","v":"-"}]
[null,null,{"$f":"IF(MODELAGEM!C8=\"\",\"\",MODELAGEM!C8)","v":"-"},"Recursos Clave\n¿Quién eres tú y qué tienes?",{"$f":"IF(MODELAGEM!E8=\"\",\"\",MODELAGEM!E8)","v":"-"},null,"Canales\n¿Cómo entregas y recibes?",{"$f":"IF(MODELAGEM!H8=\"\",\"\",MODELAGEM!H8)","v":"-"}]
[null,null,{"$f":"IF(MODELAGEM!C9=\"\",\"\",MODELAGEM!C9)","v":"-"},{"$f":"IF(MODELAGEM!D9=\"\",\"\",MODELAGEM!D9)","v":"Humanos"},{"$f":"IF(MODELAGEM!E9=\"\",\"\",MODELAGEM!E9)","v":"-"},null,{"$f":"IF(MODELAGEM!G9=\"\",\"\",MODELAGEM!G9)","v":"Compra "},{"$f":"IF(MODELAGEM!H9=\"\",\"\",MODELAGEM!H9)","v":"-"}]
[null,null,{"$f":"IF(MODELAGEM!C10=\"\",\"\",MODELAGEM!C10)","v":"-"},{"$f":"IF(MODELAGEM!D10=\"\",\"\",MODELAGEM!D10)","v":"Tecnologicos"},{"$f":"IF(MODELAGEM!E10=\"\",\"\",MODELAGEM!E10)","v":"-"},null,{"$f":"IF(MODELAGEM!G10=\"\",\"\",MODELAGEM!G10)","v":"Entrega "},{"$f":"IF(MODELAGEM!H10=\"\",\"\",MODELAGEM!H10)","v":"-"}]
[null,null,{"$f":"IF(MODELAGEM!C11=\"\",\"\",MODELAGEM!C11)","v":"-"},{"$f":"IF(MODELAGEM!D11=\"\",\"\",MODELAGEM!D11)","v":"-"},{"$f":"IF(MODELAGEM!E11=\"\",\"\",MODELAGEM!E11)","v":"-"},null,{"$f":"IF(MODELAGEM!G11=\"\",\"\",MODELAGEM!G11)","v":"Post-venta"},{"$f":"IF(MODELAGEM!H11=\"\",\"\",MODELAGEM!H11)","v":"-"}]
[null,null,"Estructura de Costo\n ¿Cómo tú pagas?",null,null,"Fuentes de Ingresos\n¿Qué ganas tú?"]
[null,null,{"$f":"MODELAGEM!C13","v":"El cafe"},null,null,{"$f":"MODELAGEM!F13","v":"Los clientes estan dispuestos a pagar 314$, mas itbis."}]
[null,null,{"$f":"MODELAGEM!C14","v":"Embalaje del producto."},null,null,{"$f":"MODELAGEM!F14","v":"Transferencias o cheques."}]
[null,null,{"$f":"MODELAGEM!C15","v":"-"},null,null,{"$f":"MODELAGEM!F15","v":"-"}]
[]
[]
[]
[]
[]
[]
[]
[]
[null,null,"3. Estrategia"]
[]
[null,null,"Resumen de las cinco fuerzas competitivas de Porter",null,null,null,"Resumen FODA"]
[null,null,{"$f":"INFORMES!C7","v":0.29770992366412213},{"$f":"INFORMES!D7","v":"Rivalidad entre los competidores"},null,null,"Principales Fuerzas","Principales Debilidades"]
[null,null,{"$f":"INFORMES!C8","v":0.12977099236641221},{"$f":"INFORMES!D8","v":"Poder de negociación de los clientes"},null,null,{"$f":"INFORMES!I8","v":"El negocio puede crecer (en escalas)"},{"$f":"INFORMES!L8","v":"El costo es bajo por lo que ayuda a obtener un mayor beneficio"}]
[null,null,{"$f":"INFORMES!C9","v":0.23664122137404581},{"$f":"INFORMES!D9","v":"Poder de negociación de los proveedores"},null,null,{"$f":"INFORMES!I9","v":"El equipo es competente y organizado"},{"$f":"INFORMES!L9","v":"La infraestructura se adapta a las necesidades"}]
[null,null,{"$f":"INFORMES!C10","v":0.15648854961832062},{"$f":"INFORMES!D10","v":"Riesgo de nuevos participantes"},null,null,{"$f":"INFORMES!I10","v":"El producto es de calidad"},{"$f":"INFORMES!L10","v":"La propia tecnología es esencial para el negocio"}]
[null,null,{"$f":"INFORMES!C11","v":0.17938931297709923},{"$f":"INFORMES!D11","v":"Amenaza de sustitutos"},null,null,"Principales Oportunidades","Principales Amenazas"]
[null,null,{"$f":"INFORMES!C12","v":0},{"$f":"INFORMES!D12","v":0},null,null,{"$f":"INFORMES!I12","v":"Se interesa por iniciativas socioambientales"},{"$f":"INFORMES!L12","v":"La empresa realiza grandes eventos"}]
[null,null,{"$f":"INFORMES!C13","v":":)"},{"$f":"INFORMES!D13","v":"Manténgase alerta, pues la fuerza competitiva que menos influye en su negocio es Poder de negociación de los clientes. Es importante saber potenciarla."},null,null,{"$f":"INFORMES!I13","v":"Se aprovecha de las políticas gubernamentales"},{"$f":"INFORMES!L13","v":""}]
[null,null,{"$f":"INFORMES!C14","v":":("},{"$f":"INFORMES!D14","v":"Usted necesita estar atento a Rivalidad entre los competidores, pues esta es la fuerza que más puede influenciar su negocio, según la metodología Porter."},null,null,{"$f":"INFORMES!I14","v":"Hay mercados sin explorar"},{"$f":"INFORMES!L14","v":""}]
[null,null,"Gráfico Radial - Análisis FODA",null,null,"Gráfico Radial - Fuerzas Competitivas"]
[]
[]
[]
[]
[null,null,"Estrategias de Conclusión",null,"Efectividad media de la estrategia"]
[null,null,{"$f":"INFORMES!P19","v":0.86050685931077808}]
[]
[null,null,"Seguimiento de los planes de acción"]
[]
[]
[null,null,"Vea los resultados de las metas y planes de acción"]
[]
[null,null,"Análisis de alcance de las metas"]
[null,null,"Meta","1 año","2 años","3 años","4 años","5 años"]
[null,null,{"$f":"INFORMES!C20","v":"En el primer año tener las maquinarias necesarias para mayor produccion."},{"$f":"INFORMES!F20","v":0.75},{"$f":"INFORMES!G20","v":""},{"$f":"INFORMES!H20","v":""},{"$f":"INFORMES!I20","v":""},{"$f":"INFORMES!J20","v":""}]
[null,null,{"$f":"INFORMES!C21","v":"Facturar lo necesario para cubrir gastos y que deje ganancias para inversion."},{"$f":"INFORMES!F21","v":0.78070989616839437},{"$f":"INFORMES!G21","v":1.6249489328931954},{"$f":"INFORMES!H21","v":1.0857082842725803},{"$f":"INFORMES!I21","v":1.0460124578780763},{"$f":"INFORMES!J21","v":0.49435568856220247}]
[null,null,{"$f":"INFORMES!C22","v":"Hacer alianzas estrategicas con diferentes supermercados, para vender mas."},{"$f":"INFORMES!F22","v":""},{"$f":"INFORMES!G22","v":""},{"$f":"INFORMES!H22","v":0.33333333333333331},{"$f":"INFORMES!I22","v":0.2},{"$f":"INFORMES!J22","v":1.7499999999999998}]
[null,null,{"$f":"INFORMES!C23","v":"Posicionar la marca ante los dominicanos, para resaltar lo mejor de nuestro café Dominicano."},{"$f":"INFORMES!F23","v":""},{"$f":"INFORMES!G23","v":""},{"$f":"INFORMES!H23","v":""},{"$f":"INFORMES!I23","v":0.54},{"$f":"INFORMES!J23","v":""}]
[null,null,{"$f":"INFORMES!C24","v":""},{"$f":"INFORMES!F24","v":""},{"$f":"INFORMES!G24","v":""},{"$f":"INFORMES!H24","v":""},{"$f":"INFORMES!I24","v":""},{"$f":"INFORMES!J24","v":""}]
[null,null,{"$f":"INFORMES!C25","v":""},{"$f":"INFORMES!F25","v":""},{"$f":"INFORMES!G25","v":""},{"$f":"INFORMES!H25","v":""},{"$f":"INFORMES!I25","v":""},{"$f":"INFORMES!J25","v":""}]
[null,null,{"$f":"INFORMES!C26","v":""},{"$f":"INFORMES!F26","v":""},{"$f":"INFORMES!G26","v":""},{"$f":"INFORMES!H26","v":""},{"$f":"INFORMES!I26","v":""},{"$f":"INFORMES!J26","v":""}]
[null,null,{"$f":"INFORMES!C27","v":""},{"$f":"INFORMES!F27","v":""},{"$f":"INFORMES!G27","v":""},{"$f":"INFORMES!H27","v":""},{"$f":"INFORMES!I27","v":""},{"$f":"INFORMES!J27","v":""}]
[null,null,{"$f":"INFORMES!C28","v":""},{"$f":"INFORMES!F28","v":""},{"$f":"INFORMES!G28","v":""},{"$f":"INFORMES!H28","v":""},{"$f":"INFORMES!I28","v":""},{"$f":"INFORMES!J28","v":""}]
[null,null,{"$f":"INFORMES!C29","v":""},{"$f":"INFORMES!F29","v":""},{"$f":"INFORMES!G29","v":""},{"$f":"INFORMES!H29","v":""},{"$f":"INFORMES!I29","v":""},{"$f":"INFORMES!J29","v":""}]
[]
[null,null,"Establezca las principales directrices de su empresa"]
[null,null,"Misión","Ayudar a los gestores desenvolver sus negocios",null,"Visión",{"$f":"ESTRATÉGIA!D10","v":"Nos visualizamos como una futura marca pais, que muestre al mundo la calidad del café que se cosecha en la Republica Dominicana."}]
[null,null,"Valores",{"$f":"ESTRATÉGIA!C13&\", \"&ESTRATÉGIA!C14&\", \"&ESTRATÉGIA!C15&\", \"&ESTRATÉGIA!C16&\", \"&ESTRATÉGIA!C17&\", \"&ESTRATÉGIA!C18&\", \"&ESTRATÉGIA!C19&\", \"&ESTRATÉGIA!C20&\", \"&ESTRATÉGIA!C21&\", \"&ESTRATÉGIA!C22","v":"Atención ágil, Calidad , Transparencia, Solidaridad, , , , , , "}]
[]
[null,null,"Análisis de los planes de acción"]
[null,null,"Plan de Acción",null,"Cantidad"]
[null,null,"No se ha iniciado",null,{"$f":"INFORMES!N20","v":1}]
[null,null,"En proceso",null,{"$f":"INFORMES!N21","v":1}]
[null,null,"Finalizado en el plazo",null,{"$f":"INFORMES!N22","v":1}]
[null,null,"Finalizado pero con atraso",null,{"$f":"INFORMES!N23","v":0}]
[null,null,"No se ha concluido",null,{"$f":"INFORMES!N24","v":0}]
[null,null,"Total",null,{"$f":"INFORMES!N25","v":3}]
[]
[null,null,"4. Marketing"]
[]
[null,null,"Producto"]
[null,null,{"$f":"MARKETING!C9","v":"¿Qué espera el cliente del producto / servicio?"}]
[null,null,{"$f":"MARKETING!C10","v":"Esperan un producto de calidad, que llene las expectativas del mejor café de nuestra tierra Dominicana."}]
[null,null,{"$f":"MARKETING!C12","v":"¿Cuáles atributos él debe tener?"}]
[null,null,{"$f":"MARKETING!C13","v":"Buena presentacion y un café de calidad al gusto del Dominicano."}]
[null,null,{"$f":"MARKETING!C15","v":"¿Cómo él será utilizado?"}]
[null,null,{"$f":"MARKETING!C16","v":"Producto fisico."}]
[null,null,{"$f":"MARKETING!C18","v":"¿Qué imagen del producto / servicio usted quiere transmitir?"}]
[null,null,{"$f":"MARKETING!C19","v":"Calidad y hecho por manos Dominicanas"}]
[null,null,{"$f":"MARKETING!C21","v":"¿Cómo pretende trabajar esa marca?"}]
[null,null,{"$f":"MARKETING!C22","v":"Trabajaremos arduamente para convertirla en una marca pais"}]
[]
[null,null,"Precio"]
[null,null,{"$f":"\"La estrategia de precio utilizada fue la: \"&VLOOKUP(MARKETING_PRECIO!$F$17,MARKETING_PRECIO!$H$24:$I$32,2,FALSE)","v":"La estrategia de precio utilizada fue la: Estrategia de Precio Mediano - El precio corresponde a la calidad del producto, buscando una participación aceptable en el mercado."}]
[]
[null,null,"Plaza"]
[null,null,{"$f":"MARKETING_PLAZA!C9","v":"¿En qué lugares (o tipos de medios de comunicación) el cliente busca su producto?"}]
[null,null,{"$f":"MARKETING_PLAZA!C10","v":"Tienda online y supermercado "}]
[null,null,{"$f":"MARKETING_PLAZA!C12","v":"¿Cómo usted puede acceder a los canales de distribución?"}]
[null,null,{"$f":"MARKETING_PLAZA!C13","v":"Realizando asociaciones"}]
[null,null,{"$f":"MARKETING_PLAZA!C15","v":"¿Cuáles son sus canales de venta?"}]
[null,null,{"$f":"MARKETING_PLAZA!C16","v":"Mayoristas."}]
[null,null,{"$f":"MARKETING_PLAZA!C18","v":"¿Dónde se encuentran sus competidores?"}]
[null,null,{"$f":"MARKETING_PLAZA!C19","v":"Supermercados y  tiendas."}]
[]
[null,null,"Inversiones de marketing offline"]
[null,null,"Valor de la inversión en el lanzamiento","Inversión año 1","Inversión año 2","Inversión año 3","Inversión año 4","Inversión año 5"]
[null,null,{"$f":"SUM(MARKETING_PROMO!D9:D18)","v":4000},{"$f":"SUM(MARKETING_PROMO!E9:E18)","v":0},{"$f":"SUM(MARKETING_PROMO!F9:F18)","v":0},{"$f":"SUM(MARKETING_PROMO!G9:G18)","v":0},{"$f":"SUM(MARKETING_PROMO!H9:H18)","v":0},{"$f":"SUM(MARKETING_PROMO!I9:I18)","v":0}]
[null,null,"Inversiones de marketing online"]
[null,null,"Valor de la inversión en el lanzamiento","Inversión año 1","Inversión año 2","Inversión año 3","Inversión año 4","Inversión año 5"]
[null,null,{"$f":"SUM(MARKETING_PROMO!D22:D31)","v":0},{"$f":"SUM(MARKETING_PROMO!E22:E31)","v":11000},{"$f":"SUM(MARKETING_PROMO!F22:F31)","v":22000},{"$f":"SUM(MARKETING_PROMO!G22:G31)","v":27500},{"$f":"SUM(MARKETING_PROMO!H22:H31)","v":31000},{"$f":"SUM(MARKETING_PROMO!I22:I31)","v":33500}]
[null,null,"Gasto en marketing"]
[]
[]
[]
[null,null,"5. Finanzas"]
[]
[null,null,"Indicadores de Rendimiento","VNA (Valor Neto Actual)","TIR","Recuperación de la inversión","Inversión inicial","Punto de equilibrio"]
[null,null,null,{"$f":"INFORMES_FIN!D6","v":188858.32028387763},{"$f":"INFORMES_FIN!D7","v":0.3548563956312869},{"$f":"INFORMES_FIN!D9","v":"En 4 años"},{"$f":"INFORMES_FIN!D8","v":59000},{"$f":"INFORMES_FIN!D11","v":"En 2 años"}]
[]
[null,null,"Resumen","Año 1","Año 2","Año 3","Año 4","Año 5"]
[null,null,"Ingreso Bruto",{"$f":"INFORMES_FIN!G5","v":2306344.2546771509},{"$f":"INFORMES_FIN!H5","v":4881886.0707691219},{"$f":"INFORMES_FIN!I5","v":4559806.0707691219},{"$f":"INFORMES_FIN!J5","v":4601806.0707691219},{"$f":"INFORMES_FIN!K5","v":4559806.0707691219}]
[null,null,"Impuestos",{"$f":"INFORMES_FIN!G7","v":225256.13672485109},{"$f":"INFORMES_FIN!H7","v":443628.32254040323},{"$f":"INFORMES_FIN!I7","v":443628.32254040323},{"$f":"INFORMES_FIN!J7","v":443628.32254040323},{"$f":"INFORMES_FIN!K7","v":443628.32254040323}]
[null,null,"Costos Variables",{"$f":"INFORMES_FIN!G6","v":1494372.4601065035},{"$f":"INFORMES_FIN!H6","v":3174431.2924676361},{"$f":"INFORMES_FIN!I6","v":2973131.2924676361},{"$f":"INFORMES_FIN!J6","v":3015131.2924676361},{"$f":"INFORMES_FIN!K6","v":2973131.2924676361}]
[null,null,"Ingreso Bruto",{"$f":"INFORMES_FIN!G8","v":586715.65784579632},{"$f":"INFORMES_FIN!H8","v":1263826.4557610825},{"$f":"INFORMES_FIN!I8","v":1143046.4557610825},{"$f":"INFORMES_FIN!J8","v":1143046.4557610825},{"$f":"INFORMES_FIN!K8","v":1143046.4557610825}]
[null,null,"Costos fijos",{"$f":"INFORMES_FIN!G9","v":399000},{"$f":"INFORMES_FIN!H9","v":798000},{"$f":"INFORMES_FIN!I9","v":798000},{"$f":"INFORMES_FIN!J9","v":798000},{"$f":"INFORMES_FIN!K9","v":465500}]
[null,null,"Gasto en marketing",{"$f":"INFORMES_FIN!G10","v":11000},{"$f":"INFORMES_FIN!H10","v":22000},{"$f":"INFORMES_FIN!I10","v":27500},{"$f":"INFORMES_FIN!J10","v":31000},{"$f":"INFORMES_FIN!K10","v":33500}]
[null,null,"Depreciación",{"$f":"INFORMES_FIN!G11","v":4400},{"$f":"INFORMES_FIN!H11","v":18200},{"$f":"INFORMES_FIN!I11","v":18200},{"$f":"INFORMES_FIN!J11","v":18200},{"$f":"INFORMES_FIN!K11","v":18200}]
[null,null,"Ingresos Netos",{"$f":"INFORMES_FIN!G12","v":172315.65784579632},{"$f":"INFORMES_FIN!H12","v":425626.45576108247},{"$f":"INFORMES_FIN!I12","v":299346.45576108247},{"$f":"INFORMES_FIN!J12","v":295846.45576108247},{"$f":"INFORMES_FIN!K12","v":625846.45576108247}]
[null,null,"Inversión bruta",{"$f":"INFORMES_FIN!G13","v":900000},{"$f":"INFORMES_FIN!H13","v":20000},{"$f":"INFORMES_FIN!I13","v":0},{"$f":"INFORMES_FIN!J13","v":0},{"$f":"INFORMES_FIN!K13","v":0}]
[null,null,"Porcentaje de Rentabilidad",{"$f":"INFORMES_FIN!G16","v":-0.31360641009572582},{"$f":"INFORMES_FIN!H16","v":8.6816129999180883E-2},{"$f":"INFORMES_FIN!I16","v":6.9640342337524141E-2},{"$f":"INFORMES_FIN!J16","v":6.8244174337532298E-2},{"$f":"INFORMES_FIN!K16","v":0.14124426472647078}]
[null,null,"Ganancias Netas",{"$f":"INFORMES_FIN!G14","v":-723284.34215420368},{"$f":"INFORMES_FIN!H14","v":423826.45576108247},{"$f":"INFORMES_FIN!I14","v":317546.45576108247},{"$f":"INFORMES_FIN!J14","v":314046.45576108247},{"$f":"INFORMES_FIN!K14","v":644046.45576108247}]
[null,null,"EBITDA",{"$f":"INFORMES_FIN!G15","v":-498028.20542935259},{"$f":"INFORMES_FIN!H15","v":867454.77830148581},{"$f":"INFORMES_FIN!I15","v":761174.77830148581},{"$f":"INFORMES_FIN!J15","v":757674.77830148581},{"$f":"INFORMES_FIN!K15","v":1087674.7783014858}]
[null,null,"Comparación entre Ingreso Y  Gastos Lucro libre"]
[]
[]
[]
[]
[]
[]
[]
[null,null,"Comparación entre Margen de Contribución y Resultado de Costos fijos"]

{"sheet":"INTRU","index":35,"n_rows":94,"n_cols":3,"rows_kept":94,"cut":false,"hidden":false,"merged":[[4,2,4,5],[6,2,6,5]]}
[]
[]
[]
[null,null,"Plan de Negocios"]
[null,null,"Esta sección tiene como objetivo guiar a los usuarios en la utilización del archivo de Plan de Negocios PROMIPYME. Se incluye información sobre la estructura, indicadores clave y su definición, así como instrucciones para la navegación por las secciones."]
[null,null,"Estructura del Archivo"]
[null,null,"El archivo está organizado en múltiples hojas de cálculo que abordan diferentes aspectos del plan de negocios. A continuación, se detallan las principales categorías y su propósito:"]
[null,null,"Hojas relacionadas con información general"]
[null,null,"·        NEGOCIO: Información general de la empresa."]
[null,null,"·        SOCIOS: Información sobre socios."]
[null,null,"·        AREAS DE NEGOCIO: Información relacionada con áreas específicas."]
[null,null,"·        EQUIPO: Información sobre el equipo."]
[null,null,"Modelamiento"]
[null,null,"·        CANVAS: Modelado de datos y análisis general."]
[null,null,"·        CURVA DE VALOR: Análisis de curvas y proyecciones específicas."]
[null,null,"Estrategia"]
[null,null,"·        DIRECTRICES: Planificación estratégica general."]
[null,null,"·        FUERZAS COMPETITIVAS: Análisis de factores críticos."]
[null,null,"·        FODA: Evaluación de Fortalezas, Oportunidades, Debilidades y Amenazas."]
[null,null,"·        ESTRATÉGIA: Estrategias específicas por área."]
[null,null,"Marketing"]
[null,null,"·        MARKETING: Estrategias generales de marketing."]
[null,null,"·        PRECIO: Estrategias relacionadas con precios."]
[null,null,"·        PLAZA: Estrategias relacionadas con distribución."]
[null,null,"·        PROMOCION: Estrategias de promoción y comunicación."]
[null,null,"Análisis de mercado"]
[null,null,"·        MERCADO: Análisis de mercado objetivo y tendencias."]
[null,null,"Finanzas"]
[null,null,"·        FINANZAS: Información financiera general."]
[null,null,"·        RESUMEN FINANCIERO: Resumen financiero."]
[null,null,"·        PROYECCIONES FINANCIERA: Proyecciones financieras."]
[null,null,"·        PROYECCIONES DEL AÑO 1 AL AÑO 2: Detalles de proyectos específicos."]
[null,null,"·        INVERSIONES INICIALES: Detalles adicionales financieros."]
[null,null,"·        ORTAS INVERSIONES: Informes operativos."]
[null,null,"·        COSTOS FIJOS: Análisis de flujo de caja."]
[null,null,"Reportes y dashboards"]
[null,null,"·        ESTRATEGIA: Reportes generales."]
[null,null,"·        MARKETING: Reportes de marketing."]
[null,null,"·        FINANZAS: Reportes financieros."]
[null,null,"·        VIABILIDAD: Resumen visual general."]
[null,null,"·        DASHBOARD_FINANCIERO: Dashboard financiero."]
[null,null,"·        DASHBOARD_PROYECCIONES: Dashboard de proyectos."]
[null,null,"·        DASHBOARD_ESCENARIO: Dashboard de escenarios."]
[null,null,"·        DASHBOARD_ESTRATEGIA: Dashboard estratégico."]
[null,null,"·        DASHBOARD_MKT: Dashboard de marketing."]
[null,null,"Definiciones de Indicadores"]
[null,null,"Indicadores Generales"]
[null,null,"·        Nombre del Negocio: Identificación oficial del negocio o empresa."]
[null,null,"·        Visión: Declaración del estado futuro deseado de la empresa."]
[null,null,"·        Misión: Propósito principal del negocio que define su razón de ser."]
[null,null,"·        Objetivos Estratégicos: Metas específicas a largo plazo que el negocio busca alcanzar."]
[null,null,"·        Socios: Información sobre las personas o entidades involucradas como propietarios del negocio."]
[null,null,"Indicadores Estratégicos"]
[null,null,"·        Análisis FODA (SWOT): Identificación de Fortalezas, Oportunidades, Debilidades y Amenazas para evaluar la posición estratégica."]
[null,null,"·        Propuesta de Valor: Descripción del valor único que el negocio ofrece a sus clientes."]
[null,null,"·        Ventaja Competitiva: Factores que diferencian el negocio de sus competidores."]
[null,null,"·        Estrategias de Crecimiento: Planes específicos para expandir el negocio."]
[null,null,"Indicadores de Marketing"]
[null,null,"·        Segmentación de Mercado: Identificación de los diferentes grupos de clientes a los que se dirige el negocio."]
[null,null,"·        Mix de Marketing (4Ps): Producto, Precio, Plaza y Promoción."]
[null,null,"·        Participación de Mercado: Proporción de ventas del negocio en relación con el mercado total."]
[null,null,"·        Tasa de Retención de Clientes: Porcentaje de clientes que permanecen fieles al negocio en un período de tiempo."]
[null,null,"Indicadores Financieros"]
[null,null,"·        Ingresos Totales: Cantidad total de dinero generado por las operaciones del negocio."]
[null,null,"·        Costos Operativos: Gastos incurridos en la operación diaria del negocio."]
[null,null,"·        Utilidad Neta: Beneficio final después de restar todos los costos e impuestos."]
[null,null,"·        Margen de Utilidad: Relación entre la utilidad neta y los ingresos totales, expresada como porcentaje."]
[null,null,"·        Flujo de Caja: Registro de las entradas y salidas de efectivo en un período determinado."]
[null,null,"·        Punto de Equilibrio: Nivel en el que los ingresos cubren exactamente los costos totales."]
[null,null,"·        ROI (Retorno sobre la Inversión): Medida del beneficio obtenido en relación con la inversión realizada."]
[null,null,"Indicadores de Mercado"]
[null,null,"·        Tamaño del Mercado: Estimación del volumen total de ventas posibles dentro de un mercado."]
[null,null,"·        Tendencias del Mercado: Factores externos que afectan las demandas del consumidor."]
[null,null,"·        Competencia Directa: Negocios que ofrecen productos o servicios similares."]
[null,null,"·        Participación de Mercado Objetivo: Proporción del mercado que se pretende captar."]
[null,null,"Indicadores del Equipo"]
[null,null,"·        Número de Empleados: Total de personas que trabajan en la empresa."]
[null,null,"·        Estructura Organizacional: Descripción jerárquica y funcional del equipo."]
[null,null,"·        Capacitación: Nivel de formación y habilidades del personal."]
[null,null,"·        Tasa de Rotación: Porcentaje de empleados que abandonan la organización durante un período."]
[null,null,"Indicadores de Proyectos"]
[null,null,"·        Cronograma: Plan de tiempo para ejecutar actividades específicas."]
[null,null,"·        Presupuesto: Estimación de costos totales asociados a un proyecto."]
[null,null,"·        Rendimiento del Proyecto: Relación entre el progreso alcanzado y los recursos utilizados."]
[null,null,"·        Indicadores de Riesgo: Identificación y medición de los factores que pueden afectar el éxito del proyecto."]
[null,null,"Indicadores de Modelamiento"]
[null,null,"·        Proyección de Ventas: Estimación futura de ingresos basados en datos históricos y tendencias."]
[null,null,"·        Curva de Demanda: Relación entre el precio de un producto y la cantidad demandada."]
[null,null,"·        Elasticidad del Precio: Grado de sensibilidad del consumo frente a cambios en el precio."]
[null,null,"Indicadores de Reportes y Dashboards"]
[null,null,"·        KPIs (Indicadores Clave de Desempeño): Métricas específicas que evalúan el desempeño de una actividad o área."]
[null,null,"·        Tendencias: Análisis visual de los patrones de comportamiento de datos."]
[null,null,"·        Alertas: Notificaciones sobre valores que exceden límites establecidos."]
[null,null,"·        Indicadores Comparativos: Comparación de datos actuales contra objetivos o históricos."]

{"sheet":"Aux","index":36,"n_rows":2,"n_cols":2,"rows_kept":2,"cut":false,"hidden":true,"merged":[]}
[2,"proyecciones del tablero de instrumentos - ComboBox"]
[1,"ComboBox - escenarios salpicadero"]